{"text_format":"1","workbook":"xlsx","n_sheets":13,"sheets":["LISTAS","HOME","SIMULADOR A","SA - ATIVIDADES","SA - SERVICOS BASE","Manual Operações_desatualizado","Manual Operações_desatualizado2","SA - SERVICOS COMPLEMENTARES","SA - SERVICOS GESTAO E CONTROLO","SA - SERVICOS DE CERTIFICACAO","SA - TOTAL","SIMULADOR B","SIMULADOR C"],"not_rendered":{"charts":0,"images":8,"macros":1,"external_links":0,"defined_names":40,"comments":5,"pivot_tables":0},"unopened":[],"bounds":{"document_bytes":16777216,"sheet_cells":100000,"rows_first":2000,"rows_last":500,"rows_between":2000,"halvings":0,"cell_chars":16384,"cell_head_chars":4096},"cells_cut":0,"cells_raw":0,"read":"whole","date_system":"1900"}

{"sheet":"LISTAS","index":0,"n_rows":17,"n_cols":7,"rows_kept":17,"cut":false,"hidden":true,"merged":[]}
["GRUPO (coluna D)",null,"ATIVIDADE (coluna G)",null,"ESCOLHER (col F)",null,"GRUPO (col E F3)"]
["Sim Todos",null,"Sim",null,"MODELO A - TEMPO - N.º DE HORAS DE TRABALHO",null,"Sim Todos"]
["Sim Parcial",null,"Não",null,"MODELO B - PERCENTAGEM - DA ESTIMATIVA APLICÁVEL",null,"Sim Parcial"]
["Não",null,null,null,"MODELO C - ÁREA - DE CONSTRUÇÃO EM M²",null,"Não"]
[null,null,null,null,"MODELO D - UNIDADE - N.º DE UNIDADES A APLICAR"]
[null,null,null,null,"MODELO MISTO - Selecionar Modelo por Linha de Sub-Atividade"]
[]
[]
[]
[]
[]
[]
[]
[]
[]
["2026-05-22T09:22:00","alteração"]
["2026-05-22T09:22:00","versão"]

{"sheet":"HOME","index":1,"n_rows":21,"n_cols":4,"rows_kept":21,"cut":false,"hidden":false,"merged":[[2,1,3,1],[9,2,9,3],[4,2,4,3],[5,2,5,3],[6,2,6,3],[7,2,7,3],[8,2,8,3]]}
[null,"SIMULADOR DE SERVIÇOS DE ARQUITETURA",null,"ORDEM DOS ARQUITECTOS"]
[]
[null,"IDENTIFICAÇÃO DO OBJETO DO CONTRATO",null,"DATA DE REFERÊNCIA"]
[null,null,null,{"$f":"CHAR(10)&TEXT(TODAY(),\"DD \"\"de\"\" mmmm \"\"de\"\" AAAA\")","v":"\n25 de agosto de 2026"}]
[null,"Objeto do contrato:",0]
[null,"Programa Funcional:",0]
[null,"Área bruta de construção:",0]
[null,"Prazo de execução do contrato:",0]
[null,"Morada do objeto do contrato:",0]
[null,"Valor previsto de execução das obras de urbanização ou edificação (se aplicável)",0]
[]
[null,"TIPO DE SIMULADOR","DESCRIÇÃO","CLIQUE PARA ABRIR"]
[]
[null,"SIMULADOR A","FERRAMENTA PARA CÁLCULO DOS SERVIÇOS PRESTADOS PELOS ARQUITETOS","ABRIR"]
[]
[null,"SIMULADOR B","FERRAMENTA PARA CÁLCULO DO VALOR TOTAL DE INVESTIMENTO DO CLIENTE","ABRIR"]
[]
[null,"SIMULADOR C","PREMISSAS PARA ACORDO DE SERVIÇOS BASE","ABRIR"]
[]
[]
["ORDEM DOS ARQUITECTOS ",null,null,"SIMULADOR"]

{"sheet":"SIMULADOR A","index":2,"n_rows":21,"n_cols":5,"rows_kept":21,"cut":false,"hidden":false,"merged":[[2,1,3,1],[13,1,13,2],[14,1,14,2],[15,1,15,2],[16,1,16,2],[4,2,4,4],[5,2,5,4],[6,2,6,4],[7,2,7,4],[8,2,8,4],[9,2,9,4]]}
[null,"SIMULADOR A | TIPO DE SERVIÇO",null,null,"ORDEM DOS ARQUITECTOS"]
[]
[null,"IDENTIFICAÇÃO DO OBJETO DO CONTRATO",null,null,"DATA DE REFERÊNCIA"]
[null,null,null,null,{"$f":"CHAR(10)&TEXT(TODAY(),\"DD \"\"de\"\" mmmm \"\"de\"\" AAAA\")","v":"\n25 de agosto de 2026"}]
[null,"Objeto do contrato:",{"$f":"IF(HOME!C5=0,\"\",HOME!C5)","v":""}]
[null,"Programa Funcional:",{"$f":"IF(HOME!C6=0,\"\",HOME!C6)","v":""}]
[null,"Área bruta de construção:",{"$f":"IF(HOME!C7=0,\"\",HOME!C7)","v":""}]
[null,"Prazo de execução do contrato:",{"$f":"IF(HOME!C8=0,\"\",HOME!C8)","v":""}]
[null,"Morada do objeto do contrato:",{"$f":"IF(HOME!C9=0,\"\",HOME!C9)","v":""}]
[null,"Valor previsto de execução das obras de urbanização ou edificação (se aplicável)",{"$f":"HOME!C10","v":0}]
[]
[null,"TIPOLOGIA DE SERVIÇO",null,null,"SELECIONAR"]
[]
[null,"TIPO 1 - SERVIÇOS BASE",null,null,"Sim"]
[null,"TIPO 2 - SERVIÇOS COMPLEMENTARES, ADICIONAIS OU ESPECÍFICOS",null,null,"Sim"]
[null,"TIPO 3 - SERVIÇOS DE GESTÃO E CONTROLO",null,null,"Sim"]
[null,"TIPO 4 - SERVIÇOS ESPECIALIZADOS CERTIFICADOS",null,null,"Sim"]
[]
[]
[]
["ORDEM DOS ARQUITECTOS",null,null,null,"SIMULADOR"]

{"sheet":"SA - ATIVIDADES","index":3,"n_rows":195,"n_cols":8,"rows_kept":195,"cut":false,"hidden":false,"merged":[[113,10,113,11],[158,1,183,2],[184,1,190,2],[6,1,107,2],[4,1,4,2],[4,3,4,4],[108,1,157,2]]}
[null,null,null,"SIMULADOR A | TIPOLOGIA DE SERVIÇOS",null,null,null,"ORDEM DOS ARQUITECTOS"]
[]
[null,null,null,null,null,"ATIVIDADE","FASES DE PROJETO/ SERVIÇOS","NÚMERO DE  SUBFASES/ ELEMENTOS/ SERVIÇOS"]
[]
[null,null,null,"ATIVIDADES",null,"SELECIONAR ATIVIDADE","FASES/SERVIÇOS/ELEMENTOS","Nº FASES/SUB-FASES/ELEMENTOS/SERVIÇOS"]
[]
[null,"TIPO 1 - SERVIÇOS BASE",null,"TIPO 1 - SERVIÇOS BASE",null,{"$f":"'SIMULADOR A'!E14","v":"Sim"},"Selecionar","Selecionar"]
[null,null,null,"E. ","COORDENAÇÃO",null,null,{"$error":"#VALUE!"}]
[null,null,null,null,"E1. COORDENAÇÃO DE PROJETO",false,"(não aplicável)",1]
[]
[null,null,null,"A.","ELABORAÇÃO DE PROJETO "]
[null,null,null,null,"A1. PROJETO DE ARQUITETURA",false,"Fases Detalhadas"]
[null,null,null,null,"PROJETO - FASE DE PROGRAMA BASE",null,false,1]
[null,null,null,null,"PROJETO - FASE DE ESTUDO PRÉVIO",null,false,1]
[null,null,null,null,"PROJETO - FASE DE ANTEPROJETO",null,false,1]
[null,null,null,null,"PROJETO  - FASE DE PROJETO DE EXECUÇÃO",null,false,1]
[null,null,null,null,"C1. ASSISTÊNCIA TÉCNICA",null,false,1]
[null,null,null,null,"A2. PROJETO DE ARQUITETURA - requisitos mínimos de desempenho energético",null,false,1]
[]
[null,null,null,null,"A4. PROJETO DE LOTEAMENTO",false,"Fase Única"]
[null,null,null,null,"PROJETO - FASE DE PROGRAMA BASE",null,false,1]
[null,null,null,null,"PROJETO - FASE DE ESTUDO PRÉVIO",null,false,1]
[null,null,null,null,"PROJETO - FASE DE ANTEPROJETO",null,false,1]
[null,null,null,null,"PROJETO  - FASE DE PROJETO DE EXECUÇÃO",null,false,1]
[null,null,null,null,"C1. ASSISTÊNCIA TÉCNICA",null,false,1]
[null,null,null,null,"A3. PROJETO DE ARQUITETURA DE LOTEAMENTO",null,false,1]
[]
[null,null,null,null,"A5. PROJETO DE ESPAÇOS EXTERIORES",false,"Fase Única"]
[null,null,null,null,"PROJETO - FASE DE PROGRAMA BASE",null,false,1]
[null,null,null,null,"PROJETO - FASE DE ESTUDO PRÉVIO",null,false,1]
[null,null,null,null,"PROJETO - FASE DE ANTEPROJETO",null,false,1]
[null,null,null,null,"PROJETO  - FASE DE PROJETO DE EXECUÇÃO",null,false,1]
[null,null,null,null,"C1. ASSISTÊNCIA TÉCNICA",null,false,1]
[]
[null,null,null,null,"A6. PROJETO DE DESENHO URBANO",false,"Fase Única"]
[null,null,null,null,"PROJETO - FASE DE PROGRAMA BASE",null,false,1]
[null,null,null,null,"PROJETO - FASE DE ESTUDO PRÉVIO",null,false,1]
[null,null,null,null,"PROJETO - FASE DE ANTEPROJETO",null,false,1]
[null,null,null,null,"PROJETO  - FASE DE PROJETO DE EXECUÇÃO",null,false,1]
[null,null,null,null,"C1. ASSISTÊNCIA TÉCNICA",null,false,1]
[]
[null,null,null,null,"A7. PROJETO DE FACHADAS",false,"Fase Única"]
[null,null,null,null,"PROJETO - FASE DE PROGRAMA BASE",null,false,1]
[null,null,null,null,"PROJETO - FASE DE ESTUDO PRÉVIO",null,false,1]
[null,null,null,null,"PROJETO - FASE DE ANTEPROJETO",null,false,1]
[null,null,null,null,"PROJETO  - FASE DE PROJETO DE EXECUÇÃO",null,false,1]
[null,null,null,null,"C1. ASSISTÊNCIA TÉCNICA",null,false,1]
[]
[null,null,null,null,"A8. PROJETO DE SEGURANÇA CONTRA INCÊNDIOS EM EDIFÍCIOS OU FICHA DE SEGURANÇA",false,"Fase Única"]
[null,null,null,null,"PROJETO - FASE DE PROGRAMA BASE",null,false,1]
[null,null,null,null,"PROJETO - FASE DE ESTUDO PRÉVIO",null,false,1]
[null,null,null,null,"PROJETO - FASE DE ANTEPROJETO",null,false,1]
[null,null,null,null,"PROJETO  - FASE DE PROJETO DE EXECUÇÃO",null,false,1]
[null,null,null,null,"C1. ASSISTÊNCIA TÉCNICA",null,false,1]
[]
[null,null,null,null,"A9. PROJETO DE CONFORTO TÉRMICO DE EDIFÍCIOS DE HABITAÇÃO (REH)",false,"Fase Única"]
[null,null,null,null,"PROJETO - FASE DE PROGRAMA BASE",null,false,1]
[null,null,null,null,"PROJETO - FASE DE ESTUDO PRÉVIO",null,false,1]
[null,null,null,null,"PROJETO - FASE DE ANTEPROJETO",null,false,1]
[null,null,null,null,"PROJETO  - FASE DE PROJETO DE EXECUÇÃO",null,false,1]
[null,null,null,null,"C1. ASSISTÊNCIA TÉCNICA",null,false,1]
[]
[null,null,null,null,"A10. PROJETO DE CONFORTO TÉRMICO DE EDIFÍCIOS DE COMÉRCIO COM POTÊNCIA NOMINAL ATÉ 30KW (PECS)",false,"Fase Única"]
[null,null,null,null,"PROJETO - FASE DE PROGRAMA BASE",null,false,1]
[null,null,null,null,"PROJETO - FASE DE ESTUDO PRÉVIO",null,false,1]
[null,null,null,null,"PROJETO - FASE DE ANTEPROJETO",null,false,1]
[null,null,null,null,"PROJETO  - FASE DE PROJETO DE EXECUÇÃO",null,false,1]
[null,null,null,null,"C1. ASSISTÊNCIA TÉCNICA",null,false,1]
[]
[null,null,null,null,"A11. PROJETO DE CONDICIONAMENTO ACÚSTICO",false,"Fase Única"]
[null,null,null,null,"PROJETO - FASE DE PROGRAMA BASE",null,false,1]
[null,null,null,null,"PROJETO - FASE DE ESTUDO PRÉVIO",null,false,1]
[null,null,null,null,"PROJETO - FASE DE ANTEPROJETO",null,false,1]
[null,null,null,null,"PROJETO  - FASE DE PROJETO DE EXECUÇÃO",null,false,1]
[null,null,null,null,"C1. ASSISTÊNCIA TÉCNICA",null,false,1]
[]
[null,null,null,null,"(…) PROJETOS DE ESPECIALIDADE (Outros)",false,"Fase Única"]
[null,null,null,null,"ESPECIALIDADE 1",null,false,1]
[null,null,null,null,"ESPECIALIDADE 2",null,false,1]
[null,null,null,null,"ESPECIALIDADE 3",null,false,1]
[null,null,null,null,"ESPECIALIDADE 4",null,false,1]
[null,null,null,null,"ESPECIALIDADE 5",null,false,1]
[null,null,null,null,"ESPECIALIDADE 6",null,false,1]
[null,null,null,null,"ESPECIALIDADE 7",null,false,1]
[null,null,null,null,"ESPECIALIDADE 8",null,false,1]
[null,null,null,null,"ESPECIALIDADE 9",null,false,1]
[null,null,null,null,"ESPECIALIDADE 10",null,false,1]
[null,null,null,null,"ESPECIALIDADE 11",null,false,1]
[null,null,null,null,"ESPECIALIDADE 12",null,false,1]
[null,null,null,null,"ESPECIALIDADE 13",null,false,1]
[null,null,null,null,"ESPECIALIDADE 14",null,false,1]
[null,null,null,null,"ESPECIALIDADE 15",null,false,1]
[null,null,null,null,"ESPECIALIDADE 16",null,false,1]
[null,null,null,null,"ESPECIALIDADE 17",null,false,1]
[null,null,null,null,"ESPECIALIDADE 18",null,false,1]
[null,null,null,null,"ESPECIALIDADE 19",null,false,1]
[null,null,null,null,"ESPECIALIDADE 20",null,false,1]
[null,null,null,null,"ESPECIALIDADE 21",null,false,1]
[null,null,null,null,"ESPECIALIDADE 22",null,false,1]
[null,null,null,null,"ESPECIALIDADE 23",null,false,1]
[null,null,null,null,"ESPECIALIDADE 24",null,false,1]
[null,null,null,null,"ESPECIALIDADE 25",null,false,1]
[null,null,null,null,"ESPECIALIDADE 26",null,false,1]
[null,null,null,null,"ESPECIALIDADE 27",null,false,1]
[null,null,null,null,"ESPECIALIDADE 28",null,false,1]
[null,null,null,null,"ESPECIALIDADE 29",null,false,1]
[null,null,null,null,"ESPECIALIDADE 30",null,false,1]
[]
[null,"TIPO 2 - SERVIÇOS COMPLEMENTARES, ADICIONAIS OU ESPECÍFICOS",null,"TIPO 2 - SERVIÇOS COMPLEMENTARES, ADICIONAIS OU ESPECÍFICOS",null,{"$f":"'SIMULADOR A'!E15","v":"Sim"},"Selecionar","Selecionar"]
[null,null,null,"A.","ELABORAÇÃO DE PROJETO ",null,null,{"$error":"#VALUE!"}]
[null,null,null,null,"A12. PROJETO DE MOBILIÁRIO FIXO ",false,"(não aplicável)",1]
[]
[null,null,null,null,"A13. PROJETO DE ARQUITETURA DE CENA ",false,"(não aplicável)",1]
[]
[null,null,null,null,"A15. PROJETO MUSEOGRÁFICO",false,"(não aplicável)",1]
[]
[null,null,null,null,"A16. PROJETO DE SINALÉTICA DA EDIFICAÇÃO",false,"(não aplicável)",1]
[]
[null,null,null,null,"A17. PROJETO DE SINALÉTICA DA VIA PÚBLICA",false,"(não aplicável)",1]
[]
[null,null,null,null,"A18. PROJETO DE ESTALEIRO",false,"Fase Única"]
[null,null,null,null,"PROJETO - FASE DE PROGRAMA BASE",null,false,1]
[null,null,null,null,"PROJETO - FASE DE ESTUDO PRÉVIO",null,false,1]
[null,null,null,null,"PROJETO - FASE DE ANTEPROJETO",null,false,1]
[null,null,null,null,"PROJETO  - FASE DE PROJETO DE EXECUÇÃO",null,false,1]
[null,null,null,null,null,false]
[null,null,null,"B","ELABORAÇÃO DE PLANOS/ ESTUDOS/ LEVANTAMENTOS",false]
[null,null,null,null,"B1. PROGRAMAS PRELIMINARES",false,"(não aplicável)",1]
[null,null,null,null,"B2. ESBOÇO",false,"(não aplicável)",1]
[null,null,null,null,"B3. LEVANTAMENTO ARQUITETÓNICO",false,"(não aplicável)",1]
[null,null,null,null,"B4. LEVANTAMENTO TOPOGRÁFICO",false,"(não aplicável)",1]
[null,null,null,null,"B5. LEVANTAMENTO DE PATOLOGIAS",false,"(não aplicável)",1]
[null,null,null,null,"B6. ESTUDOS DE VIABILIDADE CONSTRUTIVA",false,"(não aplicável)",1]
[null,null,null,null,"B7. CARTOGRAFIA TOPOGRÁFICA",false,"(não aplicável)",1]
[null,null,null,null,"B8. PLANO DE ACESSIBILIDADES",false,"(não aplicável)",1]
[null,null,null,null,"B9. PLANO DE SEGURANÇA E SAÚDE EM FASE DE PROJETO",false,"(não aplicável)",1]
[null,null,null,null,"B10. PLANO DE PREVENÇÃO E GESTÃO DE RESÍDUOS DE CONSTRUÇÃO E DEMOLIÇÃO",false,"(não aplicável)",1]
[null,null,null,null,"B11. RELATÓRIO PRÉVIO NO ÂMBITO DA INTERVENÇÃO SOBRE BENS CULTURAIS IMÓVEIS, CLASSIFICADOS […]",false,"(não aplicável)",1]
[null,null,null,null,"B12. RELATÓRIO INTERCALAR NO ÂMBITO DA INTERVENÇÃO SOBRE BENS CULTURAIS IMÓVEIS, CLASSIFICADOS […]",false,"(não aplicável)",1]
[null,null,null,null,"B13. RELATÓRIO FINAL NO ÂMBITO DA INTERVENÇÃO SOBRE BENS CULTURAIS IMÓVEIS, CLASSIFICADOS […]",false,"(não aplicável)",1]
[null,null,null,null,"B14. ESTUDO QUE ATESTE A CONFORMIDADE DA OPERAÇÃO URBANÍSTICA COM O DISPOSTO NO REGULAMENTO GERAL DO RUÍDO",false,"(não aplicável)",1]
[null,null,null,null,"B15. PLANO DE GESTÃO AMBIENTAL E SUSTENTABILIDADE",false,"(não aplicável)",1]
[null,null,null,null,"B16. ANÁLISE DE RISCO - NO ÂMBITO DO SISTEMA INTEGRADO DE FOGOS RURAIS",false,"(não aplicável)",1]
[null,null,null,null,"B17. ESTUDOS DE TRÁFEGO",false,"(não aplicável)",1]
[null,null,null,null,"B18. TELAS FINAIS",false,"(não aplicável)",1]
[null,null,null,null,"B19. PLANO DE SEGURANÇA E SAÚDE EM FASE DE OBRA",false,"(não aplicável)",1]
[null,null,null,null,"B20. COMPILAÇÃO TÉCNICA DA OBRA",false,"(não aplicável)",1]
[null,null,null,null,"B21. PLANOS DE MONITORIZAÇÃO E MANUTENÇÃO",false,"(não aplicável)",1]
[null,null,null,null,"B22. FICHA TÉCNICA DA HABITAÇÃO",false,"(não aplicável)",1]
[null,null,null,null,"B23. PLANO FINAL DE CONSIGNAÇÃO",false,"(não aplicável)",1]
[null,null,null,null,"B24. DESENHO DE MOBILIÁRIO ARQUITETÓNICO",false,"(não aplicável)",1]
[null,null,null,null,"B25. DESENHO GRÁFICO INFORMATIVO DE ESPAÇOS CONSTRUIDOS",false,"(não aplicável)",1]
[null,null,null,null,"B26. ESTUDO DE ILUMINAÇÃO",false,"(não aplicável)",1]
[null,null,null,null,"B27. MAQUETES",false,"(não aplicável)",1]
[null,null,null,null,"B28. MODELOS DE INFORMAÇÃO DA CONSTRUÇÃO (BIM)",false,"(não aplicável)",1]
[null,null,null,null,"B29. PLANO DE EXECUÇÃO DO MODELO DE INFORMAÇÃO DA CONSTRUÇÃO (BIM)",false,"(não aplicável)",1]
[null,null,null,null,"B30. PLANO DE OCUPAÇÃO DA VIA PÚBLICA",false,"(não aplicável)",1]
[]
[null,"TIPO 3 - SERVIÇOS DE GESTÃO E CONTROLO",null,"TIPO 3 - SERVIÇOS DE GESTÃO E CONTROLO",null,{"$f":"'SIMULADOR A'!E16","v":"Sim"},"(não aplicavél)","Selecionar"]
[null,null,null,"C","ASSISTÊNCIA TÉCNICA ",null,null,{"$error":"#VALUE!"}]
[null,null,null,null,"C2. ASSISTÊNCIA TÉCNICA ESPECIAL",false,"(não aplicável)",1]
[]
[null,null,null,"D","REVISÃO DE PROJETO"]
[null,null,null,null,"D1. REVISÃO DE PROJETO",false,"(não aplicável)",1]
[]
[null,null,null,"E","COORDENAÇÃO"]
[null,null,null,null,"E2. COORDENAÇÃO DE SEGURANÇA E SAÚDE EM PROJETO",false,"(não aplicável)",1]
[null,null,null,null,"E3. COORDENAÇÃO DE SEGURANÇA E SAÚDE EM OBRA",false,"(não aplicável)",1]
[null,null,null,null,"E4. COORDENAÇÃO DE MODELOS DE INFORMAÇÃO DA CONSTRUÇÃO (BIM)",false,"(não aplicável)",1]
[null,null,null,null,"E5. COORDENACÃO DA EQUIPA DE GESTÃO DE PROJETO/OBRA",false,"(não aplicável)",1]
[]
[null,null,null,"F","CONTROLO DA OBRA"]
[null,null,null,null,"F1. DIREÇÃO DE FISCALIZAÇÃO DE OBRA (EDIFÍCIOS)",false,"(não aplicável)",1]
[null,null,null,null,"F2. DIREÇÃO DE FISCALIZAÇÃO DE OBRA (ESPAÇO EXTERIOR)",false,"(não aplicável)",1]
[null,null,null,null,"F3. DIREÇÃO DE OBRA (EDIFÍCIOS)",false,"(não aplicável)",1]
[null,null,null,null,"F4. DIREÇÃO DE OBRA (ESPAÇO EXTERIOR)",false,"(não aplicável)",1]
[null,null,null,null,"F5. TÉCNICO RESPONSÁVEL PELA CONDUÇÃO DA EXECUÇÃO DE TRABALHOS DE ESPECIALIDADES ",false,"(não aplicável)",1]
[]
[null,null,null,"G","GESTÃO"]
[null,null,null,null,"G1. GESTÃO DE PROJETO",false,"(não aplicável)",1]
[null,null,null,null,"G2. GESTÃO DE OBRA ",false,"(não aplicável)",1]
[null,null,null,null,"G3. GESTÃO E COORDENAÇÃO DA MANUTENÇÃO",false,"(não aplicável)",1]
[null,null,null,null,"G4. GESTÃO DE MODELOS DE INFORMAÇÃO DA CONSTRUÇÃO (BIM)",false,"(não aplicável)",1]
[]
[null,"TIPO 4 - SERVIÇOS ESPECIALIZADOS CERTIFICADOS",null,"TIPO 4 - SERVIÇOS ESPECIALIZADOS CERTIFICADOS",null,{"$f":"'SIMULADOR A'!E17","v":"Sim"},"(não aplicável)","Selecionar"]
[null,null,null,"H","CERTIFICAÇÃO",null,null,{"$error":"#VALUE!"}]
[null,null,null,null,"H1. PRÉ-CERTIFICADO ENERGÉTICO",false,"(não aplicável)",1]
[null,null,null,null,"H2. CERTIFICADO ENERGÉTICO  ",false,"(não aplicável)",1]
[null,null,null,null,"H3. CERTIFICADO AMBIENTAL",false,"(não aplicável)",1]
[null,null,null,null,"H4. DECLARAÇÃO PROVISÓRIA DO SCE",false,"(não aplicável)",1]
[]
[]
[]
[]
["ORDEM DOS ARQUITECTOS",null,null,null,null,null,null,"SIMULADOR"]

{"sheet":"SA - SERVICOS BASE","index":4,"n_rows":851,"n_cols":65,"rows_kept":851,"cut":false,"hidden":false,"merged":[[0,5,0,8],[5,2,7,2],[0,10,0,15],[0,17,0,23],[0,25,0,28],[3,10,3,15],[4,33,7,33],[4,25,4,28],[4,30,7,30],[5,25,5,28],[4,63,7,63],[4,59,7,59],[4,60,7,60],[4,61,7,61],[4,62,7,62]]}
[null,null,"SIMULADOR A | SERVIÇOS BASE",null,null,"MODELO A | TEMPO - N.º DE HORAS DE TRABALHO",null,null,null,null,"MODELO B | PERCENTAGEM - DA ESTIMATIVA APLICÁVEL",null,null,null,null,null,null,"MODELO C | ÁREA - DE CONSTRUÇÃO EM M²",null,null,null,null,null,null,null,"MODELO D | UNIDADE - N.º DE UNIDADES A APLICAR"]
[]
[]
[]
[null,null,null,null,null,null,null,null,null,null,null,null,null,null,null,null,null,null,null,null,null,null,null,null,null,null,null,null,null,null,"TOTAL\n(info)",null,null,"CTRL Linhas a apresentar",null,null,null,null,null,null,null,null,null,null,null,null,null,null,null,null,null,null,null,null,null,null,null,null,null,"MODELO A","MODELO B","MODELO C","MODELO D","TOTAL"]
[null,null,"ATIVIDADES ESPECÍFICAS","MODELO DE CÁLCULO",null,null,null,null,null,null,null,null,null,null,"VG Obra",{"$f":"M9","v":0},null,null,null,null,null,null,"Valor/m² FIXO",0]
[]
[null,null,null,"SELECIONAR (info)",null,"ÂMBITO (info)","N.º HORAS","VALOR/HORA","RESULTADO",null,"ÂMBITO (info)","TIPO VALOR (info)","VG OBRA","VC OBRA","% A APLICAR (info)","RESULTADO (info)",null,"ÂMBITO (info)","TIPO VALOR (info)","VF m²","VC m²","N.º DE m²","% A APLICAR (info)","RESULTADO",null,"ÂMBITO (info)","N.º DE UNIDADES","VALOR/UNIDADE","RESULTADO"]
[null,null,null,null,null,null,null,null,null,null,null,null,{"$f":"'SIMULADOR A'!C10","v":0},null,null,null,null,null,null,{"$f":"X6","v":0}]
[]
[null,{"$f":"IF('SA - ATIVIDADES'!$F$9<>TRUE,\"ocultar\",\"mostrar\")","v":"ocultar"},"E. COORDENAÇÃO","MODELO A - TEMPO - N.º DE HORAS DE TRABALHO",null,"Atribuir valor global à atividade",0,0,{"$f":"IF($F$11=\"Atribuir valor global à atividade\",G11*H11,\"\")","v":0},null,"Atribuir valor detalhado por Fase/Elemento","Valor Global Obra (VG Obra)",{"$f":"IF(L11=\"Valor Global Obra (VG Obra)\",$M$9,\"\")","v":0},0,0,{"$f":"IF(L11=\"Valor Global Obra (VG Obra)\",M11*O11,N11*O11)","v":0},null,"Atribuir valor detalhado por Fase/Elemento","Valor/m2 fixo (VF m2)",{"$f":"IF(S11=\"Valor/m2 fixo (VF m2)\",$T$9,\"\")","v":0},0,0,null,{"$f":"IF(S11=\"Valor/m2 fixo (VF m2)\",T11*1*V11,U11*1*V11)","v":0},null,"Atribuir valor detalhado por Fase/Elemento",0,0,{"$f":"AA11*AB11","v":0},null,{"$f":"BL11","v":0},null,null,null,null,null,null,null,null,null,null,null,null,null,null,null,null,null,null,null,null,null,null,null,null,null,null,null,null,{"$f":"IF(LEFT($D$11,8)=\"MODELO A\",IF($F$11=\"Atribuir valor detalhado por Fase/Elemento\",SUBTOTAL(109,BH15:BH24),I11),IF(LEFT($D$11,8)=\"MODELO M\",SUBTOTAL(109,BH15:BH24),0))","v":0},{"$f":"IF(LEFT($D$11,8)=\"MODELO B\",IF($K$11=\"Atribuir valor detalhado por Fase/Elemento\",SUBTOTAL(109,BI15:BI24),P11),IF(LEFT($D$11,8)=\"MODELO M\",SUBTOTAL(109,BI15:BI24),0))","v":0},{"$f":"IF(LEFT($D$11,8)=\"MODELO C\",IF($R$11=\"Atribuir valor detalhado por Fase/Elemento\",SUBTOTAL(109,BJ15:BJ24),X11),IF(LEFT($D$11,8)=\"MODELO M\",SUBTOTAL(109,BJ15:BJ24),0))","v":0},{"$f":"IF(LEFT($D$11,8)=\"MODELO D\",IF($Z$11=\"Atribuir valor detalhado por Fase/Elemento\",SUBTOTAL(109,BK15:BK24),AC11),IF(LEFT($D$11,8)=\"MODELO M\",SUBTOTAL(109,BK15:BK24),0))","v":0},{"$f":"SUM(BH11:BK11)","v":0},{"$f":"IF($AH11<>\"\",BM10,IF(LEFT($D11,6)=\"MODELO\",$D11,BM10))","v":"MODELO A - TEMPO - N.º DE HORAS DE TRABALHO"}]
[null,{"$f":"IF($B$11=\"ocultar\",\"ocultar\",\"mostrar\")","v":"ocultar"},null,null,null,null,null,null,null,null,null,null,null,null,null,null,null,null,null,null,null,null,null,null,null,null,null,null,null,null,null,null,null,null,null,null,null,null,null,null,null,null,null,null,null,null,null,null,null,null,null,null,null,null,null,null,null,null,null,null,null,null,null,null,{"$f":"IF($AH12<>\"\",BM11,IF(LEFT($D12,6)=\"MODELO\",$D12,BM11))","v":"MODELO A - TEMPO - N.º DE HORAS DE TRABALHO"}]
[null,"ocultar",null,null,null,null,null,null,null,null,null,null,null,null,null,null,null,null,null,null,null,null,null,null,null,null,null,null,null,null,null,null,null,null,null,null,null,null,null,null,null,null,null,null,null,null,null,null,null,null,null,null,null,null,null,null,null,null,null,null,null,null,null,null,"MODELO A - TEMPO - N.º DE HORAS DE TRABALHO"]
[null,{"$f":"IF($B$11=\"mostrar\",\"mostrar\",\"ocultar\")","v":"ocultar"},"E1. COORDENAÇÃO DE PROJETO",null,null,null,null,null,null,null,null,null,null,null,null,null,null,null,null,null,null,null,null,null,null,null,null,null,null,null,null,null,null,null,null,null,null,null,null,null,null,null,null,null,null,null,null,null,null,null,null,null,null,null,null,null,null,null,null,null,null,null,null,null,"MODELO A - TEMPO - N.º DE HORAS DE TRABALHO"]
[null,{"$f":"IF($B$14=\"ocultar\",\"ocultar\",IF('SA - ATIVIDADES'!$F$9=TRUE,IF('SA - ATIVIDADES'!$H$9>='SA - SERVICOS BASE'!AH15,\"mostrar\",\"ocultar\")))","v":"ocultar"},"Designação (a preencher)","MODELO A - TEMPO - N.º DE HORAS DE TRABALHO",null,null,0,{"$f":"$H$11","v":0},{"$f":"G15*H15","v":0},null,null,null,null,null,0,{"$f":"$P$11*O15","v":0},null,null,null,null,null,null,0,{"$f":"$X$11*W15","v":0},null,null,0,0,{"$f":"AA15*AB15","v":0},null,{"$f":"BL15","v":0},null,null,1,null,null,null,null,null,null,null,null,null,null,null,null,null,null,null,null,null,null,null,null,null,null,null,null,null,{"$f":"IF(OR(AND(LEFT($D$11,8)=\"MODELO M\", LEFT(D15,8)=\"MODELO A\"), AND(LEFT($D$11,8)=\"MODELO A\", $F$11=\"Atribuir valor detalhado por Fase/Elemento\")), I15, 0)","v":0},{"$f":"IF(OR(AND(LEFT($D$11,8)=\"MODELO M\", LEFT(D15,8)=\"MODELO B\"), AND(LEFT($D$11,8)=\"MODELO B\", $K$11=\"Atribuir valor detalhado por Fase/Elemento\")), P15, 0)","v":0},{"$f":"IF(OR(AND(LEFT($D$11,8)=\"MODELO M\", LEFT(D15,8)=\"MODELO C\"), AND(LEFT($D$11,8)=\"MODELO C\", $R$11=\"Atribuir valor detalhado por Fase/Elemento\")), X15, 0)","v":0},{"$f":"IF(OR(AND(LEFT($D$11,8)=\"MODELO M\", LEFT(D15,8)=\"MODELO D\"), AND(LEFT($D$11,8)=\"MODELO D\", $Z$11=\"Atribuir valor detalhado por Fase/Elemento\")), AC15, 0)","v":0},{"$f":"SUM(BH15:BK15)","v":0},"MODELO A - TEMPO - N.º DE HORAS DE TRABALHO"]
[null,{"$f":"IF($B$14=\"ocultar\",\"ocultar\",IF('SA - ATIVIDADES'!$F$9=TRUE,IF('SA - ATIVIDADES'!$H$9>='SA - SERVICOS BASE'!AH16,\"mostrar\",\"ocultar\")))","v":"ocultar"},"Designação (a preencher)","MODELO A - TEMPO - N.º DE HORAS DE TRABALHO",null,null,0,0,{"$f":"G16*H16","v":0},null,null,null,null,null,0,{"$f":"$P$11*O16","v":0},null,null,null,null,null,null,0,{"$f":"$X$11*W16","v":0},null,null,0,0,{"$f":"AA16*AB16","v":0},null,{"$f":"BL16","v":0},null,null,2,null,null,null,null,null,null,null,null,null,null,null,null,null,null,null,null,null,null,null,null,null,null,null,null,null,{"$f":"IF(OR(AND(LEFT($D$11,8)=\"MODELO M\", LEFT(D16,8)=\"MODELO A\"), AND(LEFT($D$11,8)=\"MODELO A\", $F$11=\"Atribuir valor detalhado por Fase/Elemento\")), I16, 0)","v":0},{"$f":"IF(OR(AND(LEFT($D$11,8)=\"MODELO M\", LEFT(D16,8)=\"MODELO B\"), AND(LEFT($D$11,8)=\"MODELO B\", $K$11=\"Atribuir valor detalhado por Fase/Elemento\")), P16, 0)","v":0},{"$f":"IF(OR(AND(LEFT($D$11,8)=\"MODELO M\", LEFT(D16,8)=\"MODELO C\"), AND(LEFT($D$11,8)=\"MODELO C\", $R$11=\"Atribuir valor detalhado por Fase/Elemento\")), X16, 0)","v":0},{"$f":"IF(OR(AND(LEFT($D$11,8)=\"MODELO M\", LEFT(D16,8)=\"MODELO D\"), AND(LEFT($D$11,8)=\"MODELO D\", $Z$11=\"Atribuir valor detalhado por Fase/Elemento\")), AC16, 0)","v":0},{"$f":"SUM(BH16:BK16)","v":0},"MODELO A - TEMPO - N.º DE HORAS DE TRABALHO"]
[null,{"$f":"IF($B$14=\"ocultar\",\"ocultar\",IF('SA - ATIVIDADES'!$F$9=TRUE,IF('SA - ATIVIDADES'!$H$9>='SA - SERVICOS BASE'!AH17,\"mostrar\",\"ocultar\")))","v":"ocultar"},"Designação (a preencher)","MODELO A - TEMPO - N.º DE HORAS DE TRABALHO",null,null,0,0,0,null,null,null,null,null,0,{"$f":"$P$11*O17","v":0},null,null,null,null,null,null,0,0,null,null,0,0,0,null,0,null,null,3,null,null,null,null,null,null,null,null,null,null,null,null,null,null,null,null,null,null,null,null,null,null,null,null,null,0,0,0,0,0,"MODELO A - TEMPO - N.º DE HORAS DE TRABALHO"]
[null,{"$f":"IF($B$14=\"ocultar\",\"ocultar\",IF('SA - ATIVIDADES'!$F$9=TRUE,IF('SA - ATIVIDADES'!$H$9>='SA - SERVICOS BASE'!AH18,\"mostrar\",\"ocultar\")))","v":"ocultar"},"Designação (a preencher)","MODELO A - TEMPO - N.º DE HORAS DE TRABALHO",null,null,0,0,0,null,null,null,null,null,0,0,null,null,null,null,null,null,0,0,null,null,0,0,0,null,0,null,null,4,null,null,null,null,null,null,null,null,null,null,null,null,null,null,null,null,null,null,null,null,null,null,null,null,null,0,0,0,0,0,"MODELO A - TEMPO - N.º DE HORAS DE TRABALHO"]
[null,{"$f":"IF($B$14=\"ocultar\",\"ocultar\",IF('SA - ATIVIDADES'!$F$9=TRUE,IF('SA - ATIVIDADES'!$H$9>='SA - SERVICOS BASE'!AH19,\"mostrar\",\"ocultar\")))","v":"ocultar"},"Designação (a preencher)","MODELO A - TEMPO - N.º DE HORAS DE TRABALHO",null,null,0,0,0,null,null,null,null,null,0,0,null,null,null,null,null,null,0,0,null,null,0,0,0,null,0,null,null,5,null,null,null,null,null,null,null,null,null,null,null,null,null,null,null,null,null,null,null,null,null,null,null,null,null,0,0,0,0,0,"MODELO A - TEMPO - N.º DE HORAS DE TRABALHO"]
[null,{"$f":"IF($B$14=\"ocultar\",\"ocultar\",IF('SA - ATIVIDADES'!$F$9=TRUE,IF('SA - ATIVIDADES'!$H$9>='SA - SERVICOS BASE'!AH20,\"mostrar\",\"ocultar\")))","v":"ocultar"},"Designação (a preencher)","MODELO A - TEMPO - N.º DE HORAS DE TRABALHO",null,null,0,0,0,null,null,null,null,null,0,0,null,null,null,null,null,null,0,0,null,null,0,0,0,null,0,null,null,6,null,null,null,null,null,null,null,null,null,null,null,null,null,null,null,null,null,null,null,null,null,null,null,null,null,0,0,0,0,0,"MODELO A - TEMPO - N.º DE HORAS DE TRABALHO"]
[null,{"$f":"IF($B$14=\"ocultar\",\"ocultar\",IF('SA - ATIVIDADES'!$F$9=TRUE,IF('SA - ATIVIDADES'!$H$9>='SA - SERVICOS BASE'!AH21,\"mostrar\",\"ocultar\")))","v":"ocultar"},"Designação (a preencher)","MODELO A - TEMPO - N.º DE HORAS DE TRABALHO",null,null,0,0,0,null,null,null,null,null,0,0,null,null,null,null,null,null,0,0,null,null,0,0,0,null,0,null,null,7,null,null,null,null,null,null,null,null,null,null,null,null,null,null,null,null,null,null,null,null,null,null,null,null,null,0,0,0,0,0,"MODELO A - TEMPO - N.º DE HORAS DE TRABALHO"]
[null,{"$f":"IF($B$14=\"ocultar\",\"ocultar\",IF('SA - ATIVIDADES'!$F$9=TRUE,IF('SA - ATIVIDADES'!$H$9>='SA - SERVICOS BASE'!AH22,\"mostrar\",\"ocultar\")))","v":"ocultar"},"Designação (a preencher)","MODELO A - TEMPO - N.º DE HORAS DE TRABALHO",null,null,0,0,0,null,null,null,null,null,0,0,null,null,null,null,null,null,0,0,null,null,0,0,0,null,0,null,null,8,null,null,null,null,null,null,null,null,null,null,null,null,null,null,null,null,null,null,null,null,null,null,null,null,null,0,0,0,0,0,"MODELO A - TEMPO - N.º DE HORAS DE TRABALHO"]
[null,{"$f":"IF($B$14=\"ocultar\",\"ocultar\",IF('SA - ATIVIDADES'!$F$9=TRUE,IF('SA - ATIVIDADES'!$H$9>='SA - SERVICOS BASE'!AH23,\"mostrar\",\"ocultar\")))","v":"ocultar"},"Designação (a preencher)","MODELO A - TEMPO - N.º DE HORAS DE TRABALHO",null,null,0,0,0,null,null,null,null,null,0,0,null,null,null,null,null,null,0,0,null,null,0,0,0,null,0,null,null,9,null,null,null,null,null,null,null,null,null,null,null,null,null,null,null,null,null,null,null,null,null,null,null,null,null,0,0,0,0,0,"MODELO A - TEMPO - N.º DE HORAS DE TRABALHO"]
[null,{"$f":"IF($B$14=\"ocultar\",\"ocultar\",IF('SA - ATIVIDADES'!$F$9=TRUE,IF('SA - ATIVIDADES'!$H$9>='SA - SERVICOS BASE'!AH24,\"mostrar\",\"ocultar\")))","v":"ocultar"},"Designação (a preencher)","MODELO A - TEMPO - N.º DE HORAS DE TRABALHO",null,null,0,0,0,null,null,null,null,null,0,0,null,null,null,null,null,null,0,0,null,null,0,0,0,null,0,null,null,10,null,null,null,null,null,null,null,null,null,null,null,null,null,null,null,null,null,null,null,null,null,null,null,null,null,0,0,0,0,0,"MODELO A - TEMPO - N.º DE HORAS DE TRABALHO"]
[null,{"$f":"IF($B$15=\"ocultar\",\"ocultar\",\"mostrar\")","v":"ocultar"},"TOTAL",null,null,null,{"$f":"IF($F$11=\"Atribuir valor global à atividade\",G11,SUBTOTAL(109,G15:G24))","v":0},null,{"$f":"IF($F$11=\"Atribuir valor global à atividade\",I11,SUBTOTAL(109,I15:I24))","v":0},null,null,null,null,null,{"$f":"IF($K$11=\"Atribuir valor global à atividade\",1,SUBTOTAL(109,O15:O24))","v":0},{"$f":"IF($K$11=\"Atribuir valor global à atividade\",P11,SUBTOTAL(109,P15:P24))","v":0},null,null,null,null,null,null,{"$f":"IF($R$11=\"Atribuir valor global à atividade\",1,SUBTOTAL(109,W15:W24))","v":0},{"$f":"IF($R$11=\"Atribuir valor global à atividade\",X11,SUBTOTAL(109,X15:X24))","v":0},null,null,null,null,{"$f":"IF($Z$11=\"Atribuir valor global à atividade\",AC11,SUBTOTAL(109,AC15:AC24))","v":0},null,{"$f":"BL11","v":0},null,null,null,null,null,null,null,null,null,null,null,null,null,null,null,null,null,null,null,null,null,null,null,null,null,null,null,null,null,null,null,null,null,"MODELO A - TEMPO - N.º DE HORAS DE TRABALHO"]
[null,{"$f":"IF($B$11=\"mostrar\",\"mostrar\",\"ocultar\")","v":"ocultar"},null,null,null,null,null,null,null,null,null,null,null,null,null,null,null,null,null,null,null,null,null,null,null,null,null,null,null,null,null,null,null,null,null,null,null,null,null,null,null,null,null,null,null,null,null,null,null,null,null,null,null,null,null,null,null,null,null,null,null,null,null,null,"MODELO A - TEMPO - N.º DE HORAS DE TRABALHO"]
[null,{"$f":"IF('SA - ATIVIDADES'!$F$12<>TRUE,\"ocultar\",\"mostrar\")","v":"ocultar"},"A1. PROJETO DE ARQUITETURA","MODELO C - ÁREA - DE CONSTRUÇÃO EM M²",null,"Atribuir valor global à atividade",0,0,{"$f":"IF($F$27=\"Atribuir valor global à atividade\",G27*H27,\"\")","v":0},null,"Atribuir valor detalhado por Fase/Elemento","Valor Global Obra (VG Obra)",{"$f":"IF(L27=\"Valor Global Obra (VG Obra)\",$M$9,\"\")","v":0},0,0,{"$f":"IF(L27=\"Valor Global Obra (VG Obra)\",M27*O27,N27*O27)","v":0},null,"Atribuir valor detalhado por Fase/Elemento","Valor/m2 customizável (VC m2)",{"$f":"IF(S27=\"Valor/m2 fixo (VF m2)\",$T$9,\"\")","v":""},0,0,null,{"$f":"IF(S27=\"Valor/m2 fixo (VF m2)\",T27*1*V27,U27*1*V27)","v":0},null,"Atribuir valor global à atividade",0,0,{"$f":"AA27*AB27","v":0},null,{"$f":"BL27","v":0},null,null,null,null,null,null,null,null,null,null,null,null,null,null,null,null,null,null,null,null,null,null,null,null,null,null,null,null,{"$f":"IF(LEFT($D$27,8)=\"MODELO A\",IF($F$27=\"Atribuir valor detalhado por Fase/Elemento\",SUBTOTAL(109,BH31:BH100),I27),IF(LEFT($D$27,8)=\"MODELO M\",SUBTOTAL(109,BH31:BH100),0))","v":0},{"$f":"IF(LEFT($D$27,8)=\"MODELO B\",IF($K$27=\"Atribuir valor detalhado por Fase/Elemento\",SUBTOTAL(109,BI31:BI100),P27),IF(LEFT($D$27,8)=\"MODELO M\",SUBTOTAL(109,BI31:BI100),0))","v":0},{"$f":"IF(LEFT($D$27,8)=\"MODELO C\",IF($R$27=\"Atribuir valor detalhado por Fase/Elemento\",SUBTOTAL(109,BJ31:BJ100),X27),IF(LEFT($D$27,8)=\"MODELO M\",SUBTOTAL(109,BJ31:BJ100),0))","v":0},{"$f":"IF(LEFT($D$27,8)=\"MODELO D\",IF($Z$27=\"Atribuir valor detalhado por Fase/Elemento\",SUBTOTAL(109,BK31:BK100),AC27),IF(LEFT($D$27,8)=\"MODELO M\",SUBTOTAL(109,BK31:BK100),0))","v":0},{"$f":"SUM(BH27:BK27)","v":0},"MODELO C - ÁREA - DE CONSTRUÇÃO EM M²"]
[null,{"$f":"IF($B$27=\"ocultar\",\"ocultar\",\"mostrar\")","v":"ocultar"},null,null,null,null,null,null,null,null,null,null,null,null,null,null,null,null,null,null,null,null,null,null,null,null,null,null,null,null,null,null,null,null,null,null,null,null,null,null,null,null,null,null,null,null,null,null,null,null,null,null,null,null,null,null,null,null,null,null,null,null,null,null,"MODELO C - ÁREA - DE CONSTRUÇÃO EM M²"]
[null,"ocultar",null,null,null,null,null,null,null,null,null,null,null,null,null,null,null,null,null,null,null,null,null,null,null,null,null,null,null,null,null,null,null,null,null,null,null,null,null,null,null,null,null,null,null,null,null,null,null,null,null,null,null,null,null,null,null,null,null,null,null,null,null,null,"MODELO C - ÁREA - DE CONSTRUÇÃO EM M²"]
[null,{"$f":"IF(B27=\"ocultar\",\"ocultar\",IF('SA - ATIVIDADES'!$G$12=\"Fase Única\",\"ocultar\",IF('SA - ATIVIDADES'!G13=TRUE,\"mostrar\",\"ocultar\")))","v":"ocultar"},"PROJETO - FASE DE PROGRAMA BASE",null,null,null,null,null,null,null,null,null,null,null,null,null,null,null,null,null,null,null,null,null,null,null,null,null,null,null,null,null,null,null,null,null,null,null,null,null,null,null,null,null,null,null,null,null,null,null,null,null,null,null,null,null,null,null,null,null,null,null,null,null,"MODELO C - ÁREA - DE CONSTRUÇÃO EM M²"]
[null,{"$f":"IF($B$30=\"ocultar\",\"ocultar\",IF('SA - ATIVIDADES'!$G$13=TRUE,IF('SA - ATIVIDADES'!$H$13>='SA - SERVICOS BASE'!AH31,\"mostrar\",\"ocultar\")))","v":"ocultar"},"Designação (a preencher)","MODELO A - TEMPO - N.º DE HORAS DE TRABALHO",null,null,0,{"$f":"$H$27","v":0},{"$f":"G31*H31","v":0},null,null,null,null,null,0,{"$f":"$P$27*O31","v":0},null,null,null,null,null,null,0,{"$f":"$X$27*W31","v":0},null,null,0,0,{"$f":"AA31*AB31","v":0},null,{"$f":"BL31","v":0},null,null,1,null,null,null,null,null,null,null,null,null,null,null,null,null,null,null,null,null,null,null,null,null,null,null,null,null,{"$f":"IF(OR(AND(LEFT($D$27,8)=\"MODELO M\", LEFT(D31,8)=\"MODELO A\"), AND(LEFT($D$27,8)=\"MODELO A\", $F$27=\"Atribuir valor detalhado por Fase/Elemento\")), I31, 0)","v":0},{"$f":"IF(OR(AND(LEFT($D$27,8)=\"MODELO M\", LEFT(D31,8)=\"MODELO B\"), AND(LEFT($D$27,8)=\"MODELO B\", $K$27=\"Atribuir valor detalhado por Fase/Elemento\")), P31, 0)","v":0},{"$f":"IF(OR(AND(LEFT($D$27,8)=\"MODELO M\", LEFT(D31,8)=\"MODELO C\"), AND(LEFT($D$27,8)=\"MODELO C\", $R$27=\"Atribuir valor detalhado por Fase/Elemento\")), X31, 0)","v":0},{"$f":"IF(OR(AND(LEFT($D$27,8)=\"MODELO M\", LEFT(D31,8)=\"MODELO D\"), AND(LEFT($D$27,8)=\"MODELO D\", $Z$27=\"Atribuir valor detalhado por Fase/Elemento\")), AC31, 0)","v":0},{"$f":"SUM(BH31:BK31)","v":0},"MODELO C - ÁREA - DE CONSTRUÇÃO EM M²"]
[null,{"$f":"IF($B$30=\"ocultar\",\"ocultar\",IF('SA - ATIVIDADES'!$G$13=TRUE,IF('SA - ATIVIDADES'!$H$13>='SA - SERVICOS BASE'!AH32,\"mostrar\",\"ocultar\")))","v":"ocultar"},"Designação (a preencher)","MODELO A - TEMPO - N.º DE HORAS DE TRABALHO",null,null,0,0,{"$f":"G32*H32","v":0},null,null,null,null,null,0,{"$f":"$P$27*O32","v":0},null,null,null,null,null,null,0,{"$f":"$X$27*W32","v":0},null,null,0,0,0,null,{"$f":"BL32","v":0},null,null,2,null,null,null,null,null,null,null,null,null,null,null,null,null,null,null,null,null,null,null,null,null,null,null,null,null,0,0,0,0,{"$f":"SUM(BH32:BK32)","v":0},"MODELO C - ÁREA - DE CONSTRUÇÃO EM M²"]
[null,{"$f":"IF($B$30=\"ocultar\",\"ocultar\",IF('SA - ATIVIDADES'!$G$13=TRUE,IF('SA - ATIVIDADES'!$H$13>='SA - SERVICOS BASE'!AH33,\"mostrar\",\"ocultar\")))","v":"ocultar"},"Designação (a preencher)","MODELO A - TEMPO - N.º DE HORAS DE TRABALHO",null,null,0,0,0,null,null,null,null,null,0,{"$f":"$P$27*O33","v":0},null,null,null,null,null,null,0,0,null,null,0,0,0,null,0,null,null,3,null,null,null,null,null,null,null,null,null,null,null,null,null,null,null,null,null,null,null,null,null,null,null,null,null,0,0,0,0,0,"MODELO C - ÁREA - DE CONSTRUÇÃO EM M²"]
[null,{"$f":"IF($B$30=\"ocultar\",\"ocultar\",IF('SA - ATIVIDADES'!$G$13=TRUE,IF('SA - ATIVIDADES'!$H$13>='SA - SERVICOS BASE'!AH34,\"mostrar\",\"ocultar\")))","v":"ocultar"},"Designação (a preencher)","MODELO A - TEMPO - N.º DE HORAS DE TRABALHO",null,null,0,0,0,null,null,null,null,null,0,{"$f":"$P$27*O34","v":0},null,null,null,null,null,null,0,0,null,null,0,0,0,null,0,null,null,4,null,null,null,null,null,null,null,null,null,null,null,null,null,null,null,null,null,null,null,null,null,null,null,null,null,0,0,0,0,0,"MODELO C - ÁREA - DE CONSTRUÇÃO EM M²"]
[null,{"$f":"IF($B$30=\"ocultar\",\"ocultar\",IF('SA - ATIVIDADES'!$G$13=TRUE,IF('SA - ATIVIDADES'!$H$13>='SA - SERVICOS BASE'!AH35,\"mostrar\",\"ocultar\")))","v":"ocultar"},"Designação (a preencher)","MODELO A - TEMPO - N.º DE HORAS DE TRABALHO",null,null,0,0,0,null,null,null,null,null,0,{"$f":"$P$27*O35","v":0},null,null,null,null,null,null,0,0,null,null,0,0,0,null,0,null,null,5,null,null,null,null,null,null,null,null,null,null,null,null,null,null,null,null,null,null,null,null,null,null,null,null,null,0,0,0,0,0,"MODELO C - ÁREA - DE CONSTRUÇÃO EM M²"]
[null,{"$f":"IF($B$30=\"ocultar\",\"ocultar\",IF('SA - ATIVIDADES'!$G$13=TRUE,IF('SA - ATIVIDADES'!$H$13>='SA - SERVICOS BASE'!AH36,\"mostrar\",\"ocultar\")))","v":"ocultar"},"Designação (a preencher)","MODELO A - TEMPO - N.º DE HORAS DE TRABALHO",null,null,0,0,0,null,null,null,null,null,0,0,null,null,null,null,null,null,0,0,null,null,0,0,0,null,0,null,null,6,null,null,null,null,null,null,null,null,null,null,null,null,null,null,null,null,null,null,null,null,null,null,null,null,null,0,0,0,0,0,"MODELO C - ÁREA - DE CONSTRUÇÃO EM M²"]
[null,{"$f":"IF($B$30=\"ocultar\",\"ocultar\",IF('SA - ATIVIDADES'!$G$13=TRUE,IF('SA - ATIVIDADES'!$H$13>='SA - SERVICOS BASE'!AH37,\"mostrar\",\"ocultar\")))","v":"ocultar"},"Designação (a preencher)","MODELO A - TEMPO - N.º DE HORAS DE TRABALHO",null,null,0,0,0,null,null,null,null,null,0,0,null,null,null,null,null,null,0,0,null,null,0,0,0,null,0,null,null,7,null,null,null,null,null,null,null,null,null,null,null,null,null,null,null,null,null,null,null,null,null,null,null,null,null,0,0,0,0,0,"MODELO C - ÁREA - DE CONSTRUÇÃO EM M²"]
[null,{"$f":"IF($B$30=\"ocultar\",\"ocultar\",IF('SA - ATIVIDADES'!$G$13=TRUE,IF('SA - ATIVIDADES'!$H$13>='SA - SERVICOS BASE'!AH38,\"mostrar\",\"ocultar\")))","v":"ocultar"},"Designação (a preencher)","MODELO A - TEMPO - N.º DE HORAS DE TRABALHO",null,null,0,0,0,null,null,null,null,null,0,0,null,null,null,null,null,null,0,0,null,null,0,0,0,null,0,null,null,8,null,null,null,null,null,null,null,null,null,null,null,null,null,null,null,null,null,null,null,null,null,null,null,null,null,0,0,0,0,0,"MODELO C - ÁREA - DE CONSTRUÇÃO EM M²"]
[null,{"$f":"IF($B$30=\"ocultar\",\"ocultar\",IF('SA - ATIVIDADES'!$G$13=TRUE,IF('SA - ATIVIDADES'!$H$13>='SA - SERVICOS BASE'!AH39,\"mostrar\",\"ocultar\")))","v":"ocultar"},"Designação (a preencher)","MODELO A - TEMPO - N.º DE HORAS DE TRABALHO",null,null,0,0,0,null,null,null,null,null,0,{"$f":"$P$27*O39","v":0},null,null,null,null,null,null,0,0,null,null,0,0,0,null,0,null,null,9,null,null,null,null,null,null,null,null,null,null,null,null,null,null,null,null,null,null,null,null,null,null,null,null,null,0,0,0,0,0,"MODELO C - ÁREA - DE CONSTRUÇÃO EM M²"]
[null,{"$f":"IF($B$30=\"ocultar\",\"ocultar\",IF('SA - ATIVIDADES'!$G$13=TRUE,IF('SA - ATIVIDADES'!$H$13>='SA - SERVICOS BASE'!AH40,\"mostrar\",\"ocultar\")))","v":"ocultar"},"Designação (a preencher)","MODELO A - TEMPO - N.º DE HORAS DE TRABALHO",null,null,0,0,0,null,null,null,null,null,0,{"$f":"$P$27*O40","v":0},null,null,null,null,null,null,0,0,null,null,0,0,0,null,0,null,null,10,null,null,null,null,null,null,null,null,null,null,null,null,null,null,null,null,null,null,null,null,null,null,null,null,null,0,0,0,0,0,"MODELO C - ÁREA - DE CONSTRUÇÃO EM M²"]
[null,{"$f":"IF($B$31=\"ocultar\",\"ocultar\",\"mostrar\")","v":"ocultar"},"SUB-TOTAL",null,null,null,{"$f":"SUBTOTAL(109,G30:G40)","v":0},null,{"$f":"SUBTOTAL(109,I30:I40)","v":0},null,null,null,null,null,{"$f":"SUBTOTAL(9,O31:O40)","v":0},{"$f":"SUBTOTAL(9,P31:P40)","v":0},null,null,null,null,null,null,{"$f":"SUBTOTAL(9,W31:W40)","v":0},{"$f":"SUBTOTAL(9,X31:X40)","v":0},null,null,null,null,{"$f":"SUBTOTAL(109,AC31:AC40)","v":0},null,{"$f":"SUBTOTAL(109,AE31:AE40)","v":0},null,null,null,null,null,null,null,null,null,null,null,null,null,null,null,null,null,null,null,null,null,null,null,null,null,null,null,null,null,null,null,null,null,"MODELO C - ÁREA - DE CONSTRUÇÃO EM M²"]
[null,{"$f":"IF(B27=\"ocultar\",\"ocultar\",IF('SA - ATIVIDADES'!$G$12=\"Fase Única\",\"ocultar\",IF('SA - ATIVIDADES'!G14=TRUE,\"mostrar\",\"ocultar\")))","v":"ocultar"},"PROJETO - FASE DE ESTUDO PRÉVIO",null,null,null,null,null,null,null,null,null,null,null,null,null,null,null,null,null,null,null,null,null,null,null,null,null,null,null,null,null,null,null,null,null,null,null,null,null,null,null,null,null,null,null,null,null,null,null,null,null,null,null,null,null,null,null,null,null,null,null,null,null,"MODELO C - ÁREA - DE CONSTRUÇÃO EM M²"]
[null,{"$f":"IF($B$42=\"ocultar\",\"ocultar\",IF('SA - ATIVIDADES'!$G$14=TRUE,IF('SA - ATIVIDADES'!$H$14>='SA - SERVICOS BASE'!AH43,\"mostrar\",\"ocultar\")))","v":"ocultar"},"Designação (a preencher)","MODELO A - TEMPO - N.º DE HORAS DE TRABALHO",null,null,0,{"$f":"$H$27","v":0},{"$f":"G43*H43","v":0},null,null,null,null,null,0,{"$f":"$P$27*O43","v":0},null,null,null,null,null,null,0,{"$f":"$X$27*W43","v":0},null,null,0,0,0,null,{"$f":"BL43","v":0},null,null,1,null,null,null,null,null,null,null,null,null,null,null,null,null,null,null,null,null,null,null,null,null,null,null,null,null,{"$f":"IF(OR(AND(LEFT($D$27,8)=\"MODELO M\", LEFT(D43,8)=\"MODELO A\"), AND(LEFT($D$27,8)=\"MODELO A\", $F$27=\"Atribuir valor detalhado por Fase/Elemento\")), I43, 0)","v":0},{"$f":"IF(OR(AND(LEFT($D$27,8)=\"MODELO M\", LEFT(D43,8)=\"MODELO B\"), AND(LEFT($D$27,8)=\"MODELO B\", $K$27=\"Atribuir valor detalhado por Fase/Elemento\")), P43, 0)","v":0},{"$f":"IF(OR(AND(LEFT($D$27,8)=\"MODELO M\", LEFT(D43,8)=\"MODELO C\"), AND(LEFT($D$27,8)=\"MODELO C\", $R$27=\"Atribuir valor detalhado por Fase/Elemento\")), X43, 0)","v":0},{"$f":"IF(OR(AND(LEFT($D$27,8)=\"MODELO M\", LEFT(D43,8)=\"MODELO D\"), AND(LEFT($D$27,8)=\"MODELO D\", $Z$27=\"Atribuir valor detalhado por Fase/Elemento\")), AC43, 0)","v":0},{"$f":"SUM(BH43:BK43)","v":0},"MODELO C - ÁREA - DE CONSTRUÇÃO EM M²"]
[null,{"$f":"IF($B$42=\"ocultar\",\"ocultar\",IF('SA - ATIVIDADES'!$G$14=TRUE,IF('SA - ATIVIDADES'!$H$14>='SA - SERVICOS BASE'!AH44,\"mostrar\",\"ocultar\")))","v":"ocultar"},"Designação (a preencher)","MODELO A - TEMPO - N.º DE HORAS DE TRABALHO",null,null,0,0,{"$f":"G44*H44","v":0},null,null,null,null,null,0,0,null,null,null,null,null,null,0,{"$f":"$X$27*W44","v":0},null,null,0,0,0,null,{"$f":"BL44","v":0},null,null,2,null,null,null,null,null,null,null,null,null,null,null,null,null,null,null,null,null,null,null,null,null,null,null,null,null,0,0,0,0,0,"MODELO C - ÁREA - DE CONSTRUÇÃO EM M²"]
[null,{"$f":"IF($B$42=\"ocultar\",\"ocultar\",IF('SA - ATIVIDADES'!$G$14=TRUE,IF('SA - ATIVIDADES'!$H$14>='SA - SERVICOS BASE'!AH45,\"mostrar\",\"ocultar\")))","v":"ocultar"},"Designação (a preencher)","MODELO A - TEMPO - N.º DE HORAS DE TRABALHO",null,null,0,0,0,null,null,null,null,null,0,0,null,null,null,null,null,null,0,0,null,null,0,0,0,null,0,null,null,3,null,null,null,null,null,null,null,null,null,null,null,null,null,null,null,null,null,null,null,null,null,null,null,null,null,0,0,0,0,0,"MODELO C - ÁREA - DE CONSTRUÇÃO EM M²"]
[null,{"$f":"IF($B$42=\"ocultar\",\"ocultar\",IF('SA - ATIVIDADES'!$G$14=TRUE,IF('SA - ATIVIDADES'!$H$14>='SA - SERVICOS BASE'!AH46,\"mostrar\",\"ocultar\")))","v":"ocultar"},"Designação (a preencher)","MODELO A - TEMPO - N.º DE HORAS DE TRABALHO",null,null,0,0,0,null,null,null,null,null,0,0,null,null,null,null,null,null,0,0,null,null,0,0,0,null,0,null,null,4,null,null,null,null,null,null,null,null,null,null,null,null,null,null,null,null,null,null,null,null,null,null,null,null,null,0,0,0,0,0,"MODELO C - ÁREA - DE CONSTRUÇÃO EM M²"]
[null,{"$f":"IF($B$42=\"ocultar\",\"ocultar\",IF('SA - ATIVIDADES'!$G$14=TRUE,IF('SA - ATIVIDADES'!$H$14>='SA - SERVICOS BASE'!AH47,\"mostrar\",\"ocultar\")))","v":"ocultar"},"Designação (a preencher)","MODELO A - TEMPO - N.º DE HORAS DE TRABALHO",null,null,0,0,0,null,null,null,null,null,0,0,null,null,null,null,null,null,0,0,null,null,0,0,0,null,0,null,null,5,null,null,null,null,null,null,null,null,null,null,null,null,null,null,null,null,null,null,null,null,null,null,null,null,null,0,0,0,0,0,"MODELO C - ÁREA - DE CONSTRUÇÃO EM M²"]
[null,{"$f":"IF($B$42=\"ocultar\",\"ocultar\",IF('SA - ATIVIDADES'!$G$14=TRUE,IF('SA - ATIVIDADES'!$H$14>='SA - SERVICOS BASE'!AH48,\"mostrar\",\"ocultar\")))","v":"ocultar"},"Designação (a preencher)","MODELO A - TEMPO - N.º DE HORAS DE TRABALHO",null,null,0,0,0,null,null,null,null,null,0,0,null,null,null,null,null,null,0,0,null,null,0,0,0,null,0,null,null,6,null,null,null,null,null,null,null,null,null,null,null,null,null,null,null,null,null,null,null,null,null,null,null,null,null,0,0,0,0,0,"MODELO C - ÁREA - DE CONSTRUÇÃO EM M²"]
[null,{"$f":"IF($B$42=\"ocultar\",\"ocultar\",IF('SA - ATIVIDADES'!$G$14=TRUE,IF('SA - ATIVIDADES'!$H$14>='SA - SERVICOS BASE'!AH49,\"mostrar\",\"ocultar\")))","v":"ocultar"},"Designação (a preencher)","MODELO A - TEMPO - N.º DE HORAS DE TRABALHO",null,null,0,0,0,null,null,null,null,null,0,0,null,null,null,null,null,null,0,0,null,null,0,0,0,null,0,null,null,7,null,null,null,null,null,null,null,null,null,null,null,null,null,null,null,null,null,null,null,null,null,null,null,null,null,0,0,0,0,0,"MODELO C - ÁREA - DE CONSTRUÇÃO EM M²"]
[null,{"$f":"IF($B$42=\"ocultar\",\"ocultar\",IF('SA - ATIVIDADES'!$G$14=TRUE,IF('SA - ATIVIDADES'!$H$14>='SA - SERVICOS BASE'!AH50,\"mostrar\",\"ocultar\")))","v":"ocultar"},"Designação (a preencher)","MODELO A - TEMPO - N.º DE HORAS DE TRABALHO",null,null,0,0,0,null,null,null,null,null,0,0,null,null,null,null,null,null,0,0,null,null,0,0,0,null,0,null,null,8,null,null,null,null,null,null,null,null,null,null,null,null,null,null,null,null,null,null,null,null,null,null,null,null,null,0,0,0,0,0,"MODELO C - ÁREA - DE CONSTRUÇÃO EM M²"]
[null,{"$f":"IF($B$42=\"ocultar\",\"ocultar\",IF('SA - ATIVIDADES'!$G$14=TRUE,IF('SA - ATIVIDADES'!$H$14>='SA - SERVICOS BASE'!AH51,\"mostrar\",\"ocultar\")))","v":"ocultar"},"Designação (a preencher)","MODELO A - TEMPO - N.º DE HORAS DE TRABALHO",null,null,0,0,0,null,null,null,null,null,0,0,null,null,null,null,null,null,0,0,null,null,0,0,0,null,0,null,null,9,null,null,null,null,null,null,null,null,null,null,null,null,null,null,null,null,null,null,null,null,null,null,null,null,null,0,0,0,0,0,"MODELO C - ÁREA - DE CONSTRUÇÃO EM M²"]
[null,{"$f":"IF($B$42=\"ocultar\",\"ocultar\",IF('SA - ATIVIDADES'!$G$14=TRUE,IF('SA - ATIVIDADES'!$H$14>='SA - SERVICOS BASE'!AH52,\"mostrar\",\"ocultar\")))","v":"ocultar"},"Designação (a preencher)","MODELO A - TEMPO - N.º DE HORAS DE TRABALHO",null,null,0,0,0,null,null,null,null,null,0,0,null,null,null,null,null,null,0,0,null,null,0,0,0,null,0,null,null,10,null,null,null,null,null,null,null,null,null,null,null,null,null,null,null,null,null,null,null,null,null,null,null,null,null,0,0,0,0,0,"MODELO C - ÁREA - DE CONSTRUÇÃO EM M²"]
[null,{"$f":"IF($B$43=\"ocultar\",\"ocultar\",\"mostrar\")","v":"ocultar"},"SUB-TOTAL",null,null,null,{"$f":"SUBTOTAL(109,G42:G52)","v":0},null,{"$f":"SUBTOTAL(109,I42:I52)","v":0},null,null,null,null,null,{"$f":"SUBTOTAL(9,O43:O52)","v":0},{"$f":"SUBTOTAL(9,P43:P52)","v":0},null,null,null,null,null,null,{"$f":"SUBTOTAL(9,W43:W52)","v":0},{"$f":"SUBTOTAL(9,X43:X52)","v":0},null,null,null,null,{"$f":"SUBTOTAL(109,AC43:AC52)","v":0},null,{"$f":"SUBTOTAL(109,AE43:AE52)","v":0},null,null,null,null,null,null,null,null,null,null,null,null,null,null,null,null,null,null,null,null,null,null,null,null,null,null,null,null,null,null,null,null,null,"MODELO C - ÁREA - DE CONSTRUÇÃO EM M²"]
[null,{"$f":"IF(B27=\"ocultar\",\"ocultar\",IF('SA - ATIVIDADES'!$G$12=\"Fase Única\",\"ocultar\",IF('SA - ATIVIDADES'!G15=TRUE,\"mostrar\",\"ocultar\")))","v":"ocultar"},"PROJETO - FASE DE ANTEPROJETO",null,null,null,null,null,null,null,null,null,null,null,null,null,null,null,null,null,null,null,null,null,null,null,null,null,null,null,null,null,null,null,null,null,null,null,null,null,null,null,null,null,null,null,null,null,null,null,null,null,null,null,null,null,null,null,null,null,null,null,null,null,"MODELO C - ÁREA - DE CONSTRUÇÃO EM M²"]
[null,{"$f":"IF($B$54=\"ocultar\",\"ocultar\",IF('SA - ATIVIDADES'!$G$15=TRUE,IF('SA - ATIVIDADES'!$H$15>='SA - SERVICOS BASE'!AH55,\"mostrar\",\"ocultar\")))","v":"ocultar"},"Designação (a preencher)","MODELO A - TEMPO - N.º DE HORAS DE TRABALHO",null,null,0,{"$f":"$H$27","v":0},{"$f":"G55*H55","v":0},null,null,null,null,null,0,{"$f":"$P$27*O55","v":0},null,null,null,null,null,null,0,{"$f":"$X$27*W55","v":0},null,null,0,0,0,null,{"$f":"BL55","v":0},null,null,1,null,null,null,null,null,null,null,null,null,null,null,null,null,null,null,null,null,null,null,null,null,null,null,null,null,{"$f":"IF(OR(AND(LEFT($D$27,8)=\"MODELO M\", LEFT(D55,8)=\"MODELO A\"), AND(LEFT($D$27,8)=\"MODELO A\", $F$27=\"Atribuir valor detalhado por Fase/Elemento\")), I55, 0)","v":0},{"$f":"IF(OR(AND(LEFT($D$27,8)=\"MODELO M\", LEFT(D55,8)=\"MODELO B\"), AND(LEFT($D$27,8)=\"MODELO B\", $K$27=\"Atribuir valor detalhado por Fase/Elemento\")), P55, 0)","v":0},{"$f":"IF(OR(AND(LEFT($D$27,8)=\"MODELO M\", LEFT(D55,8)=\"MODELO C\"), AND(LEFT($D$27,8)=\"MODELO C\", $R$27=\"Atribuir valor detalhado por Fase/Elemento\")), X55, 0)","v":0},{"$f":"IF(OR(AND(LEFT($D$27,8)=\"MODELO M\", LEFT(D55,8)=\"MODELO D\"), AND(LEFT($D$27,8)=\"MODELO D\", $Z$27=\"Atribuir valor detalhado por Fase/Elemento\")), AC55, 0)","v":0},{"$f":"SUM(BH55:BK55)","v":0},"MODELO C - ÁREA - DE CONSTRUÇÃO EM M²"]
[null,{"$f":"IF($B$54=\"ocultar\",\"ocultar\",IF('SA - ATIVIDADES'!$G$15=TRUE,IF('SA - ATIVIDADES'!$H$15>='SA - SERVICOS BASE'!AH56,\"mostrar\",\"ocultar\")))","v":"ocultar"},"Designação (a preencher)","MODELO A - TEMPO - N.º DE HORAS DE TRABALHO",null,null,0,0,{"$f":"G56*H56","v":0},null,null,null,null,null,0,{"$f":"$P$27*O56","v":0},null,null,null,null,null,null,0,{"$f":"$X$27*W56","v":0},null,null,0,0,0,null,{"$f":"BL56","v":0},null,null,2,null,null,null,null,null,null,null,null,null,null,null,null,null,null,null,null,null,null,null,null,null,null,null,null,null,0,0,0,0,0,"MODELO C - ÁREA - DE CONSTRUÇÃO EM M²"]
[null,{"$f":"IF($B$54=\"ocultar\",\"ocultar\",IF('SA - ATIVIDADES'!$G$15=TRUE,IF('SA - ATIVIDADES'!$H$15>='SA - SERVICOS BASE'!AH57,\"mostrar\",\"ocultar\")))","v":"ocultar"},"Designação (a preencher)","MODELO A - TEMPO - N.º DE HORAS DE TRABALHO",null,null,0,0,0,null,null,null,null,null,0,0,null,null,null,null,null,null,0,0,null,null,0,0,0,null,0,null,null,3,null,null,null,null,null,null,null,null,null,null,null,null,null,null,null,null,null,null,null,null,null,null,null,null,null,0,0,0,0,0,"MODELO C - ÁREA - DE CONSTRUÇÃO EM M²"]
[null,{"$f":"IF($B$54=\"ocultar\",\"ocultar\",IF('SA - ATIVIDADES'!$G$15=TRUE,IF('SA - ATIVIDADES'!$H$15>='SA - SERVICOS BASE'!AH58,\"mostrar\",\"ocultar\")))","v":"ocultar"},"Designação (a preencher)","MODELO A - TEMPO - N.º DE HORAS DE TRABALHO",null,null,0,0,0,null,null,null,null,null,0,0,null,null,null,null,null,null,0,0,null,null,0,0,0,null,0,null,null,4,null,null,null,null,null,null,null,null,null,null,null,null,null,null,null,null,null,null,null,null,null,null,null,null,null,0,0,0,0,0,"MODELO C - ÁREA - DE CONSTRUÇÃO EM M²"]
[null,{"$f":"IF($B$54=\"ocultar\",\"ocultar\",IF('SA - ATIVIDADES'!$G$15=TRUE,IF('SA - ATIVIDADES'!$H$15>='SA - SERVICOS BASE'!AH59,\"mostrar\",\"ocultar\")))","v":"ocultar"},"Designação (a preencher)","MODELO A - TEMPO - N.º DE HORAS DE TRABALHO",null,null,0,0,0,null,null,null,null,null,0,0,null,null,null,null,null,null,0,0,null,null,0,0,0,null,0,null,null,5,null,null,null,null,null,null,null,null,null,null,null,null,null,null,null,null,null,null,null,null,null,null,null,null,null,0,0,0,0,0,"MODELO C - ÁREA - DE CONSTRUÇÃO EM M²"]
[null,{"$f":"IF($B$54=\"ocultar\",\"ocultar\",IF('SA - ATIVIDADES'!$G$15=TRUE,IF('SA - ATIVIDADES'!$H$15>='SA - SERVICOS BASE'!AH60,\"mostrar\",\"ocultar\")))","v":"ocultar"},"Designação (a preencher)","MODELO A - TEMPO - N.º DE HORAS DE TRABALHO",null,null,0,0,0,null,null,null,null,null,0,0,null,null,null,null,null,null,0,0,null,null,0,0,0,null,0,null,null,6,null,null,null,null,null,null,null,null,null,null,null,null,null,null,null,null,null,null,null,null,null,null,null,null,null,0,0,0,0,0,"MODELO C - ÁREA - DE CONSTRUÇÃO EM M²"]
[null,{"$f":"IF($B$54=\"ocultar\",\"ocultar\",IF('SA - ATIVIDADES'!$G$15=TRUE,IF('SA - ATIVIDADES'!$H$15>='SA - SERVICOS BASE'!AH61,\"mostrar\",\"ocultar\")))","v":"ocultar"},"Designação (a preencher)","MODELO A - TEMPO - N.º DE HORAS DE TRABALHO",null,null,0,0,0,null,null,null,null,null,0,0,null,null,null,null,null,null,0,0,null,null,0,0,0,null,0,null,null,7,null,null,null,null,null,null,null,null,null,null,null,null,null,null,null,null,null,null,null,null,null,null,null,null,null,0,0,0,0,0,"MODELO C - ÁREA - DE CONSTRUÇÃO EM M²"]
[null,{"$f":"IF($B$54=\"ocultar\",\"ocultar\",IF('SA - ATIVIDADES'!$G$15=TRUE,IF('SA - ATIVIDADES'!$H$15>='SA - SERVICOS BASE'!AH62,\"mostrar\",\"ocultar\")))","v":"ocultar"},"Designação (a preencher)","MODELO A - TEMPO - N.º DE HORAS DE TRABALHO",null,null,0,0,0,null,null,null,null,null,0,0,null,null,null,null,null,null,0,0,null,null,0,0,0,null,0,null,null,8,null,null,null,null,null,null,null,null,null,null,null,null,null,null,null,null,null,null,null,null,null,null,null,null,null,0,0,0,0,0,"MODELO C - ÁREA - DE CONSTRUÇÃO EM M²"]
[null,{"$f":"IF($B$54=\"ocultar\",\"ocultar\",IF('SA - ATIVIDADES'!$G$15=TRUE,IF('SA - ATIVIDADES'!$H$15>='SA - SERVICOS BASE'!AH63,\"mostrar\",\"ocultar\")))","v":"ocultar"},"Designação (a preencher)","MODELO A - TEMPO - N.º DE HORAS DE TRABALHO",null,null,0,0,0,null,null,null,null,null,0,0,null,null,null,null,null,null,0,0,null,null,0,0,0,null,0,null,null,9,null,null,null,null,null,null,null,null,null,null,null,null,null,null,null,null,null,null,null,null,null,null,null,null,null,0,0,0,0,0,"MODELO C - ÁREA - DE CONSTRUÇÃO EM M²"]
[null,{"$f":"IF($B$54=\"ocultar\",\"ocultar\",IF('SA - ATIVIDADES'!$G$15=TRUE,IF('SA - ATIVIDADES'!$H$15>='SA - SERVICOS BASE'!AH64,\"mostrar\",\"ocultar\")))","v":"ocultar"},"Designação (a preencher)","MODELO A - TEMPO - N.º DE HORAS DE TRABALHO",null,null,0,0,0,null,null,null,null,null,0,0,null,null,null,null,null,null,0,0,null,null,0,0,0,null,0,null,null,10,null,null,null,null,null,null,null,null,null,null,null,null,null,null,null,null,null,null,null,null,null,null,null,null,null,0,0,0,0,0,"MODELO C - ÁREA - DE CONSTRUÇÃO EM M²"]
[null,{"$f":"IF($B$55=\"ocultar\",\"ocultar\",\"mostrar\")","v":"ocultar"},"SUB-TOTAL",null,null,null,{"$f":"SUBTOTAL(109,G54:G64)","v":0},null,{"$f":"SUBTOTAL(109,I54:I64)","v":0},null,null,null,null,null,{"$f":"SUBTOTAL(9,O55:O64)","v":0},{"$f":"SUBTOTAL(9,P55:P64)","v":0},null,null,null,null,null,null,{"$f":"SUBTOTAL(9,W55:W64)","v":0},{"$f":"SUBTOTAL(9,X55:X64)","v":0},null,null,null,null,{"$f":"SUBTOTAL(109,AC55:AC64)","v":0},null,{"$f":"SUBTOTAL(109,AE55:AE64)","v":0},null,null,null,null,null,null,null,null,null,null,null,null,null,null,null,null,null,null,null,null,null,null,null,null,null,null,null,null,null,null,null,null,null,"MODELO C - ÁREA - DE CONSTRUÇÃO EM M²"]
[null,{"$f":"IF(B27=\"ocultar\",\"ocultar\",IF('SA - ATIVIDADES'!$G$12=\"Fase Única\",\"ocultar\",IF('SA - ATIVIDADES'!G16=TRUE,\"mostrar\",\"ocultar\")))","v":"ocultar"},"PROJETO  - FASE DE PROJETO DE EXECUÇÃO",null,null,null,null,null,null,null,null,null,null,null,null,null,null,null,null,null,null,null,null,null,null,null,null,null,null,null,null,null,null,null,null,null,null,null,null,null,null,null,null,null,null,null,null,null,null,null,null,null,null,null,null,null,null,null,null,null,null,null,null,null,"MODELO C - ÁREA - DE CONSTRUÇÃO EM M²"]
[null,{"$f":"IF($B$66=\"ocultar\",\"ocultar\",IF('SA - ATIVIDADES'!$G$16=TRUE,IF('SA - ATIVIDADES'!$H$16>='SA - SERVICOS BASE'!AH67,\"mostrar\",\"ocultar\")))","v":"ocultar"},"Designação (a preencher)","MODELO A - TEMPO - N.º DE HORAS DE TRABALHO",null,null,0,{"$f":"$H$27","v":0},{"$f":"G67*H67","v":0},null,null,null,null,null,0,{"$f":"$P$27*O67","v":0},null,null,null,null,null,null,0,{"$f":"$X$27*W67","v":0},null,null,0,0,0,null,{"$f":"BL67","v":0},null,null,1,null,null,null,null,null,null,null,null,null,null,null,null,null,null,null,null,null,null,null,null,null,null,null,null,null,{"$f":"IF(OR(AND(LEFT($D$27,8)=\"MODELO M\", LEFT(D67,8)=\"MODELO A\"), AND(LEFT($D$27,8)=\"MODELO A\", $F$27=\"Atribuir valor detalhado por Fase/Elemento\")), I67, 0)","v":0},{"$f":"IF(OR(AND(LEFT($D$27,8)=\"MODELO M\", LEFT(D67,8)=\"MODELO B\"), AND(LEFT($D$27,8)=\"MODELO B\", $K$27=\"Atribuir valor detalhado por Fase/Elemento\")), P67, 0)","v":0},{"$f":"IF(OR(AND(LEFT($D$27,8)=\"MODELO M\", LEFT(D67,8)=\"MODELO C\"), AND(LEFT($D$27,8)=\"MODELO C\", $R$27=\"Atribuir valor detalhado por Fase/Elemento\")), X67, 0)","v":0},{"$f":"IF(OR(AND(LEFT($D$27,8)=\"MODELO M\", LEFT(D67,8)=\"MODELO D\"), AND(LEFT($D$27,8)=\"MODELO D\", $Z$27=\"Atribuir valor detalhado por Fase/Elemento\")), AC67, 0)","v":0},{"$f":"SUM(BH67:BK67)","v":0},"MODELO C - ÁREA - DE CONSTRUÇÃO EM M²"]
[null,{"$f":"IF($B$66=\"ocultar\",\"ocultar\",IF('SA - ATIVIDADES'!$G$16=TRUE,IF('SA - ATIVIDADES'!$H$16>='SA - SERVICOS BASE'!AH68,\"mostrar\",\"ocultar\")))","v":"ocultar"},"Designação (a preencher)","MODELO A - TEMPO - N.º DE HORAS DE TRABALHO",null,null,0,0,{"$f":"G68*H68","v":0},null,null,null,null,null,0,{"$f":"$P$27*O68","v":0},null,null,null,null,null,null,0,{"$f":"$X$27*W68","v":0},null,null,0,0,0,null,{"$f":"BL68","v":0},null,null,2,null,null,null,null,null,null,null,null,null,null,null,null,null,null,null,null,null,null,null,null,null,null,null,null,null,0,0,0,0,0,"MODELO C - ÁREA - DE CONSTRUÇÃO EM M²"]
[null,{"$f":"IF($B$66=\"ocultar\",\"ocultar\",IF('SA - ATIVIDADES'!$G$16=TRUE,IF('SA - ATIVIDADES'!$H$16>='SA - SERVICOS BASE'!AH69,\"mostrar\",\"ocultar\")))","v":"ocultar"},"Designação (a preencher)","MODELO A - TEMPO - N.º DE HORAS DE TRABALHO",null,null,0,0,0,null,null,null,null,null,0,0,null,null,null,null,null,null,0,0,null,null,0,0,0,null,0,null,null,3,null,null,null,null,null,null,null,null,null,null,null,null,null,null,null,null,null,null,null,null,null,null,null,null,null,0,0,0,0,0,"MODELO C - ÁREA - DE CONSTRUÇÃO EM M²"]
[null,{"$f":"IF($B$66=\"ocultar\",\"ocultar\",IF('SA - ATIVIDADES'!$G$16=TRUE,IF('SA - ATIVIDADES'!$H$16>='SA - SERVICOS BASE'!AH70,\"mostrar\",\"ocultar\")))","v":"ocultar"},"Designação (a preencher)","MODELO A - TEMPO - N.º DE HORAS DE TRABALHO",null,null,0,0,0,null,null,null,null,null,0,0,null,null,null,null,null,null,0,0,null,null,0,0,0,null,0,null,null,4,null,null,null,null,null,null,null,null,null,null,null,null,null,null,null,null,null,null,null,null,null,null,null,null,null,0,0,0,0,0,"MODELO C - ÁREA - DE CONSTRUÇÃO EM M²"]
[null,{"$f":"IF($B$66=\"ocultar\",\"ocultar\",IF('SA - ATIVIDADES'!$G$16=TRUE,IF('SA - ATIVIDADES'!$H$16>='SA - SERVICOS BASE'!AH71,\"mostrar\",\"ocultar\")))","v":"ocultar"},"Designação (a preencher)","MODELO A - TEMPO - N.º DE HORAS DE TRABALHO",null,null,0,0,0,null,null,null,null,null,0,0,null,null,null,null,null,null,0,0,null,null,0,0,0,null,0,null,null,5,null,null,null,null,null,null,null,null,null,null,null,null,null,null,null,null,null,null,null,null,null,null,null,null,null,0,0,0,0,0,"MODELO C - ÁREA - DE CONSTRUÇÃO EM M²"]
[null,{"$f":"IF($B$66=\"ocultar\",\"ocultar\",IF('SA - ATIVIDADES'!$G$16=TRUE,IF('SA - ATIVIDADES'!$H$16>='SA - SERVICOS BASE'!AH72,\"mostrar\",\"ocultar\")))","v":"ocultar"},"Designação (a preencher)","MODELO A - TEMPO - N.º DE HORAS DE TRABALHO",null,null,0,0,0,null,null,null,null,null,0,0,null,null,null,null,null,null,0,0,null,null,0,0,0,null,0,null,null,6,null,null,null,null,null,null,null,null,null,null,null,null,null,null,null,null,null,null,null,null,null,null,null,null,null,0,0,0,0,0,"MODELO C - ÁREA - DE CONSTRUÇÃO EM M²"]
[null,{"$f":"IF($B$66=\"ocultar\",\"ocultar\",IF('SA - ATIVIDADES'!$G$16=TRUE,IF('SA - ATIVIDADES'!$H$16>='SA - SERVICOS BASE'!AH73,\"mostrar\",\"ocultar\")))","v":"ocultar"},"Designação (a preencher)","MODELO A - TEMPO - N.º DE HORAS DE TRABALHO",null,null,0,0,0,null,null,null,null,null,0,0,null,null,null,null,null,null,0,0,null,null,0,0,0,null,0,null,null,7,null,null,null,null,null,null,null,null,null,null,null,null,null,null,null,null,null,null,null,null,null,null,null,null,null,0,0,0,0,0,"MODELO C - ÁREA - DE CONSTRUÇÃO EM M²"]
[null,{"$f":"IF($B$66=\"ocultar\",\"ocultar\",IF('SA - ATIVIDADES'!$G$16=TRUE,IF('SA - ATIVIDADES'!$H$16>='SA - SERVICOS BASE'!AH74,\"mostrar\",\"ocultar\")))","v":"ocultar"},"Designação (a preencher)","MODELO A - TEMPO - N.º DE HORAS DE TRABALHO",null,null,0,0,0,null,null,null,null,null,0,0,null,null,null,null,null,null,0,0,null,null,0,0,0,null,0,null,null,8,null,null,null,null,null,null,null,null,null,null,null,null,null,null,null,null,null,null,null,null,null,null,null,null,null,0,0,0,0,0,"MODELO C - ÁREA - DE CONSTRUÇÃO EM M²"]
[null,{"$f":"IF($B$66=\"ocultar\",\"ocultar\",IF('SA - ATIVIDADES'!$G$16=TRUE,IF('SA - ATIVIDADES'!$H$16>='SA - SERVICOS BASE'!AH75,\"mostrar\",\"ocultar\")))","v":"ocultar"},"Designação (a preencher)","MODELO A - TEMPO - N.º DE HORAS DE TRABALHO",null,null,0,0,0,null,null,null,null,null,0,0,null,null,null,null,null,null,0,0,null,null,0,0,0,null,0,null,null,9,null,null,null,null,null,null,null,null,null,null,null,null,null,null,null,null,null,null,null,null,null,null,null,null,null,0,0,0,0,0,"MODELO C - ÁREA - DE CONSTRUÇÃO EM M²"]
[null,{"$f":"IF($B$66=\"ocultar\",\"ocultar\",IF('SA - ATIVIDADES'!$G$16=TRUE,IF('SA - ATIVIDADES'!$H$16>='SA - SERVICOS BASE'!AH76,\"mostrar\",\"ocultar\")))","v":"ocultar"},"Designação (a preencher)","MODELO A - TEMPO - N.º DE HORAS DE TRABALHO",null,null,0,0,0,null,null,null,null,null,0,0,null,null,null,null,null,null,0,0,null,null,0,0,0,null,0,null,null,10,null,null,null,null,null,null,null,null,null,null,null,null,null,null,null,null,null,null,null,null,null,null,null,null,null,0,0,0,0,0,{"$f":"IF($AH76<>\"\",BM75,IF(LEFT($D76,6)=\"MODELO\",$D76,BM75))","v":"MODELO C - ÁREA - DE CONSTRUÇÃO EM M²"}]
[null,{"$f":"IF($B$67=\"ocultar\",\"ocultar\",\"mostrar\")","v":"ocultar"},"SUB-TOTAL",null,null,null,{"$f":"SUBTOTAL(109,G66:G76)","v":0},null,{"$f":"SUBTOTAL(109,I66:I76)","v":0},null,null,null,null,null,{"$f":"SUBTOTAL(9,O67:O76)","v":0},{"$f":"SUBTOTAL(9,P67:P76)","v":0},null,null,null,null,null,null,{"$f":"SUBTOTAL(9,W67:W76)","v":0},{"$f":"SUBTOTAL(9,X67:X76)","v":0},null,null,null,null,{"$f":"SUBTOTAL(109,AC67:AC76)","v":0},null,{"$f":"SUBTOTAL(109,AE67:AE76)","v":0},null,null,null,null,null,null,null,null,null,null,null,null,null,null,null,null,null,null,null,null,null,null,null,null,null,null,null,null,null,null,null,null,null,"MODELO C - ÁREA - DE CONSTRUÇÃO EM M²"]
[null,{"$f":"IF($B$28=\"ocultar\",\"ocultar\",IF('SA - ATIVIDADES'!$G$12=\"Fase Única\",\"ocultar\",IF('SA - ATIVIDADES'!G17=TRUE,\"mostrar\",\"ocultar\")))","v":"ocultar"},"ASSISTÊNCIA TÉCNICA",null,null,null,null,null,null,null,null,null,null,null,null,null,null,null,null,null,null,null,null,null,null,null,null,null,null,null,null,null,null,null,null,null,null,null,null,null,null,null,null,null,null,null,null,null,null,null,null,null,null,null,null,null,null,null,null,null,null,null,null,null,"MODELO C - ÁREA - DE CONSTRUÇÃO EM M²"]
[null,{"$f":"IF($B$78=\"ocultar\",\"ocultar\",IF('SA - ATIVIDADES'!$G$17=TRUE,IF('SA - ATIVIDADES'!$H$17>='SA - SERVICOS BASE'!AH79,\"mostrar\",\"ocultar\")))","v":"ocultar"},"Designação (a preencher)","MODELO A - TEMPO - N.º DE HORAS DE TRABALHO",null,null,0,{"$f":"$H$27","v":0},{"$f":"G79*H79","v":0},null,null,null,null,null,0,{"$f":"$P$27*O79","v":0},null,null,null,null,null,null,0,{"$f":"$X$27*W79","v":0},null,null,0,0,{"$f":"AA79*AB79","v":0},null,{"$f":"BL79","v":0},null,null,1,null,null,null,null,null,null,null,null,null,null,null,null,null,null,null,null,null,null,null,null,null,null,null,null,null,{"$f":"IF(OR(AND(LEFT($D$27,8)=\"MODELO M\", LEFT(D79,8)=\"MODELO A\"), AND(LEFT($D$27,8)=\"MODELO A\", $F$27=\"Atribuir valor detalhado por Fase/Elemento\")), I79, 0)","v":0},{"$f":"IF(OR(AND(LEFT($D$27,8)=\"MODELO M\", LEFT(D79,8)=\"MODELO B\"), AND(LEFT($D$27,8)=\"MODELO B\", $K$27=\"Atribuir valor detalhado por Fase/Elemento\")), P79, 0)","v":0},{"$f":"IF(OR(AND(LEFT($D$27,8)=\"MODELO M\", LEFT(D79,8)=\"MODELO C\"), AND(LEFT($D$27,8)=\"MODELO C\", $R$27=\"Atribuir valor detalhado por Fase/Elemento\")), X79, 0)","v":0},{"$f":"IF(OR(AND(LEFT($D$27,8)=\"MODELO M\", LEFT(D79,8)=\"MODELO D\"), AND(LEFT($D$27,8)=\"MODELO D\", $Z$27=\"Atribuir valor detalhado por Fase/Elemento\")), AC79, 0)","v":0},{"$f":"SUM(BH79:BK79)","v":0},"MODELO C - ÁREA - DE CONSTRUÇÃO EM M²"]
[null,{"$f":"IF($B$78=\"ocultar\",\"ocultar\",IF('SA - ATIVIDADES'!$G$17=TRUE,IF('SA - ATIVIDADES'!$H$17>='SA - SERVICOS BASE'!AH80,\"mostrar\",\"ocultar\")))","v":"ocultar"},"Designação (a preencher)","MODELO A - TEMPO - N.º DE HORAS DE TRABALHO",null,null,0,0,{"$f":"G80*H80","v":0},null,null,null,null,null,0,{"$f":"$P$27*O80","v":0},null,null,null,null,null,null,0,{"$f":"$X$27*W80","v":0},null,null,0,0,0,null,{"$f":"BL80","v":0},null,null,2,null,null,null,null,null,null,null,null,null,null,null,null,null,null,null,null,null,null,null,null,null,null,null,null,null,0,0,0,0,0,"MODELO C - ÁREA - DE CONSTRUÇÃO EM M²"]
[null,{"$f":"IF($B$78=\"ocultar\",\"ocultar\",IF('SA - ATIVIDADES'!$G$17=TRUE,IF('SA - ATIVIDADES'!$H$17>='SA - SERVICOS BASE'!AH81,\"mostrar\",\"ocultar\")))","v":"ocultar"},"Designação (a preencher)","MODELO A - TEMPO - N.º DE HORAS DE TRABALHO",null,null,0,0,0,null,null,null,null,null,0,0,null,null,null,null,null,null,0,0,null,null,0,0,0,null,0,null,null,3,null,null,null,null,null,null,null,null,null,null,null,null,null,null,null,null,null,null,null,null,null,null,null,null,null,0,0,0,0,0,"MODELO C - ÁREA - DE CONSTRUÇÃO EM M²"]
[null,{"$f":"IF($B$78=\"ocultar\",\"ocultar\",IF('SA - ATIVIDADES'!$G$17=TRUE,IF('SA - ATIVIDADES'!$H$17>='SA - SERVICOS BASE'!AH82,\"mostrar\",\"ocultar\")))","v":"ocultar"},"Designação (a preencher)","MODELO A - TEMPO - N.º DE HORAS DE TRABALHO",null,null,0,0,0,null,null,null,null,null,0,0,null,null,null,null,null,null,0,0,null,null,0,0,0,null,0,null,null,4,null,null,null,null,null,null,null,null,null,null,null,null,null,null,null,null,null,null,null,null,null,null,null,null,null,0,0,0,0,0,"MODELO C - ÁREA - DE CONSTRUÇÃO EM M²"]
[null,{"$f":"IF($B$78=\"ocultar\",\"ocultar\",IF('SA - ATIVIDADES'!$G$17=TRUE,IF('SA - ATIVIDADES'!$H$17>='SA - SERVICOS BASE'!AH83,\"mostrar\",\"ocultar\")))","v":"ocultar"},"Designação (a preencher)","MODELO A - TEMPO - N.º DE HORAS DE TRABALHO",null,null,0,0,0,null,null,null,null,null,0,0,null,null,null,null,null,null,0,0,null,null,0,0,0,null,0,null,null,5,null,null,null,null,null,null,null,null,null,null,null,null,null,null,null,null,null,null,null,null,null,null,null,null,null,0,0,0,0,0,"MODELO C - ÁREA - DE CONSTRUÇÃO EM M²"]
[null,{"$f":"IF($B$78=\"ocultar\",\"ocultar\",IF('SA - ATIVIDADES'!$G$17=TRUE,IF('SA - ATIVIDADES'!$H$17>='SA - SERVICOS BASE'!AH84,\"mostrar\",\"ocultar\")))","v":"ocultar"},"Designação (a preencher)","MODELO A - TEMPO - N.º DE HORAS DE TRABALHO",null,null,0,0,0,null,null,null,null,null,0,0,null,null,null,null,null,null,0,0,null,null,0,0,0,null,0,null,null,6,null,null,null,null,null,null,null,null,null,null,null,null,null,null,null,null,null,null,null,null,null,null,null,null,null,0,0,0,0,0,"MODELO C - ÁREA - DE CONSTRUÇÃO EM M²"]
[null,{"$f":"IF($B$78=\"ocultar\",\"ocultar\",IF('SA - ATIVIDADES'!$G$17=TRUE,IF('SA - ATIVIDADES'!$H$17>='SA - SERVICOS BASE'!AH85,\"mostrar\",\"ocultar\")))","v":"ocultar"},"Designação (a preencher)","MODELO A - TEMPO - N.º DE HORAS DE TRABALHO",null,null,0,0,0,null,null,null,null,null,0,0,null,null,null,null,null,null,0,0,null,null,0,0,0,null,0,null,null,7,null,null,null,null,null,null,null,null,null,null,null,null,null,null,null,null,null,null,null,null,null,null,null,null,null,0,0,0,0,0,"MODELO C - ÁREA - DE CONSTRUÇÃO EM M²"]
[null,{"$f":"IF($B$78=\"ocultar\",\"ocultar\",IF('SA - ATIVIDADES'!$G$17=TRUE,IF('SA - ATIVIDADES'!$H$17>='SA - SERVICOS BASE'!AH86,\"mostrar\",\"ocultar\")))","v":"ocultar"},"Designação (a preencher)","MODELO A - TEMPO - N.º DE HORAS DE TRABALHO",null,null,0,0,0,null,null,null,null,null,0,0,null,null,null,null,null,null,0,0,null,null,0,0,0,null,0,null,null,8,null,null,null,null,null,null,null,null,null,null,null,null,null,null,null,null,null,null,null,null,null,null,null,null,null,0,0,0,0,0,"MODELO C - ÁREA - DE CONSTRUÇÃO EM M²"]
[null,{"$f":"IF($B$78=\"ocultar\",\"ocultar\",IF('SA - ATIVIDADES'!$G$17=TRUE,IF('SA - ATIVIDADES'!$H$17>='SA - SERVICOS BASE'!AH87,\"mostrar\",\"ocultar\")))","v":"ocultar"},"Designação (a preencher)","MODELO A - TEMPO - N.º DE HORAS DE TRABALHO",null,null,0,0,0,null,null,null,null,null,0,0,null,null,null,null,null,null,0,0,null,null,0,0,0,null,0,null,null,9,null,null,null,null,null,null,null,null,null,null,null,null,null,null,null,null,null,null,null,null,null,null,null,null,null,0,0,0,0,0,"MODELO C - ÁREA - DE CONSTRUÇÃO EM M²"]
[null,{"$f":"IF($B$78=\"ocultar\",\"ocultar\",IF('SA - ATIVIDADES'!$G$17=TRUE,IF('SA - ATIVIDADES'!$H$17>='SA - SERVICOS BASE'!AH88,\"mostrar\",\"ocultar\")))","v":"ocultar"},"Designação (a preencher)","MODELO A - TEMPO - N.º DE HORAS DE TRABALHO",null,null,0,0,0,null,null,null,null,null,0,0,null,null,null,null,null,null,0,0,null,null,0,0,0,null,0,null,null,10,null,null,null,null,null,null,null,null,null,null,null,null,null,null,null,null,null,null,null,null,null,null,null,null,null,0,0,0,0,0,"MODELO C - ÁREA - DE CONSTRUÇÃO EM M²"]
[null,{"$f":"IF($B$79=\"ocultar\",\"ocultar\",\"mostrar\")","v":"ocultar"},"SUB-TOTAL",null,null,null,{"$f":"SUBTOTAL(109,G78:G88)","v":0},null,{"$f":"SUBTOTAL(109,I78:I88)","v":0},null,null,null,null,null,{"$f":"SUBTOTAL(9,O79:O88)","v":0},{"$f":"SUBTOTAL(9,P79:P88)","v":0},null,null,null,null,null,null,{"$f":"SUBTOTAL(9,W79:W88)","v":0},{"$f":"SUBTOTAL(9,X79:X88)","v":0},null,null,null,null,{"$f":"SUBTOTAL(109,AC79:AC88)","v":0},null,{"$f":"SUBTOTAL(109,AE79:AE88)","v":0},null,null,null,null,null,null,null,null,null,null,null,null,null,null,null,null,null,null,null,null,null,null,null,null,null,null,null,null,null,null,null,null,null,"MODELO C - ÁREA - DE CONSTRUÇÃO EM M²"]
[null,{"$f":"IF($B$27=\"ocultar\",\"ocultar\",IF('SA - ATIVIDADES'!$G$12=\"Fase Única\",\"ocultar\",IF('SA - ATIVIDADES'!G18=TRUE,\"mostrar\",\"ocultar\")))","v":"ocultar"},"PROJETO DE ARQUITETURA - requisitos mínimos de desempenho energético",null,null,null,null,null,null,null,null,null,null,null,null,null,null,null,null,null,null,null,null,null,null,null,null,null,null,null,null,null,null,null,null,null,null,null,null,null,null,null,null,null,null,null,null,null,null,null,null,null,null,null,null,null,null,null,null,null,null,null,null,null,"MODELO C - ÁREA - DE CONSTRUÇÃO EM M²"]
[null,{"$f":"IF($B$90=\"ocultar\",\"ocultar\",IF('SA - ATIVIDADES'!$G$18=TRUE,IF('SA - ATIVIDADES'!$H$18>='SA - SERVICOS BASE'!AH91,\"mostrar\",\"ocultar\")))","v":"ocultar"},"Designação (a preencher)","MODELO A - TEMPO - N.º DE HORAS DE TRABALHO",null,null,0,{"$f":"$H$27","v":0},{"$f":"G91*H91","v":0},null,null,null,null,null,0,{"$f":"$P$27*O91","v":0},null,null,null,null,null,null,0,{"$f":"$X$27*W91","v":0},null,null,0,0,{"$f":"AA91*AB91","v":0},null,{"$f":"BL91","v":0},null,null,1,null,null,null,null,null,null,null,null,null,null,null,null,null,null,null,null,null,null,null,null,null,null,null,null,null,{"$f":"IF(OR(AND(LEFT($D$27,8)=\"MODELO M\", LEFT(D91,8)=\"MODELO A\"), AND(LEFT($D$27,8)=\"MODELO A\", $F$27=\"Atribuir valor detalhado por Fase/Elemento\")), I91, 0)","v":0},{"$f":"IF(OR(AND(LEFT($D$27,8)=\"MODELO M\", LEFT(D91,8)=\"MODELO B\"), AND(LEFT($D$27,8)=\"MODELO B\", $K$27=\"Atribuir valor detalhado por Fase/Elemento\")), P91, 0)","v":0},{"$f":"IF(OR(AND(LEFT($D$27,8)=\"MODELO M\", LEFT(D91,8)=\"MODELO C\"), AND(LEFT($D$27,8)=\"MODELO C\", $R$27=\"Atribuir valor detalhado por Fase/Elemento\")), X91, 0)","v":0},{"$f":"IF(OR(AND(LEFT($D$27,8)=\"MODELO M\", LEFT(D91,8)=\"MODELO D\"), AND(LEFT($D$27,8)=\"MODELO D\", $Z$27=\"Atribuir valor detalhado por Fase/Elemento\")), AC91, 0)","v":0},{"$f":"SUM(BH91:BK91)","v":0},"MODELO C - ÁREA - DE CONSTRUÇÃO EM M²"]
[null,{"$f":"IF($B$90=\"ocultar\",\"ocultar\",IF('SA - ATIVIDADES'!$G$18=TRUE,IF('SA - ATIVIDADES'!$H$18>='SA - SERVICOS BASE'!AH92,\"mostrar\",\"ocultar\")))","v":"ocultar"},"Designação (a preencher)","MODELO A - TEMPO - N.º DE HORAS DE TRABALHO",null,null,0,0,{"$f":"G92*H92","v":0},null,null,null,null,null,0,{"$f":"$P$27*O92","v":0},null,null,null,null,null,null,0,{"$f":"$X$27*W92","v":0},null,null,0,0,0,null,{"$f":"BL92","v":0},null,null,2,null,null,null,null,null,null,null,null,null,null,null,null,null,null,null,null,null,null,null,null,null,null,null,null,null,0,0,0,0,0,"MODELO C - ÁREA - DE CONSTRUÇÃO EM M²"]
[null,{"$f":"IF($B$90=\"ocultar\",\"ocultar\",IF('SA - ATIVIDADES'!$G$18=TRUE,IF('SA - ATIVIDADES'!$H$18>='SA - SERVICOS BASE'!AH93,\"mostrar\",\"ocultar\")))","v":"ocultar"},"Designação (a preencher)","MODELO A - TEMPO - N.º DE HORAS DE TRABALHO",null,null,0,0,0,null,null,null,null,null,0,0,null,null,null,null,null,null,0,0,null,null,0,0,0,null,0,null,null,3,null,null,null,null,null,null,null,null,null,null,null,null,null,null,null,null,null,null,null,null,null,null,null,null,null,0,0,0,0,0,"MODELO C - ÁREA - DE CONSTRUÇÃO EM M²"]
[null,{"$f":"IF($B$90=\"ocultar\",\"ocultar\",IF('SA - ATIVIDADES'!$G$18=TRUE,IF('SA - ATIVIDADES'!$H$18>='SA - SERVICOS BASE'!AH94,\"mostrar\",\"ocultar\")))","v":"ocultar"},"Designação (a preencher)","MODELO A - TEMPO - N.º DE HORAS DE TRABALHO",null,null,0,0,0,null,null,null,null,null,0,0,null,null,null,null,null,null,0,0,null,null,0,0,0,null,0,null,null,4,null,null,null,null,null,null,null,null,null,null,null,null,null,null,null,null,null,null,null,null,null,null,null,null,null,0,0,0,0,0,"MODELO C - ÁREA - DE CONSTRUÇÃO EM M²"]
[null,{"$f":"IF($B$90=\"ocultar\",\"ocultar\",IF('SA - ATIVIDADES'!$G$18=TRUE,IF('SA - ATIVIDADES'!$H$18>='SA - SERVICOS BASE'!AH95,\"mostrar\",\"ocultar\")))","v":"ocultar"},"Designação (a preencher)","MODELO A - TEMPO - N.º DE HORAS DE TRABALHO",null,null,0,0,0,null,null,null,null,null,0,0,null,null,null,null,null,null,0,0,null,null,0,0,0,null,0,null,null,5,null,null,null,null,null,null,null,null,null,null,null,null,null,null,null,null,null,null,null,null,null,null,null,null,null,0,0,0,0,0,"MODELO C - ÁREA - DE CONSTRUÇÃO EM M²"]
[null,{"$f":"IF($B$90=\"ocultar\",\"ocultar\",IF('SA - ATIVIDADES'!$G$18=TRUE,IF('SA - ATIVIDADES'!$H$18>='SA - SERVICOS BASE'!AH96,\"mostrar\",\"ocultar\")))","v":"ocultar"},"Designação (a preencher)","MODELO A - TEMPO - N.º DE HORAS DE TRABALHO",null,null,0,0,0,null,null,null,null,null,0,0,null,null,null,null,null,null,0,0,null,null,0,0,0,null,0,null,null,6,null,null,null,null,null,null,null,null,null,null,null,null,null,null,null,null,null,null,null,null,null,null,null,null,null,0,0,0,0,0,"MODELO C - ÁREA - DE CONSTRUÇÃO EM M²"]
[null,{"$f":"IF($B$90=\"ocultar\",\"ocultar\",IF('SA - ATIVIDADES'!$G$18=TRUE,IF('SA - ATIVIDADES'!$H$18>='SA - SERVICOS BASE'!AH97,\"mostrar\",\"ocultar\")))","v":"ocultar"},"Designação (a preencher)","MODELO A - TEMPO - N.º DE HORAS DE TRABALHO",null,null,0,0,0,null,null,null,null,null,0,0,null,null,null,null,null,null,0,0,null,null,0,0,0,null,0,null,null,7,null,null,null,null,null,null,null,null,null,null,null,null,null,null,null,null,null,null,null,null,null,null,null,null,null,0,0,0,0,0,"MODELO C - ÁREA - DE CONSTRUÇÃO EM M²"]
[null,{"$f":"IF($B$90=\"ocultar\",\"ocultar\",IF('SA - ATIVIDADES'!$G$18=TRUE,IF('SA - ATIVIDADES'!$H$18>='SA - SERVICOS BASE'!AH98,\"mostrar\",\"ocultar\")))","v":"ocultar"},"Designação (a preencher)","MODELO A - TEMPO - N.º DE HORAS DE TRABALHO",null,null,0,0,0,null,null,null,null,null,0,0,null,null,null,null,null,null,0,0,null,null,0,0,0,null,0,null,null,8,null,null,null,null,null,null,null,null,null,null,null,null,null,null,null,null,null,null,null,null,null,null,null,null,null,0,0,0,0,0,"MODELO C - ÁREA - DE CONSTRUÇÃO EM M²"]
[null,{"$f":"IF($B$90=\"ocultar\",\"ocultar\",IF('SA - ATIVIDADES'!$G$18=TRUE,IF('SA - ATIVIDADES'!$H$18>='SA - SERVICOS BASE'!AH99,\"mostrar\",\"ocultar\")))","v":"ocultar"},"Designação (a preencher)","MODELO A - TEMPO - N.º DE HORAS DE TRABALHO",null,null,0,0,0,null,null,null,null,null,0,0,null,null,null,null,null,null,0,0,null,null,0,0,0,null,0,null,null,9,null,null,null,null,null,null,null,null,null,null,null,null,null,null,null,null,null,null,null,null,null,null,null,null,null,0,0,0,0,0,"MODELO C - ÁREA - DE CONSTRUÇÃO EM M²"]
[null,{"$f":"IF($B$90=\"ocultar\",\"ocultar\",IF('SA - ATIVIDADES'!$G$18=TRUE,IF('SA - ATIVIDADES'!$H$18>='SA - SERVICOS BASE'!AH100,\"mostrar\",\"ocultar\")))","v":"ocultar"},"Designação (a preencher)","MODELO A - TEMPO - N.º DE HORAS DE TRABALHO",null,null,0,0,0,null,null,null,null,null,0,0,null,null,null,null,null,null,0,0,null,null,0,0,0,null,0,null,null,10,null,null,null,null,null,null,null,null,null,null,null,null,null,null,null,null,null,null,null,null,null,null,null,null,null,0,0,0,0,0,"MODELO C - ÁREA - DE CONSTRUÇÃO EM M²"]
[null,{"$f":"IF($B$91=\"ocultar\",\"ocultar\",\"mostrar\")","v":"ocultar"},"SUB-TOTAL",null,null,null,{"$f":"SUBTOTAL(109,G90:G100)","v":0},null,{"$f":"SUBTOTAL(109,I90:I100)","v":0},null,null,null,null,null,{"$f":"SUBTOTAL(9,O91:O100)","v":0},{"$f":"SUBTOTAL(9,P91:P100)","v":0},null,null,null,null,null,null,{"$f":"SUBTOTAL(9,W91:W100)","v":0},{"$f":"SUBTOTAL(9,X91:X100)","v":0},null,null,null,null,{"$f":"SUBTOTAL(109,AC91:AC100)","v":0},null,{"$f":"SUBTOTAL(109,AE91:AE100)","v":0},null,null,null,null,null,null,null,null,null,null,null,null,null,null,null,null,null,null,null,null,null,null,null,null,null,null,null,null,null,null,null,null,null,"MODELO C - ÁREA - DE CONSTRUÇÃO EM M²"]
[null,{"$f":"IF($B$27=\"ocultar\",\"ocultar\",\"mostrar\")","v":"ocultar"},"TOTAL",null,null,null,{"$f":"IF($F$27=\"Atribuir valor global à atividade\",G27,SUBTOTAL(109,G30:G101))","v":0},null,{"$f":"IF($F$27=\"Atribuir valor global à atividade\",I27,SUBTOTAL(109,I30:J101))","v":0},null,null,null,null,null,{"$f":"IF($K$27=\"Atribuir valor global à atividade\",1,SUBTOTAL(109,O31:O101))","v":0},{"$f":"IF($K$27=\"Atribuir valor global à atividade\",P27,SUBTOTAL(109,P31:P101))","v":0},null,null,null,null,null,null,{"$f":"IF($R$27=\"Atribuir valor global à atividade\",1,SUBTOTAL(109,W31:W101))","v":0},{"$f":"IF($R27=\"Atribuir valor global à atividade\",X27,SUBTOTAL(109,X31:X101))","v":0},null,null,null,null,{"$f":"IF($Z$27=\"Atribuir valor global à atividade\",AC27,SUBTOTAL(109,AC31:AC101))","v":0},null,{"$f":"BL27","v":0},null,null,null,null,null,null,null,null,null,null,null,null,null,null,null,null,null,null,null,null,null,null,null,null,null,null,null,null,null,null,null,null,null,"MODELO C - ÁREA - DE CONSTRUÇÃO EM M²"]
[null,{"$f":"IF($B$27=\"ocultar\",\"ocultar\",\"mostrar\")","v":"ocultar"},null,null,null,null,null,null,null,null,null,null,null,null,null,null,null,null,null,null,null,null,null,null,null,null,null,null,null,null,null,null,null,null,null,null,null,null,null,null,null,null,null,null,null,null,null,null,null,null,null,null,null,null,null,null,null,null,null,null,null,null,null,null,"MODELO C - ÁREA - DE CONSTRUÇÃO EM M²"]
[null,{"$f":"IF('SA - ATIVIDADES'!$F$20<>TRUE,\"ocultar\",\"mostrar\")","v":"ocultar"},"A4. PROJETO DE LOTEAMENTO","MODELO A - TEMPO - N.º DE HORAS DE TRABALHO",null,"Atribuir valor global à atividade",0,0,{"$f":"IF($F$27=\"Atribuir valor global à atividade\",G104*H104,\"\")","v":0},null,"Atribuir valor global à atividade","Valor Global Obra (VG Obra)",{"$f":"IF(L104=\"Valor Global Obra (VG Obra)\",$M$9,\"\")","v":0},0,0,{"$f":"IF(L104=\"Valor Global Obra (VG Obra)\",M104*O104,N104*O104)","v":0},null,"Atribuir valor global à atividade","Valor/m2 fixo (VF m2)",{"$f":"IF(S104=\"Valor/m2 fixo (VF m2)\",$T$9,\"\")","v":0},0,0,null,{"$f":"IF(S104=\"Valor/m2 fixo (VF m2)\",T104*1*V104,U104*1*V104)","v":0},null,"Atribuir valor global à atividade",0,0,0,null,{"$f":"BL104","v":0},null,null,null,null,null,null,null,null,null,null,null,null,null,null,null,null,null,null,null,null,null,null,null,null,null,null,null,null,{"$f":"IF(LEFT($D$104,8)=\"MODELO A\",IF($F$104=\"Atribuir valor detalhado por Fase/Elemento\",SUBTOTAL(109,BH108:BH177),I104),IF(LEFT($D$104,8)=\"MODELO M\",SUBTOTAL(109,BH108:BH177),0))","v":0},{"$f":"IF(LEFT($D$104,8)=\"MODELO B\",IF($K$104=\"Atribuir valor detalhado por Fase/Elemento\",SUBTOTAL(109,BI108:BI177),P104),IF(LEFT($D$104,8)=\"MODELO M\",SUBTOTAL(109,BI108:BI177),0))","v":0},{"$f":"IF(LEFT($D$104,8)=\"MODELO C\",IF($R$104=\"Atribuir valor detalhado por Fase/Elemento\",SUBTOTAL(109,BJ108:BJ177),X104),IF(LEFT($D$104,8)=\"MODELO M\",SUBTOTAL(109,BJ108:BJ177),0))","v":0},{"$f":"IF(LEFT($D$104,8)=\"MODELO D\",IF($Z$104=\"Atribuir valor detalhado por Fase/Elemento\",SUBTOTAL(109,BK108:BK177),AC104),IF(LEFT($D$104,8)=\"MODELO M\",SUBTOTAL(109,BK108:BK177),0))","v":0},{"$f":"SUM(BH104:BK104)","v":0},"MODELO A - TEMPO - N.º DE HORAS DE TRABALHO"]
[null,{"$f":"IF($B$104=\"ocultar\",\"ocultar\",\"mostrar\")","v":"ocultar"},null,null,null,null,null,null,null,null,null,null,null,null,null,null,null,null,null,null,null,null,null,null,null,null,null,null,null,null,null,null,null,null,null,null,null,null,null,null,null,null,null,null,null,null,null,null,null,null,null,null,null,null,null,null,null,null,null,null,null,null,null,null,"MODELO A - TEMPO - N.º DE HORAS DE TRABALHO"]
[null,"ocultar",null,null,null,null,null,null,null,null,null,null,null,null,null,null,null,null,null,null,null,null,null,null,null,null,null,null,null,null,null,null,null,null,null,null,null,null,null,null,null,null,null,null,null,null,null,null,null,null,null,null,null,null,null,null,null,null,null,null,null,null,null,null,"MODELO A - TEMPO - N.º DE HORAS DE TRABALHO"]
[null,{"$f":"IF(B104=\"ocultar\",\"ocultar\",IF('SA - ATIVIDADES'!$G$20=\"Fase Única\",\"ocultar\",IF('SA - ATIVIDADES'!G21=TRUE,\"mostrar\",\"ocultar\")))","v":"ocultar"},"PROJETO - FASE DE PROGRAMA BASE",null,null,null,null,null,null,null,null,null,null,null,null,null,null,null,null,null,null,null,null,null,null,null,null,null,null,null,null,null,null,null,null,null,null,null,null,null,null,null,null,null,null,null,null,null,null,null,null,null,null,null,null,null,null,null,null,null,null,null,null,null,"MODELO A - TEMPO - N.º DE HORAS DE TRABALHO"]
[null,{"$f":"IF($B$107=\"ocultar\",\"ocultar\",IF('SA - ATIVIDADES'!$G$21=TRUE,IF('SA - ATIVIDADES'!$H$21>='SA - SERVICOS BASE'!AH108,\"mostrar\",\"ocultar\"),\"ocultar\"))","v":"ocultar"},"Designação (a preencher)","MODELO A - TEMPO - N.º DE HORAS DE TRABALHO",null,null,0,{"$f":"$H$104","v":0},{"$f":"G108*H108","v":0},null,null,null,null,null,0,{"$f":"$P$104*O108","v":0},null,null,null,null,null,null,0,{"$f":"$X$104*W108","v":0},null,null,0,0,{"$f":"AA108*AB108","v":0},null,{"$f":"BL108","v":0},null,null,1,null,null,null,null,null,null,null,null,null,null,null,null,null,null,null,null,null,null,null,null,null,null,null,null,null,{"$f":"IF(OR(AND(LEFT($D$104,8)=\"MODELO M\", LEFT(D108,8)=\"MODELO A\"), AND(LEFT($D$104,8)=\"MODELO A\", $F$104=\"Atribuir valor detalhado por Fase/Elemento\")), I108, 0)","v":0},{"$f":"IF(OR(AND(LEFT($D$104,8)=\"MODELO M\", LEFT(D108,8)=\"MODELO B\"), AND(LEFT($D$104,8)=\"MODELO B\", $K$104=\"Atribuir valor detalhado por Fase/Elemento\")), P108, 0)","v":0},{"$f":"IF(OR(AND(LEFT($D$104,8)=\"MODELO M\", LEFT(D108,8)=\"MODELO C\"), AND(LEFT($D$104,8)=\"MODELO C\", $R$104=\"Atribuir valor detalhado por Fase/Elemento\")), X108, 0)","v":0},{"$f":"IF(OR(AND(LEFT($D$104,8)=\"MODELO M\", LEFT(D108,8)=\"MODELO D\"), AND(LEFT($D$104,8)=\"MODELO D\", $Z$104=\"Atribuir valor detalhado por Fase/Elemento\")), AC108, 0)","v":0},{"$f":"SUM(BH108:BK108)","v":0},"MODELO A - TEMPO - N.º DE HORAS DE TRABALHO"]
[null,{"$f":"IF($B$107=\"ocultar\",\"ocultar\",IF('SA - ATIVIDADES'!$G$21=TRUE,IF('SA - ATIVIDADES'!$H$21>='SA - SERVICOS BASE'!AH109,\"mostrar\",\"ocultar\"),\"ocultar\"))","v":"ocultar"},"Designação (a preencher)","MODELO A - TEMPO - N.º DE HORAS DE TRABALHO",null,null,0,0,0,null,null,null,null,null,0,{"$f":"$P$104*O109","v":0},null,null,null,null,null,null,0,{"$f":"$X$104*W109","v":0},null,null,0,0,0,null,0,null,null,2,null,null,null,null,null,null,null,null,null,null,null,null,null,null,null,null,null,null,null,null,null,null,null,null,null,0,0,0,0,0,"MODELO A - TEMPO - N.º DE HORAS DE TRABALHO"]
[null,{"$f":"IF($B$107=\"ocultar\",\"ocultar\",IF('SA - ATIVIDADES'!$G$21=TRUE,IF('SA - ATIVIDADES'!$H$21>='SA - SERVICOS BASE'!AH110,\"mostrar\",\"ocultar\"),\"ocultar\"))","v":"ocultar"},"Designação (a preencher)","MODELO A - TEMPO - N.º DE HORAS DE TRABALHO",null,null,0,0,0,null,null,null,null,null,0,0,null,null,null,null,null,null,0,0,null,null,0,0,0,null,0,null,null,3,null,null,null,null,null,null,null,null,null,null,null,null,null,null,null,null,null,null,null,null,null,null,null,null,null,0,0,0,0,0,"MODELO A - TEMPO - N.º DE HORAS DE TRABALHO"]
[null,{"$f":"IF($B$107=\"ocultar\",\"ocultar\",IF('SA - ATIVIDADES'!$G$21=TRUE,IF('SA - ATIVIDADES'!$H$21>='SA - SERVICOS BASE'!AH111,\"mostrar\",\"ocultar\"),\"ocultar\"))","v":"ocultar"},"Designação (a preencher)","MODELO A - TEMPO - N.º DE HORAS DE TRABALHO",null,null,0,0,0,null,null,null,null,null,0,0,null,null,null,null,null,null,0,0,null,null,0,0,0,null,0,null,null,4,null,null,null,null,null,null,null,null,null,null,null,null,null,null,null,null,null,null,null,null,null,null,null,null,null,0,0,0,0,0,"MODELO A - TEMPO - N.º DE HORAS DE TRABALHO"]
[null,{"$f":"IF($B$107=\"ocultar\",\"ocultar\",IF('SA - ATIVIDADES'!$G$21=TRUE,IF('SA - ATIVIDADES'!$H$21>='SA - SERVICOS BASE'!AH112,\"mostrar\",\"ocultar\"),\"ocultar\"))","v":"ocultar"},"Designação (a preencher)","MODELO A - TEMPO - N.º DE HORAS DE TRABALHO",null,null,0,0,0,null,null,null,null,null,0,0,null,null,null,null,null,null,0,0,null,null,0,0,0,null,0,null,null,5,null,null,null,null,null,null,null,null,null,null,null,null,null,null,null,null,null,null,null,null,null,null,null,null,null,0,0,0,0,0,"MODELO A - TEMPO - N.º DE HORAS DE TRABALHO"]
[null,{"$f":"IF($B$107=\"ocultar\",\"ocultar\",IF('SA - ATIVIDADES'!$G$21=TRUE,IF('SA - ATIVIDADES'!$H$21>='SA - SERVICOS BASE'!AH113,\"mostrar\",\"ocultar\"),\"ocultar\"))","v":"ocultar"},"Designação (a preencher)","MODELO A - TEMPO - N.º DE HORAS DE TRABALHO",null,null,0,0,0,null,null,null,null,null,0,0,null,null,null,null,null,null,0,0,null,null,0,0,0,null,0,null,null,6,null,null,null,null,null,null,null,null,null,null,null,null,null,null,null,null,null,null,null,null,null,null,null,null,null,0,0,0,0,0,"MODELO A - TEMPO - N.º DE HORAS DE TRABALHO"]
[null,{"$f":"IF($B$107=\"ocultar\",\"ocultar\",IF('SA - ATIVIDADES'!$G$21=TRUE,IF('SA - ATIVIDADES'!$H$21>='SA - SERVICOS BASE'!AH114,\"mostrar\",\"ocultar\"),\"ocultar\"))","v":"ocultar"},"Designação (a preencher)","MODELO A - TEMPO - N.º DE HORAS DE TRABALHO",null,null,0,0,0,null,null,null,null,null,0,0,null,null,null,null,null,null,0,0,null,null,0,0,{"$f":"AA114*AB114","v":0},null,0,null,null,7,null,null,null,null,null,null,null,null,null,null,null,null,null,null,null,null,null,null,null,null,null,null,null,null,null,0,0,0,0,0,"MODELO A - TEMPO - N.º DE HORAS DE TRABALHO"]
[null,{"$f":"IF($B$107=\"ocultar\",\"ocultar\",IF('SA - ATIVIDADES'!$G$21=TRUE,IF('SA - ATIVIDADES'!$H$21>='SA - SERVICOS BASE'!AH115,\"mostrar\",\"ocultar\"),\"ocultar\"))","v":"ocultar"},"Designação (a preencher)","MODELO A - TEMPO - N.º DE HORAS DE TRABALHO",null,null,0,0,0,null,null,null,null,null,0,0,null,null,null,null,null,null,0,0,null,null,0,0,0,null,0,null,null,8,null,null,null,null,null,null,null,null,null,null,null,null,null,null,null,null,null,null,null,null,null,null,null,null,null,0,0,0,0,0,"MODELO A - TEMPO - N.º DE HORAS DE TRABALHO"]
[null,{"$f":"IF($B$107=\"ocultar\",\"ocultar\",IF('SA - ATIVIDADES'!$G$21=TRUE,IF('SA - ATIVIDADES'!$H$21>='SA - SERVICOS BASE'!AH116,\"mostrar\",\"ocultar\"),\"ocultar\"))","v":"ocultar"},"Designação (a preencher)","MODELO A - TEMPO - N.º DE HORAS DE TRABALHO",null,null,0,0,0,null,null,null,null,null,0,0,null,null,null,null,null,null,0,0,null,null,0,0,0,null,0,null,null,9,null,null,null,null,null,null,null,null,null,null,null,null,null,null,null,null,null,null,null,null,null,null,null,null,null,0,0,0,0,0,"MODELO A - TEMPO - N.º DE HORAS DE TRABALHO"]
[null,{"$f":"IF($B$107=\"ocultar\",\"ocultar\",IF('SA - ATIVIDADES'!$G$21=TRUE,IF('SA - ATIVIDADES'!$H$21>='SA - SERVICOS BASE'!AH117,\"mostrar\",\"ocultar\"),\"ocultar\"))","v":"ocultar"},"Designação (a preencher)","MODELO A - TEMPO - N.º DE HORAS DE TRABALHO",null,null,0,0,0,null,null,null,null,null,0,0,null,null,null,null,null,null,0,0,null,null,0,0,0,null,0,null,null,10,null,null,null,null,null,null,null,null,null,null,null,null,null,null,null,null,null,null,null,null,null,null,null,null,null,0,0,0,0,0,"MODELO A - TEMPO - N.º DE HORAS DE TRABALHO"]
[null,{"$f":"IF($B$108=\"ocultar\",\"ocultar\",\"mostrar\")","v":"ocultar"},"SUB-TOTAL",null,null,null,{"$f":"SUBTOTAL(109,G107:G117)","v":0},null,{"$f":"SUBTOTAL(109,I107:I117)","v":0},null,null,null,null,null,{"$f":"SUBTOTAL(9,O108:O117)","v":0},{"$f":"SUBTOTAL(9,P108:P117)","v":0},null,null,null,null,null,null,{"$f":"SUBTOTAL(9,W108:W117)","v":0},{"$f":"SUBTOTAL(9,X108:X117)","v":0},null,null,null,null,{"$f":"SUBTOTAL(109,AC108:AC117)","v":0},null,{"$f":"SUBTOTAL(109,AE108:AE117)","v":0},null,null,null,null,null,null,null,null,null,null,null,null,null,null,null,null,null,null,null,null,null,null,null,null,null,null,null,null,null,null,null,null,null,"MODELO A - TEMPO - N.º DE HORAS DE TRABALHO"]
[null,{"$f":"IF(B104=\"ocultar\",\"ocultar\",IF('SA - ATIVIDADES'!$G$20=\"Fase Única\",\"ocultar\",IF('SA - ATIVIDADES'!G22=TRUE,\"mostrar\",\"ocultar\")))","v":"ocultar"},"PROJETO - FASE DE ESTUDO PRÉVIO",null,null,null,null,null,null,null,null,null,null,null,null,null,null,null,null,null,null,null,null,null,null,null,null,null,null,null,null,null,null,null,null,null,null,null,null,null,null,null,null,null,null,null,null,null,null,null,null,null,null,null,null,null,null,null,null,null,null,null,null,null,"MODELO A - TEMPO - N.º DE HORAS DE TRABALHO"]
[null,{"$f":"IF($B$119=\"ocultar\",\"ocultar\",IF('SA - ATIVIDADES'!$G$22=TRUE,IF('SA - ATIVIDADES'!$H$22>='SA - SERVICOS BASE'!AH120,\"mostrar\",\"ocultar\"),\"ocultar\"))","v":"ocultar"},"Designação (a preencher)","MODELO A - TEMPO - N.º DE HORAS DE TRABALHO",null,null,0,{"$f":"$H$104","v":0},{"$f":"G120*H120","v":0},null,null,null,null,null,0,{"$f":"$P$104*O120","v":0},null,null,null,null,null,null,0,{"$f":"$X$104*W120","v":0},null,null,0,0,{"$f":"AA120*AB120","v":0},null,{"$f":"BL120","v":0},null,null,1,null,null,null,null,null,null,null,null,null,null,null,null,null,null,null,null,null,null,null,null,null,null,null,null,null,{"$f":"IF(OR(AND(LEFT($D$104,8)=\"MODELO M\", LEFT(D120,8)=\"MODELO A\"), AND(LEFT($D$104,8)=\"MODELO A\", $F$104=\"Atribuir valor detalhado por Fase/Elemento\")), I120, 0)","v":0},{"$f":"IF(OR(AND(LEFT($D$104,8)=\"MODELO M\", LEFT(D120,8)=\"MODELO B\"), AND(LEFT($D$104,8)=\"MODELO B\", $K$104=\"Atribuir valor detalhado por Fase/Elemento\")), P120, 0)","v":0},{"$f":"IF(OR(AND(LEFT($D$104,8)=\"MODELO M\", LEFT(D120,8)=\"MODELO C\"), AND(LEFT($D$104,8)=\"MODELO C\", $R$104=\"Atribuir valor detalhado por Fase/Elemento\")), X120, 0)","v":0},{"$f":"IF(OR(AND(LEFT($D$104,8)=\"MODELO M\", LEFT(D120,8)=\"MODELO D\"), AND(LEFT($D$104,8)=\"MODELO D\", $Z$104=\"Atribuir valor detalhado por Fase/Elemento\")), AC120, 0)","v":0},{"$f":"SUM(BH120:BK120)","v":0},"MODELO A - TEMPO - N.º DE HORAS DE TRABALHO"]
[null,{"$f":"IF($B$119=\"ocultar\",\"ocultar\",IF('SA - ATIVIDADES'!$G$22=TRUE,IF('SA - ATIVIDADES'!$H$22>='SA - SERVICOS BASE'!AH121,\"mostrar\",\"ocultar\"),\"ocultar\"))","v":"ocultar"},"Designação (a preencher)","MODELO A - TEMPO - N.º DE HORAS DE TRABALHO",null,null,0,0,0,null,null,null,null,null,0,{"$f":"$P$104*O121","v":0},null,null,null,null,null,null,0,{"$f":"$X$104*W121","v":0},null,null,0,0,{"$f":"AA121*AB121","v":0},null,0,null,null,2,null,null,null,null,null,null,null,null,null,null,null,null,null,null,null,null,null,null,null,null,null,null,null,null,null,0,0,0,0,0,"MODELO A - TEMPO - N.º DE HORAS DE TRABALHO"]
[null,{"$f":"IF($B$119=\"ocultar\",\"ocultar\",IF('SA - ATIVIDADES'!$G$22=TRUE,IF('SA - ATIVIDADES'!$H$22>='SA - SERVICOS BASE'!AH122,\"mostrar\",\"ocultar\"),\"ocultar\"))","v":"ocultar"},"Designação (a preencher)","MODELO A - TEMPO - N.º DE HORAS DE TRABALHO",null,null,0,0,0,null,null,null,null,null,0,0,null,null,null,null,null,null,0,0,null,null,0,0,0,null,0,null,null,3,null,null,null,null,null,null,null,null,null,null,null,null,null,null,null,null,null,null,null,null,null,null,null,null,null,0,0,0,0,0,"MODELO A - TEMPO - N.º DE HORAS DE TRABALHO"]
[null,{"$f":"IF($B$119=\"ocultar\",\"ocultar\",IF('SA - ATIVIDADES'!$G$22=TRUE,IF('SA - ATIVIDADES'!$H$22>='SA - SERVICOS BASE'!AH123,\"mostrar\",\"ocultar\"),\"ocultar\"))","v":"ocultar"},"Designação (a preencher)","MODELO A - TEMPO - N.º DE HORAS DE TRABALHO",null,null,0,0,0,null,null,null,null,null,0,0,null,null,null,null,null,null,0,0,null,null,0,0,0,null,0,null,null,4,null,null,null,null,null,null,null,null,null,null,null,null,null,null,null,null,null,null,null,null,null,null,null,null,null,0,0,0,0,0,"MODELO A - TEMPO - N.º DE HORAS DE TRABALHO"]
[null,{"$f":"IF($B$119=\"ocultar\",\"ocultar\",IF('SA - ATIVIDADES'!$G$22=TRUE,IF('SA - ATIVIDADES'!$H$22>='SA - SERVICOS BASE'!AH124,\"mostrar\",\"ocultar\"),\"ocultar\"))","v":"ocultar"},"Designação (a preencher)","MODELO A - TEMPO - N.º DE HORAS DE TRABALHO",null,null,0,0,0,null,null,null,null,null,0,0,null,null,null,null,null,null,0,0,null,null,0,0,0,null,0,null,null,5,null,null,null,null,null,null,null,null,null,null,null,null,null,null,null,null,null,null,null,null,null,null,null,null,null,0,0,0,0,0,"MODELO A - TEMPO - N.º DE HORAS DE TRABALHO"]
[null,{"$f":"IF($B$119=\"ocultar\",\"ocultar\",IF('SA - ATIVIDADES'!$G$22=TRUE,IF('SA - ATIVIDADES'!$H$22>='SA - SERVICOS BASE'!AH125,\"mostrar\",\"ocultar\"),\"ocultar\"))","v":"ocultar"},"Designação (a preencher)","MODELO A - TEMPO - N.º DE HORAS DE TRABALHO",null,null,0,0,0,null,null,null,null,null,0,0,null,null,null,null,null,null,0,0,null,null,0,0,0,null,0,null,null,6,null,null,null,null,null,null,null,null,null,null,null,null,null,null,null,null,null,null,null,null,null,null,null,null,null,0,0,0,0,0,"MODELO A - TEMPO - N.º DE HORAS DE TRABALHO"]
[null,{"$f":"IF($B$119=\"ocultar\",\"ocultar\",IF('SA - ATIVIDADES'!$G$22=TRUE,IF('SA - ATIVIDADES'!$H$22>='SA - SERVICOS BASE'!AH126,\"mostrar\",\"ocultar\"),\"ocultar\"))","v":"ocultar"},"Designação (a preencher)","MODELO A - TEMPO - N.º DE HORAS DE TRABALHO",null,null,0,0,0,null,null,null,null,null,0,0,null,null,null,null,null,null,0,0,null,null,0,0,0,null,0,null,null,7,null,null,null,null,null,null,null,null,null,null,null,null,null,null,null,null,null,null,null,null,null,null,null,null,null,0,0,0,0,0,"MODELO A - TEMPO - N.º DE HORAS DE TRABALHO"]
[null,{"$f":"IF($B$119=\"ocultar\",\"ocultar\",IF('SA - ATIVIDADES'!$G$22=TRUE,IF('SA - ATIVIDADES'!$H$22>='SA - SERVICOS BASE'!AH127,\"mostrar\",\"ocultar\"),\"ocultar\"))","v":"ocultar"},"Designação (a preencher)","MODELO A - TEMPO - N.º DE HORAS DE TRABALHO",null,null,0,0,0,null,null,null,null,null,0,0,null,null,null,null,null,null,0,0,null,null,0,0,0,null,0,null,null,8,null,null,null,null,null,null,null,null,null,null,null,null,null,null,null,null,null,null,null,null,null,null,null,null,null,0,0,0,0,0,"MODELO A - TEMPO - N.º DE HORAS DE TRABALHO"]
[null,{"$f":"IF($B$119=\"ocultar\",\"ocultar\",IF('SA - ATIVIDADES'!$G$22=TRUE,IF('SA - ATIVIDADES'!$H$22>='SA - SERVICOS BASE'!AH128,\"mostrar\",\"ocultar\"),\"ocultar\"))","v":"ocultar"},"Designação (a preencher)","MODELO A - TEMPO - N.º DE HORAS DE TRABALHO",null,null,0,0,0,null,null,null,null,null,0,0,null,null,null,null,null,null,0,0,null,null,0,0,0,null,0,null,null,9,null,null,null,null,null,null,null,null,null,null,null,null,null,null,null,null,null,null,null,null,null,null,null,null,null,0,0,0,0,0,"MODELO A - TEMPO - N.º DE HORAS DE TRABALHO"]
[null,{"$f":"IF($B$119=\"ocultar\",\"ocultar\",IF('SA - ATIVIDADES'!$G$22=TRUE,IF('SA - ATIVIDADES'!$H$22>='SA - SERVICOS BASE'!AH129,\"mostrar\",\"ocultar\"),\"ocultar\"))","v":"ocultar"},"Designação (a preencher)","MODELO A - TEMPO - N.º DE HORAS DE TRABALHO",null,null,0,0,0,null,null,null,null,null,0,0,null,null,null,null,null,null,0,0,null,null,0,0,0,null,0,null,null,10,null,null,null,null,null,null,null,null,null,null,null,null,null,null,null,null,null,null,null,null,null,null,null,null,null,0,0,0,0,0,"MODELO A - TEMPO - N.º DE HORAS DE TRABALHO"]
[null,{"$f":"IF($B$120=\"ocultar\",\"ocultar\",\"mostrar\")","v":"ocultar"},"SUB-TOTAL",null,null,null,{"$f":"SUBTOTAL(109,G119:G129)","v":0},null,{"$f":"SUBTOTAL(109,I119:I129)","v":0},null,null,null,null,null,{"$f":"SUBTOTAL(9,O120:O129)","v":0},{"$f":"SUBTOTAL(9,P120:P129)","v":0},null,null,null,null,null,null,{"$f":"SUBTOTAL(9,W120:W129)","v":0},{"$f":"SUBTOTAL(9,X120:X129)","v":0},null,null,null,null,{"$f":"SUBTOTAL(109,AC120:AC129)","v":0},null,{"$f":"SUBTOTAL(109,AE120:AE129)","v":0},null,null,null,null,null,null,null,null,null,null,null,null,null,null,null,null,null,null,null,null,null,null,null,null,null,null,null,null,null,null,null,null,null,"MODELO A - TEMPO - N.º DE HORAS DE TRABALHO"]
[null,{"$f":"IF(B104=\"ocultar\",\"ocultar\",IF('SA - ATIVIDADES'!$G$20=\"Fase Única\",\"ocultar\",IF('SA - ATIVIDADES'!G23=TRUE,\"mostrar\",\"ocultar\")))","v":"ocultar"},"PROJETO - FASE DE ANTEPROJETO",null,null,null,null,null,null,null,null,null,null,null,null,null,null,null,null,null,null,null,null,null,null,null,null,null,null,null,null,null,null,null,null,null,null,null,null,null,null,null,null,null,null,null,null,null,null,null,null,null,null,null,null,null,null,null,null,null,null,null,null,null,"MODELO A - TEMPO - N.º DE HORAS DE TRABALHO"]
[null,{"$f":"IF($B$131=\"ocultar\",\"ocultar\",IF('SA - ATIVIDADES'!$G$23=TRUE,IF('SA - ATIVIDADES'!$H$23>='SA - SERVICOS BASE'!AH132,\"mostrar\",\"ocultar\"),\"ocultar\"))","v":"ocultar"},"Designação (a preencher)","MODELO A - TEMPO - N.º DE HORAS DE TRABALHO",null,null,0,{"$f":"$H$104","v":0},{"$f":"G132*H132","v":0},null,null,null,null,null,0,{"$f":"$P$104*O132","v":0},null,null,null,null,null,null,0,{"$f":"$X$104*W132","v":0},null,null,0,0,{"$f":"AA132*AB132","v":0},null,{"$f":"BL132","v":0},null,null,1,null,null,null,null,null,null,null,null,null,null,null,null,null,null,null,null,null,null,null,null,null,null,null,null,null,{"$f":"IF(OR(AND(LEFT($D$104,8)=\"MODELO M\", LEFT(D132,8)=\"MODELO A\"), AND(LEFT($D$104,8)=\"MODELO A\", $F$104=\"Atribuir valor detalhado por Fase/Elemento\")), I132, 0)","v":0},{"$f":"IF(OR(AND(LEFT($D$104,8)=\"MODELO M\", LEFT(D132,8)=\"MODELO B\"), AND(LEFT($D$104,8)=\"MODELO B\", $K$104=\"Atribuir valor detalhado por Fase/Elemento\")), P132, 0)","v":0},{"$f":"IF(OR(AND(LEFT($D$104,8)=\"MODELO M\", LEFT(D132,8)=\"MODELO C\"), AND(LEFT($D$104,8)=\"MODELO C\", $R$104=\"Atribuir valor detalhado por Fase/Elemento\")), X132, 0)","v":0},{"$f":"IF(OR(AND(LEFT($D$104,8)=\"MODELO M\", LEFT(D132,8)=\"MODELO D\"), AND(LEFT($D$104,8)=\"MODELO D\", $Z$104=\"Atribuir valor detalhado por Fase/Elemento\")), AC132, 0)","v":0},{"$f":"SUM(BH132:BK132)","v":0},"MODELO A - TEMPO - N.º DE HORAS DE TRABALHO"]
[null,{"$f":"IF($B$131=\"ocultar\",\"ocultar\",IF('SA - ATIVIDADES'!$G$23=TRUE,IF('SA - ATIVIDADES'!$H$23>='SA - SERVICOS BASE'!AH133,\"mostrar\",\"ocultar\"),\"ocultar\"))","v":"ocultar"},"Designação (a preencher)","MODELO A - TEMPO - N.º DE HORAS DE TRABALHO",null,null,0,0,0,null,null,null,null,null,0,{"$f":"$P$104*O133","v":0},null,null,null,null,null,null,0,{"$f":"$X$104*W133","v":0},null,null,0,0,{"$f":"AA133*AB133","v":0},null,0,null,null,2,null,null,null,null,null,null,null,null,null,null,null,null,null,null,null,null,null,null,null,null,null,null,null,null,null,0,0,0,0,0,"MODELO A - TEMPO - N.º DE HORAS DE TRABALHO"]
[null,{"$f":"IF($B$131=\"ocultar\",\"ocultar\",IF('SA - ATIVIDADES'!$G$23=TRUE,IF('SA - ATIVIDADES'!$H$23>='SA - SERVICOS BASE'!AH134,\"mostrar\",\"ocultar\"),\"ocultar\"))","v":"ocultar"},"Designação (a preencher)","MODELO A - TEMPO - N.º DE HORAS DE TRABALHO",null,null,0,0,0,null,null,null,null,null,0,0,null,null,null,null,null,null,0,0,null,null,0,0,0,null,0,null,null,3,null,null,null,null,null,null,null,null,null,null,null,null,null,null,null,null,null,null,null,null,null,null,null,null,null,0,0,0,0,0,"MODELO A - TEMPO - N.º DE HORAS DE TRABALHO"]
[null,{"$f":"IF($B$131=\"ocultar\",\"ocultar\",IF('SA - ATIVIDADES'!$G$23=TRUE,IF('SA - ATIVIDADES'!$H$23>='SA - SERVICOS BASE'!AH135,\"mostrar\",\"ocultar\"),\"ocultar\"))","v":"ocultar"},"Designação (a preencher)","MODELO A - TEMPO - N.º DE HORAS DE TRABALHO",null,null,0,0,0,null,null,null,null,null,0,0,null,null,null,null,null,null,0,0,null,null,0,0,0,null,0,null,null,4,null,null,null,null,null,null,null,null,null,null,null,null,null,null,null,null,null,null,null,null,null,null,null,null,null,0,0,0,0,0,"MODELO A - TEMPO - N.º DE HORAS DE TRABALHO"]
[null,{"$f":"IF($B$131=\"ocultar\",\"ocultar\",IF('SA - ATIVIDADES'!$G$23=TRUE,IF('SA - ATIVIDADES'!$H$23>='SA - SERVICOS BASE'!AH136,\"mostrar\",\"ocultar\"),\"ocultar\"))","v":"ocultar"},"Designação (a preencher)","MODELO A - TEMPO - N.º DE HORAS DE TRABALHO",null,null,0,0,0,null,null,null,null,null,0,0,null,null,null,null,null,null,0,0,null,null,0,0,0,null,0,null,null,5,null,null,null,null,null,null,null,null,null,null,null,null,null,null,null,null,null,null,null,null,null,null,null,null,null,0,0,0,0,0,"MODELO A - TEMPO - N.º DE HORAS DE TRABALHO"]
[null,{"$f":"IF($B$131=\"ocultar\",\"ocultar\",IF('SA - ATIVIDADES'!$G$23=TRUE,IF('SA - ATIVIDADES'!$H$23>='SA - SERVICOS BASE'!AH137,\"mostrar\",\"ocultar\"),\"ocultar\"))","v":"ocultar"},"Designação (a preencher)","MODELO A - TEMPO - N.º DE HORAS DE TRABALHO",null,null,0,0,0,null,null,null,null,null,0,0,null,null,null,null,null,null,0,0,null,null,0,0,0,null,0,null,null,6,null,null,null,null,null,null,null,null,null,null,null,null,null,null,null,null,null,null,null,null,null,null,null,null,null,0,0,0,0,0,"MODELO A - TEMPO - N.º DE HORAS DE TRABALHO"]
[null,{"$f":"IF($B$131=\"ocultar\",\"ocultar\",IF('SA - ATIVIDADES'!$G$23=TRUE,IF('SA - ATIVIDADES'!$H$23>='SA - SERVICOS BASE'!AH138,\"mostrar\",\"ocultar\"),\"ocultar\"))","v":"ocultar"},"Designação (a preencher)","MODELO A - TEMPO - N.º DE HORAS DE TRABALHO",null,null,0,0,0,null,null,null,null,null,0,0,null,null,null,null,null,null,0,0,null,null,0,0,0,null,0,null,null,7,null,null,null,null,null,null,null,null,null,null,null,null,null,null,null,null,null,null,null,null,null,null,null,null,null,0,0,0,0,0,"MODELO A - TEMPO - N.º DE HORAS DE TRABALHO"]
[null,{"$f":"IF($B$131=\"ocultar\",\"ocultar\",IF('SA - ATIVIDADES'!$G$23=TRUE,IF('SA - ATIVIDADES'!$H$23>='SA - SERVICOS BASE'!AH139,\"mostrar\",\"ocultar\"),\"ocultar\"))","v":"ocultar"},"Designação (a preencher)","MODELO A - TEMPO - N.º DE HORAS DE TRABALHO",null,null,0,0,0,null,null,null,null,null,0,0,null,null,null,null,null,null,0,0,null,null,0,0,0,null,0,null,null,8,null,null,null,null,null,null,null,null,null,null,null,null,null,null,null,null,null,null,null,null,null,null,null,null,null,0,0,0,0,0,"MODELO A - TEMPO - N.º DE HORAS DE TRABALHO"]
[null,{"$f":"IF($B$131=\"ocultar\",\"ocultar\",IF('SA - ATIVIDADES'!$G$23=TRUE,IF('SA - ATIVIDADES'!$H$23>='SA - SERVICOS BASE'!AH140,\"mostrar\",\"ocultar\"),\"ocultar\"))","v":"ocultar"},"Designação (a preencher)","MODELO A - TEMPO - N.º DE HORAS DE TRABALHO",null,null,0,0,0,null,null,null,null,null,0,0,null,null,null,null,null,null,0,0,null,null,0,0,0,null,0,null,null,9,null,null,null,null,null,null,null,null,null,null,null,null,null,null,null,null,null,null,null,null,null,null,null,null,null,0,0,0,0,0,{"$f":"IF($AH140<>\"\",BM139,IF(LEFT($D140,6)=\"MODELO\",$D140,BM139))","v":"MODELO A - TEMPO - N.º DE HORAS DE TRABALHO"}]
[null,{"$f":"IF($B$131=\"ocultar\",\"ocultar\",IF('SA - ATIVIDADES'!$G$23=TRUE,IF('SA - ATIVIDADES'!$H$23>='SA - SERVICOS BASE'!AH141,\"mostrar\",\"ocultar\"),\"ocultar\"))","v":"ocultar"},"Designação (a preencher)","MODELO A - TEMPO - N.º DE HORAS DE TRABALHO",null,null,0,0,0,null,null,null,null,null,0,0,null,null,null,null,null,null,0,0,null,null,0,0,0,null,0,null,null,10,null,null,null,null,null,null,null,null,null,null,null,null,null,null,null,null,null,null,null,null,null,null,null,null,null,0,0,0,0,0,"MODELO A - TEMPO - N.º DE HORAS DE TRABALHO"]
[null,{"$f":"IF($B$132=\"ocultar\",\"ocultar\",\"mostrar\")","v":"ocultar"},"SUB-TOTAL",null,null,null,{"$f":"SUBTOTAL(109,G131:G141)","v":0},null,{"$f":"SUBTOTAL(109,I131:I141)","v":0},null,null,null,null,null,{"$f":"SUBTOTAL(9,O132:O141)","v":0},{"$f":"SUBTOTAL(9,P132:P141)","v":0},null,null,null,null,null,null,{"$f":"SUBTOTAL(9,W132:W141)","v":0},{"$f":"SUBTOTAL(9,X132:X141)","v":0},null,null,null,null,{"$f":"SUBTOTAL(109,AC132:AC141)","v":0},null,{"$f":"SUBTOTAL(109,AE132:AE141)","v":0},null,null,null,null,null,null,null,null,null,null,null,null,null,null,null,null,null,null,null,null,null,null,null,null,null,null,null,null,null,null,null,null,null,"MODELO A - TEMPO - N.º DE HORAS DE TRABALHO"]
[null,{"$f":"IF(B104=\"ocultar\",\"ocultar\",IF('SA - ATIVIDADES'!$G$20=\"Fase Única\",\"ocultar\",IF('SA - ATIVIDADES'!G24=TRUE,\"mostrar\",\"ocultar\")))","v":"ocultar"},"PROJETO  - FASE DE PROJETO DE EXECUÇÃO",null,null,null,null,null,null,null,null,null,null,null,null,null,null,null,null,null,null,null,null,null,null,null,null,null,null,null,null,null,null,null,null,null,null,null,null,null,null,null,null,null,null,null,null,null,null,null,null,null,null,null,null,null,null,null,null,null,null,null,null,null,"MODELO A - TEMPO - N.º DE HORAS DE TRABALHO"]
[null,{"$f":"IF($B$143=\"ocultar\",\"ocultar\",IF('SA - ATIVIDADES'!$G$24=TRUE,IF('SA - ATIVIDADES'!$H$24>='SA - SERVICOS BASE'!AH144,\"mostrar\",\"ocultar\"),\"ocultar\"))","v":"ocultar"},"Designação (a preencher)","MODELO A - TEMPO - N.º DE HORAS DE TRABALHO",null,null,0,{"$f":"$H$104","v":0},{"$f":"G144*H144","v":0},null,null,null,null,null,0,{"$f":"$P$104*O144","v":0},null,null,null,null,null,null,0,{"$f":"$X$104*W144","v":0},null,null,0,0,{"$f":"AA144*AB144","v":0},null,{"$f":"BL144","v":0},null,null,1,null,null,null,null,null,null,null,null,null,null,null,null,null,null,null,null,null,null,null,null,null,null,null,null,null,{"$f":"IF(OR(AND(LEFT($D$104,8)=\"MODELO M\", LEFT(D144,8)=\"MODELO A\"), AND(LEFT($D$104,8)=\"MODELO A\", $F$104=\"Atribuir valor detalhado por Fase/Elemento\")), I144, 0)","v":0},{"$f":"IF(OR(AND(LEFT($D$104,8)=\"MODELO M\", LEFT(D144,8)=\"MODELO B\"), AND(LEFT($D$104,8)=\"MODELO B\", $K$104=\"Atribuir valor detalhado por Fase/Elemento\")), P144, 0)","v":0},{"$f":"IF(OR(AND(LEFT($D$104,8)=\"MODELO M\", LEFT(D144,8)=\"MODELO C\"), AND(LEFT($D$104,8)=\"MODELO C\", $R$104=\"Atribuir valor detalhado por Fase/Elemento\")), X144, 0)","v":0},{"$f":"IF(OR(AND(LEFT($D$104,8)=\"MODELO M\", LEFT(D144,8)=\"MODELO D\"), AND(LEFT($D$104,8)=\"MODELO D\", $Z$104=\"Atribuir valor detalhado por Fase/Elemento\")), AC144, 0)","v":0},{"$f":"SUM(BH144:BK144)","v":0},"MODELO A - TEMPO - N.º DE HORAS DE TRABALHO"]
[null,{"$f":"IF($B$143=\"ocultar\",\"ocultar\",IF('SA - ATIVIDADES'!$G$24=TRUE,IF('SA - ATIVIDADES'!$H$24>='SA - SERVICOS BASE'!AH145,\"mostrar\",\"ocultar\"),\"ocultar\"))","v":"ocultar"},"Designação (a preencher)","MODELO A - TEMPO - N.º DE HORAS DE TRABALHO",null,null,0,0,0,null,null,null,null,null,0,{"$f":"$P$104*O145","v":0},null,null,null,null,null,null,0,{"$f":"$X$104*W145","v":0},null,null,0,0,{"$f":"AA145*AB145","v":0},null,0,null,null,2,null,null,null,null,null,null,null,null,null,null,null,null,null,null,null,null,null,null,null,null,null,null,null,null,null,0,0,0,0,0,"MODELO A - TEMPO - N.º DE HORAS DE TRABALHO"]
[null,{"$f":"IF($B$143=\"ocultar\",\"ocultar\",IF('SA - ATIVIDADES'!$G$24=TRUE,IF('SA - ATIVIDADES'!$H$24>='SA - SERVICOS BASE'!AH146,\"mostrar\",\"ocultar\"),\"ocultar\"))","v":"ocultar"},"Designação (a preencher)","MODELO A - TEMPO - N.º DE HORAS DE TRABALHO",null,null,0,0,0,null,null,null,null,null,0,0,null,null,null,null,null,null,0,0,null,null,0,0,0,null,0,null,null,3,null,null,null,null,null,null,null,null,null,null,null,null,null,null,null,null,null,null,null,null,null,null,null,null,null,0,0,0,0,0,"MODELO A - TEMPO - N.º DE HORAS DE TRABALHO"]
[null,{"$f":"IF($B$143=\"ocultar\",\"ocultar\",IF('SA - ATIVIDADES'!$G$24=TRUE,IF('SA - ATIVIDADES'!$H$24>='SA - SERVICOS BASE'!AH147,\"mostrar\",\"ocultar\"),\"ocultar\"))","v":"ocultar"},"Designação (a preencher)","MODELO A - TEMPO - N.º DE HORAS DE TRABALHO",null,null,0,0,0,null,null,null,null,null,0,0,null,null,null,null,null,null,0,0,null,null,0,0,0,null,0,null,null,4,null,null,null,null,null,null,null,null,null,null,null,null,null,null,null,null,null,null,null,null,null,null,null,null,null,0,0,0,0,0,"MODELO A - TEMPO - N.º DE HORAS DE TRABALHO"]
[null,{"$f":"IF($B$143=\"ocultar\",\"ocultar\",IF('SA - ATIVIDADES'!$G$24=TRUE,IF('SA - ATIVIDADES'!$H$24>='SA - SERVICOS BASE'!AH148,\"mostrar\",\"ocultar\"),\"ocultar\"))","v":"ocultar"},"Designação (a preencher)","MODELO A - TEMPO - N.º DE HORAS DE TRABALHO",null,null,0,0,0,null,null,null,null,null,0,0,null,null,null,null,null,null,0,0,null,null,0,0,0,null,0,null,null,5,null,null,null,null,null,null,null,null,null,null,null,null,null,null,null,null,null,null,null,null,null,null,null,null,null,0,0,0,0,0,"MODELO A - TEMPO - N.º DE HORAS DE TRABALHO"]
[null,{"$f":"IF($B$143=\"ocultar\",\"ocultar\",IF('SA - ATIVIDADES'!$G$24=TRUE,IF('SA - ATIVIDADES'!$H$24>='SA - SERVICOS BASE'!AH149,\"mostrar\",\"ocultar\"),\"ocultar\"))","v":"ocultar"},"Designação (a preencher)","MODELO A - TEMPO - N.º DE HORAS DE TRABALHO",null,null,0,0,0,null,null,null,null,null,0,0,null,null,null,null,null,null,0,0,null,null,0,0,0,null,0,null,null,6,null,null,null,null,null,null,null,null,null,null,null,null,null,null,null,null,null,null,null,null,null,null,null,null,null,0,0,0,0,0,"MODELO A - TEMPO - N.º DE HORAS DE TRABALHO"]
[null,{"$f":"IF($B$143=\"ocultar\",\"ocultar\",IF('SA - ATIVIDADES'!$G$24=TRUE,IF('SA - ATIVIDADES'!$H$24>='SA - SERVICOS BASE'!AH150,\"mostrar\",\"ocultar\"),\"ocultar\"))","v":"ocultar"},"Designação (a preencher)","MODELO A - TEMPO - N.º DE HORAS DE TRABALHO",null,null,0,0,0,null,null,null,null,null,0,0,null,null,null,null,null,null,0,0,null,null,0,0,0,null,0,null,null,7,null,null,null,null,null,null,null,null,null,null,null,null,null,null,null,null,null,null,null,null,null,null,null,null,null,0,0,0,0,0,"MODELO A - TEMPO - N.º DE HORAS DE TRABALHO"]
[null,{"$f":"IF($B$143=\"ocultar\",\"ocultar\",IF('SA - ATIVIDADES'!$G$24=TRUE,IF('SA - ATIVIDADES'!$H$24>='SA - SERVICOS BASE'!AH151,\"mostrar\",\"ocultar\"),\"ocultar\"))","v":"ocultar"},"Designação (a preencher)","MODELO A - TEMPO - N.º DE HORAS DE TRABALHO",null,null,0,0,0,null,null,null,null,null,0,0,null,null,null,null,null,null,0,0,null,null,0,0,0,null,0,null,null,8,null,null,null,null,null,null,null,null,null,null,null,null,null,null,null,null,null,null,null,null,null,null,null,null,null,0,0,0,0,0,"MODELO A - TEMPO - N.º DE HORAS DE TRABALHO"]
[null,{"$f":"IF($B$143=\"ocultar\",\"ocultar\",IF('SA - ATIVIDADES'!$G$24=TRUE,IF('SA - ATIVIDADES'!$H$24>='SA - SERVICOS BASE'!AH152,\"mostrar\",\"ocultar\"),\"ocultar\"))","v":"ocultar"},"Designação (a preencher)","MODELO A - TEMPO - N.º DE HORAS DE TRABALHO",null,null,0,0,0,null,null,null,null,null,0,0,null,null,null,null,null,null,0,0,null,null,0,0,0,null,0,null,null,9,null,null,null,null,null,null,null,null,null,null,null,null,null,null,null,null,null,null,null,null,null,null,null,null,null,0,0,0,0,0,"MODELO A - TEMPO - N.º DE HORAS DE TRABALHO"]
[null,{"$f":"IF($B$143=\"ocultar\",\"ocultar\",IF('SA - ATIVIDADES'!$G$24=TRUE,IF('SA - ATIVIDADES'!$H$24>='SA - SERVICOS BASE'!AH153,\"mostrar\",\"ocultar\"),\"ocultar\"))","v":"ocultar"},"Designação (a preencher)","MODELO A - TEMPO - N.º DE HORAS DE TRABALHO",null,null,0,0,0,null,null,null,null,null,0,0,null,null,null,null,null,null,0,0,null,null,0,0,0,null,0,null,null,10,null,null,null,null,null,null,null,null,null,null,null,null,null,null,null,null,null,null,null,null,null,null,null,null,null,0,0,0,0,0,"MODELO A - TEMPO - N.º DE HORAS DE TRABALHO"]
[null,{"$f":"IF($B$144=\"ocultar\",\"ocultar\",\"mostrar\")","v":"ocultar"},"SUB-TOTAL",null,null,null,{"$f":"SUBTOTAL(109,G143:G153)","v":0},null,{"$f":"SUBTOTAL(109,I143:I153)","v":0},null,null,null,null,null,{"$f":"SUBTOTAL(9,O144:O153)","v":0},{"$f":"SUBTOTAL(9,P144:P153)","v":0},null,null,null,null,null,null,{"$f":"SUBTOTAL(9,W144:W153)","v":0},{"$f":"SUBTOTAL(9,X144:X153)","v":0},null,null,null,null,{"$f":"SUBTOTAL(109,AC144:AC153)","v":0},null,{"$f":"SUBTOTAL(109,AE144:AE153)","v":0},null,null,null,null,null,null,null,null,null,null,null,null,null,null,null,null,null,null,null,null,null,null,null,null,null,null,null,null,null,null,null,null,null,"MODELO A - TEMPO - N.º DE HORAS DE TRABALHO"]
[null,{"$f":"IF($B$104=\"ocultar\",\"ocultar\",IF('SA - ATIVIDADES'!$G$20=\"Fase Única\",\"ocultar\",IF('SA - ATIVIDADES'!G25=TRUE,\"mostrar\",\"ocultar\")))","v":"ocultar"},"ASSISTÊNCIA TÉCNICA",null,null,null,null,null,null,null,null,null,null,null,null,null,null,null,null,null,null,null,null,null,null,null,null,null,null,null,null,null,null,null,null,null,null,null,null,null,null,null,null,null,null,null,null,null,null,null,null,null,null,null,null,null,null,null,null,null,null,null,null,null,"MODELO A - TEMPO - N.º DE HORAS DE TRABALHO"]
[null,{"$f":"IF($B$155=\"ocultar\",\"ocultar\",IF('SA - ATIVIDADES'!$G$25=TRUE,IF('SA - ATIVIDADES'!$H$25>='SA - SERVICOS BASE'!AH156,\"mostrar\",\"ocultar\"),\"ocultar\"))","v":"ocultar"},"Designação (a preencher)","MODELO A - TEMPO - N.º DE HORAS DE TRABALHO",null,null,0,{"$f":"$H$104","v":0},{"$f":"G156*H156","v":0},null,null,null,null,null,0,{"$f":"$P$104*O156","v":0},null,null,null,null,null,null,0,{"$f":"$X$104*W156","v":0},null,null,0,0,{"$f":"AA156*AB156","v":0},null,{"$f":"BL156","v":0},null,null,1,null,null,null,null,null,null,null,null,null,null,null,null,null,null,null,null,null,null,null,null,null,null,null,null,null,{"$f":"IF(OR(AND(LEFT($D$104,8)=\"MODELO M\", LEFT(D156,8)=\"MODELO A\"), AND(LEFT($D$104,8)=\"MODELO A\", $F$104=\"Atribuir valor detalhado por Fase/Elemento\")), I156, 0)","v":0},{"$f":"IF(OR(AND(LEFT($D$104,8)=\"MODELO M\", LEFT(D156,8)=\"MODELO B\"), AND(LEFT($D$104,8)=\"MODELO B\", $K$104=\"Atribuir valor detalhado por Fase/Elemento\")), P156, 0)","v":0},{"$f":"IF(OR(AND(LEFT($D$104,8)=\"MODELO M\", LEFT(D156,8)=\"MODELO C\"), AND(LEFT($D$104,8)=\"MODELO C\", $R$104=\"Atribuir valor detalhado por Fase/Elemento\")), X156, 0)","v":0},{"$f":"IF(OR(AND(LEFT($D$104,8)=\"MODELO M\", LEFT(D156,8)=\"MODELO D\"), AND(LEFT($D$104,8)=\"MODELO D\", $Z$104=\"Atribuir valor detalhado por Fase/Elemento\")), AC156, 0)","v":0},{"$f":"SUM(BH156:BK156)","v":0},"MODELO A - TEMPO - N.º DE HORAS DE TRABALHO"]
[null,{"$f":"IF($B$155=\"ocultar\",\"ocultar\",IF('SA - ATIVIDADES'!$G$25=TRUE,IF('SA - ATIVIDADES'!$H$25>='SA - SERVICOS BASE'!AH157,\"mostrar\",\"ocultar\"),\"ocultar\"))","v":"ocultar"},"Designação (a preencher)","MODELO A - TEMPO - N.º DE HORAS DE TRABALHO",null,null,0,0,0,null,null,null,null,null,0,{"$f":"$P$104*O157","v":0},null,null,null,null,null,null,0,{"$f":"$X$104*W157","v":0},null,null,0,0,{"$f":"AA157*AB157","v":0},null,0,null,null,2,null,null,null,null,null,null,null,null,null,null,null,null,null,null,null,null,null,null,null,null,null,null,null,null,null,0,0,0,0,0,"MODELO A - TEMPO - N.º DE HORAS DE TRABALHO"]
[null,{"$f":"IF($B$155=\"ocultar\",\"ocultar\",IF('SA - ATIVIDADES'!$G$25=TRUE,IF('SA - ATIVIDADES'!$H$25>='SA - SERVICOS BASE'!AH158,\"mostrar\",\"ocultar\"),\"ocultar\"))","v":"ocultar"},"Designação (a preencher)","MODELO A - TEMPO - N.º DE HORAS DE TRABALHO",null,null,0,0,0,null,null,null,null,null,0,0,null,null,null,null,null,null,0,0,null,null,0,0,0,null,0,null,null,3,null,null,null,null,null,null,null,null,null,null,null,null,null,null,null,null,null,null,null,null,null,null,null,null,null,0,0,0,0,0,"MODELO A - TEMPO - N.º DE HORAS DE TRABALHO"]
[null,{"$f":"IF($B$155=\"ocultar\",\"ocultar\",IF('SA - ATIVIDADES'!$G$25=TRUE,IF('SA - ATIVIDADES'!$H$25>='SA - SERVICOS BASE'!AH159,\"mostrar\",\"ocultar\"),\"ocultar\"))","v":"ocultar"},"Designação (a preencher)","MODELO A - TEMPO - N.º DE HORAS DE TRABALHO",null,null,0,0,0,null,null,null,null,null,0,0,null,null,null,null,null,null,0,0,null,null,0,0,0,null,0,null,null,4,null,null,null,null,null,null,null,null,null,null,null,null,null,null,null,null,null,null,null,null,null,null,null,null,null,0,0,0,0,0,"MODELO A - TEMPO - N.º DE HORAS DE TRABALHO"]
[null,{"$f":"IF($B$155=\"ocultar\",\"ocultar\",IF('SA - ATIVIDADES'!$G$25=TRUE,IF('SA - ATIVIDADES'!$H$25>='SA - SERVICOS BASE'!AH160,\"mostrar\",\"ocultar\"),\"ocultar\"))","v":"ocultar"},"Designação (a preencher)","MODELO A - TEMPO - N.º DE HORAS DE TRABALHO",null,null,0,0,0,null,null,null,null,null,0,0,null,null,null,null,null,null,0,0,null,null,0,0,0,null,0,null,null,5,null,null,null,null,null,null,null,null,null,null,null,null,null,null,null,null,null,null,null,null,null,null,null,null,null,0,0,0,0,0,"MODELO A - TEMPO - N.º DE HORAS DE TRABALHO"]
[null,{"$f":"IF($B$155=\"ocultar\",\"ocultar\",IF('SA - ATIVIDADES'!$G$25=TRUE,IF('SA - ATIVIDADES'!$H$25>='SA - SERVICOS BASE'!AH161,\"mostrar\",\"ocultar\"),\"ocultar\"))","v":"ocultar"},"Designação (a preencher)","MODELO A - TEMPO - N.º DE HORAS DE TRABALHO",null,null,0,0,0,null,null,null,null,null,0,0,null,null,null,null,null,null,0,0,null,null,0,0,0,null,0,null,null,6,null,null,null,null,null,null,null,null,null,null,null,null,null,null,null,null,null,null,null,null,null,null,null,null,null,0,0,0,0,0,"MODELO A - TEMPO - N.º DE HORAS DE TRABALHO"]
[null,{"$f":"IF($B$155=\"ocultar\",\"ocultar\",IF('SA - ATIVIDADES'!$G$25=TRUE,IF('SA - ATIVIDADES'!$H$25>='SA - SERVICOS BASE'!AH162,\"mostrar\",\"ocultar\"),\"ocultar\"))","v":"ocultar"},"Designação (a preencher)","MODELO A - TEMPO - N.º DE HORAS DE TRABALHO",null,null,0,0,0,null,null,null,null,null,0,0,null,null,null,null,null,null,0,0,null,null,0,0,0,null,0,null,null,7,null,null,null,null,null,null,null,null,null,null,null,null,null,null,null,null,null,null,null,null,null,null,null,null,null,0,0,0,0,0,"MODELO A - TEMPO - N.º DE HORAS DE TRABALHO"]
[null,{"$f":"IF($B$155=\"ocultar\",\"ocultar\",IF('SA - ATIVIDADES'!$G$25=TRUE,IF('SA - ATIVIDADES'!$H$25>='SA - SERVICOS BASE'!AH163,\"mostrar\",\"ocultar\"),\"ocultar\"))","v":"ocultar"},"Designação (a preencher)","MODELO A - TEMPO - N.º DE HORAS DE TRABALHO",null,null,0,0,0,null,null,null,null,null,0,0,null,null,null,null,null,null,0,0,null,null,0,0,0,null,0,null,null,8,null,null,null,null,null,null,null,null,null,null,null,null,null,null,null,null,null,null,null,null,null,null,null,null,null,0,0,0,0,0,"MODELO A - TEMPO - N.º DE HORAS DE TRABALHO"]
[null,{"$f":"IF($B$155=\"ocultar\",\"ocultar\",IF('SA - ATIVIDADES'!$G$25=TRUE,IF('SA - ATIVIDADES'!$H$25>='SA - SERVICOS BASE'!AH164,\"mostrar\",\"ocultar\"),\"ocultar\"))","v":"ocultar"},"Designação (a preencher)","MODELO A - TEMPO - N.º DE HORAS DE TRABALHO",null,null,0,0,0,null,null,null,null,null,0,0,null,null,null,null,null,null,0,0,null,null,0,0,0,null,0,null,null,9,null,null,null,null,null,null,null,null,null,null,null,null,null,null,null,null,null,null,null,null,null,null,null,null,null,0,0,0,0,0,"MODELO A - TEMPO - N.º DE HORAS DE TRABALHO"]
[null,{"$f":"IF($B$155=\"ocultar\",\"ocultar\",IF('SA - ATIVIDADES'!$G$25=TRUE,IF('SA - ATIVIDADES'!$H$25>='SA - SERVICOS BASE'!AH165,\"mostrar\",\"ocultar\"),\"ocultar\"))","v":"ocultar"},"Designação (a preencher)","MODELO A - TEMPO - N.º DE HORAS DE TRABALHO",null,null,0,0,0,null,null,null,null,null,0,0,null,null,null,null,null,null,0,0,null,null,0,0,0,null,0,null,null,10,null,null,null,null,null,null,null,null,null,null,null,null,null,null,null,null,null,null,null,null,null,null,null,null,null,0,0,0,0,0,"MODELO A - TEMPO - N.º DE HORAS DE TRABALHO"]
[null,{"$f":"IF($B$156=\"ocultar\",\"ocultar\",\"mostrar\")","v":"ocultar"},"SUB-TOTAL",null,null,null,{"$f":"SUBTOTAL(109,G155:G165)","v":0},null,{"$f":"SUBTOTAL(109,I155:I165)","v":0},null,null,null,null,null,{"$f":"SUBTOTAL(9,O156:O165)","v":0},{"$f":"SUBTOTAL(9,P156:P165)","v":0},null,null,null,null,null,null,{"$f":"SUBTOTAL(9,W156:W165)","v":0},{"$f":"SUBTOTAL(9,X156:X165)","v":0},null,null,null,null,{"$f":"SUBTOTAL(109,AC156:AC165)","v":0},null,{"$f":"SUBTOTAL(109,AE156:AE165)","v":0},null,null,null,null,null,null,null,null,null,null,null,null,null,null,null,null,null,null,null,null,null,null,null,null,null,null,null,null,null,null,null,null,null,"MODELO A - TEMPO - N.º DE HORAS DE TRABALHO"]
[null,{"$f":"IF($B$104=\"ocultar\",\"ocultar\",IF('SA - ATIVIDADES'!$G$20=\"Fase Única\",\"ocultar\",IF('SA - ATIVIDADES'!G26=TRUE,\"mostrar\",\"ocultar\")))","v":"ocultar"},"PROJETO DE ARQUITETURA DE LOTEAMENTO",null,null,null,null,null,null,null,null,null,null,null,null,null,null,null,null,null,null,null,null,null,null,null,null,null,null,null,null,null,null,null,null,null,null,null,null,null,null,null,null,null,null,null,null,null,null,null,null,null,null,null,null,null,null,null,null,null,null,null,null,null,"MODELO A - TEMPO - N.º DE HORAS DE TRABALHO"]
[null,{"$f":"IF($B$167=\"ocultar\",\"ocultar\",IF('SA - ATIVIDADES'!$G$26=TRUE,IF('SA - ATIVIDADES'!$H$26>='SA - SERVICOS BASE'!AH168,\"mostrar\",\"ocultar\"),\"ocultar\"))","v":"ocultar"},"Designação (a preencher)","MODELO A - TEMPO - N.º DE HORAS DE TRABALHO",null,null,0,{"$f":"$H$104","v":0},{"$f":"G168*H168","v":0},null,null,null,null,null,0,{"$f":"$P$104*O168","v":0},null,null,null,null,null,null,0,{"$f":"$X$104*W168","v":0},null,null,0,0,{"$f":"AA168*AB168","v":0},null,{"$f":"BL168","v":0},null,null,1,null,null,null,null,null,null,null,null,null,null,null,null,null,null,null,null,null,null,null,null,null,null,null,null,null,{"$f":"IF(OR(AND(LEFT($D$104,8)=\"MODELO M\", LEFT(D168,8)=\"MODELO A\"), AND(LEFT($D$104,8)=\"MODELO A\", $F$104=\"Atribuir valor detalhado por Fase/Elemento\")), I168, 0)","v":0},{"$f":"IF(OR(AND(LEFT($D$104,8)=\"MODELO M\", LEFT(D168,8)=\"MODELO B\"), AND(LEFT($D$104,8)=\"MODELO B\", $K$104=\"Atribuir valor detalhado por Fase/Elemento\")), P168, 0)","v":0},{"$f":"IF(OR(AND(LEFT($D$104,8)=\"MODELO M\", LEFT(D168,8)=\"MODELO C\"), AND(LEFT($D$104,8)=\"MODELO C\", $R$104=\"Atribuir valor detalhado por Fase/Elemento\")), X168, 0)","v":0},{"$f":"IF(OR(AND(LEFT($D$104,8)=\"MODELO M\", LEFT(D168,8)=\"MODELO D\"), AND(LEFT($D$104,8)=\"MODELO D\", $Z$104=\"Atribuir valor detalhado por Fase/Elemento\")), AC168, 0)","v":0},{"$f":"SUM(BH168:BK168)","v":0},"MODELO A - TEMPO - N.º DE HORAS DE TRABALHO"]
[null,{"$f":"IF($B$167=\"ocultar\",\"ocultar\",IF('SA - ATIVIDADES'!$G$26=TRUE,IF('SA - ATIVIDADES'!$H$26>='SA - SERVICOS BASE'!AH169,\"mostrar\",\"ocultar\"),\"ocultar\"))","v":"ocultar"},"Designação (a preencher)","MODELO A - TEMPO - N.º DE HORAS DE TRABALHO",null,null,0,0,0,null,null,null,null,null,0,{"$f":"$P$104*O169","v":0},null,null,null,null,null,null,0,{"$f":"$X$104*W169","v":0},null,null,0,0,{"$f":"AA169*AB169","v":0},null,0,null,null,2,null,null,null,null,null,null,null,null,null,null,null,null,null,null,null,null,null,null,null,null,null,null,null,null,null,0,0,0,0,0,"MODELO A - TEMPO - N.º DE HORAS DE TRABALHO"]
[null,{"$f":"IF($B$167=\"ocultar\",\"ocultar\",IF('SA - ATIVIDADES'!$G$26=TRUE,IF('SA - ATIVIDADES'!$H$26>='SA - SERVICOS BASE'!AH170,\"mostrar\",\"ocultar\"),\"ocultar\"))","v":"ocultar"},"Designação (a preencher)","MODELO A - TEMPO - N.º DE HORAS DE TRABALHO",null,null,0,0,0,null,null,null,null,null,0,0,null,null,null,null,null,null,0,0,null,null,0,0,0,null,0,null,null,3,null,null,null,null,null,null,null,null,null,null,null,null,null,null,null,null,null,null,null,null,null,null,null,null,null,0,0,0,0,0,"MODELO A - TEMPO - N.º DE HORAS DE TRABALHO"]
[null,{"$f":"IF($B$167=\"ocultar\",\"ocultar\",IF('SA - ATIVIDADES'!$G$26=TRUE,IF('SA - ATIVIDADES'!$H$26>='SA - SERVICOS BASE'!AH171,\"mostrar\",\"ocultar\"),\"ocultar\"))","v":"ocultar"},"Designação (a preencher)","MODELO A - TEMPO - N.º DE HORAS DE TRABALHO",null,null,0,0,0,null,null,null,null,null,0,0,null,null,null,null,null,null,0,0,null,null,0,0,0,null,0,null,null,4,null,null,null,null,null,null,null,null,null,null,null,null,null,null,null,null,null,null,null,null,null,null,null,null,null,0,0,0,0,0,"MODELO A - TEMPO - N.º DE HORAS DE TRABALHO"]
[null,{"$f":"IF($B$167=\"ocultar\",\"ocultar\",IF('SA - ATIVIDADES'!$G$26=TRUE,IF('SA - ATIVIDADES'!$H$26>='SA - SERVICOS BASE'!AH172,\"mostrar\",\"ocultar\"),\"ocultar\"))","v":"ocultar"},"Designação (a preencher)","MODELO A - TEMPO - N.º DE HORAS DE TRABALHO",null,null,0,0,0,null,null,null,null,null,0,0,null,null,null,null,null,null,0,0,null,null,0,0,0,null,0,null,null,5,null,null,null,null,null,null,null,null,null,null,null,null,null,null,null,null,null,null,null,null,null,null,null,null,null,0,0,0,0,0,"MODELO A - TEMPO - N.º DE HORAS DE TRABALHO"]
[null,{"$f":"IF($B$167=\"ocultar\",\"ocultar\",IF('SA - ATIVIDADES'!$G$26=TRUE,IF('SA - ATIVIDADES'!$H$26>='SA - SERVICOS BASE'!AH173,\"mostrar\",\"ocultar\"),\"ocultar\"))","v":"ocultar"},"Designação (a preencher)","MODELO A - TEMPO - N.º DE HORAS DE TRABALHO",null,null,0,0,0,null,null,null,null,null,0,0,null,null,null,null,null,null,0,0,null,null,0,0,0,null,0,null,null,6,null,null,null,null,null,null,null,null,null,null,null,null,null,null,null,null,null,null,null,null,null,null,null,null,null,0,0,0,0,0,"MODELO A - TEMPO - N.º DE HORAS DE TRABALHO"]
[null,{"$f":"IF($B$167=\"ocultar\",\"ocultar\",IF('SA - ATIVIDADES'!$G$26=TRUE,IF('SA - ATIVIDADES'!$H$26>='SA - SERVICOS BASE'!AH174,\"mostrar\",\"ocultar\"),\"ocultar\"))","v":"ocultar"},"Designação (a preencher)","MODELO A - TEMPO - N.º DE HORAS DE TRABALHO",null,null,0,0,0,null,null,null,null,null,0,0,null,null,null,null,null,null,0,0,null,null,0,0,0,null,0,null,null,7,null,null,null,null,null,null,null,null,null,null,null,null,null,null,null,null,null,null,null,null,null,null,null,null,null,0,0,0,0,0,"MODELO A - TEMPO - N.º DE HORAS DE TRABALHO"]
[null,{"$f":"IF($B$167=\"ocultar\",\"ocultar\",IF('SA - ATIVIDADES'!$G$26=TRUE,IF('SA - ATIVIDADES'!$H$26>='SA - SERVICOS BASE'!AH175,\"mostrar\",\"ocultar\"),\"ocultar\"))","v":"ocultar"},"Designação (a preencher)","MODELO A - TEMPO - N.º DE HORAS DE TRABALHO",null,null,0,0,0,null,null,null,null,null,0,0,null,null,null,null,null,null,0,0,null,null,0,0,0,null,0,null,null,8,null,null,null,null,null,null,null,null,null,null,null,null,null,null,null,null,null,null,null,null,null,null,null,null,null,0,0,0,0,0,"MODELO A - TEMPO - N.º DE HORAS DE TRABALHO"]
[null,{"$f":"IF($B$167=\"ocultar\",\"ocultar\",IF('SA - ATIVIDADES'!$G$26=TRUE,IF('SA - ATIVIDADES'!$H$26>='SA - SERVICOS BASE'!AH176,\"mostrar\",\"ocultar\"),\"ocultar\"))","v":"ocultar"},"Designação (a preencher)","MODELO A - TEMPO - N.º DE HORAS DE TRABALHO",null,null,0,0,0,null,null,null,null,null,0,0,null,null,null,null,null,null,0,0,null,null,0,0,0,null,0,null,null,9,null,null,null,null,null,null,null,null,null,null,null,null,null,null,null,null,null,null,null,null,null,null,null,null,null,0,0,0,0,0,"MODELO A - TEMPO - N.º DE HORAS DE TRABALHO"]
[null,{"$f":"IF($B$167=\"ocultar\",\"ocultar\",IF('SA - ATIVIDADES'!$G$26=TRUE,IF('SA - ATIVIDADES'!$H$26>='SA - SERVICOS BASE'!AH177,\"mostrar\",\"ocultar\"),\"ocultar\"))","v":"ocultar"},"Designação (a preencher)","MODELO A - TEMPO - N.º DE HORAS DE TRABALHO",null,null,0,0,0,null,null,null,null,null,0,0,null,null,null,null,null,null,0,0,null,null,0,0,0,null,0,null,null,10,null,null,null,null,null,null,null,null,null,null,null,null,null,null,null,null,null,null,null,null,null,null,null,null,null,0,0,0,0,0,"MODELO A - TEMPO - N.º DE HORAS DE TRABALHO"]
[null,{"$f":"IF($B$168=\"ocultar\",\"ocultar\",\"mostrar\")","v":"ocultar"},"SUB-TOTAL",null,null,null,{"$f":"SUBTOTAL(109,G167:G177)","v":0},null,{"$f":"SUBTOTAL(109,I167:I177)","v":0},null,null,null,null,null,{"$f":"SUBTOTAL(9,O168:O177)","v":0},{"$f":"SUBTOTAL(9,P168:P177)","v":0},null,null,null,null,null,null,{"$f":"SUBTOTAL(9,W168:W177)","v":0},{"$f":"SUBTOTAL(9,X168:X177)","v":0},null,null,null,null,{"$f":"SUBTOTAL(109,AC168:AC177)","v":0},null,{"$f":"SUBTOTAL(109,AE168:AE177)","v":0},null,null,null,null,null,null,null,null,null,null,null,null,null,null,null,null,null,null,null,null,null,null,null,null,null,null,null,null,null,null,null,null,null,"MODELO A - TEMPO - N.º DE HORAS DE TRABALHO"]
[null,{"$f":"IF($B$104=\"ocultar\",\"ocultar\",\"mostrar\")","v":"ocultar"},"TOTAL",null,null,null,{"$f":"IF($F104=\"Atribuir valor global à atividade\",G104,SUBTOTAL(109,G107:G178))","v":0},null,{"$f":"IF($F104=\"Atribuir valor global à atividade\",I104,SUBTOTAL(109,I107:I178))","v":0},null,null,null,null,null,{"$f":"IF($K$104=\"Atribuir valor global à atividade\",1,SUBTOTAL(109,O108:O178))","v":1},{"$f":"IF($K$104=\"Atribuir valor global à atividade\",P104,SUBTOTAL(109,P108:P178))","v":0},null,null,null,null,null,null,{"$f":"IF($R$104=\"Atribuir valor global à atividade\",1,SUBTOTAL(109,W108:W178))","v":1},{"$f":"IF($R104=\"Atribuir valor global à atividade\",X104,SUBTOTAL(109,X108:X178))","v":0},null,null,null,null,{"$f":"IF($Z$104=\"Atribuir valor global à atividade\",AC104,SUBTOTAL(109,AC108:AC178))","v":0},null,{"$f":"BL104","v":0},null,null,null,null,null,null,null,null,null,null,null,null,null,null,null,null,null,null,null,null,null,null,null,null,null,null,null,null,null,null,null,null,null,"MODELO A - TEMPO - N.º DE HORAS DE TRABALHO"]
[null,{"$f":"IF($B$104=\"ocultar\",\"ocultar\",\"mostrar\")","v":"ocultar"},null,null,null,null,null,null,null,null,null,null,null,null,null,null,null,null,null,null,null,null,null,null,null,null,null,null,null,null,null,null,null,null,null,null,null,null,null,null,null,null,null,null,null,null,null,null,null,null,null,null,null,null,null,null,null,null,null,null,null,null,null,null,"MODELO A - TEMPO - N.º DE HORAS DE TRABALHO"]
[null,{"$f":"IF('SA - ATIVIDADES'!$F$28<>TRUE,\"ocultar\",\"mostrar\")","v":"ocultar"},"A5. PROJETO DE ESPAÇOS EXTERIORES","MODELO A - TEMPO - N.º DE HORAS DE TRABALHO",null,"Atribuir valor global à atividade",0,0,{"$f":"IF($F$27=\"Atribuir valor global à atividade\",G181*H181,\"\")","v":0},null,"Atribuir valor global à atividade","Valor Global Obra (VG Obra)",{"$f":"IF(L181=\"Valor Global Obra (VG Obra)\",$M$9,\"\")","v":0},0,0,{"$f":"IF(L181=\"Valor Global Obra (VG Obra)\",M181*O181,N181*O181)","v":0},null,"Atribuir valor global à atividade","Valor/m2 fixo (VF m2)",{"$f":"IF(S181=\"Valor/m2 fixo (VF m2)\",$T$9,\"\")","v":0},0,0,null,{"$f":"IF(S181=\"Valor/m2 fixo (VF m2)\",T181*1*V181,U181*1*V181)","v":0},null,"Atribuir valor global à atividade",0,0,{"$f":"AA181*AB181","v":0},null,{"$f":"BL181","v":0},null,null,null,null,null,null,null,null,null,null,null,null,null,null,null,null,null,null,null,null,null,null,null,null,null,null,null,null,{"$f":"IF(LEFT($D$181,8)=\"MODELO A\",IF($F$181=\"Atribuir valor detalhado por Fase/Elemento\",SUBTOTAL(109,BH185:BH242),I181),IF(LEFT($D$181,8)=\"MODELO M\",SUBTOTAL(109,BH185:BH242),0))","v":0},{"$f":"IF(LEFT($D$181,8)=\"MODELO B\",IF($K$181=\"Atribuir valor detalhado por Fase/Elemento\",SUBTOTAL(109,BI185:BI242),P181),IF(LEFT($D$181,8)=\"MODELO M\",SUBTOTAL(109,BI185:BI242),0))","v":0},{"$f":"IF(LEFT($D$181,8)=\"MODELO C\",IF($R$181=\"Atribuir valor detalhado por Fase/Elemento\",SUBTOTAL(109,BJ185:BJ242),X181),IF(LEFT($D$181,8)=\"MODELO M\",SUBTOTAL(109,BJ185:BJ242),0))","v":0},{"$f":"IF(LEFT($D$181,8)=\"MODELO D\",IF($Z$181=\"Atribuir valor detalhado por Fase/Elemento\",SUBTOTAL(109,BK185:BK242),AC181),IF(LEFT($D$181,8)=\"MODELO M\",SUBTOTAL(109,BK185:BK242),0))","v":0},{"$f":"SUM(BH181:BK181)","v":0},"MODELO A - TEMPO - N.º DE HORAS DE TRABALHO"]
[null,{"$f":"IF($B$181=\"ocultar\",\"ocultar\",\"mostrar\")","v":"ocultar"},null,null,null,null,null,null,null,null,null,null,null,null,null,null,null,null,null,null,null,null,null,null,null,null,null,null,null,null,null,null,null,null,null,null,null,null,null,null,null,null,null,null,null,null,null,null,null,null,null,null,null,null,null,null,null,null,null,null,null,null,null,null,"MODELO A - TEMPO - N.º DE HORAS DE TRABALHO"]
[null,"ocultar",null,null,null,null,null,null,null,null,null,null,null,null,null,null,null,null,null,null,null,null,null,null,null,null,null,null,null,null,null,null,null,null,null,null,null,null,null,null,null,null,null,null,null,null,null,null,null,null,null,null,null,null,null,null,null,null,null,null,null,null,null,null,"MODELO A - TEMPO - N.º DE HORAS DE TRABALHO"]
[null,{"$f":"IF(B181=\"ocultar\",\"ocultar\",IF('SA - ATIVIDADES'!$G$28=\"Fase Única\",\"ocultar\",IF('SA - ATIVIDADES'!G29=TRUE,\"mostrar\",\"ocultar\")))","v":"ocultar"},"PROJETO - FASE DE PROGRAMA BASE",null,null,null,null,null,null,null,null,null,null,null,null,null,null,null,null,null,null,null,null,null,null,null,null,null,null,null,null,null,null,null,null,null,null,null,null,null,null,null,null,null,null,null,null,null,null,null,null,null,null,null,null,null,null,null,null,null,null,null,null,null,"MODELO A - TEMPO - N.º DE HORAS DE TRABALHO"]
[null,{"$f":"IF($B$184=\"ocultar\",\"ocultar\",IF('SA - ATIVIDADES'!$G$29=TRUE,IF('SA - ATIVIDADES'!$H$29>='SA - SERVICOS BASE'!AH185,\"mostrar\",\"ocultar\"),\"ocultar\"))","v":"ocultar"},"Designação (a preencher)","MODELO A - TEMPO - N.º DE HORAS DE TRABALHO",null,null,0,{"$f":"$H$181","v":0},{"$f":"G185*H185","v":0},null,null,null,null,null,0,{"$f":"$P$181*O185","v":0},null,null,null,null,null,null,0,{"$f":"$X$181*W185","v":0},null,null,0,0,{"$f":"AA185*AB185","v":0},null,{"$f":"BL185","v":0},null,null,1,null,null,null,null,null,null,null,null,null,null,null,null,null,null,null,null,null,null,null,null,null,null,null,null,null,{"$f":"IF(OR(AND(LEFT($D$181,8)=\"MODELO M\", LEFT(D185,8)=\"MODELO A\"), AND(LEFT($D$181,8)=\"MODELO A\", $F$181=\"Atribuir valor detalhado por Fase/Elemento\")), I185, 0)","v":0},{"$f":"IF(OR(AND(LEFT($D$181,8)=\"MODELO M\", LEFT(D185,8)=\"MODELO B\"), AND(LEFT($D$181,8)=\"MODELO B\", $K$181=\"Atribuir valor detalhado por Fase/Elemento\")), P185, 0)","v":0},{"$f":"IF(OR(AND(LEFT($D$181,8)=\"MODELO M\", LEFT(D185,8)=\"MODELO C\"), AND(LEFT($D$181,8)=\"MODELO C\", $R$181=\"Atribuir valor detalhado por Fase/Elemento\")), X185, 0)","v":0},{"$f":"IF(OR(AND(LEFT($D$181,8)=\"MODELO M\", LEFT(D185,8)=\"MODELO D\"), AND(LEFT($D$181,8)=\"MODELO D\", $Z$181=\"Atribuir valor detalhado por Fase/Elemento\")), AC185, 0)","v":0},{"$f":"SUM(BH185:BK185)","v":0},"MODELO A - TEMPO - N.º DE HORAS DE TRABALHO"]
[null,{"$f":"IF($B$184=\"ocultar\",\"ocultar\",IF('SA - ATIVIDADES'!$G$29=TRUE,IF('SA - ATIVIDADES'!$H$29>='SA - SERVICOS BASE'!AH186,\"mostrar\",\"ocultar\"),\"ocultar\"))","v":"ocultar"},"Designação (a preencher)","MODELO A - TEMPO - N.º DE HORAS DE TRABALHO",null,null,0,{"$f":"$H$181","v":0},0,null,null,null,null,null,0,{"$f":"$P$181*O186","v":0},null,null,null,null,null,null,0,{"$f":"$X$181*W186","v":0},null,null,0,0,{"$f":"AA186*AB186","v":0},null,0,null,null,2,null,null,null,null,null,null,null,null,null,null,null,null,null,null,null,null,null,null,null,null,null,null,null,null,null,0,0,0,0,0,"MODELO A - TEMPO - N.º DE HORAS DE TRABALHO"]
[null,{"$f":"IF($B$184=\"ocultar\",\"ocultar\",IF('SA - ATIVIDADES'!$G$29=TRUE,IF('SA - ATIVIDADES'!$H$29>='SA - SERVICOS BASE'!AH187,\"mostrar\",\"ocultar\"),\"ocultar\"))","v":"ocultar"},"Designação (a preencher)","MODELO A - TEMPO - N.º DE HORAS DE TRABALHO",null,null,0,0,0,null,null,null,null,null,0,{"$f":"$P$181*O187","v":0},null,null,null,null,null,null,0,0,null,null,0,0,0,null,0,null,null,3,null,null,null,null,null,null,null,null,null,null,null,null,null,null,null,null,null,null,null,null,null,null,null,null,null,0,0,0,0,0,"MODELO A - TEMPO - N.º DE HORAS DE TRABALHO"]
[null,{"$f":"IF($B$184=\"ocultar\",\"ocultar\",IF('SA - ATIVIDADES'!$G$29=TRUE,IF('SA - ATIVIDADES'!$H$29>='SA - SERVICOS BASE'!AH188,\"mostrar\",\"ocultar\"),\"ocultar\"))","v":"ocultar"},"Designação (a preencher)","MODELO A - TEMPO - N.º DE HORAS DE TRABALHO",null,null,0,0,0,null,null,null,null,null,0,0,null,null,null,null,null,null,0,0,null,null,0,0,0,null,0,null,null,4,null,null,null,null,null,null,null,null,null,null,null,null,null,null,null,null,null,null,null,null,null,null,null,null,null,0,0,0,0,0,"MODELO A - TEMPO - N.º DE HORAS DE TRABALHO"]
[null,{"$f":"IF($B$184=\"ocultar\",\"ocultar\",IF('SA - ATIVIDADES'!$G$29=TRUE,IF('SA - ATIVIDADES'!$H$29>='SA - SERVICOS BASE'!AH189,\"mostrar\",\"ocultar\"),\"ocultar\"))","v":"ocultar"},"Designação (a preencher)","MODELO A - TEMPO - N.º DE HORAS DE TRABALHO",null,null,0,0,0,null,null,null,null,null,0,0,null,null,null,null,null,null,0,0,null,null,0,0,0,null,0,null,null,5,null,null,null,null,null,null,null,null,null,null,null,null,null,null,null,null,null,null,null,null,null,null,null,null,null,0,0,0,0,0,"MODELO A - TEMPO - N.º DE HORAS DE TRABALHO"]
[null,{"$f":"IF($B$184=\"ocultar\",\"ocultar\",IF('SA - ATIVIDADES'!$G$29=TRUE,IF('SA - ATIVIDADES'!$H$29>='SA - SERVICOS BASE'!AH190,\"mostrar\",\"ocultar\"),\"ocultar\"))","v":"ocultar"},"Designação (a preencher)","MODELO A - TEMPO - N.º DE HORAS DE TRABALHO",null,null,0,0,0,null,null,null,null,null,0,0,null,null,null,null,null,null,0,0,null,null,0,0,0,null,0,null,null,6,null,null,null,null,null,null,null,null,null,null,null,null,null,null,null,null,null,null,null,null,null,null,null,null,null,0,0,0,0,0,"MODELO A - TEMPO - N.º DE HORAS DE TRABALHO"]
[null,{"$f":"IF($B$184=\"ocultar\",\"ocultar\",IF('SA - ATIVIDADES'!$G$29=TRUE,IF('SA - ATIVIDADES'!$H$29>='SA - SERVICOS BASE'!AH191,\"mostrar\",\"ocultar\"),\"ocultar\"))","v":"ocultar"},"Designação (a preencher)","MODELO A - TEMPO - N.º DE HORAS DE TRABALHO",null,null,0,0,0,null,null,null,null,null,0,0,null,null,null,null,null,null,0,0,null,null,0,0,0,null,0,null,null,7,null,null,null,null,null,null,null,null,null,null,null,null,null,null,null,null,null,null,null,null,null,null,null,null,null,0,0,0,0,0,"MODELO A - TEMPO - N.º DE HORAS DE TRABALHO"]
[null,{"$f":"IF($B$184=\"ocultar\",\"ocultar\",IF('SA - ATIVIDADES'!$G$29=TRUE,IF('SA - ATIVIDADES'!$H$29>='SA - SERVICOS BASE'!AH192,\"mostrar\",\"ocultar\"),\"ocultar\"))","v":"ocultar"},"Designação (a preencher)","MODELO A - TEMPO - N.º DE HORAS DE TRABALHO",null,null,0,0,0,null,null,null,null,null,0,0,null,null,null,null,null,null,0,0,null,null,0,0,0,null,0,null,null,8,null,null,null,null,null,null,null,null,null,null,null,null,null,null,null,null,null,null,null,null,null,null,null,null,null,0,0,0,0,0,"MODELO A - TEMPO - N.º DE HORAS DE TRABALHO"]
[null,{"$f":"IF($B$184=\"ocultar\",\"ocultar\",IF('SA - ATIVIDADES'!$G$29=TRUE,IF('SA - ATIVIDADES'!$H$29>='SA - SERVICOS BASE'!AH193,\"mostrar\",\"ocultar\"),\"ocultar\"))","v":"ocultar"},"Designação (a preencher)","MODELO A - TEMPO - N.º DE HORAS DE TRABALHO",null,null,0,0,0,null,null,null,null,null,0,0,null,null,null,null,null,null,0,0,null,null,0,0,0,null,0,null,null,9,null,null,null,null,null,null,null,null,null,null,null,null,null,null,null,null,null,null,null,null,null,null,null,null,null,0,0,0,0,0,"MODELO A - TEMPO - N.º DE HORAS DE TRABALHO"]
[null,{"$f":"IF($B$184=\"ocultar\",\"ocultar\",IF('SA - ATIVIDADES'!$G$29=TRUE,IF('SA - ATIVIDADES'!$H$29>='SA - SERVICOS BASE'!AH194,\"mostrar\",\"ocultar\"),\"ocultar\"))","v":"ocultar"},"Designação (a preencher)","MODELO A - TEMPO - N.º DE HORAS DE TRABALHO",null,null,0,0,0,null,null,null,null,null,0,0,null,null,null,null,null,null,0,0,null,null,0,0,0,null,0,null,null,10,null,null,null,null,null,null,null,null,null,null,null,null,null,null,null,null,null,null,null,null,null,null,null,null,null,0,0,0,0,0,"MODELO A - TEMPO - N.º DE HORAS DE TRABALHO"]
[null,{"$f":"IF($B$185=\"ocultar\",\"ocultar\",\"mostrar\")","v":"ocultar"},"SUB-TOTAL",null,null,null,{"$f":"SUBTOTAL(109,G184:G194)","v":0},null,{"$f":"SUBTOTAL(109,I184:I194)","v":0},null,null,null,null,null,{"$f":"SUBTOTAL(9,O185:O194)","v":0},{"$f":"SUBTOTAL(9,P185:P194)","v":0},null,null,null,null,null,null,{"$f":"SUBTOTAL(9,W185:W194)","v":0},{"$f":"SUBTOTAL(9,X185:X194)","v":0},null,null,null,null,{"$f":"SUBTOTAL(109,AC185:AC194)","v":0},null,{"$f":"SUBTOTAL(109,AE185:AE194)","v":0},null,null,null,null,null,null,null,null,null,null,null,null,null,null,null,null,null,null,null,null,null,null,null,null,null,null,null,null,null,null,null,null,null,"MODELO A - TEMPO - N.º DE HORAS DE TRABALHO"]
[null,{"$f":"IF(B181=\"ocultar\",\"ocultar\",IF('SA - ATIVIDADES'!$G$28=\"Fase Única\",\"ocultar\",IF('SA - ATIVIDADES'!G30=TRUE,\"mostrar\",\"ocultar\")))","v":"ocultar"},"PROJETO - FASE DE ESTUDO PRÉVIO",null,null,null,null,null,null,null,null,null,null,null,null,null,null,null,null,null,null,null,null,null,null,null,null,null,null,null,null,null,null,null,null,null,null,null,null,null,null,null,null,null,null,null,null,null,null,null,null,null,null,null,null,null,null,null,null,null,null,null,null,null,"MODELO A - TEMPO - N.º DE HORAS DE TRABALHO"]
[null,{"$f":"IF($B$196=\"ocultar\",\"ocultar\",IF('SA - ATIVIDADES'!$G$30=TRUE,IF('SA - ATIVIDADES'!$H$30>='SA - SERVICOS BASE'!AH197,\"mostrar\",\"ocultar\"),\"ocultar\"))","v":"ocultar"},"Designação (a preencher)","MODELO A - TEMPO - N.º DE HORAS DE TRABALHO",null,null,0,{"$f":"$H$181","v":0},{"$f":"G197*H197","v":0},null,null,null,null,null,0,{"$f":"$P$181*O197","v":0},null,null,null,null,null,null,0,{"$f":"$X$181*W197","v":0},null,null,0,0,{"$f":"AA197*AB197","v":0},null,{"$f":"BL197","v":0},null,null,1,null,null,null,null,null,null,null,null,null,null,null,null,null,null,null,null,null,null,null,null,null,null,null,null,null,{"$f":"IF(OR(AND(LEFT($D$181,8)=\"MODELO M\", LEFT(D197,8)=\"MODELO A\"), AND(LEFT($D$181,8)=\"MODELO A\", $F$181=\"Atribuir valor detalhado por Fase/Elemento\")), I197, 0)","v":0},{"$f":"IF(OR(AND(LEFT($D$181,8)=\"MODELO M\", LEFT(D197,8)=\"MODELO B\"), AND(LEFT($D$181,8)=\"MODELO B\", $K$181=\"Atribuir valor detalhado por Fase/Elemento\")), P197, 0)","v":0},{"$f":"IF(OR(AND(LEFT($D$181,8)=\"MODELO M\", LEFT(D197,8)=\"MODELO C\"), AND(LEFT($D$181,8)=\"MODELO C\", $R$181=\"Atribuir valor detalhado por Fase/Elemento\")), X197, 0)","v":0},{"$f":"IF(OR(AND(LEFT($D$181,8)=\"MODELO M\", LEFT(D197,8)=\"MODELO D\"), AND(LEFT($D$181,8)=\"MODELO D\", $Z$181=\"Atribuir valor detalhado por Fase/Elemento\")), AC197, 0)","v":0},{"$f":"SUM(BH197:BK197)","v":0},"MODELO A - TEMPO - N.º DE HORAS DE TRABALHO"]
[null,{"$f":"IF($B$196=\"ocultar\",\"ocultar\",IF('SA - ATIVIDADES'!$G$30=TRUE,IF('SA - ATIVIDADES'!$H$30>='SA - SERVICOS BASE'!AH198,\"mostrar\",\"ocultar\"),\"ocultar\"))","v":"ocultar"},"Designação (a preencher)","MODELO A - TEMPO - N.º DE HORAS DE TRABALHO",null,null,0,0,0,null,null,null,null,null,0,{"$f":"$P$181*O198","v":0},null,null,null,null,null,null,0,{"$f":"$X$181*W198","v":0},null,null,0,0,{"$f":"AA198*AB198","v":0},null,0,null,null,2,null,null,null,null,null,null,null,null,null,null,null,null,null,null,null,null,null,null,null,null,null,null,null,null,null,0,0,0,0,0,"MODELO A - TEMPO - N.º DE HORAS DE TRABALHO"]
[null,{"$f":"IF($B$196=\"ocultar\",\"ocultar\",IF('SA - ATIVIDADES'!$G$30=TRUE,IF('SA - ATIVIDADES'!$H$30>='SA - SERVICOS BASE'!AH199,\"mostrar\",\"ocultar\"),\"ocultar\"))","v":"ocultar"},"Designação (a preencher)","MODELO A - TEMPO - N.º DE HORAS DE TRABALHO",null,null,0,0,0,null,null,null,null,null,0,0,null,null,null,null,null,null,0,0,null,null,0,0,0,null,0,null,null,3,null,null,null,null,null,null,null,null,null,null,null,null,null,null,null,null,null,null,null,null,null,null,null,null,null,0,0,0,0,0,"MODELO A - TEMPO - N.º DE HORAS DE TRABALHO"]
[null,{"$f":"IF($B$196=\"ocultar\",\"ocultar\",IF('SA - ATIVIDADES'!$G$30=TRUE,IF('SA - ATIVIDADES'!$H$30>='SA - SERVICOS BASE'!AH200,\"mostrar\",\"ocultar\"),\"ocultar\"))","v":"ocultar"},"Designação (a preencher)","MODELO A - TEMPO - N.º DE HORAS DE TRABALHO",null,null,0,0,0,null,null,null,null,null,0,0,null,null,null,null,null,null,0,0,null,null,0,0,0,null,0,null,null,4,null,null,null,null,null,null,null,null,null,null,null,null,null,null,null,null,null,null,null,null,null,null,null,null,null,0,0,0,0,0,"MODELO A - TEMPO - N.º DE HORAS DE TRABALHO"]
[null,{"$f":"IF($B$196=\"ocultar\",\"ocultar\",IF('SA - ATIVIDADES'!$G$30=TRUE,IF('SA - ATIVIDADES'!$H$30>='SA - SERVICOS BASE'!AH201,\"mostrar\",\"ocultar\"),\"ocultar\"))","v":"ocultar"},"Designação (a preencher)","MODELO A - TEMPO - N.º DE HORAS DE TRABALHO",null,null,0,0,0,null,null,null,null,null,0,0,null,null,null,null,null,null,0,0,null,null,0,0,0,null,0,null,null,5,null,null,null,null,null,null,null,null,null,null,null,null,null,null,null,null,null,null,null,null,null,null,null,null,null,0,0,0,0,0,"MODELO A - TEMPO - N.º DE HORAS DE TRABALHO"]
[null,{"$f":"IF($B$196=\"ocultar\",\"ocultar\",IF('SA - ATIVIDADES'!$G$30=TRUE,IF('SA - ATIVIDADES'!$H$30>='SA - SERVICOS BASE'!AH202,\"mostrar\",\"ocultar\"),\"ocultar\"))","v":"ocultar"},"Designação (a preencher)","MODELO A - TEMPO - N.º DE HORAS DE TRABALHO",null,null,0,0,0,null,null,null,null,null,0,0,null,null,null,null,null,null,0,0,null,null,0,0,0,null,0,null,null,6,null,null,null,null,null,null,null,null,null,null,null,null,null,null,null,null,null,null,null,null,null,null,null,null,null,0,0,0,0,0,"MODELO A - TEMPO - N.º DE HORAS DE TRABALHO"]
[null,{"$f":"IF($B$196=\"ocultar\",\"ocultar\",IF('SA - ATIVIDADES'!$G$30=TRUE,IF('SA - ATIVIDADES'!$H$30>='SA - SERVICOS BASE'!AH203,\"mostrar\",\"ocultar\"),\"ocultar\"))","v":"ocultar"},"Designação (a preencher)","MODELO A - TEMPO - N.º DE HORAS DE TRABALHO",null,null,0,0,0,null,null,null,null,null,0,0,null,null,null,null,null,null,0,0,null,null,0,0,0,null,0,null,null,7,null,null,null,null,null,null,null,null,null,null,null,null,null,null,null,null,null,null,null,null,null,null,null,null,null,0,0,0,0,0,"MODELO A - TEMPO - N.º DE HORAS DE TRABALHO"]
[null,{"$f":"IF($B$196=\"ocultar\",\"ocultar\",IF('SA - ATIVIDADES'!$G$30=TRUE,IF('SA - ATIVIDADES'!$H$30>='SA - SERVICOS BASE'!AH204,\"mostrar\",\"ocultar\"),\"ocultar\"))","v":"ocultar"},"Designação (a preencher)","MODELO A - TEMPO - N.º DE HORAS DE TRABALHO",null,null,0,0,0,null,null,null,null,null,0,0,null,null,null,null,null,null,0,0,null,null,0,0,0,null,0,null,null,8,null,null,null,null,null,null,null,null,null,null,null,null,null,null,null,null,null,null,null,null,null,null,null,null,null,0,0,0,0,0,{"$f":"IF($AH204<>\"\",BM203,IF(LEFT($D204,6)=\"MODELO\",$D204,BM203))","v":"MODELO A - TEMPO - N.º DE HORAS DE TRABALHO"}]
[null,{"$f":"IF($B$196=\"ocultar\",\"ocultar\",IF('SA - ATIVIDADES'!$G$30=TRUE,IF('SA - ATIVIDADES'!$H$30>='SA - SERVICOS BASE'!AH205,\"mostrar\",\"ocultar\"),\"ocultar\"))","v":"ocultar"},"Designação (a preencher)","MODELO A - TEMPO - N.º DE HORAS DE TRABALHO",null,null,0,0,0,null,null,null,null,null,0,0,null,null,null,null,null,null,0,0,null,null,0,0,0,null,0,null,null,9,null,null,null,null,null,null,null,null,null,null,null,null,null,null,null,null,null,null,null,null,null,null,null,null,null,0,0,0,0,0,"MODELO A - TEMPO - N.º DE HORAS DE TRABALHO"]
[null,{"$f":"IF($B$196=\"ocultar\",\"ocultar\",IF('SA - ATIVIDADES'!$G$30=TRUE,IF('SA - ATIVIDADES'!$H$30>='SA - SERVICOS BASE'!AH206,\"mostrar\",\"ocultar\"),\"ocultar\"))","v":"ocultar"},"Designação (a preencher)","MODELO A - TEMPO - N.º DE HORAS DE TRABALHO",null,null,0,0,0,null,null,null,null,null,0,0,null,null,null,null,null,null,0,0,null,null,0,0,0,null,0,null,null,10,null,null,null,null,null,null,null,null,null,null,null,null,null,null,null,null,null,null,null,null,null,null,null,null,null,0,0,0,0,0,"MODELO A - TEMPO - N.º DE HORAS DE TRABALHO"]
[null,{"$f":"IF($B$197=\"ocultar\",\"ocultar\",\"mostrar\")","v":"ocultar"},"SUB-TOTAL",null,null,null,{"$f":"SUBTOTAL(109,G196:G206)","v":0},null,{"$f":"SUBTOTAL(109,I196:I206)","v":0},null,null,null,null,null,{"$f":"SUBTOTAL(9,O197:O206)","v":0},{"$f":"SUBTOTAL(9,P197:P206)","v":0},null,null,null,null,null,null,{"$f":"SUBTOTAL(9,W197:W206)","v":0},{"$f":"SUBTOTAL(9,X197:X206)","v":0},null,null,null,null,{"$f":"SUBTOTAL(109,AC197:AC206)","v":0},null,{"$f":"SUBTOTAL(109,AE197:AE206)","v":0},null,null,null,null,null,null,null,null,null,null,null,null,null,null,null,null,null,null,null,null,null,null,null,null,null,null,null,null,null,null,null,null,null,"MODELO A - TEMPO - N.º DE HORAS DE TRABALHO"]
[null,{"$f":"IF(B181=\"ocultar\",\"ocultar\",IF('SA - ATIVIDADES'!$G$28=\"Fase Única\",\"ocultar\",IF('SA - ATIVIDADES'!G31=TRUE,\"mostrar\",\"ocultar\")))","v":"ocultar"},"PROJETO - FASE DE ANTEPROJETO",null,null,null,null,null,null,null,null,null,null,null,null,null,null,null,null,null,null,null,null,null,null,null,null,null,null,null,null,null,null,null,null,null,null,null,null,null,null,null,null,null,null,null,null,null,null,null,null,null,null,null,null,null,null,null,null,null,null,null,null,null,"MODELO A - TEMPO - N.º DE HORAS DE TRABALHO"]
[null,{"$f":"IF($B$208=\"ocultar\",\"ocultar\",IF('SA - ATIVIDADES'!$G$31=TRUE,IF('SA - ATIVIDADES'!$H$31>='SA - SERVICOS BASE'!AH209,\"mostrar\",\"ocultar\"),\"ocultar\"))","v":"ocultar"},"Designação (a preencher)","MODELO A - TEMPO - N.º DE HORAS DE TRABALHO",null,null,0,{"$f":"$H$181","v":0},{"$f":"G209*H209","v":0},null,null,null,null,null,0,{"$f":"$P$181*O209","v":0},null,null,null,null,null,null,0,{"$f":"$X$181*W209","v":0},null,null,0,0,{"$f":"AA209*AB209","v":0},null,{"$f":"BL209","v":0},null,null,1,null,null,null,null,null,null,null,null,null,null,null,null,null,null,null,null,null,null,null,null,null,null,null,null,null,{"$f":"IF(OR(AND(LEFT($D$181,8)=\"MODELO M\", LEFT(D209,8)=\"MODELO A\"), AND(LEFT($D$181,8)=\"MODELO A\", $F$181=\"Atribuir valor detalhado por Fase/Elemento\")), I209, 0)","v":0},{"$f":"IF(OR(AND(LEFT($D$181,8)=\"MODELO M\", LEFT(D209,8)=\"MODELO B\"), AND(LEFT($D$181,8)=\"MODELO B\", $K$181=\"Atribuir valor detalhado por Fase/Elemento\")), P209, 0)","v":0},{"$f":"IF(OR(AND(LEFT($D$181,8)=\"MODELO M\", LEFT(D209,8)=\"MODELO C\"), AND(LEFT($D$181,8)=\"MODELO C\", $R$181=\"Atribuir valor detalhado por Fase/Elemento\")), X209, 0)","v":0},{"$f":"IF(OR(AND(LEFT($D$181,8)=\"MODELO M\", LEFT(D209,8)=\"MODELO D\"), AND(LEFT($D$181,8)=\"MODELO D\", $Z$181=\"Atribuir valor detalhado por Fase/Elemento\")), AC209, 0)","v":0},{"$f":"SUM(BH209:BK209)","v":0},"MODELO A - TEMPO - N.º DE HORAS DE TRABALHO"]
[null,{"$f":"IF($B$208=\"ocultar\",\"ocultar\",IF('SA - ATIVIDADES'!$G$31=TRUE,IF('SA - ATIVIDADES'!$H$31>='SA - SERVICOS BASE'!AH210,\"mostrar\",\"ocultar\"),\"ocultar\"))","v":"ocultar"},"Designação (a preencher)","MODELO A - TEMPO - N.º DE HORAS DE TRABALHO",null,null,0,0,0,null,null,null,null,null,0,{"$f":"$P$181*O210","v":0},null,null,null,null,null,null,0,{"$f":"$X$181*W210","v":0},null,null,0,0,{"$f":"AA210*AB210","v":0},null,0,null,null,2,null,null,null,null,null,null,null,null,null,null,null,null,null,null,null,null,null,null,null,null,null,null,null,null,null,0,0,0,0,0,"MODELO A - TEMPO - N.º DE HORAS DE TRABALHO"]
[null,{"$f":"IF($B$208=\"ocultar\",\"ocultar\",IF('SA - ATIVIDADES'!$G$31=TRUE,IF('SA - ATIVIDADES'!$H$31>='SA - SERVICOS BASE'!AH211,\"mostrar\",\"ocultar\"),\"ocultar\"))","v":"ocultar"},"Designação (a preencher)","MODELO A - TEMPO - N.º DE HORAS DE TRABALHO",null,null,0,0,0,null,null,null,null,null,0,0,null,null,null,null,null,null,0,0,null,null,0,0,0,null,0,null,null,3,null,null,null,null,null,null,null,null,null,null,null,null,null,null,null,null,null,null,null,null,null,null,null,null,null,0,0,0,0,0,"MODELO A - TEMPO - N.º DE HORAS DE TRABALHO"]
[null,{"$f":"IF($B$208=\"ocultar\",\"ocultar\",IF('SA - ATIVIDADES'!$G$31=TRUE,IF('SA - ATIVIDADES'!$H$31>='SA - SERVICOS BASE'!AH212,\"mostrar\",\"ocultar\"),\"ocultar\"))","v":"ocultar"},"Designação (a preencher)","MODELO A - TEMPO - N.º DE HORAS DE TRABALHO",null,null,0,0,0,null,null,null,null,null,0,0,null,null,null,null,null,null,0,0,null,null,0,0,0,null,0,null,null,4,null,null,null,null,null,null,null,null,null,null,null,null,null,null,null,null,null,null,null,null,null,null,null,null,null,0,0,0,0,0,"MODELO A - TEMPO - N.º DE HORAS DE TRABALHO"]
[null,{"$f":"IF($B$208=\"ocultar\",\"ocultar\",IF('SA - ATIVIDADES'!$G$31=TRUE,IF('SA - ATIVIDADES'!$H$31>='SA - SERVICOS BASE'!AH213,\"mostrar\",\"ocultar\"),\"ocultar\"))","v":"ocultar"},"Designação (a preencher)","MODELO A - TEMPO - N.º DE HORAS DE TRABALHO",null,null,0,0,0,null,null,null,null,null,0,0,null,null,null,null,null,null,0,0,null,null,0,0,0,null,0,null,null,5,null,null,null,null,null,null,null,null,null,null,null,null,null,null,null,null,null,null,null,null,null,null,null,null,null,0,0,0,0,0,"MODELO A - TEMPO - N.º DE HORAS DE TRABALHO"]
[null,{"$f":"IF($B$208=\"ocultar\",\"ocultar\",IF('SA - ATIVIDADES'!$G$31=TRUE,IF('SA - ATIVIDADES'!$H$31>='SA - SERVICOS BASE'!AH214,\"mostrar\",\"ocultar\"),\"ocultar\"))","v":"ocultar"},"Designação (a preencher)","MODELO A - TEMPO - N.º DE HORAS DE TRABALHO",null,null,0,0,0,null,null,null,null,null,0,0,null,null,null,null,null,null,0,0,null,null,0,0,0,null,0,null,null,6,null,null,null,null,null,null,null,null,null,null,null,null,null,null,null,null,null,null,null,null,null,null,null,null,null,0,0,0,0,0,"MODELO A - TEMPO - N.º DE HORAS DE TRABALHO"]
[null,{"$f":"IF($B$208=\"ocultar\",\"ocultar\",IF('SA - ATIVIDADES'!$G$31=TRUE,IF('SA - ATIVIDADES'!$H$31>='SA - SERVICOS BASE'!AH215,\"mostrar\",\"ocultar\"),\"ocultar\"))","v":"ocultar"},"Designação (a preencher)","MODELO A - TEMPO - N.º DE HORAS DE TRABALHO",null,null,0,0,0,null,null,null,null,null,0,0,null,null,null,null,null,null,0,0,null,null,0,0,0,null,0,null,null,7,null,null,null,null,null,null,null,null,null,null,null,null,null,null,null,null,null,null,null,null,null,null,null,null,null,0,0,0,0,0,"MODELO A - TEMPO - N.º DE HORAS DE TRABALHO"]
[null,{"$f":"IF($B$208=\"ocultar\",\"ocultar\",IF('SA - ATIVIDADES'!$G$31=TRUE,IF('SA - ATIVIDADES'!$H$31>='SA - SERVICOS BASE'!AH216,\"mostrar\",\"ocultar\"),\"ocultar\"))","v":"ocultar"},"Designação (a preencher)","MODELO A - TEMPO - N.º DE HORAS DE TRABALHO",null,null,0,0,0,null,null,null,null,null,0,0,null,null,null,null,null,null,0,0,null,null,0,0,0,null,0,null,null,8,null,null,null,null,null,null,null,null,null,null,null,null,null,null,null,null,null,null,null,null,null,null,null,null,null,0,0,0,0,0,"MODELO A - TEMPO - N.º DE HORAS DE TRABALHO"]
[null,{"$f":"IF($B$208=\"ocultar\",\"ocultar\",IF('SA - ATIVIDADES'!$G$31=TRUE,IF('SA - ATIVIDADES'!$H$31>='SA - SERVICOS BASE'!AH217,\"mostrar\",\"ocultar\"),\"ocultar\"))","v":"ocultar"},"Designação (a preencher)","MODELO A - TEMPO - N.º DE HORAS DE TRABALHO",null,null,0,0,0,null,null,null,null,null,0,0,null,null,null,null,null,null,0,0,null,null,0,0,0,null,0,null,null,9,null,null,null,null,null,null,null,null,null,null,null,null,null,null,null,null,null,null,null,null,null,null,null,null,null,0,0,0,0,0,"MODELO A - TEMPO - N.º DE HORAS DE TRABALHO"]
[null,{"$f":"IF($B$208=\"ocultar\",\"ocultar\",IF('SA - ATIVIDADES'!$G$31=TRUE,IF('SA - ATIVIDADES'!$H$31>='SA - SERVICOS BASE'!AH218,\"mostrar\",\"ocultar\"),\"ocultar\"))","v":"ocultar"},"Designação (a preencher)","MODELO A - TEMPO - N.º DE HORAS DE TRABALHO",null,null,0,0,0,null,null,null,null,null,0,0,null,null,null,null,null,null,0,0,null,null,0,0,0,null,0,null,null,10,null,null,null,null,null,null,null,null,null,null,null,null,null,null,null,null,null,null,null,null,null,null,null,null,null,0,0,0,0,0,"MODELO A - TEMPO - N.º DE HORAS DE TRABALHO"]
[null,{"$f":"IF($B$209=\"ocultar\",\"ocultar\",\"mostrar\")","v":"ocultar"},"SUB-TOTAL",null,null,null,{"$f":"SUBTOTAL(109,G208:G218)","v":0},null,{"$f":"SUBTOTAL(109,I208:I218)","v":0},null,null,null,null,null,{"$f":"SUBTOTAL(9,O209:O218)","v":0},{"$f":"SUBTOTAL(9,P209:P218)","v":0},null,null,null,null,null,null,{"$f":"SUBTOTAL(9,W209:W218)","v":0},{"$f":"SUBTOTAL(9,X209:X218)","v":0},null,null,null,null,{"$f":"SUBTOTAL(109,AC209:AC218)","v":0},null,{"$f":"SUBTOTAL(109,AE209:AE218)","v":0},null,null,null,null,null,null,null,null,null,null,null,null,null,null,null,null,null,null,null,null,null,null,null,null,null,null,null,null,null,null,null,null,null,"MODELO A - TEMPO - N.º DE HORAS DE TRABALHO"]
[null,{"$f":"IF(B181=\"ocultar\",\"ocultar\",IF('SA - ATIVIDADES'!$G$28=\"Fase Única\",\"ocultar\",IF('SA - ATIVIDADES'!G32=TRUE,\"mostrar\",\"ocultar\")))","v":"ocultar"},"PROJETO  - FASE DE PROJETO DE EXECUÇÃO",null,null,null,null,null,null,null,null,null,null,null,null,null,null,null,null,null,null,null,null,null,null,null,null,null,null,null,null,null,null,null,null,null,null,null,null,null,null,null,null,null,null,null,null,null,null,null,null,null,null,null,null,null,null,null,null,null,null,null,null,null,"MODELO A - TEMPO - N.º DE HORAS DE TRABALHO"]
[null,{"$f":"IF($B$220=\"ocultar\",\"ocultar\",IF('SA - ATIVIDADES'!$G$32=TRUE,IF('SA - ATIVIDADES'!$H$32>='SA - SERVICOS BASE'!AH221,\"mostrar\",\"ocultar\"),\"ocultar\"))","v":"ocultar"},"Designação (a preencher)","MODELO A - TEMPO - N.º DE HORAS DE TRABALHO",null,null,0,{"$f":"$H$181","v":0},{"$f":"G221*H221","v":0},null,null,null,null,null,0,{"$f":"$P$181*O221","v":0},null,null,null,null,null,null,0,{"$f":"$X$181*W221","v":0},null,null,0,0,{"$f":"AA221*AB221","v":0},null,{"$f":"BL221","v":0},null,null,1,null,null,null,null,null,null,null,null,null,null,null,null,null,null,null,null,null,null,null,null,null,null,null,null,null,{"$f":"IF(OR(AND(LEFT($D$181,8)=\"MODELO M\", LEFT(D221,8)=\"MODELO A\"), AND(LEFT($D$181,8)=\"MODELO A\", $F$181=\"Atribuir valor detalhado por Fase/Elemento\")), I221, 0)","v":0},{"$f":"IF(OR(AND(LEFT($D$181,8)=\"MODELO M\", LEFT(D221,8)=\"MODELO B\"), AND(LEFT($D$181,8)=\"MODELO B\", $K$181=\"Atribuir valor detalhado por Fase/Elemento\")), P221, 0)","v":0},{"$f":"IF(OR(AND(LEFT($D$181,8)=\"MODELO M\", LEFT(D221,8)=\"MODELO C\"), AND(LEFT($D$181,8)=\"MODELO C\", $R$181=\"Atribuir valor detalhado por Fase/Elemento\")), X221, 0)","v":0},{"$f":"IF(OR(AND(LEFT($D$181,8)=\"MODELO M\", LEFT(D221,8)=\"MODELO D\"), AND(LEFT($D$181,8)=\"MODELO D\", $Z$181=\"Atribuir valor detalhado por Fase/Elemento\")), AC221, 0)","v":0},{"$f":"SUM(BH221:BK221)","v":0},"MODELO A - TEMPO - N.º DE HORAS DE TRABALHO"]
[null,{"$f":"IF($B$220=\"ocultar\",\"ocultar\",IF('SA - ATIVIDADES'!$G$32=TRUE,IF('SA - ATIVIDADES'!$H$32>='SA - SERVICOS BASE'!AH222,\"mostrar\",\"ocultar\"),\"ocultar\"))","v":"ocultar"},"Designação (a preencher)","MODELO A - TEMPO - N.º DE HORAS DE TRABALHO",null,null,0,0,0,null,null,null,null,null,0,{"$f":"$P$181*O222","v":0},null,null,null,null,null,null,0,{"$f":"$X$181*W222","v":0},null,null,0,0,{"$f":"AA222*AB222","v":0},null,0,null,null,2,null,null,null,null,null,null,null,null,null,null,null,null,null,null,null,null,null,null,null,null,null,null,null,null,null,0,0,0,0,0,"MODELO A - TEMPO - N.º DE HORAS DE TRABALHO"]
[null,{"$f":"IF($B$220=\"ocultar\",\"ocultar\",IF('SA - ATIVIDADES'!$G$32=TRUE,IF('SA - ATIVIDADES'!$H$32>='SA - SERVICOS BASE'!AH223,\"mostrar\",\"ocultar\"),\"ocultar\"))","v":"ocultar"},"Designação (a preencher)","MODELO A - TEMPO - N.º DE HORAS DE TRABALHO",null,null,0,0,0,null,null,null,null,null,0,0,null,null,null,null,null,null,0,0,null,null,0,0,0,null,0,null,null,3,null,null,null,null,null,null,null,null,null,null,null,null,null,null,null,null,null,null,null,null,null,null,null,null,null,0,0,0,0,0,"MODELO A - TEMPO - N.º DE HORAS DE TRABALHO"]
[null,{"$f":"IF($B$220=\"ocultar\",\"ocultar\",IF('SA - ATIVIDADES'!$G$32=TRUE,IF('SA - ATIVIDADES'!$H$32>='SA - SERVICOS BASE'!AH224,\"mostrar\",\"ocultar\"),\"ocultar\"))","v":"ocultar"},"Designação (a preencher)","MODELO A - TEMPO - N.º DE HORAS DE TRABALHO",null,null,0,0,0,null,null,null,null,null,0,0,null,null,null,null,null,null,0,0,null,null,0,0,0,null,0,null,null,4,null,null,null,null,null,null,null,null,null,null,null,null,null,null,null,null,null,null,null,null,null,null,null,null,null,0,0,0,0,0,"MODELO A - TEMPO - N.º DE HORAS DE TRABALHO"]
[null,{"$f":"IF($B$220=\"ocultar\",\"ocultar\",IF('SA - ATIVIDADES'!$G$32=TRUE,IF('SA - ATIVIDADES'!$H$32>='SA - SERVICOS BASE'!AH225,\"mostrar\",\"ocultar\"),\"ocultar\"))","v":"ocultar"},"Designação (a preencher)","MODELO A - TEMPO - N.º DE HORAS DE TRABALHO",null,null,0,0,0,null,null,null,null,null,0,0,null,null,null,null,null,null,0,0,null,null,0,0,0,null,0,null,null,5,null,null,null,null,null,null,null,null,null,null,null,null,null,null,null,null,null,null,null,null,null,null,null,null,null,0,0,0,0,0,"MODELO A - TEMPO - N.º DE HORAS DE TRABALHO"]
[null,{"$f":"IF($B$220=\"ocultar\",\"ocultar\",IF('SA - ATIVIDADES'!$G$32=TRUE,IF('SA - ATIVIDADES'!$H$32>='SA - SERVICOS BASE'!AH226,\"mostrar\",\"ocultar\"),\"ocultar\"))","v":"ocultar"},"Designação (a preencher)","MODELO A - TEMPO - N.º DE HORAS DE TRABALHO",null,null,0,0,0,null,null,null,null,null,0,0,null,null,null,null,null,null,0,0,null,null,0,0,0,null,0,null,null,6,null,null,null,null,null,null,null,null,null,null,null,null,null,null,null,null,null,null,null,null,null,null,null,null,null,0,0,0,0,0,"MODELO A - TEMPO - N.º DE HORAS DE TRABALHO"]
[null,{"$f":"IF($B$220=\"ocultar\",\"ocultar\",IF('SA - ATIVIDADES'!$G$32=TRUE,IF('SA - ATIVIDADES'!$H$32>='SA - SERVICOS BASE'!AH227,\"mostrar\",\"ocultar\"),\"ocultar\"))","v":"ocultar"},"Designação (a preencher)","MODELO A - TEMPO - N.º DE HORAS DE TRABALHO",null,null,0,0,0,null,null,null,null,null,0,0,null,null,null,null,null,null,0,0,null,null,0,0,0,null,0,null,null,7,null,null,null,null,null,null,null,null,null,null,null,null,null,null,null,null,null,null,null,null,null,null,null,null,null,0,0,0,0,0,"MODELO A - TEMPO - N.º DE HORAS DE TRABALHO"]
[null,{"$f":"IF($B$220=\"ocultar\",\"ocultar\",IF('SA - ATIVIDADES'!$G$32=TRUE,IF('SA - ATIVIDADES'!$H$32>='SA - SERVICOS BASE'!AH228,\"mostrar\",\"ocultar\"),\"ocultar\"))","v":"ocultar"},"Designação (a preencher)","MODELO A - TEMPO - N.º DE HORAS DE TRABALHO",null,null,0,0,0,null,null,null,null,null,0,0,null,null,null,null,null,null,0,0,null,null,0,0,0,null,0,null,null,8,null,null,null,null,null,null,null,null,null,null,null,null,null,null,null,null,null,null,null,null,null,null,null,null,null,0,0,0,0,0,"MODELO A - TEMPO - N.º DE HORAS DE TRABALHO"]
[null,{"$f":"IF($B$220=\"ocultar\",\"ocultar\",IF('SA - ATIVIDADES'!$G$32=TRUE,IF('SA - ATIVIDADES'!$H$32>='SA - SERVICOS BASE'!AH229,\"mostrar\",\"ocultar\"),\"ocultar\"))","v":"ocultar"},"Designação (a preencher)","MODELO A - TEMPO - N.º DE HORAS DE TRABALHO",null,null,0,0,0,null,null,null,null,null,0,0,null,null,null,null,null,null,0,0,null,null,0,0,0,null,0,null,null,9,null,null,null,null,null,null,null,null,null,null,null,null,null,null,null,null,null,null,null,null,null,null,null,null,null,0,0,0,0,0,"MODELO A - TEMPO - N.º DE HORAS DE TRABALHO"]
[null,{"$f":"IF($B$220=\"ocultar\",\"ocultar\",IF('SA - ATIVIDADES'!$G$32=TRUE,IF('SA - ATIVIDADES'!$H$32>='SA - SERVICOS BASE'!AH230,\"mostrar\",\"ocultar\"),\"ocultar\"))","v":"ocultar"},"Designação (a preencher)","MODELO A - TEMPO - N.º DE HORAS DE TRABALHO",null,null,0,0,0,null,null,null,null,null,0,0,null,null,null,null,null,null,0,0,null,null,0,0,0,null,0,null,null,10,null,null,null,null,null,null,null,null,null,null,null,null,null,null,null,null,null,null,null,null,null,null,null,null,null,0,0,0,0,0,"MODELO A - TEMPO - N.º DE HORAS DE TRABALHO"]
[null,{"$f":"IF($B$221=\"ocultar\",\"ocultar\",\"mostrar\")","v":"ocultar"},"SUB-TOTAL",null,null,null,{"$f":"SUBTOTAL(109,G220:G230)","v":0},null,{"$f":"SUBTOTAL(109,I220:I230)","v":0},null,null,null,null,null,{"$f":"SUBTOTAL(9,O221:O230)","v":0},{"$f":"SUBTOTAL(9,P221:P230)","v":0},null,null,null,null,null,null,{"$f":"SUBTOTAL(9,W221:W230)","v":0},{"$f":"SUBTOTAL(9,X221:X230)","v":0},null,null,null,null,{"$f":"SUBTOTAL(109,AC221:AC230)","v":0},null,{"$f":"SUBTOTAL(109,AE221:AE230)","v":0},null,null,null,null,null,null,null,null,null,null,null,null,null,null,null,null,null,null,null,null,null,null,null,null,null,null,null,null,null,null,null,null,null,"MODELO A - TEMPO - N.º DE HORAS DE TRABALHO"]
[null,{"$f":"IF($B$181=\"ocultar\",\"ocultar\",IF('SA - ATIVIDADES'!$G$28=\"Fase Única\",\"ocultar\",IF('SA - ATIVIDADES'!G33=TRUE,\"mostrar\",\"ocultar\")))","v":"ocultar"},"ASSISTÊNCIA TÉCNICA",null,null,null,null,null,null,null,null,null,null,null,null,null,null,null,null,null,null,null,null,null,null,null,null,null,null,null,null,null,null,null,null,null,null,null,null,null,null,null,null,null,null,null,null,null,null,null,null,null,null,null,null,null,null,null,null,null,null,null,null,null,"MODELO A - TEMPO - N.º DE HORAS DE TRABALHO"]
[null,{"$f":"IF($B$232=\"ocultar\",\"ocultar\",IF('SA - ATIVIDADES'!$G$33=TRUE,IF('SA - ATIVIDADES'!$H$33>='SA - SERVICOS BASE'!AH233,\"mostrar\",\"ocultar\"),\"ocultar\"))","v":"ocultar"},"Designação (a preencher)","MODELO A - TEMPO - N.º DE HORAS DE TRABALHO",null,null,0,{"$f":"$H$181","v":0},{"$f":"G233*H233","v":0},null,null,null,null,null,0,{"$f":"$P$181*O233","v":0},null,null,null,null,null,null,0,{"$f":"$X$181*W233","v":0},null,null,0,0,{"$f":"AA233*AB233","v":0},null,{"$f":"BL233","v":0},null,null,1,null,null,null,null,null,null,null,null,null,null,null,null,null,null,null,null,null,null,null,null,null,null,null,null,null,{"$f":"IF(OR(AND(LEFT($D$181,8)=\"MODELO M\", LEFT(D233,8)=\"MODELO A\"), AND(LEFT($D$181,8)=\"MODELO A\", $F$181=\"Atribuir valor detalhado por Fase/Elemento\")), I233, 0)","v":0},{"$f":"IF(OR(AND(LEFT($D$181,8)=\"MODELO M\", LEFT(D233,8)=\"MODELO B\"), AND(LEFT($D$181,8)=\"MODELO B\", $K$181=\"Atribuir valor detalhado por Fase/Elemento\")), P233, 0)","v":0},{"$f":"IF(OR(AND(LEFT($D$181,8)=\"MODELO M\", LEFT(D233,8)=\"MODELO C\"), AND(LEFT($D$181,8)=\"MODELO C\", $R$181=\"Atribuir valor detalhado por Fase/Elemento\")), X233, 0)","v":0},{"$f":"IF(OR(AND(LEFT($D$181,8)=\"MODELO M\", LEFT(D233,8)=\"MODELO D\"), AND(LEFT($D$181,8)=\"MODELO D\", $Z$181=\"Atribuir valor detalhado por Fase/Elemento\")), AC233, 0)","v":0},{"$f":"SUM(BH233:BK233)","v":0},"MODELO A - TEMPO - N.º DE HORAS DE TRABALHO"]
[null,{"$f":"IF($B$232=\"ocultar\",\"ocultar\",IF('SA - ATIVIDADES'!$G$33=TRUE,IF('SA - ATIVIDADES'!$H$33>='SA - SERVICOS BASE'!AH234,\"mostrar\",\"ocultar\"),\"ocultar\"))","v":"ocultar"},"Designação (a preencher)","MODELO A - TEMPO - N.º DE HORAS DE TRABALHO",null,null,0,0,0,null,null,null,null,null,0,{"$f":"$P$181*O234","v":0},null,null,null,null,null,null,0,{"$f":"$X$181*W234","v":0},null,null,0,0,{"$f":"AA234*AB234","v":0},null,0,null,null,2,null,null,null,null,null,null,null,null,null,null,null,null,null,null,null,null,null,null,null,null,null,null,null,null,null,0,0,0,0,0,"MODELO A - TEMPO - N.º DE HORAS DE TRABALHO"]
[null,{"$f":"IF($B$232=\"ocultar\",\"ocultar\",IF('SA - ATIVIDADES'!$G$33=TRUE,IF('SA - ATIVIDADES'!$H$33>='SA - SERVICOS BASE'!AH235,\"mostrar\",\"ocultar\"),\"ocultar\"))","v":"ocultar"},"Designação (a preencher)","MODELO A - TEMPO - N.º DE HORAS DE TRABALHO",null,null,0,0,0,null,null,null,null,null,0,0,null,null,null,null,null,null,0,0,null,null,0,0,0,null,0,null,null,3,null,null,null,null,null,null,null,null,null,null,null,null,null,null,null,null,null,null,null,null,null,null,null,null,null,0,0,0,0,0,"MODELO A - TEMPO - N.º DE HORAS DE TRABALHO"]
[null,{"$f":"IF($B$232=\"ocultar\",\"ocultar\",IF('SA - ATIVIDADES'!$G$33=TRUE,IF('SA - ATIVIDADES'!$H$33>='SA - SERVICOS BASE'!AH236,\"mostrar\",\"ocultar\"),\"ocultar\"))","v":"ocultar"},"Designação (a preencher)","MODELO A - TEMPO - N.º DE HORAS DE TRABALHO",null,null,0,0,0,null,null,null,null,null,0,0,null,null,null,null,null,null,0,0,null,null,0,0,0,null,0,null,null,4,null,null,null,null,null,null,null,null,null,null,null,null,null,null,null,null,null,null,null,null,null,null,null,null,null,0,0,0,0,0,"MODELO A - TEMPO - N.º DE HORAS DE TRABALHO"]
[null,{"$f":"IF($B$232=\"ocultar\",\"ocultar\",IF('SA - ATIVIDADES'!$G$33=TRUE,IF('SA - ATIVIDADES'!$H$33>='SA - SERVICOS BASE'!AH237,\"mostrar\",\"ocultar\"),\"ocultar\"))","v":"ocultar"},"Designação (a preencher)","MODELO A - TEMPO - N.º DE HORAS DE TRABALHO",null,null,0,0,0,null,null,null,null,null,0,0,null,null,null,null,null,null,0,0,null,null,0,0,0,null,0,null,null,5,null,null,null,null,null,null,null,null,null,null,null,null,null,null,null,null,null,null,null,null,null,null,null,null,null,0,0,0,0,0,"MODELO A - TEMPO - N.º DE HORAS DE TRABALHO"]
[null,{"$f":"IF($B$232=\"ocultar\",\"ocultar\",IF('SA - ATIVIDADES'!$G$33=TRUE,IF('SA - ATIVIDADES'!$H$33>='SA - SERVICOS BASE'!AH238,\"mostrar\",\"ocultar\"),\"ocultar\"))","v":"ocultar"},"Designação (a preencher)","MODELO A - TEMPO - N.º DE HORAS DE TRABALHO",null,null,0,0,0,null,null,null,null,null,0,0,null,null,null,null,null,null,0,0,null,null,0,0,0,null,0,null,null,6,null,null,null,null,null,null,null,null,null,null,null,null,null,null,null,null,null,null,null,null,null,null,null,null,null,0,0,0,0,0,"MODELO A - TEMPO - N.º DE HORAS DE TRABALHO"]
[null,{"$f":"IF($B$232=\"ocultar\",\"ocultar\",IF('SA - ATIVIDADES'!$G$33=TRUE,IF('SA - ATIVIDADES'!$H$33>='SA - SERVICOS BASE'!AH239,\"mostrar\",\"ocultar\"),\"ocultar\"))","v":"ocultar"},"Designação (a preencher)","MODELO A - TEMPO - N.º DE HORAS DE TRABALHO",null,null,0,0,0,null,null,null,null,null,0,0,null,null,null,null,null,null,0,0,null,null,0,0,0,null,0,null,null,7,null,null,null,null,null,null,null,null,null,null,null,null,null,null,null,null,null,null,null,null,null,null,null,null,null,0,0,0,0,0,"MODELO A - TEMPO - N.º DE HORAS DE TRABALHO"]
[null,{"$f":"IF($B$232=\"ocultar\",\"ocultar\",IF('SA - ATIVIDADES'!$G$33=TRUE,IF('SA - ATIVIDADES'!$H$33>='SA - SERVICOS BASE'!AH240,\"mostrar\",\"ocultar\"),\"ocultar\"))","v":"ocultar"},"Designação (a preencher)","MODELO A - TEMPO - N.º DE HORAS DE TRABALHO",null,null,0,0,0,null,null,null,null,null,0,0,null,null,null,null,null,null,0,0,null,null,0,0,0,null,0,null,null,8,null,null,null,null,null,null,null,null,null,null,null,null,null,null,null,null,null,null,null,null,null,null,null,null,null,0,0,0,0,0,"MODELO A - TEMPO - N.º DE HORAS DE TRABALHO"]
[null,{"$f":"IF($B$232=\"ocultar\",\"ocultar\",IF('SA - ATIVIDADES'!$G$33=TRUE,IF('SA - ATIVIDADES'!$H$33>='SA - SERVICOS BASE'!AH241,\"mostrar\",\"ocultar\"),\"ocultar\"))","v":"ocultar"},"Designação (a preencher)","MODELO A - TEMPO - N.º DE HORAS DE TRABALHO",null,null,0,0,0,null,null,null,null,null,0,0,null,null,null,null,null,null,0,0,null,null,0,0,0,null,0,null,null,9,null,null,null,null,null,null,null,null,null,null,null,null,null,null,null,null,null,null,null,null,null,null,null,null,null,0,0,0,0,0,"MODELO A - TEMPO - N.º DE HORAS DE TRABALHO"]
[null,{"$f":"IF($B$232=\"ocultar\",\"ocultar\",IF('SA - ATIVIDADES'!$G$33=TRUE,IF('SA - ATIVIDADES'!$H$33>='SA - SERVICOS BASE'!AH242,\"mostrar\",\"ocultar\"),\"ocultar\"))","v":"ocultar"},"Designação (a preencher)","MODELO A - TEMPO - N.º DE HORAS DE TRABALHO",null,null,0,0,0,null,null,null,null,null,0,0,null,null,null,null,null,null,0,0,null,null,0,0,0,null,0,null,null,10,null,null,null,null,null,null,null,null,null,null,null,null,null,null,null,null,null,null,null,null,null,null,null,null,null,0,0,0,0,0,"MODELO A - TEMPO - N.º DE HORAS DE TRABALHO"]
[null,{"$f":"IF($B$233=\"ocultar\",\"ocultar\",\"mostrar\")","v":"ocultar"},"SUB-TOTAL",null,null,null,{"$f":"SUBTOTAL(109,G232:G242)","v":0},null,{"$f":"SUBTOTAL(109,I232:I242)","v":0},null,null,null,null,null,{"$f":"SUBTOTAL(9,O233:O242)","v":0},{"$f":"SUBTOTAL(9,P233:P242)","v":0},null,null,null,null,null,null,{"$f":"SUBTOTAL(9,W233:W242)","v":0},{"$f":"SUBTOTAL(9,X233:X242)","v":0},null,null,null,null,{"$f":"SUBTOTAL(109,AC233:AC242)","v":0},null,{"$f":"SUBTOTAL(109,AE233:AE242)","v":0},null,null,null,null,null,null,null,null,null,null,null,null,null,null,null,null,null,null,null,null,null,null,null,null,null,null,null,null,null,null,null,null,null,"MODELO A - TEMPO - N.º DE HORAS DE TRABALHO"]
[null,{"$f":"IF($B$181=\"ocultar\",\"ocultar\",\"mostrar\")","v":"ocultar"},"TOTAL",null,null,null,{"$f":"IF($F181=\"Atribuir valor global à atividade\",G181,SUBTOTAL(109,G184:G243))","v":0},null,{"$f":"IF($F181=\"Atribuir valor global à atividade\",I181,SUBTOTAL(109,I184:I243))","v":0},null,null,null,null,null,{"$f":"IF($K$181=\"Atribuir valor global à atividade\",1,SUBTOTAL(109,O185:O243))","v":1},{"$f":"IF($K181=\"Atribuir valor global à atividade\",P181,SUBTOTAL(109,P185:P243))","v":0},null,null,null,null,null,null,{"$f":"IF($R$181=\"Atribuir valor global à atividade\",1,SUBTOTAL(109,W185:W243))","v":1},{"$f":"IF($R181=\"Atribuir valor global à atividade\",X181,SUBTOTAL(109,X185:X243))","v":0},null,null,null,null,{"$f":"IF($Z$181=\"Atribuir valor global à atividade\",AC181,SUBTOTAL(109,AC185:AC243))","v":0},null,{"$f":"BL181","v":0},null,null,null,null,null,null,null,null,null,null,null,null,null,null,null,null,null,null,null,null,null,null,null,null,null,null,null,null,null,null,null,null,null,"MODELO A - TEMPO - N.º DE HORAS DE TRABALHO"]
[null,{"$f":"IF($B$181=\"ocultar\",\"ocultar\",\"mostrar\")","v":"ocultar"},null,null,null,null,null,null,null,null,null,null,null,null,null,null,null,null,null,null,null,null,null,null,null,null,null,null,null,null,null,null,null,null,null,null,null,null,null,null,null,null,null,null,null,null,null,null,null,null,null,null,null,null,null,null,null,null,null,null,null,null,null,null,"MODELO A - TEMPO - N.º DE HORAS DE TRABALHO"]
[null,{"$f":"IF('SA - ATIVIDADES'!$F$35<>TRUE,\"ocultar\",\"mostrar\")","v":"ocultar"},"A6. PROJETO DE DESENHO URBANO","MODELO A - TEMPO - N.º DE HORAS DE TRABALHO",null,"Atribuir valor global à atividade",0,0,{"$f":"G246*H246","v":0},null,"Atribuir valor global à atividade","Valor Global Obra (VG Obra)",{"$f":"IF(L246=\"Valor Global Obra (VG Obra)\",$M$9,\"\")","v":0},0,0,{"$f":"IF(L246=\"Valor Global Obra (VG Obra)\",M246*O246,N246*O246)","v":0},null,"Atribuir valor global à atividade","Valor/m2 fixo (VF m2)",{"$f":"IF(S246=\"Valor/m2 fixo (VF m2)\",$T$9,\"\")","v":0},0,0,null,{"$f":"IF(S246=\"Valor/m2 fixo (VF m2)\",T246*1*V246,U246*1*V246)","v":0},null,"Atribuir valor global à atividade",0,0,{"$f":"AA246*AB246","v":0},null,{"$f":"BL246","v":0},null,null,null,null,null,null,null,null,null,null,null,null,null,null,null,null,null,null,null,null,null,null,null,null,null,null,null,null,{"$f":"IF(LEFT($D$246,8)=\"MODELO A\",IF($F$246=\"Atribuir valor detalhado por Fase/Elemento\",SUBTOTAL(109,BH250:BH307),I246),IF(LEFT($D$246,8)=\"MODELO M\",SUBTOTAL(109,BH250:BH307),0))","v":0},{"$f":"IF(LEFT($D$246,8)=\"MODELO B\",IF($K$246=\"Atribuir valor detalhado por Fase/Elemento\",SUBTOTAL(109,BI250:BI307),P246),IF(LEFT($D$246,8)=\"MODELO M\",SUBTOTAL(109,BI250:BI307),0))","v":0},{"$f":"IF(LEFT($D$246,8)=\"MODELO C\",IF($R$246=\"Atribuir valor detalhado por Fase/Elemento\",SUBTOTAL(109,BJ250:BJ307),X246),IF(LEFT($D$246,8)=\"MODELO M\",SUBTOTAL(109,BJ250:BJ307),0))","v":0},{"$f":"IF(LEFT($D$246,8)=\"MODELO D\",IF($Z$246=\"Atribuir valor detalhado por Fase/Elemento\",SUBTOTAL(109,BK250:BK307),AC246),IF(LEFT($D$246,8)=\"MODELO M\",SUBTOTAL(109,BK250:BK307),0))","v":0},{"$f":"SUM(BH246:BK246)","v":0},"MODELO A - TEMPO - N.º DE HORAS DE TRABALHO"]
[null,{"$f":"IF($B$246=\"ocultar\",\"ocultar\",\"mostrar\")","v":"ocultar"},null,null,null,null,null,null,null,null,null,null,null,null,null,null,null,null,null,null,null,null,null,null,null,null,null,null,null,null,null,null,null,null,null,null,null,null,null,null,null,null,null,null,null,null,null,null,null,null,null,null,null,null,null,null,null,null,null,null,null,null,null,null,"MODELO A - TEMPO - N.º DE HORAS DE TRABALHO"]
[null,"ocultar",null,null,null,null,null,null,null,null,null,null,null,null,null,null,null,null,null,null,null,null,null,null,null,null,null,null,null,null,null,null,null,null,null,null,null,null,null,null,null,null,null,null,null,null,null,null,null,null,null,null,null,null,null,null,null,null,null,null,null,null,null,null,"MODELO A - TEMPO - N.º DE HORAS DE TRABALHO"]
[null,{"$f":"IF(B246=\"ocultar\",\"ocultar\",IF('SA - ATIVIDADES'!$G$35=\"Fase Única\",\"ocultar\",IF('SA - ATIVIDADES'!G36=TRUE,\"mostrar\",\"ocultar\")))","v":"ocultar"},"PROJETO - FASE DE PROGRAMA BASE",null,null,null,null,null,null,null,null,null,null,null,null,null,null,null,null,null,null,null,null,null,null,null,null,null,null,null,null,null,null,null,null,null,null,null,null,null,null,null,null,null,null,null,null,null,null,null,null,null,null,null,null,null,null,null,null,null,null,null,null,null,"MODELO A - TEMPO - N.º DE HORAS DE TRABALHO"]
[null,{"$f":"IF($B$249=\"ocultar\",\"ocultar\",IF('SA - ATIVIDADES'!$G$36=TRUE,IF('SA - ATIVIDADES'!$H$36>='SA - SERVICOS BASE'!AH250,\"mostrar\",\"ocultar\"),\"ocultar\"))","v":"ocultar"},"Designação (a preencher)","MODELO A - TEMPO - N.º DE HORAS DE TRABALHO",null,null,0,{"$f":"$H$246","v":0},{"$f":"G250*H250","v":0},null,null,null,null,null,0,{"$f":"$P$246*O250","v":0},null,null,null,null,null,null,0,{"$f":"$X$246*W250","v":0},null,null,0,0,{"$f":"AA250*AB250","v":0},null,{"$f":"BL250","v":0},null,null,1,null,null,null,null,null,null,null,null,null,null,null,null,null,null,null,null,null,null,null,null,null,null,null,null,null,{"$f":"IF(OR(AND(LEFT($D$246,8)=\"MODELO M\", LEFT(D250,8)=\"MODELO A\"), AND(LEFT($D$246,8)=\"MODELO A\", $F$246=\"Atribuir valor detalhado por Fase/Elemento\")), I250, 0)","v":0},{"$f":"IF(OR(AND(LEFT($D$246,8)=\"MODELO M\", LEFT(D250,8)=\"MODELO B\"), AND(LEFT($D$246,8)=\"MODELO B\", $K$246=\"Atribuir valor detalhado por Fase/Elemento\")), P250, 0)","v":0},{"$f":"IF(OR(AND(LEFT($D$246,8)=\"MODELO M\", LEFT(D250,8)=\"MODELO C\"), AND(LEFT($D$246,8)=\"MODELO C\", $R$246=\"Atribuir valor detalhado por Fase/Elemento\")), X250, 0)","v":0},{"$f":"IF(OR(AND(LEFT($D$246,8)=\"MODELO M\", LEFT(D250,8)=\"MODELO D\"), AND(LEFT($D$246,8)=\"MODELO D\", $Z$246=\"Atribuir valor detalhado por Fase/Elemento\")), AC250, 0)","v":0},{"$f":"SUM(BH250:BK250)","v":0},"MODELO A - TEMPO - N.º DE HORAS DE TRABALHO"]
[null,{"$f":"IF($B$249=\"ocultar\",\"ocultar\",IF('SA - ATIVIDADES'!$G$36=TRUE,IF('SA - ATIVIDADES'!$H$36>='SA - SERVICOS BASE'!AH251,\"mostrar\",\"ocultar\"),\"ocultar\"))","v":"ocultar"},"Designação (a preencher)","MODELO A - TEMPO - N.º DE HORAS DE TRABALHO",null,null,0,0,0,null,null,null,null,null,0,{"$f":"$P$246*O251","v":0},null,null,null,null,null,null,0,{"$f":"$X$246*W251","v":0},null,null,0,0,{"$f":"AA251*AB251","v":0},null,0,null,null,2,null,null,null,null,null,null,null,null,null,null,null,null,null,null,null,null,null,null,null,null,null,null,null,null,null,0,0,0,0,0,"MODELO A - TEMPO - N.º DE HORAS DE TRABALHO"]
[null,{"$f":"IF($B$249=\"ocultar\",\"ocultar\",IF('SA - ATIVIDADES'!$G$36=TRUE,IF('SA - ATIVIDADES'!$H$36>='SA - SERVICOS BASE'!AH252,\"mostrar\",\"ocultar\"),\"ocultar\"))","v":"ocultar"},"Designação (a preencher)","MODELO A - TEMPO - N.º DE HORAS DE TRABALHO",null,null,0,0,0,null,null,null,null,null,0,0,null,null,null,null,null,null,0,0,null,null,0,0,0,null,0,null,null,3,null,null,null,null,null,null,null,null,null,null,null,null,null,null,null,null,null,null,null,null,null,null,null,null,null,0,0,0,0,0,"MODELO A - TEMPO - N.º DE HORAS DE TRABALHO"]
[null,{"$f":"IF($B$249=\"ocultar\",\"ocultar\",IF('SA - ATIVIDADES'!$G$36=TRUE,IF('SA - ATIVIDADES'!$H$36>='SA - SERVICOS BASE'!AH253,\"mostrar\",\"ocultar\"),\"ocultar\"))","v":"ocultar"},"Designação (a preencher)","MODELO A - TEMPO - N.º DE HORAS DE TRABALHO",null,null,0,0,0,null,null,null,null,null,0,0,null,null,null,null,null,null,0,0,null,null,0,0,0,null,0,null,null,4,null,null,null,null,null,null,null,null,null,null,null,null,null,null,null,null,null,null,null,null,null,null,null,null,null,0,0,0,0,0,"MODELO A - TEMPO - N.º DE HORAS DE TRABALHO"]
[null,{"$f":"IF($B$249=\"ocultar\",\"ocultar\",IF('SA - ATIVIDADES'!$G$36=TRUE,IF('SA - ATIVIDADES'!$H$36>='SA - SERVICOS BASE'!AH254,\"mostrar\",\"ocultar\"),\"ocultar\"))","v":"ocultar"},"Designação (a preencher)","MODELO A - TEMPO - N.º DE HORAS DE TRABALHO",null,null,0,0,0,null,null,null,null,null,0,0,null,null,null,null,null,null,0,0,null,null,0,0,0,null,0,null,null,5,null,null,null,null,null,null,null,null,null,null,null,null,null,null,null,null,null,null,null,null,null,null,null,null,null,0,0,0,0,0,"MODELO A - TEMPO - N.º DE HORAS DE TRABALHO"]
[null,{"$f":"IF($B$249=\"ocultar\",\"ocultar\",IF('SA - ATIVIDADES'!$G$36=TRUE,IF('SA - ATIVIDADES'!$H$36>='SA - SERVICOS BASE'!AH255,\"mostrar\",\"ocultar\"),\"ocultar\"))","v":"ocultar"},"Designação (a preencher)","MODELO A - TEMPO - N.º DE HORAS DE TRABALHO",null,null,0,0,0,null,null,null,null,null,0,0,null,null,null,null,null,null,0,0,null,null,0,0,0,null,0,null,null,6,null,null,null,null,null,null,null,null,null,null,null,null,null,null,null,null,null,null,null,null,null,null,null,null,null,0,0,0,0,0,"MODELO A - TEMPO - N.º DE HORAS DE TRABALHO"]
[null,{"$f":"IF($B$249=\"ocultar\",\"ocultar\",IF('SA - ATIVIDADES'!$G$36=TRUE,IF('SA - ATIVIDADES'!$H$36>='SA - SERVICOS BASE'!AH256,\"mostrar\",\"ocultar\"),\"ocultar\"))","v":"ocultar"},"Designação (a preencher)","MODELO A - TEMPO - N.º DE HORAS DE TRABALHO",null,null,0,0,0,null,null,null,null,null,0,0,null,null,null,null,null,null,0,0,null,null,0,0,0,null,0,null,null,7,null,null,null,null,null,null,null,null,null,null,null,null,null,null,null,null,null,null,null,null,null,null,null,null,null,0,0,0,0,0,"MODELO A - TEMPO - N.º DE HORAS DE TRABALHO"]
[null,{"$f":"IF($B$249=\"ocultar\",\"ocultar\",IF('SA - ATIVIDADES'!$G$36=TRUE,IF('SA - ATIVIDADES'!$H$36>='SA - SERVICOS BASE'!AH257,\"mostrar\",\"ocultar\"),\"ocultar\"))","v":"ocultar"},"Designação (a preencher)","MODELO A - TEMPO - N.º DE HORAS DE TRABALHO",null,null,0,0,0,null,null,null,null,null,0,0,null,null,null,null,null,null,0,0,null,null,0,0,0,null,0,null,null,8,null,null,null,null,null,null,null,null,null,null,null,null,null,null,null,null,null,null,null,null,null,null,null,null,null,0,0,0,0,0,"MODELO A - TEMPO - N.º DE HORAS DE TRABALHO"]
[null,{"$f":"IF($B$249=\"ocultar\",\"ocultar\",IF('SA - ATIVIDADES'!$G$36=TRUE,IF('SA - ATIVIDADES'!$H$36>='SA - SERVICOS BASE'!AH258,\"mostrar\",\"ocultar\"),\"ocultar\"))","v":"ocultar"},"Designação (a preencher)","MODELO A - TEMPO - N.º DE HORAS DE TRABALHO",null,null,0,0,0,null,null,null,null,null,0,0,null,null,null,null,null,null,0,0,null,null,0,0,0,null,0,null,null,9,null,null,null,null,null,null,null,null,null,null,null,null,null,null,null,null,null,null,null,null,null,null,null,null,null,0,0,0,0,0,"MODELO A - TEMPO - N.º DE HORAS DE TRABALHO"]
[null,{"$f":"IF($B$249=\"ocultar\",\"ocultar\",IF('SA - ATIVIDADES'!$G$36=TRUE,IF('SA - ATIVIDADES'!$H$36>='SA - SERVICOS BASE'!AH259,\"mostrar\",\"ocultar\"),\"ocultar\"))","v":"ocultar"},"Designação (a preencher)","MODELO A - TEMPO - N.º DE HORAS DE TRABALHO",null,null,0,0,0,null,null,null,null,null,0,0,null,null,null,null,null,null,0,0,null,null,0,0,0,null,0,null,null,10,null,null,null,null,null,null,null,null,null,null,null,null,null,null,null,null,null,null,null,null,null,null,null,null,null,0,0,0,0,0,"MODELO A - TEMPO - N.º DE HORAS DE TRABALHO"]
[null,{"$f":"IF($B$250=\"ocultar\",\"ocultar\",\"mostrar\")","v":"ocultar"},"SUB-TOTAL",null,null,null,{"$f":"SUBTOTAL(109,G249:G259)","v":0},null,{"$f":"SUBTOTAL(109,I249:I259)","v":0},null,null,null,null,null,{"$f":"SUBTOTAL(9,O250:O259)","v":0},{"$f":"SUBTOTAL(9,P250:P259)","v":0},null,null,null,null,null,null,{"$f":"SUBTOTAL(9,W250:W259)","v":0},{"$f":"SUBTOTAL(9,X250:X259)","v":0},null,null,null,null,{"$f":"SUBTOTAL(109,AC250:AC259)","v":0},null,{"$f":"SUBTOTAL(109,AE250:AE259)","v":0},null,null,null,null,null,null,null,null,null,null,null,null,null,null,null,null,null,null,null,null,null,null,null,null,null,null,null,null,null,null,null,null,null,"MODELO A - TEMPO - N.º DE HORAS DE TRABALHO"]
[null,{"$f":"IF(B246=\"ocultar\",\"ocultar\",IF('SA - ATIVIDADES'!$G$35=\"Fase Única\",\"ocultar\",IF('SA - ATIVIDADES'!G37=TRUE,\"mostrar\",\"ocultar\")))","v":"ocultar"},"PROJETO - FASE DE ESTUDO PRÉVIO",null,null,null,null,null,null,null,null,null,null,null,null,null,null,null,null,null,null,null,null,null,null,null,null,null,null,null,null,null,null,null,null,null,null,null,null,null,null,null,null,null,null,null,null,null,null,null,null,null,null,null,null,null,null,null,null,null,null,null,null,null,"MODELO A - TEMPO - N.º DE HORAS DE TRABALHO"]
[null,{"$f":"IF($B$261=\"ocultar\",\"ocultar\",IF('SA - ATIVIDADES'!$G$37=TRUE,IF('SA - ATIVIDADES'!$H$37>='SA - SERVICOS BASE'!AH262,\"mostrar\",\"ocultar\"),\"ocultar\"))","v":"ocultar"},"Designação (a preencher)","MODELO A - TEMPO - N.º DE HORAS DE TRABALHO",null,null,0,{"$f":"$H$246","v":0},{"$f":"G262*H262","v":0},null,null,null,null,null,0,{"$f":"$P$246*O262","v":0},null,null,null,null,null,null,0,{"$f":"$X$246*W262","v":0},null,null,0,0,{"$f":"AA262*AB262","v":0},null,{"$f":"BL262","v":0},null,null,1,null,null,null,null,null,null,null,null,null,null,null,null,null,null,null,null,null,null,null,null,null,null,null,null,null,{"$f":"IF(OR(AND(LEFT($D$246,8)=\"MODELO M\", LEFT(D262,8)=\"MODELO A\"), AND(LEFT($D$246,8)=\"MODELO A\", $F$246=\"Atribuir valor detalhado por Fase/Elemento\")), I262, 0)","v":0},{"$f":"IF(OR(AND(LEFT($D$246,8)=\"MODELO M\", LEFT(D262,8)=\"MODELO B\"), AND(LEFT($D$246,8)=\"MODELO B\", $K$246=\"Atribuir valor detalhado por Fase/Elemento\")), P262, 0)","v":0},{"$f":"IF(OR(AND(LEFT($D$246,8)=\"MODELO M\", LEFT(D262,8)=\"MODELO C\"), AND(LEFT($D$246,8)=\"MODELO C\", $R$246=\"Atribuir valor detalhado por Fase/Elemento\")), X262, 0)","v":0},{"$f":"IF(OR(AND(LEFT($D$246,8)=\"MODELO M\", LEFT(D262,8)=\"MODELO D\"), AND(LEFT($D$246,8)=\"MODELO D\", $Z$246=\"Atribuir valor detalhado por Fase/Elemento\")), AC262, 0)","v":0},{"$f":"SUM(BH262:BK262)","v":0},"MODELO A - TEMPO - N.º DE HORAS DE TRABALHO"]
[null,{"$f":"IF($B$261=\"ocultar\",\"ocultar\",IF('SA - ATIVIDADES'!$G$37=TRUE,IF('SA - ATIVIDADES'!$H$37>='SA - SERVICOS BASE'!AH263,\"mostrar\",\"ocultar\"),\"ocultar\"))","v":"ocultar"},"Designação (a preencher)","MODELO A - TEMPO - N.º DE HORAS DE TRABALHO",null,null,0,0,0,null,null,null,null,null,0,{"$f":"$P$246*O263","v":0},null,null,null,null,null,null,0,{"$f":"$X$246*W263","v":0},null,null,0,0,{"$f":"AA263*AB263","v":0},null,0,null,null,2,null,null,null,null,null,null,null,null,null,null,null,null,null,null,null,null,null,null,null,null,null,null,null,null,null,0,0,0,0,0,"MODELO A - TEMPO - N.º DE HORAS DE TRABALHO"]
[null,{"$f":"IF($B$261=\"ocultar\",\"ocultar\",IF('SA - ATIVIDADES'!$G$37=TRUE,IF('SA - ATIVIDADES'!$H$37>='SA - SERVICOS BASE'!AH264,\"mostrar\",\"ocultar\"),\"ocultar\"))","v":"ocultar"},"Designação (a preencher)","MODELO A - TEMPO - N.º DE HORAS DE TRABALHO",null,null,0,0,0,null,null,null,null,null,0,0,null,null,null,null,null,null,0,0,null,null,0,0,0,null,0,null,null,3,null,null,null,null,null,null,null,null,null,null,null,null,null,null,null,null,null,null,null,null,null,null,null,null,null,0,0,0,0,0,"MODELO A - TEMPO - N.º DE HORAS DE TRABALHO"]
[null,{"$f":"IF($B$261=\"ocultar\",\"ocultar\",IF('SA - ATIVIDADES'!$G$37=TRUE,IF('SA - ATIVIDADES'!$H$37>='SA - SERVICOS BASE'!AH265,\"mostrar\",\"ocultar\"),\"ocultar\"))","v":"ocultar"},"Designação (a preencher)","MODELO A - TEMPO - N.º DE HORAS DE TRABALHO",null,null,0,0,0,null,null,null,null,null,0,0,null,null,null,null,null,null,0,0,null,null,0,0,0,null,0,null,null,4,null,null,null,null,null,null,null,null,null,null,null,null,null,null,null,null,null,null,null,null,null,null,null,null,null,0,0,0,0,0,"MODELO A - TEMPO - N.º DE HORAS DE TRABALHO"]
[null,{"$f":"IF($B$261=\"ocultar\",\"ocultar\",IF('SA - ATIVIDADES'!$G$37=TRUE,IF('SA - ATIVIDADES'!$H$37>='SA - SERVICOS BASE'!AH266,\"mostrar\",\"ocultar\"),\"ocultar\"))","v":"ocultar"},"Designação (a preencher)","MODELO A - TEMPO - N.º DE HORAS DE TRABALHO",null,null,0,0,0,null,null,null,null,null,0,0,null,null,null,null,null,null,0,0,null,null,0,0,0,null,0,null,null,5,null,null,null,null,null,null,null,null,null,null,null,null,null,null,null,null,null,null,null,null,null,null,null,null,null,0,0,0,0,0,"MODELO A - TEMPO - N.º DE HORAS DE TRABALHO"]
[null,{"$f":"IF($B$261=\"ocultar\",\"ocultar\",IF('SA - ATIVIDADES'!$G$37=TRUE,IF('SA - ATIVIDADES'!$H$37>='SA - SERVICOS BASE'!AH267,\"mostrar\",\"ocultar\"),\"ocultar\"))","v":"ocultar"},"Designação (a preencher)","MODELO A - TEMPO - N.º DE HORAS DE TRABALHO",null,null,0,0,0,null,null,null,null,null,0,0,null,null,null,null,null,null,0,0,null,null,0,0,0,null,0,null,null,6,null,null,null,null,null,null,null,null,null,null,null,null,null,null,null,null,null,null,null,null,null,null,null,null,null,0,0,0,0,0,"MODELO A - TEMPO - N.º DE HORAS DE TRABALHO"]
[null,{"$f":"IF($B$261=\"ocultar\",\"ocultar\",IF('SA - ATIVIDADES'!$G$37=TRUE,IF('SA - ATIVIDADES'!$H$37>='SA - SERVICOS BASE'!AH268,\"mostrar\",\"ocultar\"),\"ocultar\"))","v":"ocultar"},"Designação (a preencher)","MODELO A - TEMPO - N.º DE HORAS DE TRABALHO",null,null,0,0,0,null,null,null,null,null,0,0,null,null,null,null,null,null,0,0,null,null,0,0,0,null,0,null,null,7,null,null,null,null,null,null,null,null,null,null,null,null,null,null,null,null,null,null,null,null,null,null,null,null,null,0,0,0,0,0,{"$f":"IF($AH268<>\"\",BM267,IF(LEFT($D268,6)=\"MODELO\",$D268,BM267))","v":"MODELO A - TEMPO - N.º DE HORAS DE TRABALHO"}]
[null,{"$f":"IF($B$261=\"ocultar\",\"ocultar\",IF('SA - ATIVIDADES'!$G$37=TRUE,IF('SA - ATIVIDADES'!$H$37>='SA - SERVICOS BASE'!AH269,\"mostrar\",\"ocultar\"),\"ocultar\"))","v":"ocultar"},"Designação (a preencher)","MODELO A - TEMPO - N.º DE HORAS DE TRABALHO",null,null,0,0,0,null,null,null,null,null,0,0,null,null,null,null,null,null,0,0,null,null,0,0,0,null,0,null,null,8,null,null,null,null,null,null,null,null,null,null,null,null,null,null,null,null,null,null,null,null,null,null,null,null,null,0,0,0,0,0,"MODELO A - TEMPO - N.º DE HORAS DE TRABALHO"]
[null,{"$f":"IF($B$261=\"ocultar\",\"ocultar\",IF('SA - ATIVIDADES'!$G$37=TRUE,IF('SA - ATIVIDADES'!$H$37>='SA - SERVICOS BASE'!AH270,\"mostrar\",\"ocultar\"),\"ocultar\"))","v":"ocultar"},"Designação (a preencher)","MODELO A - TEMPO - N.º DE HORAS DE TRABALHO",null,null,0,0,0,null,null,null,null,null,0,0,null,null,null,null,null,null,0,0,null,null,0,0,0,null,0,null,null,9,null,null,null,null,null,null,null,null,null,null,null,null,null,null,null,null,null,null,null,null,null,null,null,null,null,0,0,0,0,0,"MODELO A - TEMPO - N.º DE HORAS DE TRABALHO"]
[null,{"$f":"IF($B$261=\"ocultar\",\"ocultar\",IF('SA - ATIVIDADES'!$G$37=TRUE,IF('SA - ATIVIDADES'!$H$37>='SA - SERVICOS BASE'!AH271,\"mostrar\",\"ocultar\"),\"ocultar\"))","v":"ocultar"},"Designação (a preencher)","MODELO A - TEMPO - N.º DE HORAS DE TRABALHO",null,null,0,0,0,null,null,null,null,null,0,0,null,null,null,null,null,null,0,0,null,null,0,0,0,null,0,null,null,10,null,null,null,null,null,null,null,null,null,null,null,null,null,null,null,null,null,null,null,null,null,null,null,null,null,0,0,0,0,0,"MODELO A - TEMPO - N.º DE HORAS DE TRABALHO"]
[null,{"$f":"IF($B$262=\"ocultar\",\"ocultar\",\"mostrar\")","v":"ocultar"},"SUB-TOTAL",null,null,null,{"$f":"SUBTOTAL(109,G261:G271)","v":0},null,{"$f":"SUBTOTAL(109,I261:I271)","v":0},null,null,null,null,null,{"$f":"SUBTOTAL(9,O262:O271)","v":0},{"$f":"SUBTOTAL(9,P262:P271)","v":0},null,null,null,null,null,null,{"$f":"SUBTOTAL(9,W262:W271)","v":0},{"$f":"SUBTOTAL(9,X262:X271)","v":0},null,null,null,null,{"$f":"SUBTOTAL(109,AC262:AC271)","v":0},null,{"$f":"SUBTOTAL(109,AE262:AE271)","v":0},null,null,null,null,null,null,null,null,null,null,null,null,null,null,null,null,null,null,null,null,null,null,null,null,null,null,null,null,null,null,null,null,null,"MODELO A - TEMPO - N.º DE HORAS DE TRABALHO"]
[null,{"$f":"IF(B246=\"ocultar\",\"ocultar\",IF('SA - ATIVIDADES'!$G$35=\"Fase Única\",\"ocultar\",IF('SA - ATIVIDADES'!G38=TRUE,\"mostrar\",\"ocultar\")))","v":"ocultar"},"PROJETO - FASE DE ANTEPROJETO",null,null,null,null,null,null,null,null,null,null,null,null,null,null,null,null,null,null,null,null,null,null,null,null,null,null,null,null,null,null,null,null,null,null,null,null,null,null,null,null,null,null,null,null,null,null,null,null,null,null,null,null,null,null,null,null,null,null,null,null,null,"MODELO A - TEMPO - N.º DE HORAS DE TRABALHO"]
[null,{"$f":"IF($B$273=\"ocultar\",\"ocultar\",IF('SA - ATIVIDADES'!$G$38=TRUE,IF('SA - ATIVIDADES'!$H$38>='SA - SERVICOS BASE'!AH274,\"mostrar\",\"ocultar\"),\"ocultar\"))","v":"ocultar"},"Designação (a preencher)","MODELO A - TEMPO - N.º DE HORAS DE TRABALHO",null,null,0,{"$f":"$H$246","v":0},{"$f":"G274*H274","v":0},null,null,null,null,null,0,{"$f":"$P$246*O274","v":0},null,null,null,null,null,null,0,{"$f":"$X$246*W274","v":0},null,null,0,0,{"$f":"AA274*AB274","v":0},null,{"$f":"BL274","v":0},null,null,1,null,null,null,null,null,null,null,null,null,null,null,null,null,null,null,null,null,null,null,null,null,null,null,null,null,{"$f":"IF(OR(AND(LEFT($D$246,8)=\"MODELO M\", LEFT(D274,8)=\"MODELO A\"), AND(LEFT($D$246,8)=\"MODELO A\", $F$246=\"Atribuir valor detalhado por Fase/Elemento\")), I274, 0)","v":0},{"$f":"IF(OR(AND(LEFT($D$246,8)=\"MODELO M\", LEFT(D274,8)=\"MODELO B\"), AND(LEFT($D$246,8)=\"MODELO B\", $K$246=\"Atribuir valor detalhado por Fase/Elemento\")), P274, 0)","v":0},{"$f":"IF(OR(AND(LEFT($D$246,8)=\"MODELO M\", LEFT(D274,8)=\"MODELO C\"), AND(LEFT($D$246,8)=\"MODELO C\", $R$246=\"Atribuir valor detalhado por Fase/Elemento\")), X274, 0)","v":0},{"$f":"IF(OR(AND(LEFT($D$246,8)=\"MODELO M\", LEFT(D274,8)=\"MODELO D\"), AND(LEFT($D$246,8)=\"MODELO D\", $Z$246=\"Atribuir valor detalhado por Fase/Elemento\")), AC274, 0)","v":0},{"$f":"SUM(BH274:BK274)","v":0},"MODELO A - TEMPO - N.º DE HORAS DE TRABALHO"]
[null,{"$f":"IF($B$273=\"ocultar\",\"ocultar\",IF('SA - ATIVIDADES'!$G$38=TRUE,IF('SA - ATIVIDADES'!$H$38>='SA - SERVICOS BASE'!AH275,\"mostrar\",\"ocultar\"),\"ocultar\"))","v":"ocultar"},"Designação (a preencher)","MODELO A - TEMPO - N.º DE HORAS DE TRABALHO",null,null,0,0,0,null,null,null,null,null,0,{"$f":"$P$246*O275","v":0},null,null,null,null,null,null,0,{"$f":"$X$246*W275","v":0},null,null,0,0,{"$f":"AA275*AB275","v":0},null,0,null,null,2,null,null,null,null,null,null,null,null,null,null,null,null,null,null,null,null,null,null,null,null,null,null,null,null,null,0,0,0,0,0,"MODELO A - TEMPO - N.º DE HORAS DE TRABALHO"]
[null,{"$f":"IF($B$273=\"ocultar\",\"ocultar\",IF('SA - ATIVIDADES'!$G$38=TRUE,IF('SA - ATIVIDADES'!$H$38>='SA - SERVICOS BASE'!AH276,\"mostrar\",\"ocultar\"),\"ocultar\"))","v":"ocultar"},"Designação (a preencher)","MODELO A - TEMPO - N.º DE HORAS DE TRABALHO",null,null,0,0,0,null,null,null,null,null,0,0,null,null,null,null,null,null,0,0,null,null,0,0,0,null,0,null,null,3,null,null,null,null,null,null,null,null,null,null,null,null,null,null,null,null,null,null,null,null,null,null,null,null,null,0,0,0,0,0,"MODELO A - TEMPO - N.º DE HORAS DE TRABALHO"]
[null,{"$f":"IF($B$273=\"ocultar\",\"ocultar\",IF('SA - ATIVIDADES'!$G$38=TRUE,IF('SA - ATIVIDADES'!$H$38>='SA - SERVICOS BASE'!AH277,\"mostrar\",\"ocultar\"),\"ocultar\"))","v":"ocultar"},"Designação (a preencher)","MODELO A - TEMPO - N.º DE HORAS DE TRABALHO",null,null,0,0,0,null,null,null,null,null,0,0,null,null,null,null,null,null,0,0,null,null,0,0,0,null,0,null,null,4,null,null,null,null,null,null,null,null,null,null,null,null,null,null,null,null,null,null,null,null,null,null,null,null,null,0,0,0,0,0,"MODELO A - TEMPO - N.º DE HORAS DE TRABALHO"]
[null,{"$f":"IF($B$273=\"ocultar\",\"ocultar\",IF('SA - ATIVIDADES'!$G$38=TRUE,IF('SA - ATIVIDADES'!$H$38>='SA - SERVICOS BASE'!AH278,\"mostrar\",\"ocultar\"),\"ocultar\"))","v":"ocultar"},"Designação (a preencher)","MODELO A - TEMPO - N.º DE HORAS DE TRABALHO",null,null,0,0,0,null,null,null,null,null,0,0,null,null,null,null,null,null,0,0,null,null,0,0,0,null,0,null,null,5,null,null,null,null,null,null,null,null,null,null,null,null,null,null,null,null,null,null,null,null,null,null,null,null,null,0,0,0,0,0,"MODELO A - TEMPO - N.º DE HORAS DE TRABALHO"]
[null,{"$f":"IF($B$273=\"ocultar\",\"ocultar\",IF('SA - ATIVIDADES'!$G$38=TRUE,IF('SA - ATIVIDADES'!$H$38>='SA - SERVICOS BASE'!AH279,\"mostrar\",\"ocultar\"),\"ocultar\"))","v":"ocultar"},"Designação (a preencher)","MODELO A - TEMPO - N.º DE HORAS DE TRABALHO",null,null,0,0,0,null,null,null,null,null,0,0,null,null,null,null,null,null,0,0,null,null,0,0,0,null,0,null,null,6,null,null,null,null,null,null,null,null,null,null,null,null,null,null,null,null,null,null,null,null,null,null,null,null,null,0,0,0,0,0,"MODELO A - TEMPO - N.º DE HORAS DE TRABALHO"]
[null,{"$f":"IF($B$273=\"ocultar\",\"ocultar\",IF('SA - ATIVIDADES'!$G$38=TRUE,IF('SA - ATIVIDADES'!$H$38>='SA - SERVICOS BASE'!AH280,\"mostrar\",\"ocultar\"),\"ocultar\"))","v":"ocultar"},"Designação (a preencher)","MODELO A - TEMPO - N.º DE HORAS DE TRABALHO",null,null,0,0,0,null,null,null,null,null,0,0,null,null,null,null,null,null,0,0,null,null,0,0,0,null,0,null,null,7,null,null,null,null,null,null,null,null,null,null,null,null,null,null,null,null,null,null,null,null,null,null,null,null,null,0,0,0,0,0,"MODELO A - TEMPO - N.º DE HORAS DE TRABALHO"]
[null,{"$f":"IF($B$273=\"ocultar\",\"ocultar\",IF('SA - ATIVIDADES'!$G$38=TRUE,IF('SA - ATIVIDADES'!$H$38>='SA - SERVICOS BASE'!AH281,\"mostrar\",\"ocultar\"),\"ocultar\"))","v":"ocultar"},"Designação (a preencher)","MODELO A - TEMPO - N.º DE HORAS DE TRABALHO",null,null,0,0,0,null,null,null,null,null,0,0,null,null,null,null,null,null,0,0,null,null,0,0,0,null,0,null,null,8,null,null,null,null,null,null,null,null,null,null,null,null,null,null,null,null,null,null,null,null,null,null,null,null,null,0,0,0,0,0,"MODELO A - TEMPO - N.º DE HORAS DE TRABALHO"]
[null,{"$f":"IF($B$273=\"ocultar\",\"ocultar\",IF('SA - ATIVIDADES'!$G$38=TRUE,IF('SA - ATIVIDADES'!$H$38>='SA - SERVICOS BASE'!AH282,\"mostrar\",\"ocultar\"),\"ocultar\"))","v":"ocultar"},"Designação (a preencher)","MODELO A - TEMPO - N.º DE HORAS DE TRABALHO",null,null,0,0,0,null,null,null,null,null,0,0,null,null,null,null,null,null,0,0,null,null,0,0,0,null,0,null,null,9,null,null,null,null,null,null,null,null,null,null,null,null,null,null,null,null,null,null,null,null,null,null,null,null,null,0,0,0,0,0,"MODELO A - TEMPO - N.º DE HORAS DE TRABALHO"]
[null,{"$f":"IF($B$273=\"ocultar\",\"ocultar\",IF('SA - ATIVIDADES'!$G$38=TRUE,IF('SA - ATIVIDADES'!$H$38>='SA - SERVICOS BASE'!AH283,\"mostrar\",\"ocultar\"),\"ocultar\"))","v":"ocultar"},"Designação (a preencher)","MODELO A - TEMPO - N.º DE HORAS DE TRABALHO",null,null,0,0,0,null,null,null,null,null,0,0,null,null,null,null,null,null,0,0,null,null,0,0,0,null,0,null,null,10,null,null,null,null,null,null,null,null,null,null,null,null,null,null,null,null,null,null,null,null,null,null,null,null,null,0,0,0,0,0,"MODELO A - TEMPO - N.º DE HORAS DE TRABALHO"]
[null,{"$f":"IF($B$274=\"ocultar\",\"ocultar\",\"mostrar\")","v":"ocultar"},"SUB-TOTAL",null,null,null,{"$f":"SUBTOTAL(109,G273:G283)","v":0},null,{"$f":"SUBTOTAL(109,I273:I283)","v":0},null,null,null,null,null,{"$f":"SUBTOTAL(9,O274:O283)","v":0},{"$f":"SUBTOTAL(9,P274:P283)","v":0},null,null,null,null,null,null,{"$f":"SUBTOTAL(9,W274:W283)","v":0},{"$f":"SUBTOTAL(9,X274:X283)","v":0},null,null,null,null,{"$f":"SUBTOTAL(109,AC274:AC283)","v":0},null,{"$f":"SUBTOTAL(109,AE274:AE283)","v":0},null,null,null,null,null,null,null,null,null,null,null,null,null,null,null,null,null,null,null,null,null,null,null,null,null,null,null,null,null,null,null,null,null,"MODELO A - TEMPO - N.º DE HORAS DE TRABALHO"]
[null,{"$f":"IF(B246=\"ocultar\",\"ocultar\",IF('SA - ATIVIDADES'!$G$35=\"Fase Única\",\"ocultar\",IF('SA - ATIVIDADES'!G39=TRUE,\"mostrar\",\"ocultar\")))","v":"ocultar"},"PROJETO  - FASE DE PROJETO DE EXECUÇÃO",null,null,null,null,null,null,null,null,null,null,null,null,null,null,null,null,null,null,null,null,null,null,null,null,null,null,null,null,null,null,null,null,null,null,null,null,null,null,null,null,null,null,null,null,null,null,null,null,null,null,null,null,null,null,null,null,null,null,null,null,null,"MODELO A - TEMPO - N.º DE HORAS DE TRABALHO"]
[null,{"$f":"IF($B$285=\"ocultar\",\"ocultar\",IF('SA - ATIVIDADES'!$G$39=TRUE,IF('SA - ATIVIDADES'!$H$39>='SA - SERVICOS BASE'!AH286,\"mostrar\",\"ocultar\"),\"ocultar\"))","v":"ocultar"},"Designação (a preencher)","MODELO A - TEMPO - N.º DE HORAS DE TRABALHO",null,null,0,{"$f":"$H$246","v":0},{"$f":"G286*H286","v":0},null,null,null,null,null,0,{"$f":"$P$246*O286","v":0},null,null,null,null,null,null,0,{"$f":"$X$246*W286","v":0},null,null,0,0,{"$f":"AA286*AB286","v":0},null,{"$f":"BL286","v":0},null,null,1,null,null,null,null,null,null,null,null,null,null,null,null,null,null,null,null,null,null,null,null,null,null,null,null,null,{"$f":"IF(OR(AND(LEFT($D$246,8)=\"MODELO M\", LEFT(D286,8)=\"MODELO A\"), AND(LEFT($D$246,8)=\"MODELO A\", $F$246=\"Atribuir valor detalhado por Fase/Elemento\")), I286, 0)","v":0},{"$f":"IF(OR(AND(LEFT($D$246,8)=\"MODELO M\", LEFT(D286,8)=\"MODELO B\"), AND(LEFT($D$246,8)=\"MODELO B\", $K$246=\"Atribuir valor detalhado por Fase/Elemento\")), P286, 0)","v":0},{"$f":"IF(OR(AND(LEFT($D$246,8)=\"MODELO M\", LEFT(D286,8)=\"MODELO C\"), AND(LEFT($D$246,8)=\"MODELO C\", $R$246=\"Atribuir valor detalhado por Fase/Elemento\")), X286, 0)","v":0},{"$f":"IF(OR(AND(LEFT($D$246,8)=\"MODELO M\", LEFT(D286,8)=\"MODELO D\"), AND(LEFT($D$246,8)=\"MODELO D\", $Z$246=\"Atribuir valor detalhado por Fase/Elemento\")), AC286, 0)","v":0},{"$f":"SUM(BH286:BK286)","v":0},"MODELO A - TEMPO - N.º DE HORAS DE TRABALHO"]
[null,{"$f":"IF($B$285=\"ocultar\",\"ocultar\",IF('SA - ATIVIDADES'!$G$39=TRUE,IF('SA - ATIVIDADES'!$H$39>='SA - SERVICOS BASE'!AH287,\"mostrar\",\"ocultar\"),\"ocultar\"))","v":"ocultar"},"Designação (a preencher)","MODELO A - TEMPO - N.º DE HORAS DE TRABALHO",null,null,0,0,0,null,null,null,null,null,0,{"$f":"$P$246*O287","v":0},null,null,null,null,null,null,0,{"$f":"$X$246*W287","v":0},null,null,0,0,{"$f":"AA287*AB287","v":0},null,0,null,null,2,null,null,null,null,null,null,null,null,null,null,null,null,null,null,null,null,null,null,null,null,null,null,null,null,null,0,0,0,0,0,"MODELO A - TEMPO - N.º DE HORAS DE TRABALHO"]
[null,{"$f":"IF($B$285=\"ocultar\",\"ocultar\",IF('SA - ATIVIDADES'!$G$39=TRUE,IF('SA - ATIVIDADES'!$H$39>='SA - SERVICOS BASE'!AH288,\"mostrar\",\"ocultar\"),\"ocultar\"))","v":"ocultar"},"Designação (a preencher)","MODELO A - TEMPO - N.º DE HORAS DE TRABALHO",null,null,0,0,0,null,null,null,null,null,0,0,null,null,null,null,null,null,0,0,null,null,0,0,0,null,0,null,null,3,null,null,null,null,null,null,null,null,null,null,null,null,null,null,null,null,null,null,null,null,null,null,null,null,null,0,0,0,0,0,"MODELO A - TEMPO - N.º DE HORAS DE TRABALHO"]
[null,{"$f":"IF($B$285=\"ocultar\",\"ocultar\",IF('SA - ATIVIDADES'!$G$39=TRUE,IF('SA - ATIVIDADES'!$H$39>='SA - SERVICOS BASE'!AH289,\"mostrar\",\"ocultar\"),\"ocultar\"))","v":"ocultar"},"Designação (a preencher)","MODELO A - TEMPO - N.º DE HORAS DE TRABALHO",null,null,0,0,0,null,null,null,null,null,0,0,null,null,null,null,null,null,0,0,null,null,0,0,0,null,0,null,null,4,null,null,null,null,null,null,null,null,null,null,null,null,null,null,null,null,null,null,null,null,null,null,null,null,null,0,0,0,0,0,"MODELO A - TEMPO - N.º DE HORAS DE TRABALHO"]
[null,{"$f":"IF($B$285=\"ocultar\",\"ocultar\",IF('SA - ATIVIDADES'!$G$39=TRUE,IF('SA - ATIVIDADES'!$H$39>='SA - SERVICOS BASE'!AH290,\"mostrar\",\"ocultar\"),\"ocultar\"))","v":"ocultar"},"Designação (a preencher)","MODELO A - TEMPO - N.º DE HORAS DE TRABALHO",null,null,0,0,0,null,null,null,null,null,0,0,null,null,null,null,null,null,0,0,null,null,0,0,0,null,0,null,null,5,null,null,null,null,null,null,null,null,null,null,null,null,null,null,null,null,null,null,null,null,null,null,null,null,null,0,0,0,0,0,"MODELO A - TEMPO - N.º DE HORAS DE TRABALHO"]
[null,{"$f":"IF($B$285=\"ocultar\",\"ocultar\",IF('SA - ATIVIDADES'!$G$39=TRUE,IF('SA - ATIVIDADES'!$H$39>='SA - SERVICOS BASE'!AH291,\"mostrar\",\"ocultar\"),\"ocultar\"))","v":"ocultar"},"Designação (a preencher)","MODELO A - TEMPO - N.º DE HORAS DE TRABALHO",null,null,0,0,0,null,null,null,null,null,0,0,null,null,null,null,null,null,0,0,null,null,0,0,0,null,0,null,null,6,null,null,null,null,null,null,null,null,null,null,null,null,null,null,null,null,null,null,null,null,null,null,null,null,null,0,0,0,0,0,"MODELO A - TEMPO - N.º DE HORAS DE TRABALHO"]
[null,{"$f":"IF($B$285=\"ocultar\",\"ocultar\",IF('SA - ATIVIDADES'!$G$39=TRUE,IF('SA - ATIVIDADES'!$H$39>='SA - SERVICOS BASE'!AH292,\"mostrar\",\"ocultar\"),\"ocultar\"))","v":"ocultar"},"Designação (a preencher)","MODELO A - TEMPO - N.º DE HORAS DE TRABALHO",null,null,0,0,0,null,null,null,null,null,0,0,null,null,null,null,null,null,0,0,null,null,0,0,0,null,0,null,null,7,null,null,null,null,null,null,null,null,null,null,null,null,null,null,null,null,null,null,null,null,null,null,null,null,null,0,0,0,0,0,"MODELO A - TEMPO - N.º DE HORAS DE TRABALHO"]
[null,{"$f":"IF($B$285=\"ocultar\",\"ocultar\",IF('SA - ATIVIDADES'!$G$39=TRUE,IF('SA - ATIVIDADES'!$H$39>='SA - SERVICOS BASE'!AH293,\"mostrar\",\"ocultar\"),\"ocultar\"))","v":"ocultar"},"Designação (a preencher)","MODELO A - TEMPO - N.º DE HORAS DE TRABALHO",null,null,0,0,0,null,null,null,null,null,0,0,null,null,null,null,null,null,0,0,null,null,0,0,0,null,0,null,null,8,null,null,null,null,null,null,null,null,null,null,null,null,null,null,null,null,null,null,null,null,null,null,null,null,null,0,0,0,0,0,"MODELO A - TEMPO - N.º DE HORAS DE TRABALHO"]
[null,{"$f":"IF($B$285=\"ocultar\",\"ocultar\",IF('SA - ATIVIDADES'!$G$39=TRUE,IF('SA - ATIVIDADES'!$H$39>='SA - SERVICOS BASE'!AH294,\"mostrar\",\"ocultar\"),\"ocultar\"))","v":"ocultar"},"Designação (a preencher)","MODELO A - TEMPO - N.º DE HORAS DE TRABALHO",null,null,0,0,0,null,null,null,null,null,0,0,null,null,null,null,null,null,0,0,null,null,0,0,0,null,0,null,null,9,null,null,null,null,null,null,null,null,null,null,null,null,null,null,null,null,null,null,null,null,null,null,null,null,null,0,0,0,0,0,"MODELO A - TEMPO - N.º DE HORAS DE TRABALHO"]
[null,{"$f":"IF($B$285=\"ocultar\",\"ocultar\",IF('SA - ATIVIDADES'!$G$39=TRUE,IF('SA - ATIVIDADES'!$H$39>='SA - SERVICOS BASE'!AH295,\"mostrar\",\"ocultar\"),\"ocultar\"))","v":"ocultar"},"Designação (a preencher)","MODELO A - TEMPO - N.º DE HORAS DE TRABALHO",null,null,0,0,0,null,null,null,null,null,0,0,null,null,null,null,null,null,0,0,null,null,0,0,0,null,0,null,null,10,null,null,null,null,null,null,null,null,null,null,null,null,null,null,null,null,null,null,null,null,null,null,null,null,null,0,0,0,0,0,"MODELO A - TEMPO - N.º DE HORAS DE TRABALHO"]
[null,{"$f":"IF($B$286=\"ocultar\",\"ocultar\",\"mostrar\")","v":"ocultar"},"SUB-TOTAL",null,null,null,{"$f":"SUBTOTAL(109,G285:G295)","v":0},null,{"$f":"SUBTOTAL(109,I285:I295)","v":0},null,null,null,null,null,{"$f":"SUBTOTAL(9,O286:O295)","v":0},{"$f":"SUBTOTAL(9,P286:P295)","v":0},null,null,null,null,null,null,{"$f":"SUBTOTAL(9,W286:W295)","v":0},{"$f":"SUBTOTAL(9,X286:X295)","v":0},null,null,null,null,{"$f":"SUBTOTAL(109,AC286:AC295)","v":0},null,{"$f":"SUBTOTAL(109,AE286:AE295)","v":0},null,null,null,null,null,null,null,null,null,null,null,null,null,null,null,null,null,null,null,null,null,null,null,null,null,null,null,null,null,null,null,null,null,"MODELO A - TEMPO - N.º DE HORAS DE TRABALHO"]
[null,{"$f":"IF($B$246=\"ocultar\",\"ocultar\",IF('SA - ATIVIDADES'!$G$35=\"Fase Única\",\"ocultar\",IF('SA - ATIVIDADES'!G40=TRUE,\"mostrar\",\"ocultar\")))","v":"ocultar"},"ASSISTÊNCIA TÉCNICA",null,null,null,null,null,null,null,null,null,null,null,null,null,null,null,null,null,null,null,null,null,null,null,null,null,null,null,null,null,null,null,null,null,null,null,null,null,null,null,null,null,null,null,null,null,null,null,null,null,null,null,null,null,null,null,null,null,null,null,null,null,"MODELO A - TEMPO - N.º DE HORAS DE TRABALHO"]
[null,{"$f":"IF($B$297=\"ocultar\",\"ocultar\",IF('SA - ATIVIDADES'!$G$40=TRUE,IF('SA - ATIVIDADES'!$H$40>='SA - SERVICOS BASE'!AH298,\"mostrar\",\"ocultar\"),\"ocultar\"))","v":"ocultar"},"Designação (a preencher)","MODELO A - TEMPO - N.º DE HORAS DE TRABALHO",null,null,0,{"$f":"$H$246","v":0},{"$f":"G298*H298","v":0},null,null,null,null,null,0,{"$f":"$P$246*O298","v":0},null,null,null,null,null,null,0,{"$f":"$X$246*W298","v":0},null,null,0,0,{"$f":"AA298*AB298","v":0},null,{"$f":"BL298","v":0},null,null,1,null,null,null,null,null,null,null,null,null,null,null,null,null,null,null,null,null,null,null,null,null,null,null,null,null,{"$f":"IF(OR(AND(LEFT($D$246,8)=\"MODELO M\", LEFT(D298,8)=\"MODELO A\"), AND(LEFT($D$246,8)=\"MODELO A\", $F$246=\"Atribuir valor detalhado por Fase/Elemento\")), I298, 0)","v":0},{"$f":"IF(OR(AND(LEFT($D$246,8)=\"MODELO M\", LEFT(D298,8)=\"MODELO B\"), AND(LEFT($D$246,8)=\"MODELO B\", $K$246=\"Atribuir valor detalhado por Fase/Elemento\")), P298, 0)","v":0},{"$f":"IF(OR(AND(LEFT($D$246,8)=\"MODELO M\", LEFT(D298,8)=\"MODELO C\"), AND(LEFT($D$246,8)=\"MODELO C\", $R$246=\"Atribuir valor detalhado por Fase/Elemento\")), X298, 0)","v":0},{"$f":"IF(OR(AND(LEFT($D$246,8)=\"MODELO M\", LEFT(D298,8)=\"MODELO D\"), AND(LEFT($D$246,8)=\"MODELO D\", $Z$246=\"Atribuir valor detalhado por Fase/Elemento\")), AC298, 0)","v":0},{"$f":"SUM(BH298:BK298)","v":0},"MODELO A - TEMPO - N.º DE HORAS DE TRABALHO"]
[null,{"$f":"IF($B$297=\"ocultar\",\"ocultar\",IF('SA - ATIVIDADES'!$G$40=TRUE,IF('SA - ATIVIDADES'!$H$40>='SA - SERVICOS BASE'!AH299,\"mostrar\",\"ocultar\"),\"ocultar\"))","v":"ocultar"},"Designação (a preencher)","MODELO A - TEMPO - N.º DE HORAS DE TRABALHO",null,null,0,0,0,null,null,null,null,null,0,{"$f":"$P$246*O299","v":0},null,null,null,null,null,null,0,{"$f":"$X$246*W299","v":0},null,null,0,0,{"$f":"AA299*AB299","v":0},null,0,null,null,2,null,null,null,null,null,null,null,null,null,null,null,null,null,null,null,null,null,null,null,null,null,null,null,null,null,0,0,0,0,0,"MODELO A - TEMPO - N.º DE HORAS DE TRABALHO"]
[null,{"$f":"IF($B$297=\"ocultar\",\"ocultar\",IF('SA - ATIVIDADES'!$G$40=TRUE,IF('SA - ATIVIDADES'!$H$40>='SA - SERVICOS BASE'!AH300,\"mostrar\",\"ocultar\"),\"ocultar\"))","v":"ocultar"},"Designação (a preencher)","MODELO A - TEMPO - N.º DE HORAS DE TRABALHO",null,null,0,0,0,null,null,null,null,null,0,0,null,null,null,null,null,null,0,0,null,null,0,0,0,null,0,null,null,3,null,null,null,null,null,null,null,null,null,null,null,null,null,null,null,null,null,null,null,null,null,null,null,null,null,0,0,0,0,0,"MODELO A - TEMPO - N.º DE HORAS DE TRABALHO"]
[null,{"$f":"IF($B$297=\"ocultar\",\"ocultar\",IF('SA - ATIVIDADES'!$G$40=TRUE,IF('SA - ATIVIDADES'!$H$40>='SA - SERVICOS BASE'!AH301,\"mostrar\",\"ocultar\"),\"ocultar\"))","v":"ocultar"},"Designação (a preencher)","MODELO A - TEMPO - N.º DE HORAS DE TRABALHO",null,null,0,0,0,null,null,null,null,null,0,0,null,null,null,null,null,null,0,0,null,null,0,0,0,null,0,null,null,4,null,null,null,null,null,null,null,null,null,null,null,null,null,null,null,null,null,null,null,null,null,null,null,null,null,0,0,0,0,0,"MODELO A - TEMPO - N.º DE HORAS DE TRABALHO"]
[null,{"$f":"IF($B$297=\"ocultar\",\"ocultar\",IF('SA - ATIVIDADES'!$G$40=TRUE,IF('SA - ATIVIDADES'!$H$40>='SA - SERVICOS BASE'!AH302,\"mostrar\",\"ocultar\"),\"ocultar\"))","v":"ocultar"},"Designação (a preencher)","MODELO A - TEMPO - N.º DE HORAS DE TRABALHO",null,null,0,0,0,null,null,null,null,null,0,0,null,null,null,null,null,null,0,0,null,null,0,0,0,null,0,null,null,5,null,null,null,null,null,null,null,null,null,null,null,null,null,null,null,null,null,null,null,null,null,null,null,null,null,0,0,0,0,0,"MODELO A - TEMPO - N.º DE HORAS DE TRABALHO"]
[null,{"$f":"IF($B$297=\"ocultar\",\"ocultar\",IF('SA - ATIVIDADES'!$G$40=TRUE,IF('SA - ATIVIDADES'!$H$40>='SA - SERVICOS BASE'!AH303,\"mostrar\",\"ocultar\"),\"ocultar\"))","v":"ocultar"},"Designação (a preencher)","MODELO A - TEMPO - N.º DE HORAS DE TRABALHO",null,null,0,0,0,null,null,null,null,null,0,0,null,null,null,null,null,null,0,0,null,null,0,0,0,null,0,null,null,6,null,null,null,null,null,null,null,null,null,null,null,null,null,null,null,null,null,null,null,null,null,null,null,null,null,0,0,0,0,0,"MODELO A - TEMPO - N.º DE HORAS DE TRABALHO"]
[null,{"$f":"IF($B$297=\"ocultar\",\"ocultar\",IF('SA - ATIVIDADES'!$G$40=TRUE,IF('SA - ATIVIDADES'!$H$40>='SA - SERVICOS BASE'!AH304,\"mostrar\",\"ocultar\"),\"ocultar\"))","v":"ocultar"},"Designação (a preencher)","MODELO A - TEMPO - N.º DE HORAS DE TRABALHO",null,null,0,0,0,null,null,null,null,null,0,0,null,null,null,null,null,null,0,0,null,null,0,0,0,null,0,null,null,7,null,null,null,null,null,null,null,null,null,null,null,null,null,null,null,null,null,null,null,null,null,null,null,null,null,0,0,0,0,0,"MODELO A - TEMPO - N.º DE HORAS DE TRABALHO"]
[null,{"$f":"IF($B$297=\"ocultar\",\"ocultar\",IF('SA - ATIVIDADES'!$G$40=TRUE,IF('SA - ATIVIDADES'!$H$40>='SA - SERVICOS BASE'!AH305,\"mostrar\",\"ocultar\"),\"ocultar\"))","v":"ocultar"},"Designação (a preencher)","MODELO A - TEMPO - N.º DE HORAS DE TRABALHO",null,null,0,0,0,null,null,null,null,null,0,0,null,null,null,null,null,null,0,0,null,null,0,0,0,null,0,null,null,8,null,null,null,null,null,null,null,null,null,null,null,null,null,null,null,null,null,null,null,null,null,null,null,null,null,0,0,0,0,0,"MODELO A - TEMPO - N.º DE HORAS DE TRABALHO"]
[null,{"$f":"IF($B$297=\"ocultar\",\"ocultar\",IF('SA - ATIVIDADES'!$G$40=TRUE,IF('SA - ATIVIDADES'!$H$40>='SA - SERVICOS BASE'!AH306,\"mostrar\",\"ocultar\"),\"ocultar\"))","v":"ocultar"},"Designação (a preencher)","MODELO A - TEMPO - N.º DE HORAS DE TRABALHO",null,null,0,0,0,null,null,null,null,null,0,0,null,null,null,null,null,null,0,0,null,null,0,0,0,null,0,null,null,9,null,null,null,null,null,null,null,null,null,null,null,null,null,null,null,null,null,null,null,null,null,null,null,null,null,0,0,0,0,0,"MODELO A - TEMPO - N.º DE HORAS DE TRABALHO"]
[null,{"$f":"IF($B$297=\"ocultar\",\"ocultar\",IF('SA - ATIVIDADES'!$G$40=TRUE,IF('SA - ATIVIDADES'!$H$40>='SA - SERVICOS BASE'!AH307,\"mostrar\",\"ocultar\"),\"ocultar\"))","v":"ocultar"},"Designação (a preencher)","MODELO A - TEMPO - N.º DE HORAS DE TRABALHO",null,null,0,0,0,null,null,null,null,null,0,0,null,null,null,null,null,null,0,0,null,null,0,0,0,null,0,null,null,10,null,null,null,null,null,null,null,null,null,null,null,null,null,null,null,null,null,null,null,null,null,null,null,null,null,0,0,0,0,0,"MODELO A - TEMPO - N.º DE HORAS DE TRABALHO"]
[null,{"$f":"IF($B$298=\"ocultar\",\"ocultar\",\"mostrar\")","v":"ocultar"},"SUB-TOTAL",null,null,null,{"$f":"SUBTOTAL(109,G297:G307)","v":0},null,{"$f":"SUBTOTAL(109,I297:I307)","v":0},null,null,null,null,null,{"$f":"SUBTOTAL(9,O298:O307)","v":0},{"$f":"SUBTOTAL(9,P298:P307)","v":0},null,null,null,null,null,null,{"$f":"SUBTOTAL(9,W298:W307)","v":0},{"$f":"SUBTOTAL(9,X298:X307)","v":0},null,null,null,null,{"$f":"SUBTOTAL(109,AC298:AC307)","v":0},null,{"$f":"SUBTOTAL(109,AE298:AE307)","v":0},null,null,null,null,null,null,null,null,null,null,null,null,null,null,null,null,null,null,null,null,null,null,null,null,null,null,null,null,null,null,null,null,null,"MODELO A - TEMPO - N.º DE HORAS DE TRABALHO"]
[null,{"$f":"IF($B$246=\"ocultar\",\"ocultar\",\"mostrar\")","v":"ocultar"},"TOTAL",null,null,null,{"$f":"IF($F246=\"Atribuir valor global à atividade\",G246,SUBTOTAL(109,G249:G308))","v":0},null,{"$f":"IF($F246=\"Atribuir valor global à atividade\",I246,SUBTOTAL(109,I249:I308))","v":0},null,null,null,null,null,{"$f":"IF($K$246=\"Atribuir valor global à atividade\",1,SUBTOTAL(109,O250:O308))","v":1},{"$f":"IF($F246=\"Atribuir valor global à atividade\",P246,SUBTOTAL(109,P250:P308))","v":0},null,null,null,null,null,null,{"$f":"IF($R$246=\"Atribuir valor global à atividade\",1,SUBTOTAL(109,W250:W308))","v":1},{"$f":"IF($R246=\"Atribuir valor global à atividade\",X246,SUBTOTAL(109,X250:X308))","v":0},null,null,null,null,{"$f":"IF($Z$246=\"Atribuir valor global à atividade\",AC246,SUBTOTAL(109,AC250:AC308))","v":0},null,{"$f":"BL246","v":0},null,null,null,null,null,null,null,null,null,null,null,null,null,null,null,null,null,null,null,null,null,null,null,null,null,null,null,null,null,null,null,null,null,"MODELO A - TEMPO - N.º DE HORAS DE TRABALHO"]
[null,{"$f":"IF($B$246=\"ocultar\",\"ocultar\",\"mostrar\")","v":"ocultar"},null,null,null,null,null,null,null,null,null,null,null,null,null,null,null,null,null,null,null,null,null,null,null,null,null,null,null,null,null,null,null,null,null,null,null,null,null,null,null,null,null,null,null,null,null,null,null,null,null,null,null,null,null,null,null,null,null,null,null,null,null,null,"MODELO A - TEMPO - N.º DE HORAS DE TRABALHO"]
[null,{"$f":"IF('SA - ATIVIDADES'!$F$42<>TRUE,\"ocultar\",\"mostrar\")","v":"ocultar"},"A7. PROJETO DE FACHADAS","MODELO A - TEMPO - N.º DE HORAS DE TRABALHO",null,"Atribuir valor global à atividade",0,0,{"$f":"G311*H311","v":0},null,"Atribuir valor global à atividade","Valor Global Obra (VG Obra)",{"$f":"IF(L311=\"Valor Global Obra (VG Obra)\",$M$9,\"\")","v":0},0,0,{"$f":"IF(L311=\"Valor Global Obra (VG Obra)\",M311*O311,N311*O311)","v":0},null,"Atribuir valor global à atividade","Valor/m2 fixo (VF m2)",{"$f":"IF(S311=\"Valor/m2 fixo (VF m2)\",$T$9,\"\")","v":0},0,0,null,{"$f":"IF(S311=\"Valor/m2 fixo (VF m2)\",T311*1*V311,U311*1*V311)","v":0},null,"Atribuir valor global à atividade",0,0,{"$f":"AA311*AB311","v":0},null,{"$f":"BL311","v":0},null,null,null,null,null,null,null,null,null,null,null,null,null,null,null,null,null,null,null,null,null,null,null,null,null,null,null,null,{"$f":"IF(LEFT($D$311,8)=\"MODELO A\",IF($F$311=\"Atribuir valor detalhado por Fase/Elemento\",SUBTOTAL(109,BH315:BH372),I311),IF(LEFT($D$311,8)=\"MODELO M\",SUBTOTAL(109,BH315:BH372),0))","v":0},{"$f":"IF(LEFT($D$311,8)=\"MODELO B\",IF($K$311=\"Atribuir valor detalhado por Fase/Elemento\",SUBTOTAL(109,BI315:BI372),P311),IF(LEFT($D$311,8)=\"MODELO M\",SUBTOTAL(109,BI315:BI372),0))","v":0},{"$f":"IF(LEFT($D$311,8)=\"MODELO C\",IF($R$311=\"Atribuir valor detalhado por Fase/Elemento\",SUBTOTAL(109,BJ315:BJ372),X311),IF(LEFT($D$311,8)=\"MODELO M\",SUBTOTAL(109,BJ315:BJ372),0))","v":0},{"$f":"IF(LEFT($D$311,8)=\"MODELO D\",IF($Z$311=\"Atribuir valor detalhado por Fase/Elemento\",SUBTOTAL(109,BK315:BK372),AC311),IF(LEFT($D$311,8)=\"MODELO M\",SUBTOTAL(109,BK315:BK372),0))","v":0},{"$f":"SUM(BH311:BK311)","v":0},"MODELO A - TEMPO - N.º DE HORAS DE TRABALHO"]
[null,{"$f":"IF($B$311=\"ocultar\",\"ocultar\",\"mostrar\")","v":"ocultar"},null,null,null,null,null,null,null,null,null,null,null,null,null,null,null,null,null,null,null,null,null,null,null,null,null,null,null,null,null,null,null,null,null,null,null,null,null,null,null,null,null,null,null,null,null,null,null,null,null,null,null,null,null,null,null,null,null,null,null,null,null,null,"MODELO A - TEMPO - N.º DE HORAS DE TRABALHO"]
[null,"ocultar",null,null,null,null,null,null,null,null,null,null,null,null,null,null,null,null,null,null,null,null,null,null,null,null,null,null,null,null,null,null,null,null,null,null,null,null,null,null,null,null,null,null,null,null,null,null,null,null,null,null,null,null,null,null,null,null,null,null,null,null,null,null,"MODELO A - TEMPO - N.º DE HORAS DE TRABALHO"]
[null,{"$f":"IF(B311=\"ocultar\",\"ocultar\",IF('SA - ATIVIDADES'!$G$42=\"Fase Única\",\"ocultar\",IF('SA - ATIVIDADES'!G43=TRUE,\"mostrar\",\"ocultar\")))","v":"ocultar"},"PROJETO - FASE DE PROGRAMA BASE",null,null,null,null,null,null,null,null,null,null,null,null,null,null,null,null,null,null,null,null,null,null,null,null,null,null,null,null,null,null,null,null,null,null,null,null,null,null,null,null,null,null,null,null,null,null,null,null,null,null,null,null,null,null,null,null,null,null,null,null,null,"MODELO A - TEMPO - N.º DE HORAS DE TRABALHO"]
[null,{"$f":"IF($B$314=\"ocultar\",\"ocultar\",IF('SA - ATIVIDADES'!$G$43=TRUE,IF('SA - ATIVIDADES'!$H$43>='SA - SERVICOS BASE'!AH315,\"mostrar\",\"ocultar\"),\"ocultar\"))","v":"ocultar"},"Designação (a preencher)","MODELO A - TEMPO - N.º DE HORAS DE TRABALHO",null,null,0,{"$f":"$H$311","v":0},{"$f":"G315*H315","v":0},null,null,null,null,null,0,{"$f":"$P$311*O315","v":0},null,null,null,null,null,null,0,{"$f":"$X$311*W315","v":0},null,null,0,0,{"$f":"AA315*AB315","v":0},null,{"$f":"BL315","v":0},null,null,1,null,null,null,null,null,null,null,null,null,null,null,null,null,null,null,null,null,null,null,null,null,null,null,null,null,{"$f":"IF(OR(AND(LEFT($D$311,8)=\"MODELO M\", LEFT(D315,8)=\"MODELO A\"), AND(LEFT($D$311,8)=\"MODELO A\", $F$311=\"Atribuir valor detalhado por Fase/Elemento\")), I315, 0)","v":0},{"$f":"IF(OR(AND(LEFT($D$311,8)=\"MODELO M\", LEFT(D315,8)=\"MODELO B\"), AND(LEFT($D$311,8)=\"MODELO B\", $K$311=\"Atribuir valor detalhado por Fase/Elemento\")), P315, 0)","v":0},{"$f":"IF(OR(AND(LEFT($D$311,8)=\"MODELO M\", LEFT(D315,8)=\"MODELO C\"), AND(LEFT($D$311,8)=\"MODELO C\", $R$311=\"Atribuir valor detalhado por Fase/Elemento\")), X315, 0)","v":0},{"$f":"IF(OR(AND(LEFT($D$311,8)=\"MODELO M\", LEFT(D315,8)=\"MODELO D\"), AND(LEFT($D$311,8)=\"MODELO D\", $Z$311=\"Atribuir valor detalhado por Fase/Elemento\")), AC315, 0)","v":0},{"$f":"SUM(BH315:BK315)","v":0},"MODELO A - TEMPO - N.º DE HORAS DE TRABALHO"]
[null,{"$f":"IF($B$314=\"ocultar\",\"ocultar\",IF('SA - ATIVIDADES'!$G$43=TRUE,IF('SA - ATIVIDADES'!$H$43>='SA - SERVICOS BASE'!AH316,\"mostrar\",\"ocultar\"),\"ocultar\"))","v":"ocultar"},"Designação (a preencher)","MODELO A - TEMPO - N.º DE HORAS DE TRABALHO",null,null,0,0,0,null,null,null,null,null,0,{"$f":"$P$311*O316","v":0},null,null,null,null,null,null,0,{"$f":"$X$311*W316","v":0},null,null,0,0,{"$f":"AA316*AB316","v":0},null,0,null,null,2,null,null,null,null,null,null,null,null,null,null,null,null,null,null,null,null,null,null,null,null,null,null,null,null,null,0,0,0,0,0,"MODELO A - TEMPO - N.º DE HORAS DE TRABALHO"]
[null,{"$f":"IF($B$314=\"ocultar\",\"ocultar\",IF('SA - ATIVIDADES'!$G$43=TRUE,IF('SA - ATIVIDADES'!$H$43>='SA - SERVICOS BASE'!AH317,\"mostrar\",\"ocultar\"),\"ocultar\"))","v":"ocultar"},"Designação (a preencher)","MODELO A - TEMPO - N.º DE HORAS DE TRABALHO",null,null,0,0,0,null,null,null,null,null,0,0,null,null,null,null,null,null,0,0,null,null,0,0,0,null,0,null,null,3,null,null,null,null,null,null,null,null,null,null,null,null,null,null,null,null,null,null,null,null,null,null,null,null,null,0,0,0,0,0,"MODELO A - TEMPO - N.º DE HORAS DE TRABALHO"]
[null,{"$f":"IF($B$314=\"ocultar\",\"ocultar\",IF('SA - ATIVIDADES'!$G$43=TRUE,IF('SA - ATIVIDADES'!$H$43>='SA - SERVICOS BASE'!AH318,\"mostrar\",\"ocultar\"),\"ocultar\"))","v":"ocultar"},"Designação (a preencher)","MODELO A - TEMPO - N.º DE HORAS DE TRABALHO",null,null,0,0,0,null,null,null,null,null,0,0,null,null,null,null,null,null,0,0,null,null,0,0,0,null,0,null,null,4,null,null,null,null,null,null,null,null,null,null,null,null,null,null,null,null,null,null,null,null,null,null,null,null,null,0,0,0,0,0,"MODELO A - TEMPO - N.º DE HORAS DE TRABALHO"]
[null,{"$f":"IF($B$314=\"ocultar\",\"ocultar\",IF('SA - ATIVIDADES'!$G$43=TRUE,IF('SA - ATIVIDADES'!$H$43>='SA - SERVICOS BASE'!AH319,\"mostrar\",\"ocultar\"),\"ocultar\"))","v":"ocultar"},"Designação (a preencher)","MODELO A - TEMPO - N.º DE HORAS DE TRABALHO",null,null,0,0,0,null,null,null,null,null,0,0,null,null,null,null,null,null,0,0,null,null,0,0,0,null,0,null,null,5,null,null,null,null,null,null,null,null,null,null,null,null,null,null,null,null,null,null,null,null,null,null,null,null,null,0,0,0,0,0,"MODELO A - TEMPO - N.º DE HORAS DE TRABALHO"]
[null,{"$f":"IF($B$314=\"ocultar\",\"ocultar\",IF('SA - ATIVIDADES'!$G$43=TRUE,IF('SA - ATIVIDADES'!$H$43>='SA - SERVICOS BASE'!AH320,\"mostrar\",\"ocultar\"),\"ocultar\"))","v":"ocultar"},"Designação (a preencher)","MODELO A - TEMPO - N.º DE HORAS DE TRABALHO",null,null,0,0,0,null,null,null,null,null,0,0,null,null,null,null,null,null,0,0,null,null,0,0,0,null,0,null,null,6,null,null,null,null,null,null,null,null,null,null,null,null,null,null,null,null,null,null,null,null,null,null,null,null,null,0,0,0,0,0,"MODELO A - TEMPO - N.º DE HORAS DE TRABALHO"]
[null,{"$f":"IF($B$314=\"ocultar\",\"ocultar\",IF('SA - ATIVIDADES'!$G$43=TRUE,IF('SA - ATIVIDADES'!$H$43>='SA - SERVICOS BASE'!AH321,\"mostrar\",\"ocultar\"),\"ocultar\"))","v":"ocultar"},"Designação (a preencher)","MODELO A - TEMPO - N.º DE HORAS DE TRABALHO",null,null,0,0,0,null,null,null,null,null,0,0,null,null,null,null,null,null,0,0,null,null,0,0,0,null,0,null,null,7,null,null,null,null,null,null,null,null,null,null,null,null,null,null,null,null,null,null,null,null,null,null,null,null,null,0,0,0,0,0,"MODELO A - TEMPO - N.º DE HORAS DE TRABALHO"]
[null,{"$f":"IF($B$314=\"ocultar\",\"ocultar\",IF('SA - ATIVIDADES'!$G$43=TRUE,IF('SA - ATIVIDADES'!$H$43>='SA - SERVICOS BASE'!AH322,\"mostrar\",\"ocultar\"),\"ocultar\"))","v":"ocultar"},"Designação (a preencher)","MODELO A - TEMPO - N.º DE HORAS DE TRABALHO",null,null,0,0,0,null,null,null,null,null,0,0,null,null,null,null,null,null,0,0,null,null,0,0,0,null,0,null,null,8,null,null,null,null,null,null,null,null,null,null,null,null,null,null,null,null,null,null,null,null,null,null,null,null,null,0,0,0,0,0,"MODELO A - TEMPO - N.º DE HORAS DE TRABALHO"]
[null,{"$f":"IF($B$314=\"ocultar\",\"ocultar\",IF('SA - ATIVIDADES'!$G$43=TRUE,IF('SA - ATIVIDADES'!$H$43>='SA - SERVICOS BASE'!AH323,\"mostrar\",\"ocultar\"),\"ocultar\"))","v":"ocultar"},"Designação (a preencher)","MODELO A - TEMPO - N.º DE HORAS DE TRABALHO",null,null,0,0,0,null,null,null,null,null,0,0,null,null,null,null,null,null,0,0,null,null,0,0,0,null,0,null,null,9,null,null,null,null,null,null,null,null,null,null,null,null,null,null,null,null,null,null,null,null,null,null,null,null,null,0,0,0,0,0,"MODELO A - TEMPO - N.º DE HORAS DE TRABALHO"]
[null,{"$f":"IF($B$314=\"ocultar\",\"ocultar\",IF('SA - ATIVIDADES'!$G$43=TRUE,IF('SA - ATIVIDADES'!$H$43>='SA - SERVICOS BASE'!AH324,\"mostrar\",\"ocultar\"),\"ocultar\"))","v":"ocultar"},"Designação (a preencher)","MODELO A - TEMPO - N.º DE HORAS DE TRABALHO",null,null,0,0,0,null,null,null,null,null,0,0,null,null,null,null,null,null,0,0,null,null,0,0,0,null,0,null,null,10,null,null,null,null,null,null,null,null,null,null,null,null,null,null,null,null,null,null,null,null,null,null,null,null,null,0,0,0,0,0,"MODELO A - TEMPO - N.º DE HORAS DE TRABALHO"]
[null,{"$f":"IF($B$315=\"ocultar\",\"ocultar\",\"mostrar\")","v":"ocultar"},"SUB-TOTAL",null,null,null,{"$f":"SUBTOTAL(109,G314:G324)","v":0},null,{"$f":"SUBTOTAL(109,I314:I324)","v":0},null,null,null,null,null,{"$f":"SUBTOTAL(9,O315:O324)","v":0},{"$f":"SUBTOTAL(9,P315:P324)","v":0},null,null,null,null,null,null,{"$f":"SUBTOTAL(9,W315:W324)","v":0},{"$f":"SUBTOTAL(9,X315:X324)","v":0},null,null,null,null,{"$f":"SUBTOTAL(109,AC315:AC324)","v":0},null,{"$f":"SUBTOTAL(109,AE315:AE324)","v":0},null,null,null,null,null,null,null,null,null,null,null,null,null,null,null,null,null,null,null,null,null,null,null,null,null,null,null,null,null,null,null,null,null,"MODELO A - TEMPO - N.º DE HORAS DE TRABALHO"]
[null,{"$f":"IF(B311=\"ocultar\",\"ocultar\",IF('SA - ATIVIDADES'!$G$42=\"Fase Única\",\"ocultar\",IF('SA - ATIVIDADES'!G44=TRUE,\"mostrar\",\"ocultar\")))","v":"ocultar"},"PROJETO - FASE DE ESTUDO PRÉVIO",null,null,null,null,null,null,null,null,null,null,null,null,null,null,null,null,null,null,null,null,null,null,null,null,null,null,null,null,null,null,null,null,null,null,null,null,null,null,null,null,null,null,null,null,null,null,null,null,null,null,null,null,null,null,null,null,null,null,null,null,null,"MODELO A - TEMPO - N.º DE HORAS DE TRABALHO"]
[null,{"$f":"IF($B$326=\"ocultar\",\"ocultar\",IF('SA - ATIVIDADES'!$G$44=TRUE,IF('SA - ATIVIDADES'!$H$44>='SA - SERVICOS BASE'!AH327,\"mostrar\",\"ocultar\"),\"ocultar\"))","v":"ocultar"},"Designação (a preencher)","MODELO A - TEMPO - N.º DE HORAS DE TRABALHO",null,null,0,{"$f":"$H$311","v":0},{"$f":"G327*H327","v":0},null,null,null,null,null,0,{"$f":"$P$311*O327","v":0},null,null,null,null,null,null,0,{"$f":"$X$311*W327","v":0},null,null,0,0,{"$f":"AA327*AB327","v":0},null,{"$f":"BL327","v":0},null,null,1,null,null,null,null,null,null,null,null,null,null,null,null,null,null,null,null,null,null,null,null,null,null,null,null,null,{"$f":"IF(OR(AND(LEFT($D$311,8)=\"MODELO M\", LEFT(D327,8)=\"MODELO A\"), AND(LEFT($D$311,8)=\"MODELO A\", $F$311=\"Atribuir valor detalhado por Fase/Elemento\")), I327, 0)","v":0},{"$f":"IF(OR(AND(LEFT($D$311,8)=\"MODELO M\", LEFT(D327,8)=\"MODELO B\"), AND(LEFT($D$311,8)=\"MODELO B\", $K$311=\"Atribuir valor detalhado por Fase/Elemento\")), P327, 0)","v":0},{"$f":"IF(OR(AND(LEFT($D$311,8)=\"MODELO M\", LEFT(D327,8)=\"MODELO C\"), AND(LEFT($D$311,8)=\"MODELO C\", $R$311=\"Atribuir valor detalhado por Fase/Elemento\")), X327, 0)","v":0},{"$f":"IF(OR(AND(LEFT($D$311,8)=\"MODELO M\", LEFT(D327,8)=\"MODELO D\"), AND(LEFT($D$311,8)=\"MODELO D\", $Z$311=\"Atribuir valor detalhado por Fase/Elemento\")), AC327, 0)","v":0},{"$f":"SUM(BH327:BK327)","v":0},"MODELO A - TEMPO - N.º DE HORAS DE TRABALHO"]
[null,{"$f":"IF($B$326=\"ocultar\",\"ocultar\",IF('SA - ATIVIDADES'!$G$44=TRUE,IF('SA - ATIVIDADES'!$H$44>='SA - SERVICOS BASE'!AH328,\"mostrar\",\"ocultar\"),\"ocultar\"))","v":"ocultar"},"Designação (a preencher)","MODELO A - TEMPO - N.º DE HORAS DE TRABALHO",null,null,0,0,0,null,null,null,null,null,0,{"$f":"$P$311*O328","v":0},null,null,null,null,null,null,0,{"$f":"$X$311*W328","v":0},null,null,0,0,0,null,0,null,null,2,null,null,null,null,null,null,null,null,null,null,null,null,null,null,null,null,null,null,null,null,null,null,null,null,null,0,0,0,0,0,"MODELO A - TEMPO - N.º DE HORAS DE TRABALHO"]
[null,{"$f":"IF($B$326=\"ocultar\",\"ocultar\",IF('SA - ATIVIDADES'!$G$44=TRUE,IF('SA - ATIVIDADES'!$H$44>='SA - SERVICOS BASE'!AH329,\"mostrar\",\"ocultar\"),\"ocultar\"))","v":"ocultar"},"Designação (a preencher)","MODELO A - TEMPO - N.º DE HORAS DE TRABALHO",null,null,0,0,0,null,null,null,null,null,0,0,null,null,null,null,null,null,0,0,null,null,0,0,0,null,0,null,null,3,null,null,null,null,null,null,null,null,null,null,null,null,null,null,null,null,null,null,null,null,null,null,null,null,null,0,0,0,0,0,"MODELO A - TEMPO - N.º DE HORAS DE TRABALHO"]
[null,{"$f":"IF($B$326=\"ocultar\",\"ocultar\",IF('SA - ATIVIDADES'!$G$44=TRUE,IF('SA - ATIVIDADES'!$H$44>='SA - SERVICOS BASE'!AH330,\"mostrar\",\"ocultar\"),\"ocultar\"))","v":"ocultar"},"Designação (a preencher)","MODELO A - TEMPO - N.º DE HORAS DE TRABALHO",null,null,0,0,0,null,null,null,null,null,0,0,null,null,null,null,null,null,0,0,null,null,0,0,0,null,0,null,null,4,null,null,null,null,null,null,null,null,null,null,null,null,null,null,null,null,null,null,null,null,null,null,null,null,null,0,0,0,0,0,"MODELO A - TEMPO - N.º DE HORAS DE TRABALHO"]
[null,{"$f":"IF($B$326=\"ocultar\",\"ocultar\",IF('SA - ATIVIDADES'!$G$44=TRUE,IF('SA - ATIVIDADES'!$H$44>='SA - SERVICOS BASE'!AH331,\"mostrar\",\"ocultar\"),\"ocultar\"))","v":"ocultar"},"Designação (a preencher)","MODELO A - TEMPO - N.º DE HORAS DE TRABALHO",null,null,0,0,0,null,null,null,null,null,0,0,null,null,null,null,null,null,0,0,null,null,0,0,0,null,0,null,null,5,null,null,null,null,null,null,null,null,null,null,null,null,null,null,null,null,null,null,null,null,null,null,null,null,null,0,0,0,0,0,"MODELO A - TEMPO - N.º DE HORAS DE TRABALHO"]
[null,{"$f":"IF($B$326=\"ocultar\",\"ocultar\",IF('SA - ATIVIDADES'!$G$44=TRUE,IF('SA - ATIVIDADES'!$H$44>='SA - SERVICOS BASE'!AH332,\"mostrar\",\"ocultar\"),\"ocultar\"))","v":"ocultar"},"Designação (a preencher)","MODELO A - TEMPO - N.º DE HORAS DE TRABALHO",null,null,0,0,0,null,null,null,null,null,0,0,null,null,null,null,null,null,0,0,null,null,0,0,0,null,0,null,null,6,null,null,null,null,null,null,null,null,null,null,null,null,null,null,null,null,null,null,null,null,null,null,null,null,null,0,0,0,0,0,{"$f":"IF($AH332<>\"\",BM331,IF(LEFT($D332,6)=\"MODELO\",$D332,BM331))","v":"MODELO A - TEMPO - N.º DE HORAS DE TRABALHO"}]
[null,{"$f":"IF($B$326=\"ocultar\",\"ocultar\",IF('SA - ATIVIDADES'!$G$44=TRUE,IF('SA - ATIVIDADES'!$H$44>='SA - SERVICOS BASE'!AH333,\"mostrar\",\"ocultar\"),\"ocultar\"))","v":"ocultar"},"Designação (a preencher)","MODELO A - TEMPO - N.º DE HORAS DE TRABALHO",null,null,0,0,0,null,null,null,null,null,0,0,null,null,null,null,null,null,0,0,null,null,0,0,0,null,0,null,null,7,null,null,null,null,null,null,null,null,null,null,null,null,null,null,null,null,null,null,null,null,null,null,null,null,null,0,0,0,0,0,"MODELO A - TEMPO - N.º DE HORAS DE TRABALHO"]
[null,{"$f":"IF($B$326=\"ocultar\",\"ocultar\",IF('SA - ATIVIDADES'!$G$44=TRUE,IF('SA - ATIVIDADES'!$H$44>='SA - SERVICOS BASE'!AH334,\"mostrar\",\"ocultar\"),\"ocultar\"))","v":"ocultar"},"Designação (a preencher)","MODELO A - TEMPO - N.º DE HORAS DE TRABALHO",null,null,0,0,0,null,null,null,null,null,0,0,null,null,null,null,null,null,0,0,null,null,0,0,0,null,0,null,null,8,null,null,null,null,null,null,null,null,null,null,null,null,null,null,null,null,null,null,null,null,null,null,null,null,null,0,0,0,0,0,"MODELO A - TEMPO - N.º DE HORAS DE TRABALHO"]
[null,{"$f":"IF($B$326=\"ocultar\",\"ocultar\",IF('SA - ATIVIDADES'!$G$44=TRUE,IF('SA - ATIVIDADES'!$H$44>='SA - SERVICOS BASE'!AH335,\"mostrar\",\"ocultar\"),\"ocultar\"))","v":"ocultar"},"Designação (a preencher)","MODELO A - TEMPO - N.º DE HORAS DE TRABALHO",null,null,0,0,0,null,null,null,null,null,0,0,null,null,null,null,null,null,0,0,null,null,0,0,0,null,0,null,null,9,null,null,null,null,null,null,null,null,null,null,null,null,null,null,null,null,null,null,null,null,null,null,null,null,null,0,0,0,0,0,"MODELO A - TEMPO - N.º DE HORAS DE TRABALHO"]
[null,{"$f":"IF($B$326=\"ocultar\",\"ocultar\",IF('SA - ATIVIDADES'!$G$44=TRUE,IF('SA - ATIVIDADES'!$H$44>='SA - SERVICOS BASE'!AH336,\"mostrar\",\"ocultar\"),\"ocultar\"))","v":"ocultar"},"Designação (a preencher)","MODELO A - TEMPO - N.º DE HORAS DE TRABALHO",null,null,0,0,0,null,null,null,null,null,0,0,null,null,null,null,null,null,0,0,null,null,0,0,0,null,0,null,null,10,null,null,null,null,null,null,null,null,null,null,null,null,null,null,null,null,null,null,null,null,null,null,null,null,null,0,0,0,0,0,"MODELO A - TEMPO - N.º DE HORAS DE TRABALHO"]
[null,{"$f":"IF($B$327=\"ocultar\",\"ocultar\",\"mostrar\")","v":"ocultar"},"SUB-TOTAL",null,null,null,{"$f":"SUBTOTAL(109,G326:G336)","v":0},null,{"$f":"SUBTOTAL(109,I326:I336)","v":0},null,null,null,null,null,{"$f":"SUBTOTAL(9,O327:O336)","v":0},{"$f":"SUBTOTAL(9,P327:P336)","v":0},null,null,null,null,null,null,{"$f":"SUBTOTAL(9,W327:W336)","v":0},{"$f":"SUBTOTAL(9,X327:X336)","v":0},null,null,null,null,{"$f":"SUBTOTAL(109,AC327:AC336)","v":0},null,{"$f":"SUBTOTAL(109,AE327:AE336)","v":0},null,null,null,null,null,null,null,null,null,null,null,null,null,null,null,null,null,null,null,null,null,null,null,null,null,null,null,null,null,null,null,null,null,"MODELO A - TEMPO - N.º DE HORAS DE TRABALHO"]
[null,{"$f":"IF(B311=\"ocultar\",\"ocultar\",IF('SA - ATIVIDADES'!$G$42=\"Fase Única\",\"ocultar\",IF('SA - ATIVIDADES'!G45=TRUE,\"mostrar\",\"ocultar\")))","v":"ocultar"},"PROJETO - FASE DE ANTEPROJETO",null,null,null,null,null,null,null,null,null,null,null,null,null,null,null,null,null,null,null,null,null,null,null,null,null,null,null,null,null,null,null,null,null,null,null,null,null,null,null,null,null,null,null,null,null,null,null,null,null,null,null,null,null,null,null,null,null,null,null,null,null,"MODELO A - TEMPO - N.º DE HORAS DE TRABALHO"]
[null,{"$f":"IF($B$338=\"ocultar\",\"ocultar\",IF('SA - ATIVIDADES'!$G$45=TRUE,IF('SA - ATIVIDADES'!$H$45>='SA - SERVICOS BASE'!AH339,\"mostrar\",\"ocultar\"),\"ocultar\"))","v":"ocultar"},"Designação (a preencher)","MODELO A - TEMPO - N.º DE HORAS DE TRABALHO",null,null,0,{"$f":"$H$311","v":0},{"$f":"G339*H339","v":0},null,null,null,null,null,0,{"$f":"$P$311*O339","v":0},null,null,null,null,null,null,0,{"$f":"$X$311*W339","v":0},null,null,0,0,{"$f":"AA339*AB339","v":0},null,{"$f":"BL339","v":0},null,null,1,null,null,null,null,null,null,null,null,null,null,null,null,null,null,null,null,null,null,null,null,null,null,null,null,null,{"$f":"IF(OR(AND(LEFT($D$311,8)=\"MODELO M\", LEFT(D339,8)=\"MODELO A\"), AND(LEFT($D$311,8)=\"MODELO A\", $F$311=\"Atribuir valor detalhado por Fase/Elemento\")), I339, 0)","v":0},{"$f":"IF(OR(AND(LEFT($D$311,8)=\"MODELO M\", LEFT(D339,8)=\"MODELO B\"), AND(LEFT($D$311,8)=\"MODELO B\", $K$311=\"Atribuir valor detalhado por Fase/Elemento\")), P339, 0)","v":0},{"$f":"IF(OR(AND(LEFT($D$311,8)=\"MODELO M\", LEFT(D339,8)=\"MODELO C\"), AND(LEFT($D$311,8)=\"MODELO C\", $R$311=\"Atribuir valor detalhado por Fase/Elemento\")), X339, 0)","v":0},{"$f":"IF(OR(AND(LEFT($D$311,8)=\"MODELO M\", LEFT(D339,8)=\"MODELO D\"), AND(LEFT($D$311,8)=\"MODELO D\", $Z$311=\"Atribuir valor detalhado por Fase/Elemento\")), AC339, 0)","v":0},{"$f":"SUM(BH339:BK339)","v":0},"MODELO A - TEMPO - N.º DE HORAS DE TRABALHO"]
[null,{"$f":"IF($B$338=\"ocultar\",\"ocultar\",IF('SA - ATIVIDADES'!$G$45=TRUE,IF('SA - ATIVIDADES'!$H$45>='SA - SERVICOS BASE'!AH340,\"mostrar\",\"ocultar\"),\"ocultar\"))","v":"ocultar"},"Designação (a preencher)","MODELO A - TEMPO - N.º DE HORAS DE TRABALHO",null,null,0,0,0,null,null,null,null,null,0,{"$f":"$P$311*O340","v":0},null,null,null,null,null,null,0,{"$f":"$X$311*W340","v":0},null,null,0,0,0,null,0,null,null,2,null,null,null,null,null,null,null,null,null,null,null,null,null,null,null,null,null,null,null,null,null,null,null,null,null,0,0,0,0,0,"MODELO A - TEMPO - N.º DE HORAS DE TRABALHO"]
[null,{"$f":"IF($B$338=\"ocultar\",\"ocultar\",IF('SA - ATIVIDADES'!$G$45=TRUE,IF('SA - ATIVIDADES'!$H$45>='SA - SERVICOS BASE'!AH341,\"mostrar\",\"ocultar\"),\"ocultar\"))","v":"ocultar"},"Designação (a preencher)","MODELO A - TEMPO - N.º DE HORAS DE TRABALHO",null,null,0,0,0,null,null,null,null,null,0,0,null,null,null,null,null,null,0,0,null,null,0,0,0,null,0,null,null,3,null,null,null,null,null,null,null,null,null,null,null,null,null,null,null,null,null,null,null,null,null,null,null,null,null,0,0,0,0,0,"MODELO A - TEMPO - N.º DE HORAS DE TRABALHO"]
[null,{"$f":"IF($B$338=\"ocultar\",\"ocultar\",IF('SA - ATIVIDADES'!$G$45=TRUE,IF('SA - ATIVIDADES'!$H$45>='SA - SERVICOS BASE'!AH342,\"mostrar\",\"ocultar\"),\"ocultar\"))","v":"ocultar"},"Designação (a preencher)","MODELO A - TEMPO - N.º DE HORAS DE TRABALHO",null,null,0,0,0,null,null,null,null,null,0,0,null,null,null,null,null,null,0,0,null,null,0,0,0,null,0,null,null,4,null,null,null,null,null,null,null,null,null,null,null,null,null,null,null,null,null,null,null,null,null,null,null,null,null,0,0,0,0,0,"MODELO A - TEMPO - N.º DE HORAS DE TRABALHO"]
[null,{"$f":"IF($B$338=\"ocultar\",\"ocultar\",IF('SA - ATIVIDADES'!$G$45=TRUE,IF('SA - ATIVIDADES'!$H$45>='SA - SERVICOS BASE'!AH343,\"mostrar\",\"ocultar\"),\"ocultar\"))","v":"ocultar"},"Designação (a preencher)","MODELO A - TEMPO - N.º DE HORAS DE TRABALHO",null,null,0,0,0,null,null,null,null,null,0,0,null,null,null,null,null,null,0,0,null,null,0,0,0,null,0,null,null,5,null,null,null,null,null,null,null,null,null,null,null,null,null,null,null,null,null,null,null,null,null,null,null,null,null,0,0,0,0,0,"MODELO A - TEMPO - N.º DE HORAS DE TRABALHO"]
[null,{"$f":"IF($B$338=\"ocultar\",\"ocultar\",IF('SA - ATIVIDADES'!$G$45=TRUE,IF('SA - ATIVIDADES'!$H$45>='SA - SERVICOS BASE'!AH344,\"mostrar\",\"ocultar\"),\"ocultar\"))","v":"ocultar"},"Designação (a preencher)","MODELO A - TEMPO - N.º DE HORAS DE TRABALHO",null,null,0,0,0,null,null,null,null,null,0,0,null,null,null,null,null,null,0,0,null,null,0,0,0,null,0,null,null,6,null,null,null,null,null,null,null,null,null,null,null,null,null,null,null,null,null,null,null,null,null,null,null,null,null,0,0,0,0,0,"MODELO A - TEMPO - N.º DE HORAS DE TRABALHO"]
[null,{"$f":"IF($B$338=\"ocultar\",\"ocultar\",IF('SA - ATIVIDADES'!$G$45=TRUE,IF('SA - ATIVIDADES'!$H$45>='SA - SERVICOS BASE'!AH345,\"mostrar\",\"ocultar\"),\"ocultar\"))","v":"ocultar"},"Designação (a preencher)","MODELO A - TEMPO - N.º DE HORAS DE TRABALHO",null,null,0,0,0,null,null,null,null,null,0,0,null,null,null,null,null,null,0,0,null,null,0,0,0,null,0,null,null,7,null,null,null,null,null,null,null,null,null,null,null,null,null,null,null,null,null,null,null,null,null,null,null,null,null,0,0,0,0,0,"MODELO A - TEMPO - N.º DE HORAS DE TRABALHO"]
[null,{"$f":"IF($B$338=\"ocultar\",\"ocultar\",IF('SA - ATIVIDADES'!$G$45=TRUE,IF('SA - ATIVIDADES'!$H$45>='SA - SERVICOS BASE'!AH346,\"mostrar\",\"ocultar\"),\"ocultar\"))","v":"ocultar"},"Designação (a preencher)","MODELO A - TEMPO - N.º DE HORAS DE TRABALHO",null,null,0,0,0,null,null,null,null,null,0,0,null,null,null,null,null,null,0,0,null,null,0,0,0,null,0,null,null,8,null,null,null,null,null,null,null,null,null,null,null,null,null,null,null,null,null,null,null,null,null,null,null,null,null,0,0,0,0,0,"MODELO A - TEMPO - N.º DE HORAS DE TRABALHO"]
[null,{"$f":"IF($B$338=\"ocultar\",\"ocultar\",IF('SA - ATIVIDADES'!$G$45=TRUE,IF('SA - ATIVIDADES'!$H$45>='SA - SERVICOS BASE'!AH347,\"mostrar\",\"ocultar\"),\"ocultar\"))","v":"ocultar"},"Designação (a preencher)","MODELO A - TEMPO - N.º DE HORAS DE TRABALHO",null,null,0,0,0,null,null,null,null,null,0,0,null,null,null,null,null,null,0,0,null,null,0,0,0,null,0,null,null,9,null,null,null,null,null,null,null,null,null,null,null,null,null,null,null,null,null,null,null,null,null,null,null,null,null,0,0,0,0,0,"MODELO A - TEMPO - N.º DE HORAS DE TRABALHO"]
[null,{"$f":"IF($B$338=\"ocultar\",\"ocultar\",IF('SA - ATIVIDADES'!$G$45=TRUE,IF('SA - ATIVIDADES'!$H$45>='SA - SERVICOS BASE'!AH348,\"mostrar\",\"ocultar\"),\"ocultar\"))","v":"ocultar"},"Designação (a preencher)","MODELO A - TEMPO - N.º DE HORAS DE TRABALHO",null,null,0,0,0,null,null,null,null,null,0,0,null,null,null,null,null,null,0,0,null,null,0,0,0,null,0,null,null,10,null,null,null,null,null,null,null,null,null,null,null,null,null,null,null,null,null,null,null,null,null,null,null,null,null,0,0,0,0,0,"MODELO A - TEMPO - N.º DE HORAS DE TRABALHO"]
[null,{"$f":"IF($B$339=\"ocultar\",\"ocultar\",\"mostrar\")","v":"ocultar"},"SUB-TOTAL",null,null,null,{"$f":"SUBTOTAL(109,G338:G348)","v":0},null,{"$f":"SUBTOTAL(109,I338:I348)","v":0},null,null,null,null,null,{"$f":"SUBTOTAL(9,O339:O348)","v":0},{"$f":"SUBTOTAL(9,P339:P348)","v":0},null,null,null,null,null,null,{"$f":"SUBTOTAL(9,W339:W348)","v":0},{"$f":"SUBTOTAL(9,X339:X348)","v":0},null,null,null,null,{"$f":"SUBTOTAL(109,AC339:AC348)","v":0},null,{"$f":"SUBTOTAL(109,AE339:AE348)","v":0},null,null,null,null,null,null,null,null,null,null,null,null,null,null,null,null,null,null,null,null,null,null,null,null,null,null,null,null,null,null,null,null,null,"MODELO A - TEMPO - N.º DE HORAS DE TRABALHO"]
[null,{"$f":"IF(B311=\"ocultar\",\"ocultar\",IF('SA - ATIVIDADES'!$G$42=\"Fase Única\",\"ocultar\",IF('SA - ATIVIDADES'!G46=TRUE,\"mostrar\",\"ocultar\")))","v":"ocultar"},"PROJETO  - FASE DE PROJETO DE EXECUÇÃO",null,null,null,null,null,null,null,null,null,null,null,null,null,null,null,null,null,null,null,null,null,null,null,null,null,null,null,null,null,null,null,null,null,null,null,null,null,null,null,null,null,null,null,null,null,null,null,null,null,null,null,null,null,null,null,null,null,null,null,null,null,"MODELO A - TEMPO - N.º DE HORAS DE TRABALHO"]
[null,{"$f":"IF($B$350=\"ocultar\",\"ocultar\",IF('SA - ATIVIDADES'!$G$46=TRUE,IF('SA - ATIVIDADES'!$H$46>='SA - SERVICOS BASE'!AH351,\"mostrar\",\"ocultar\"),\"ocultar\"))","v":"ocultar"},"Designação (a preencher)","MODELO A - TEMPO - N.º DE HORAS DE TRABALHO",null,null,0,{"$f":"$H$311","v":0},{"$f":"G351*H351","v":0},null,null,null,null,null,0,{"$f":"$P$311*O351","v":0},null,null,null,null,null,null,0,{"$f":"$X$311*W351","v":0},null,null,0,0,{"$f":"AA351*AB351","v":0},null,{"$f":"BL351","v":0},null,null,1,null,null,null,null,null,null,null,null,null,null,null,null,null,null,null,null,null,null,null,null,null,null,null,null,null,{"$f":"IF(OR(AND(LEFT($D$311,8)=\"MODELO M\", LEFT(D351,8)=\"MODELO A\"), AND(LEFT($D$311,8)=\"MODELO A\", $F$311=\"Atribuir valor detalhado por Fase/Elemento\")), I351, 0)","v":0},{"$f":"IF(OR(AND(LEFT($D$311,8)=\"MODELO M\", LEFT(D351,8)=\"MODELO B\"), AND(LEFT($D$311,8)=\"MODELO B\", $K$311=\"Atribuir valor detalhado por Fase/Elemento\")), P351, 0)","v":0},{"$f":"IF(OR(AND(LEFT($D$311,8)=\"MODELO M\", LEFT(D351,8)=\"MODELO C\"), AND(LEFT($D$311,8)=\"MODELO C\", $R$311=\"Atribuir valor detalhado por Fase/Elemento\")), X351, 0)","v":0},{"$f":"IF(OR(AND(LEFT($D$311,8)=\"MODELO M\", LEFT(D351,8)=\"MODELO D\"), AND(LEFT($D$311,8)=\"MODELO D\", $Z$311=\"Atribuir valor detalhado por Fase/Elemento\")), AC351, 0)","v":0},{"$f":"SUM(BH351:BK351)","v":0},"MODELO A - TEMPO - N.º DE HORAS DE TRABALHO"]
[null,{"$f":"IF($B$350=\"ocultar\",\"ocultar\",IF('SA - ATIVIDADES'!$G$46=TRUE,IF('SA - ATIVIDADES'!$H$46>='SA - SERVICOS BASE'!AH352,\"mostrar\",\"ocultar\"),\"ocultar\"))","v":"ocultar"},"Designação (a preencher)","MODELO A - TEMPO - N.º DE HORAS DE TRABALHO",null,null,0,0,0,null,null,null,null,null,0,{"$f":"$P$311*O352","v":0},null,null,null,null,null,null,0,{"$f":"$X$311*W352","v":0},null,null,0,0,0,null,0,null,null,2,null,null,null,null,null,null,null,null,null,null,null,null,null,null,null,null,null,null,null,null,null,null,null,null,null,0,0,0,0,0,"MODELO A - TEMPO - N.º DE HORAS DE TRABALHO"]
[null,{"$f":"IF($B$350=\"ocultar\",\"ocultar\",IF('SA - ATIVIDADES'!$G$46=TRUE,IF('SA - ATIVIDADES'!$H$46>='SA - SERVICOS BASE'!AH353,\"mostrar\",\"ocultar\"),\"ocultar\"))","v":"ocultar"},"Designação (a preencher)","MODELO A - TEMPO - N.º DE HORAS DE TRABALHO",null,null,0,0,0,null,null,null,null,null,0,0,null,null,null,null,null,null,0,0,null,null,0,0,0,null,0,null,null,3,null,null,null,null,null,null,null,null,null,null,null,null,null,null,null,null,null,null,null,null,null,null,null,null,null,{"$f":"IF(OR(AND(LEFT($D$311,8)=\"MODELO M\", LEFT(D353,8)=\"MODELO A\"), AND(LEFT($D$311,8)=\"MODELO A\", $F$311=\"Atribuir valor detalhado por Fase/Elemento\")), I353, 0)","v":0},0,0,0,0,"MODELO A - TEMPO - N.º DE HORAS DE TRABALHO"]
[null,{"$f":"IF($B$350=\"ocultar\",\"ocultar\",IF('SA - ATIVIDADES'!$G$46=TRUE,IF('SA - ATIVIDADES'!$H$46>='SA - SERVICOS BASE'!AH354,\"mostrar\",\"ocultar\"),\"ocultar\"))","v":"ocultar"},"Designação (a preencher)","MODELO A - TEMPO - N.º DE HORAS DE TRABALHO",null,null,0,0,0,null,null,null,null,null,0,0,null,null,null,null,null,null,0,0,null,null,0,0,0,null,0,null,null,4,null,null,null,null,null,null,null,null,null,null,null,null,null,null,null,null,null,null,null,null,null,null,null,null,null,0,0,0,0,0,"MODELO A - TEMPO - N.º DE HORAS DE TRABALHO"]
[null,{"$f":"IF($B$350=\"ocultar\",\"ocultar\",IF('SA - ATIVIDADES'!$G$46=TRUE,IF('SA - ATIVIDADES'!$H$46>='SA - SERVICOS BASE'!AH355,\"mostrar\",\"ocultar\"),\"ocultar\"))","v":"ocultar"},"Designação (a preencher)","MODELO A - TEMPO - N.º DE HORAS DE TRABALHO",null,null,0,0,0,null,null,null,null,null,0,0,null,null,null,null,null,null,0,0,null,null,0,0,0,null,0,null,null,5,null,null,null,null,null,null,null,null,null,null,null,null,null,null,null,null,null,null,null,null,null,null,null,null,null,0,0,0,0,0,"MODELO A - TEMPO - N.º DE HORAS DE TRABALHO"]
[null,{"$f":"IF($B$350=\"ocultar\",\"ocultar\",IF('SA - ATIVIDADES'!$G$46=TRUE,IF('SA - ATIVIDADES'!$H$46>='SA - SERVICOS BASE'!AH356,\"mostrar\",\"ocultar\"),\"ocultar\"))","v":"ocultar"},"Designação (a preencher)","MODELO A - TEMPO - N.º DE HORAS DE TRABALHO",null,null,0,0,0,null,null,null,null,null,0,0,null,null,null,null,null,null,0,0,null,null,0,0,0,null,0,null,null,6,null,null,null,null,null,null,null,null,null,null,null,null,null,null,null,null,null,null,null,null,null,null,null,null,null,0,0,0,0,0,"MODELO A - TEMPO - N.º DE HORAS DE TRABALHO"]
[null,{"$f":"IF($B$350=\"ocultar\",\"ocultar\",IF('SA - ATIVIDADES'!$G$46=TRUE,IF('SA - ATIVIDADES'!$H$46>='SA - SERVICOS BASE'!AH357,\"mostrar\",\"ocultar\"),\"ocultar\"))","v":"ocultar"},"Designação (a preencher)","MODELO A - TEMPO - N.º DE HORAS DE TRABALHO",null,null,0,0,0,null,null,null,null,null,0,0,null,null,null,null,null,null,0,0,null,null,0,0,0,null,0,null,null,7,null,null,null,null,null,null,null,null,null,null,null,null,null,null,null,null,null,null,null,null,null,null,null,null,null,0,0,0,0,0,"MODELO A - TEMPO - N.º DE HORAS DE TRABALHO"]
[null,{"$f":"IF($B$350=\"ocultar\",\"ocultar\",IF('SA - ATIVIDADES'!$G$46=TRUE,IF('SA - ATIVIDADES'!$H$46>='SA - SERVICOS BASE'!AH358,\"mostrar\",\"ocultar\"),\"ocultar\"))","v":"ocultar"},"Designação (a preencher)","MODELO A - TEMPO - N.º DE HORAS DE TRABALHO",null,null,0,0,0,null,null,null,null,null,0,0,null,null,null,null,null,null,0,0,null,null,0,0,0,null,0,null,null,8,null,null,null,null,null,null,null,null,null,null,null,null,null,null,null,null,null,null,null,null,null,null,null,null,null,0,0,0,0,0,"MODELO A - TEMPO - N.º DE HORAS DE TRABALHO"]
[null,{"$f":"IF($B$350=\"ocultar\",\"ocultar\",IF('SA - ATIVIDADES'!$G$46=TRUE,IF('SA - ATIVIDADES'!$H$46>='SA - SERVICOS BASE'!AH359,\"mostrar\",\"ocultar\"),\"ocultar\"))","v":"ocultar"},"Designação (a preencher)","MODELO A - TEMPO - N.º DE HORAS DE TRABALHO",null,null,0,0,0,null,null,null,null,null,0,0,null,null,null,null,null,null,0,0,null,null,0,0,0,null,0,null,null,9,null,null,null,null,null,null,null,null,null,null,null,null,null,null,null,null,null,null,null,null,null,null,null,null,null,0,0,0,0,0,"MODELO A - TEMPO - N.º DE HORAS DE TRABALHO"]
[null,{"$f":"IF($B$350=\"ocultar\",\"ocultar\",IF('SA - ATIVIDADES'!$G$46=TRUE,IF('SA - ATIVIDADES'!$H$46>='SA - SERVICOS BASE'!AH360,\"mostrar\",\"ocultar\"),\"ocultar\"))","v":"ocultar"},"Designação (a preencher)","MODELO A - TEMPO - N.º DE HORAS DE TRABALHO",null,null,0,0,0,null,null,null,null,null,0,0,null,null,null,null,null,null,0,0,null,null,0,0,0,null,0,null,null,10,null,null,null,null,null,null,null,null,null,null,null,null,null,null,null,null,null,null,null,null,null,null,null,null,null,0,0,0,0,0,"MODELO A - TEMPO - N.º DE HORAS DE TRABALHO"]
[null,{"$f":"IF($B$351=\"ocultar\",\"ocultar\",\"mostrar\")","v":"ocultar"},"SUB-TOTAL",null,null,null,{"$f":"SUBTOTAL(109,G350:G360)","v":0},null,{"$f":"SUBTOTAL(109,I350:I360)","v":0},null,null,null,null,null,{"$f":"SUBTOTAL(9,O351:O360)","v":0},{"$f":"SUBTOTAL(9,P351:P360)","v":0},null,null,null,null,null,null,{"$f":"SUBTOTAL(9,W351:W360)","v":0},{"$f":"SUBTOTAL(9,X351:X360)","v":0},null,null,null,null,{"$f":"SUBTOTAL(109,AC351:AC360)","v":0},null,{"$f":"SUBTOTAL(109,AE351:AE360)","v":0},null,null,null,null,null,null,null,null,null,null,null,null,null,null,null,null,null,null,null,null,null,null,null,null,null,null,null,null,null,null,null,null,null,"MODELO A - TEMPO - N.º DE HORAS DE TRABALHO"]
[null,{"$f":"IF($B$311=\"ocultar\",\"ocultar\",IF('SA - ATIVIDADES'!$G$42=\"Fase Única\",\"ocultar\",IF('SA - ATIVIDADES'!G47=TRUE,\"mostrar\",\"ocultar\")))","v":"ocultar"},"ASSISTÊNCIA TÉCNICA",null,null,null,null,null,null,null,null,null,null,null,null,null,null,null,null,null,null,null,null,null,null,null,null,null,null,null,null,null,null,null,null,null,null,null,null,null,null,null,null,null,null,null,null,null,null,null,null,null,null,null,null,null,null,null,null,null,null,null,null,null,"MODELO A - TEMPO - N.º DE HORAS DE TRABALHO"]
[null,{"$f":"IF($B$350=\"ocultar\",\"ocultar\",IF('SA - ATIVIDADES'!$G$46=TRUE,IF('SA - ATIVIDADES'!$H$46>='SA - SERVICOS BASE'!AH363,\"mostrar\",\"ocultar\"),\"ocultar\"))","v":"ocultar"},"Designação (a preencher)","MODELO A - TEMPO - N.º DE HORAS DE TRABALHO",null,null,0,{"$f":"$H$311","v":0},{"$f":"G363*H363","v":0},null,null,null,null,null,0,{"$f":"$P$311*O363","v":0},null,null,null,null,null,null,0,{"$f":"$X$311*W363","v":0},null,null,0,0,{"$f":"AA363*AB363","v":0},null,{"$f":"BL363","v":0},null,null,1,null,null,null,null,null,null,null,null,null,null,null,null,null,null,null,null,null,null,null,null,null,null,null,null,null,{"$f":"IF(OR(AND(LEFT($D$311,8)=\"MODELO M\", LEFT(D363,8)=\"MODELO A\"), AND(LEFT($D$311,8)=\"MODELO A\", $F$311=\"Atribuir valor detalhado por Fase/Elemento\")), I363, 0)","v":0},{"$f":"IF(OR(AND(LEFT($D$311,8)=\"MODELO M\", LEFT(D363,8)=\"MODELO B\"), AND(LEFT($D$311,8)=\"MODELO B\", $K$311=\"Atribuir valor detalhado por Fase/Elemento\")), P363, 0)","v":0},{"$f":"IF(OR(AND(LEFT($D$311,8)=\"MODELO M\", LEFT(D363,8)=\"MODELO C\"), AND(LEFT($D$311,8)=\"MODELO C\", $R$311=\"Atribuir valor detalhado por Fase/Elemento\")), X363, 0)","v":0},{"$f":"IF(OR(AND(LEFT($D$311,8)=\"MODELO M\", LEFT(D363,8)=\"MODELO D\"), AND(LEFT($D$311,8)=\"MODELO D\", $Z$311=\"Atribuir valor detalhado por Fase/Elemento\")), AC363, 0)","v":0},{"$f":"SUM(BH363:BK363)","v":0},"MODELO A - TEMPO - N.º DE HORAS DE TRABALHO"]
[null,{"$f":"IF($B$350=\"ocultar\",\"ocultar\",IF('SA - ATIVIDADES'!$G$46=TRUE,IF('SA - ATIVIDADES'!$H$46>='SA - SERVICOS BASE'!AH364,\"mostrar\",\"ocultar\"),\"ocultar\"))","v":"ocultar"},"Designação (a preencher)","MODELO A - TEMPO - N.º DE HORAS DE TRABALHO",null,null,0,0,0,null,null,null,null,null,0,{"$f":"$P$311*O364","v":0},null,null,null,null,null,null,0,{"$f":"$X$311*W364","v":0},null,null,0,0,0,null,0,null,null,2,null,null,null,null,null,null,null,null,null,null,null,null,null,null,null,null,null,null,null,null,null,null,null,null,null,0,0,0,0,0,"MODELO A - TEMPO - N.º DE HORAS DE TRABALHO"]
[null,{"$f":"IF($B$350=\"ocultar\",\"ocultar\",IF('SA - ATIVIDADES'!$G$46=TRUE,IF('SA - ATIVIDADES'!$H$46>='SA - SERVICOS BASE'!AH365,\"mostrar\",\"ocultar\"),\"ocultar\"))","v":"ocultar"},"Designação (a preencher)","MODELO A - TEMPO - N.º DE HORAS DE TRABALHO",null,null,0,0,0,null,null,null,null,null,0,0,null,null,null,null,null,null,0,0,null,null,0,0,0,null,0,null,null,3,null,null,null,null,null,null,null,null,null,null,null,null,null,null,null,null,null,null,null,null,null,null,null,null,null,{"$f":"IF(OR(AND(LEFT($D$311,8)=\"MODELO M\", LEFT(D365,8)=\"MODELO A\"), AND(LEFT($D$311,8)=\"MODELO A\", $F$311=\"Atribuir valor detalhado por Fase/Elemento\")), I365, 0)","v":0},0,0,0,0,"MODELO A - TEMPO - N.º DE HORAS DE TRABALHO"]
[null,{"$f":"IF($B$350=\"ocultar\",\"ocultar\",IF('SA - ATIVIDADES'!$G$46=TRUE,IF('SA - ATIVIDADES'!$H$46>='SA - SERVICOS BASE'!AH366,\"mostrar\",\"ocultar\"),\"ocultar\"))","v":"ocultar"},"Designação (a preencher)","MODELO A - TEMPO - N.º DE HORAS DE TRABALHO",null,null,0,0,0,null,null,null,null,null,0,0,null,null,null,null,null,null,0,0,null,null,0,0,0,null,0,null,null,4,null,null,null,null,null,null,null,null,null,null,null,null,null,null,null,null,null,null,null,null,null,null,null,null,null,{"$f":"IF(OR(AND(LEFT($D$311,8)=\"MODELO M\", LEFT(D366,8)=\"MODELO A\"), AND(LEFT($D$311,8)=\"MODELO A\", $F$311=\"Atribuir valor detalhado por Fase/Elemento\")), I366, 0)","v":0},0,0,0,0,"MODELO A - TEMPO - N.º DE HORAS DE TRABALHO"]
[null,{"$f":"IF($B$350=\"ocultar\",\"ocultar\",IF('SA - ATIVIDADES'!$G$46=TRUE,IF('SA - ATIVIDADES'!$H$46>='SA - SERVICOS BASE'!AH367,\"mostrar\",\"ocultar\"),\"ocultar\"))","v":"ocultar"},"Designação (a preencher)","MODELO A - TEMPO - N.º DE HORAS DE TRABALHO",null,null,0,0,0,null,null,null,null,null,0,0,null,null,null,null,null,null,0,0,null,null,0,0,0,null,0,null,null,5,null,null,null,null,null,null,null,null,null,null,null,null,null,null,null,null,null,null,null,null,null,null,null,null,null,0,0,0,0,0,"MODELO A - TEMPO - N.º DE HORAS DE TRABALHO"]
[null,{"$f":"IF($B$350=\"ocultar\",\"ocultar\",IF('SA - ATIVIDADES'!$G$46=TRUE,IF('SA - ATIVIDADES'!$H$46>='SA - SERVICOS BASE'!AH368,\"mostrar\",\"ocultar\"),\"ocultar\"))","v":"ocultar"},"Designação (a preencher)","MODELO A - TEMPO - N.º DE HORAS DE TRABALHO",null,null,0,0,0,null,null,null,null,null,0,0,null,null,null,null,null,null,0,0,null,null,0,0,0,null,0,null,null,6,null,null,null,null,null,null,null,null,null,null,null,null,null,null,null,null,null,null,null,null,null,null,null,null,null,0,0,0,0,0,"MODELO A - TEMPO - N.º DE HORAS DE TRABALHO"]
[null,{"$f":"IF($B$350=\"ocultar\",\"ocultar\",IF('SA - ATIVIDADES'!$G$46=TRUE,IF('SA - ATIVIDADES'!$H$46>='SA - SERVICOS BASE'!AH369,\"mostrar\",\"ocultar\"),\"ocultar\"))","v":"ocultar"},"Designação (a preencher)","MODELO A - TEMPO - N.º DE HORAS DE TRABALHO",null,null,0,0,0,null,null,null,null,null,0,0,null,null,null,null,null,null,0,0,null,null,0,0,0,null,0,null,null,7,null,null,null,null,null,null,null,null,null,null,null,null,null,null,null,null,null,null,null,null,null,null,null,null,null,0,0,0,0,0,"MODELO A - TEMPO - N.º DE HORAS DE TRABALHO"]
[null,{"$f":"IF($B$350=\"ocultar\",\"ocultar\",IF('SA - ATIVIDADES'!$G$46=TRUE,IF('SA - ATIVIDADES'!$H$46>='SA - SERVICOS BASE'!AH370,\"mostrar\",\"ocultar\"),\"ocultar\"))","v":"ocultar"},"Designação (a preencher)","MODELO A - TEMPO - N.º DE HORAS DE TRABALHO",null,null,0,0,0,null,null,null,null,null,0,0,null,null,null,null,null,null,0,0,null,null,0,0,0,null,0,null,null,8,null,null,null,null,null,null,null,null,null,null,null,null,null,null,null,null,null,null,null,null,null,null,null,null,null,0,0,0,0,0,"MODELO A - TEMPO - N.º DE HORAS DE TRABALHO"]
[null,{"$f":"IF($B$350=\"ocultar\",\"ocultar\",IF('SA - ATIVIDADES'!$G$46=TRUE,IF('SA - ATIVIDADES'!$H$46>='SA - SERVICOS BASE'!AH371,\"mostrar\",\"ocultar\"),\"ocultar\"))","v":"ocultar"},"Designação (a preencher)","MODELO A - TEMPO - N.º DE HORAS DE TRABALHO",null,null,0,0,0,null,null,null,null,null,0,0,null,null,null,null,null,null,0,0,null,null,0,0,0,null,0,null,null,9,null,null,null,null,null,null,null,null,null,null,null,null,null,null,null,null,null,null,null,null,null,null,null,null,null,0,0,0,0,0,"MODELO A - TEMPO - N.º DE HORAS DE TRABALHO"]
[null,{"$f":"IF($B$350=\"ocultar\",\"ocultar\",IF('SA - ATIVIDADES'!$G$46=TRUE,IF('SA - ATIVIDADES'!$H$46>='SA - SERVICOS BASE'!AH372,\"mostrar\",\"ocultar\"),\"ocultar\"))","v":"ocultar"},"Designação (a preencher)","MODELO A - TEMPO - N.º DE HORAS DE TRABALHO",null,null,0,0,0,null,null,null,null,null,0,0,null,null,null,null,null,null,0,0,null,null,0,0,0,null,0,null,null,10,null,null,null,null,null,null,null,null,null,null,null,null,null,null,null,null,null,null,null,null,null,null,null,null,null,0,0,0,0,0,"MODELO A - TEMPO - N.º DE HORAS DE TRABALHO"]
[null,{"$f":"IF($B$362=\"ocultar\",\"ocultar\",\"mostrar\")","v":"ocultar"},"SUB-TOTAL",null,null,null,{"$f":"SUBTOTAL(109,G362:G372)","v":0},null,{"$f":"SUBTOTAL(109,I362:I372)","v":0},null,null,null,null,null,{"$f":"SUBTOTAL(9,O363:O372)","v":0},{"$f":"SUBTOTAL(9,P363:P372)","v":0},null,null,null,null,null,null,{"$f":"SUBTOTAL(9,W363:W372)","v":0},{"$f":"SUBTOTAL(9,X363:X372)","v":0},null,null,null,null,0,null,{"$f":"SUBTOTAL(109,AE363:AE372)","v":0},null,null,null,null,null,null,null,null,null,null,null,null,null,null,null,null,null,null,null,null,null,null,null,null,null,null,null,null,null,null,null,null,null,"MODELO A - TEMPO - N.º DE HORAS DE TRABALHO"]
[null,{"$f":"IF($B$311=\"ocultar\",\"ocultar\",\"mostrar\")","v":"ocultar"},"TOTAL",null,null,null,{"$f":"IF($F311=\"Atribuir valor global à atividade\",G311,SUBTOTAL(109,G314:G373))","v":0},null,{"$f":"IF($F311=\"Atribuir valor global à atividade\",I311,SUBTOTAL(109,I314:I373))","v":0},null,null,null,null,null,{"$f":"IF($K$311=\"Atribuir valor global à atividade\",1,SUBTOTAL(109,O315:O373))","v":1},{"$f":"IF($K311=\"Atribuir valor global à atividade\",P311,SUBTOTAL(109,P315:P373))","v":0},null,null,null,null,null,null,{"$f":"IF($R$311=\"Atribuir valor global à atividade\",1,SUBTOTAL(109,W315:W373))","v":1},{"$f":"IF($R311=\"Atribuir valor global à atividade\",X311,SUBTOTAL(109,X315:X373))","v":0},null,null,null,null,{"$f":"IF($Z$311=\"Atribuir valor global à atividade\",AC311,SUBTOTAL(109,AC315:AC373))","v":0},null,{"$f":"BL311","v":0},null,null,null,null,null,null,null,null,null,null,null,null,null,null,null,null,null,null,null,null,null,null,null,null,null,null,null,null,null,null,null,null,null,"MODELO A - TEMPO - N.º DE HORAS DE TRABALHO"]
[null,{"$f":"IF($B$311=\"ocultar\",\"ocultar\",\"mostrar\")","v":"ocultar"},null,null,null,null,null,null,null,null,null,null,null,null,null,null,null,null,null,null,null,null,null,null,null,null,null,null,null,null,null,null,null,null,null,null,null,null,null,null,null,null,null,null,null,null,null,null,null,null,null,null,null,null,null,null,null,null,null,null,null,null,null,null,"MODELO A - TEMPO - N.º DE HORAS DE TRABALHO"]
[null,{"$f":"IF('SA - ATIVIDADES'!$F$49<>TRUE,\"ocultar\",\"mostrar\")","v":"ocultar"},"A8. PROJETO DE SEGURANÇA CONTRA INCÊNDIOS EM EDIFÍCIOS OU FICHA DE SEGURANÇA","MODELO A - TEMPO - N.º DE HORAS DE TRABALHO",null,"Atribuir valor global à atividade",0,0,{"$f":"G376*H376","v":0},null,"Atribuir valor global à atividade","Valor Global Obra (VG Obra)",{"$f":"IF(L376=\"Valor Global Obra (VG Obra)\",$M$9,\"\")","v":0},0,0,{"$f":"IF(L376=\"Valor Global Obra (VG Obra)\",M376*O376,N376*O376)","v":0},null,"Atribuir valor global à atividade","Valor/m2 fixo (VF m2)",{"$f":"IF(S376=\"Valor/m2 fixo (VF m2)\",$T$9,\"\")","v":0},0,0,null,{"$f":"IF(S376=\"Valor/m2 fixo (VF m2)\",T376*1*V376,U376*1*V376)","v":0},null,"Atribuir valor global à atividade",0,0,{"$f":"AA376*AB376","v":0},null,{"$f":"BL376","v":0},null,null,null,null,null,null,null,null,null,null,null,null,null,null,null,null,null,null,null,null,null,null,null,null,null,null,null,null,{"$f":"IF(LEFT($D$376,8)=\"MODELO A\",IF($F$376=\"Atribuir valor detalhado por Fase/Elemento\",SUBTOTAL(109,BH380:BH437),I376),IF(LEFT($D$376,8)=\"MODELO M\",SUBTOTAL(109,BH380:BH437),0))","v":0},{"$f":"IF(LEFT($D$376,8)=\"MODELO B\",IF($K$376=\"Atribuir valor detalhado por Fase/Elemento\",SUBTOTAL(109,BI380:BI437),P376),IF(LEFT($D$376,8)=\"MODELO M\",SUBTOTAL(109,BI380:BI437),0))","v":0},{"$f":"IF(LEFT($D$376,8)=\"MODELO C\",IF($R$376=\"Atribuir valor detalhado por Fase/Elemento\",SUBTOTAL(109,BJ380:BJ437),X376),IF(LEFT($D$376,8)=\"MODELO M\",SUBTOTAL(109,BJ380:BJ437),0))","v":0},{"$f":"IF(LEFT($D$376,8)=\"MODELO D\",IF($Z$376=\"Atribuir valor detalhado por Fase/Elemento\",SUBTOTAL(109,BK380:BK437),AC376),IF(LEFT($D$376,8)=\"MODELO M\",SUBTOTAL(109,BK380:BK437),0))","v":0},{"$f":"SUM(BH376:BK376)","v":0},"MODELO A - TEMPO - N.º DE HORAS DE TRABALHO"]
[null,{"$f":"IF($B$376=\"ocultar\",\"ocultar\",\"mostrar\")","v":"ocultar"},null,null,null,null,null,null,null,null,null,null,null,null,null,null,null,null,null,null,null,null,null,null,null,null,null,null,null,null,null,null,null,null,null,null,null,null,null,null,null,null,null,null,null,null,null,null,null,null,null,null,null,null,null,null,null,null,null,null,null,null,null,null,"MODELO A - TEMPO - N.º DE HORAS DE TRABALHO"]
[null,"ocultar",null,null,null,null,null,null,null,null,null,null,null,null,null,null,null,null,null,null,null,null,null,null,null,null,null,null,null,null,null,null,null,null,null,null,null,null,null,null,null,null,null,null,null,null,null,null,null,null,null,null,null,null,null,null,null,null,null,null,null,null,null,null,"MODELO A - TEMPO - N.º DE HORAS DE TRABALHO"]
[null,{"$f":"IF(B376=\"ocultar\",\"ocultar\",IF('SA - ATIVIDADES'!$G$49=\"Fase Única\",\"ocultar\",IF('SA - ATIVIDADES'!G50=TRUE,\"mostrar\",\"ocultar\")))","v":"ocultar"},"PROJETO - FASE DE PROGRAMA BASE",null,null,null,null,null,null,null,null,null,null,null,null,null,null,null,null,null,null,null,null,null,null,null,null,null,null,null,null,null,null,null,null,null,null,null,null,null,null,null,null,null,null,null,null,null,null,null,null,null,null,null,null,null,null,null,null,null,null,null,null,null,"MODELO A - TEMPO - N.º DE HORAS DE TRABALHO"]
[null,{"$f":"IF($B$379=\"ocultar\",\"ocultar\",IF('SA - ATIVIDADES'!$G$50=TRUE,IF('SA - ATIVIDADES'!$H$50>='SA - SERVICOS BASE'!AH380,\"mostrar\",\"ocultar\"),\"ocultar\"))","v":"ocultar"},"Designação (a preencher)","MODELO A - TEMPO - N.º DE HORAS DE TRABALHO",null,null,0,{"$f":"$H$376","v":0},{"$f":"G380*H380","v":0},null,null,null,null,null,0,{"$f":"$P$376*O380","v":0},null,null,null,null,null,null,0,{"$f":"$X$376*W380","v":0},null,null,0,0,{"$f":"AA380*AB380","v":0},null,{"$f":"BL380","v":0},null,null,1,null,null,null,null,null,null,null,null,null,null,null,null,null,null,null,null,null,null,null,null,null,null,null,null,null,{"$f":"IF(OR(AND(LEFT($D$376,8)=\"MODELO M\", LEFT(D380,8)=\"MODELO A\"), AND(LEFT($D$376,8)=\"MODELO A\", $F$376=\"Atribuir valor detalhado por Fase/Elemento\")), I380, 0)","v":0},{"$f":"IF(OR(AND(LEFT($D$376,8)=\"MODELO M\", LEFT(D380,8)=\"MODELO B\"), AND(LEFT($D$376,8)=\"MODELO B\", $K$376=\"Atribuir valor detalhado por Fase/Elemento\")), P380, 0)","v":0},{"$f":"IF(OR(AND(LEFT($D$376,8)=\"MODELO M\", LEFT(D380,8)=\"MODELO C\"), AND(LEFT($D$376,8)=\"MODELO C\", $R$376=\"Atribuir valor detalhado por Fase/Elemento\")), X380, 0)","v":0},{"$f":"IF(OR(AND(LEFT($D$376,8)=\"MODELO M\", LEFT(D380,8)=\"MODELO D\"), AND(LEFT($D$376,8)=\"MODELO D\", $Z$376=\"Atribuir valor detalhado por Fase/Elemento\")), AC380, 0)","v":0},{"$f":"SUM(BH380:BK380)","v":0},"MODELO A - TEMPO - N.º DE HORAS DE TRABALHO"]
[null,{"$f":"IF($B$379=\"ocultar\",\"ocultar\",IF('SA - ATIVIDADES'!$G$50=TRUE,IF('SA - ATIVIDADES'!$H$50>='SA - SERVICOS BASE'!AH381,\"mostrar\",\"ocultar\"),\"ocultar\"))","v":"ocultar"},"Designação (a preencher)","MODELO A - TEMPO - N.º DE HORAS DE TRABALHO",null,null,0,0,0,null,null,null,null,null,0,{"$f":"$P$376*O381","v":0},null,null,null,null,null,null,0,{"$f":"$X$376*W381","v":0},null,null,0,0,0,null,0,null,null,2,null,null,null,null,null,null,null,null,null,null,null,null,null,null,null,null,null,null,null,null,null,null,null,null,null,0,0,0,0,0,"MODELO A - TEMPO - N.º DE HORAS DE TRABALHO"]
[null,{"$f":"IF($B$379=\"ocultar\",\"ocultar\",IF('SA - ATIVIDADES'!$G$50=TRUE,IF('SA - ATIVIDADES'!$H$50>='SA - SERVICOS BASE'!AH382,\"mostrar\",\"ocultar\"),\"ocultar\"))","v":"ocultar"},"Designação (a preencher)","MODELO A - TEMPO - N.º DE HORAS DE TRABALHO",null,null,0,0,0,null,null,null,null,null,0,0,null,null,null,null,null,null,0,0,null,null,0,0,0,null,0,null,null,3,null,null,null,null,null,null,null,null,null,null,null,null,null,null,null,null,null,null,null,null,null,null,null,null,null,0,0,0,0,0,"MODELO A - TEMPO - N.º DE HORAS DE TRABALHO"]
[null,{"$f":"IF($B$379=\"ocultar\",\"ocultar\",IF('SA - ATIVIDADES'!$G$50=TRUE,IF('SA - ATIVIDADES'!$H$50>='SA - SERVICOS BASE'!AH383,\"mostrar\",\"ocultar\"),\"ocultar\"))","v":"ocultar"},"Designação (a preencher)","MODELO A - TEMPO - N.º DE HORAS DE TRABALHO",null,null,0,0,0,null,null,null,null,null,0,0,null,null,null,null,null,null,0,0,null,null,0,0,0,null,0,null,null,4,null,null,null,null,null,null,null,null,null,null,null,null,null,null,null,null,null,null,null,null,null,null,null,null,null,0,0,0,0,0,"MODELO A - TEMPO - N.º DE HORAS DE TRABALHO"]
[null,{"$f":"IF($B$379=\"ocultar\",\"ocultar\",IF('SA - ATIVIDADES'!$G$50=TRUE,IF('SA - ATIVIDADES'!$H$50>='SA - SERVICOS BASE'!AH384,\"mostrar\",\"ocultar\"),\"ocultar\"))","v":"ocultar"},"Designação (a preencher)","MODELO A - TEMPO - N.º DE HORAS DE TRABALHO",null,null,0,0,0,null,null,null,null,null,0,0,null,null,null,null,null,null,0,0,null,null,0,0,0,null,0,null,null,5,null,null,null,null,null,null,null,null,null,null,null,null,null,null,null,null,null,null,null,null,null,null,null,null,null,0,0,0,0,0,"MODELO A - TEMPO - N.º DE HORAS DE TRABALHO"]
[null,{"$f":"IF($B$379=\"ocultar\",\"ocultar\",IF('SA - ATIVIDADES'!$G$50=TRUE,IF('SA - ATIVIDADES'!$H$50>='SA - SERVICOS BASE'!AH385,\"mostrar\",\"ocultar\"),\"ocultar\"))","v":"ocultar"},"Designação (a preencher)","MODELO A - TEMPO - N.º DE HORAS DE TRABALHO",null,null,0,0,0,null,null,null,null,null,0,0,null,null,null,null,null,null,0,0,null,null,0,0,0,null,0,null,null,6,null,null,null,null,null,null,null,null,null,null,null,null,null,null,null,null,null,null,null,null,null,null,null,null,null,0,0,0,0,0,"MODELO A - TEMPO - N.º DE HORAS DE TRABALHO"]
[null,{"$f":"IF($B$379=\"ocultar\",\"ocultar\",IF('SA - ATIVIDADES'!$G$50=TRUE,IF('SA - ATIVIDADES'!$H$50>='SA - SERVICOS BASE'!AH386,\"mostrar\",\"ocultar\"),\"ocultar\"))","v":"ocultar"},"Designação (a preencher)","MODELO A - TEMPO - N.º DE HORAS DE TRABALHO",null,null,0,0,0,null,null,null,null,null,0,0,null,null,null,null,null,null,0,0,null,null,0,0,0,null,0,null,null,7,null,null,null,null,null,null,null,null,null,null,null,null,null,null,null,null,null,null,null,null,null,null,null,null,null,0,0,0,0,0,"MODELO A - TEMPO - N.º DE HORAS DE TRABALHO"]
[null,{"$f":"IF($B$379=\"ocultar\",\"ocultar\",IF('SA - ATIVIDADES'!$G$50=TRUE,IF('SA - ATIVIDADES'!$H$50>='SA - SERVICOS BASE'!AH387,\"mostrar\",\"ocultar\"),\"ocultar\"))","v":"ocultar"},"Designação (a preencher)","MODELO A - TEMPO - N.º DE HORAS DE TRABALHO",null,null,0,0,0,null,null,null,null,null,0,0,null,null,null,null,null,null,0,0,null,null,0,0,0,null,0,null,null,8,null,null,null,null,null,null,null,null,null,null,null,null,null,null,null,null,null,null,null,null,null,null,null,null,null,0,0,0,0,0,"MODELO A - TEMPO - N.º DE HORAS DE TRABALHO"]
[null,{"$f":"IF($B$379=\"ocultar\",\"ocultar\",IF('SA - ATIVIDADES'!$G$50=TRUE,IF('SA - ATIVIDADES'!$H$50>='SA - SERVICOS BASE'!AH388,\"mostrar\",\"ocultar\"),\"ocultar\"))","v":"ocultar"},"Designação (a preencher)","MODELO A - TEMPO - N.º DE HORAS DE TRABALHO",null,null,0,0,0,null,null,null,null,null,0,0,null,null,null,null,null,null,0,0,null,null,0,0,0,null,0,null,null,9,null,null,null,null,null,null,null,null,null,null,null,null,null,null,null,null,null,null,null,null,null,null,null,null,null,0,0,0,0,0,"MODELO A - TEMPO - N.º DE HORAS DE TRABALHO"]
[null,{"$f":"IF($B$379=\"ocultar\",\"ocultar\",IF('SA - ATIVIDADES'!$G$50=TRUE,IF('SA - ATIVIDADES'!$H$50>='SA - SERVICOS BASE'!AH389,\"mostrar\",\"ocultar\"),\"ocultar\"))","v":"ocultar"},"Designação (a preencher)","MODELO A - TEMPO - N.º DE HORAS DE TRABALHO",null,null,0,0,0,null,null,null,null,null,0,0,null,null,null,null,null,null,0,0,null,null,0,0,0,null,0,null,null,10,null,null,null,null,null,null,null,null,null,null,null,null,null,null,null,null,null,null,null,null,null,null,null,null,null,0,0,0,0,0,"MODELO A - TEMPO - N.º DE HORAS DE TRABALHO"]
[null,{"$f":"IF($B$380=\"ocultar\",\"ocultar\",\"mostrar\")","v":"ocultar"},"SUB-TOTAL",null,null,null,{"$f":"SUBTOTAL(109,G379:G389)","v":0},null,{"$f":"SUBTOTAL(109,I379:I389)","v":0},null,null,null,null,null,{"$f":"SUBTOTAL(9,O380:O389)","v":0},{"$f":"SUBTOTAL(9,P380:P389)","v":0},null,null,null,null,null,null,{"$f":"SUBTOTAL(9,W380:W389)","v":0},{"$f":"SUBTOTAL(9,X380:X389)","v":0},null,null,null,null,{"$f":"SUBTOTAL(109,AC380:AC389)","v":0},null,{"$f":"SUBTOTAL(109,AE380:AE389)","v":0},null,null,null,null,null,null,null,null,null,null,null,null,null,null,null,null,null,null,null,null,null,null,null,null,null,null,null,null,null,null,null,null,null,"MODELO A - TEMPO - N.º DE HORAS DE TRABALHO"]
[null,{"$f":"IF(B376=\"ocultar\",\"ocultar\",IF('SA - ATIVIDADES'!$G$49=\"Fase Única\",\"ocultar\",IF('SA - ATIVIDADES'!G51=TRUE,\"mostrar\",\"ocultar\")))","v":"ocultar"},"PROJETO - FASE DE ESTUDO PRÉVIO",null,null,null,null,null,null,null,null,null,null,null,null,null,null,null,null,null,null,null,null,null,null,null,null,null,null,null,null,null,null,null,null,null,null,null,null,null,null,null,null,null,null,null,null,null,null,null,null,null,null,null,null,null,null,null,null,null,null,null,null,null,"MODELO A - TEMPO - N.º DE HORAS DE TRABALHO"]
[null,{"$f":"IF($B$391=\"ocultar\",\"ocultar\",IF('SA - ATIVIDADES'!$G$51=TRUE,IF('SA - ATIVIDADES'!$H$51>='SA - SERVICOS BASE'!AH392,\"mostrar\",\"ocultar\"),\"ocultar\"))","v":"ocultar"},"Designação (a preencher)","MODELO A - TEMPO - N.º DE HORAS DE TRABALHO",null,null,0,{"$f":"$H$376","v":0},{"$f":"G392*H392","v":0},null,null,null,null,null,0,{"$f":"$P$376*O392","v":0},null,null,null,null,null,null,0,{"$f":"$X$376*W392","v":0},null,null,0,0,{"$f":"AA392*AB392","v":0},null,{"$f":"BL392","v":0},null,null,1,null,null,null,null,null,null,null,null,null,null,null,null,null,null,null,null,null,null,null,null,null,null,null,null,null,{"$f":"IF(OR(AND(LEFT($D$376,8)=\"MODELO M\", LEFT(D392,8)=\"MODELO A\"), AND(LEFT($D$376,8)=\"MODELO A\", $F$376=\"Atribuir valor detalhado por Fase/Elemento\")), I392, 0)","v":0},{"$f":"IF(OR(AND(LEFT($D$376,8)=\"MODELO M\", LEFT(D392,8)=\"MODELO B\"), AND(LEFT($D$376,8)=\"MODELO B\", $K$376=\"Atribuir valor detalhado por Fase/Elemento\")), P392, 0)","v":0},{"$f":"IF(OR(AND(LEFT($D$376,8)=\"MODELO M\", LEFT(D392,8)=\"MODELO C\"), AND(LEFT($D$376,8)=\"MODELO C\", $R$376=\"Atribuir valor detalhado por Fase/Elemento\")), X392, 0)","v":0},{"$f":"IF(OR(AND(LEFT($D$376,8)=\"MODELO M\", LEFT(D392,8)=\"MODELO D\"), AND(LEFT($D$376,8)=\"MODELO D\", $Z$376=\"Atribuir valor detalhado por Fase/Elemento\")), AC392, 0)","v":0},{"$f":"SUM(BH392:BK392)","v":0},"MODELO A - TEMPO - N.º DE HORAS DE TRABALHO"]
[null,{"$f":"IF($B$391=\"ocultar\",\"ocultar\",IF('SA - ATIVIDADES'!$G$51=TRUE,IF('SA - ATIVIDADES'!$H$51>='SA - SERVICOS BASE'!AH393,\"mostrar\",\"ocultar\"),\"ocultar\"))","v":"ocultar"},"Designação (a preencher)","MODELO A - TEMPO - N.º DE HORAS DE TRABALHO",null,null,0,0,0,null,null,null,null,null,0,{"$f":"$P$376*O393","v":0},null,null,null,null,null,null,0,{"$f":"$X$376*W393","v":0},null,null,0,0,0,null,0,null,null,2,null,null,null,null,null,null,null,null,null,null,null,null,null,null,null,null,null,null,null,null,null,null,null,null,null,0,0,0,0,0,"MODELO A - TEMPO - N.º DE HORAS DE TRABALHO"]
[null,{"$f":"IF($B$391=\"ocultar\",\"ocultar\",IF('SA - ATIVIDADES'!$G$51=TRUE,IF('SA - ATIVIDADES'!$H$51>='SA - SERVICOS BASE'!AH394,\"mostrar\",\"ocultar\"),\"ocultar\"))","v":"ocultar"},"Designação (a preencher)","MODELO A - TEMPO - N.º DE HORAS DE TRABALHO",null,null,0,0,0,null,null,null,null,null,0,0,null,null,null,null,null,null,0,0,null,null,0,0,0,null,0,null,null,3,null,null,null,null,null,null,null,null,null,null,null,null,null,null,null,null,null,null,null,null,null,null,null,null,null,0,0,0,0,0,"MODELO A - TEMPO - N.º DE HORAS DE TRABALHO"]
[null,{"$f":"IF($B$391=\"ocultar\",\"ocultar\",IF('SA - ATIVIDADES'!$G$51=TRUE,IF('SA - ATIVIDADES'!$H$51>='SA - SERVICOS BASE'!AH395,\"mostrar\",\"ocultar\"),\"ocultar\"))","v":"ocultar"},"Designação (a preencher)","MODELO A - TEMPO - N.º DE HORAS DE TRABALHO",null,null,0,0,0,null,null,null,null,null,0,0,null,null,null,null,null,null,0,0,null,null,0,0,0,null,0,null,null,4,null,null,null,null,null,null,null,null,null,null,null,null,null,null,null,null,null,null,null,null,null,null,null,null,null,0,0,0,0,0,"MODELO A - TEMPO - N.º DE HORAS DE TRABALHO"]
[null,{"$f":"IF($B$391=\"ocultar\",\"ocultar\",IF('SA - ATIVIDADES'!$G$51=TRUE,IF('SA - ATIVIDADES'!$H$51>='SA - SERVICOS BASE'!AH396,\"mostrar\",\"ocultar\"),\"ocultar\"))","v":"ocultar"},"Designação (a preencher)","MODELO A - TEMPO - N.º DE HORAS DE TRABALHO",null,null,0,0,0,null,null,null,null,null,0,0,null,null,null,null,null,null,0,0,null,null,0,0,0,null,0,null,null,5,null,null,null,null,null,null,null,null,null,null,null,null,null,null,null,null,null,null,null,null,null,null,null,null,null,0,0,0,0,0,{"$f":"IF($AH396<>\"\",BM395,IF(LEFT($D396,6)=\"MODELO\",$D396,BM395))","v":"MODELO A - TEMPO - N.º DE HORAS DE TRABALHO"}]
[null,{"$f":"IF($B$391=\"ocultar\",\"ocultar\",IF('SA - ATIVIDADES'!$G$51=TRUE,IF('SA - ATIVIDADES'!$H$51>='SA - SERVICOS BASE'!AH397,\"mostrar\",\"ocultar\"),\"ocultar\"))","v":"ocultar"},"Designação (a preencher)","MODELO A - TEMPO - N.º DE HORAS DE TRABALHO",null,null,0,0,0,null,null,null,null,null,0,0,null,null,null,null,null,null,0,0,null,null,0,0,0,null,0,null,null,6,null,null,null,null,null,null,null,null,null,null,null,null,null,null,null,null,null,null,null,null,null,null,null,null,null,0,0,0,0,0,"MODELO A - TEMPO - N.º DE HORAS DE TRABALHO"]
[null,{"$f":"IF($B$391=\"ocultar\",\"ocultar\",IF('SA - ATIVIDADES'!$G$51=TRUE,IF('SA - ATIVIDADES'!$H$51>='SA - SERVICOS BASE'!AH398,\"mostrar\",\"ocultar\"),\"ocultar\"))","v":"ocultar"},"Designação (a preencher)","MODELO A - TEMPO - N.º DE HORAS DE TRABALHO",null,null,0,0,0,null,null,null,null,null,0,0,null,null,null,null,null,null,0,0,null,null,0,0,0,null,0,null,null,7,null,null,null,null,null,null,null,null,null,null,null,null,null,null,null,null,null,null,null,null,null,null,null,null,null,0,0,0,0,0,"MODELO A - TEMPO - N.º DE HORAS DE TRABALHO"]
[null,{"$f":"IF($B$391=\"ocultar\",\"ocultar\",IF('SA - ATIVIDADES'!$G$51=TRUE,IF('SA - ATIVIDADES'!$H$51>='SA - SERVICOS BASE'!AH399,\"mostrar\",\"ocultar\"),\"ocultar\"))","v":"ocultar"},"Designação (a preencher)","MODELO A - TEMPO - N.º DE HORAS DE TRABALHO",null,null,0,0,0,null,null,null,null,null,0,0,null,null,null,null,null,null,0,0,null,null,0,0,0,null,0,null,null,8,null,null,null,null,null,null,null,null,null,null,null,null,null,null,null,null,null,null,null,null,null,null,null,null,null,0,0,0,0,0,"MODELO A - TEMPO - N.º DE HORAS DE TRABALHO"]
[null,{"$f":"IF($B$391=\"ocultar\",\"ocultar\",IF('SA - ATIVIDADES'!$G$51=TRUE,IF('SA - ATIVIDADES'!$H$51>='SA - SERVICOS BASE'!AH400,\"mostrar\",\"ocultar\"),\"ocultar\"))","v":"ocultar"},"Designação (a preencher)","MODELO A - TEMPO - N.º DE HORAS DE TRABALHO",null,null,0,0,0,null,null,null,null,null,0,0,null,null,null,null,null,null,0,0,null,null,0,0,0,null,0,null,null,9,null,null,null,null,null,null,null,null,null,null,null,null,null,null,null,null,null,null,null,null,null,null,null,null,null,0,0,0,0,0,"MODELO A - TEMPO - N.º DE HORAS DE TRABALHO"]
[null,{"$f":"IF($B$391=\"ocultar\",\"ocultar\",IF('SA - ATIVIDADES'!$G$51=TRUE,IF('SA - ATIVIDADES'!$H$51>='SA - SERVICOS BASE'!AH401,\"mostrar\",\"ocultar\"),\"ocultar\"))","v":"ocultar"},"Designação (a preencher)","MODELO A - TEMPO - N.º DE HORAS DE TRABALHO",null,null,0,0,0,null,null,null,null,null,0,0,null,null,null,null,null,null,0,0,null,null,0,0,0,null,0,null,null,10,null,null,null,null,null,null,null,null,null,null,null,null,null,null,null,null,null,null,null,null,null,null,null,null,null,0,0,0,0,0,"MODELO A - TEMPO - N.º DE HORAS DE TRABALHO"]
[null,{"$f":"IF($B$392=\"ocultar\",\"ocultar\",\"mostrar\")","v":"ocultar"},"SUB-TOTAL",null,null,null,{"$f":"SUBTOTAL(109,G391:G401)","v":0},null,{"$f":"SUBTOTAL(109,I391:I401)","v":0},null,null,null,null,null,{"$f":"SUBTOTAL(9,O392:O401)","v":0},{"$f":"SUBTOTAL(9,P392:P401)","v":0},null,null,null,null,null,null,{"$f":"SUBTOTAL(9,W392:W401)","v":0},{"$f":"SUBTOTAL(9,X392:X401)","v":0},null,null,null,null,{"$f":"SUBTOTAL(109,AC392:AC401)","v":0},null,{"$f":"SUBTOTAL(109,AE392:AE401)","v":0},null,null,null,null,null,null,null,null,null,null,null,null,null,null,null,null,null,null,null,null,null,null,null,null,null,null,null,null,null,null,null,null,null,"MODELO A - TEMPO - N.º DE HORAS DE TRABALHO"]
[null,{"$f":"IF(B376=\"ocultar\",\"ocultar\",IF('SA - ATIVIDADES'!$G$49=\"Fase Única\",\"ocultar\",IF('SA - ATIVIDADES'!G52=TRUE,\"mostrar\",\"ocultar\")))","v":"ocultar"},"PROJETO - FASE DE ANTEPROJETO",null,null,null,null,null,null,null,null,null,null,null,null,null,null,null,null,null,null,null,null,null,null,null,null,null,null,null,null,null,null,null,null,null,null,null,null,null,null,null,null,null,null,null,null,null,null,null,null,null,null,null,null,null,null,null,null,null,null,null,null,null,"MODELO A - TEMPO - N.º DE HORAS DE TRABALHO"]
[null,{"$f":"IF($B$403=\"ocultar\",\"ocultar\",IF('SA - ATIVIDADES'!$G$52=TRUE,IF('SA - ATIVIDADES'!$H$52>='SA - SERVICOS BASE'!AH404,\"mostrar\",\"ocultar\"),\"ocultar\"))","v":"ocultar"},"Designação (a preencher)","MODELO A - TEMPO - N.º DE HORAS DE TRABALHO",null,null,0,{"$f":"$H$376","v":0},{"$f":"G404*H404","v":0},null,null,null,null,null,0,{"$f":"$P$376*O404","v":0},null,null,null,null,null,null,0,{"$f":"$X$376*W404","v":0},null,null,0,0,{"$f":"AA404*AB404","v":0},null,{"$f":"BL404","v":0},null,null,1,null,null,null,null,null,null,null,null,null,null,null,null,null,null,null,null,null,null,null,null,null,null,null,null,null,{"$f":"IF(OR(AND(LEFT($D$376,8)=\"MODELO M\", LEFT(D404,8)=\"MODELO A\"), AND(LEFT($D$376,8)=\"MODELO A\", $F$376=\"Atribuir valor detalhado por Fase/Elemento\")), I404, 0)","v":0},{"$f":"IF(OR(AND(LEFT($D$376,8)=\"MODELO M\", LEFT(D404,8)=\"MODELO B\"), AND(LEFT($D$376,8)=\"MODELO B\", $K$376=\"Atribuir valor detalhado por Fase/Elemento\")), P404, 0)","v":0},{"$f":"IF(OR(AND(LEFT($D$376,8)=\"MODELO M\", LEFT(D404,8)=\"MODELO C\"), AND(LEFT($D$376,8)=\"MODELO C\", $R$376=\"Atribuir valor detalhado por Fase/Elemento\")), X404, 0)","v":0},{"$f":"IF(OR(AND(LEFT($D$376,8)=\"MODELO M\", LEFT(D404,8)=\"MODELO D\"), AND(LEFT($D$376,8)=\"MODELO D\", $Z$376=\"Atribuir valor detalhado por Fase/Elemento\")), AC404, 0)","v":0},{"$f":"SUM(BH404:BK404)","v":0},"MODELO A - TEMPO - N.º DE HORAS DE TRABALHO"]
[null,{"$f":"IF($B$403=\"ocultar\",\"ocultar\",IF('SA - ATIVIDADES'!$G$52=TRUE,IF('SA - ATIVIDADES'!$H$52>='SA - SERVICOS BASE'!AH405,\"mostrar\",\"ocultar\"),\"ocultar\"))","v":"ocultar"},"Designação (a preencher)","MODELO A - TEMPO - N.º DE HORAS DE TRABALHO",null,null,0,0,0,null,null,null,null,null,0,{"$f":"$P$376*O405","v":0},null,null,null,null,null,null,0,{"$f":"$X$376*W405","v":0},null,null,0,0,0,null,0,null,null,2,null,null,null,null,null,null,null,null,null,null,null,null,null,null,null,null,null,null,null,null,null,null,null,null,null,0,0,0,0,0,"MODELO A - TEMPO - N.º DE HORAS DE TRABALHO"]
[null,{"$f":"IF($B$403=\"ocultar\",\"ocultar\",IF('SA - ATIVIDADES'!$G$52=TRUE,IF('SA - ATIVIDADES'!$H$52>='SA - SERVICOS BASE'!AH406,\"mostrar\",\"ocultar\"),\"ocultar\"))","v":"ocultar"},"Designação (a preencher)","MODELO A - TEMPO - N.º DE HORAS DE TRABALHO",null,null,0,0,0,null,null,null,null,null,0,0,null,null,null,null,null,null,0,0,null,null,0,0,0,null,0,null,null,3,null,null,null,null,null,null,null,null,null,null,null,null,null,null,null,null,null,null,null,null,null,null,null,null,null,0,0,0,0,0,"MODELO A - TEMPO - N.º DE HORAS DE TRABALHO"]
[null,{"$f":"IF($B$403=\"ocultar\",\"ocultar\",IF('SA - ATIVIDADES'!$G$52=TRUE,IF('SA - ATIVIDADES'!$H$52>='SA - SERVICOS BASE'!AH407,\"mostrar\",\"ocultar\"),\"ocultar\"))","v":"ocultar"},"Designação (a preencher)","MODELO A - TEMPO - N.º DE HORAS DE TRABALHO",null,null,0,0,0,null,null,null,null,null,0,0,null,null,null,null,null,null,0,0,null,null,0,0,0,null,0,null,null,4,null,null,null,null,null,null,null,null,null,null,null,null,null,null,null,null,null,null,null,null,null,null,null,null,null,0,0,0,0,0,"MODELO A - TEMPO - N.º DE HORAS DE TRABALHO"]
[null,{"$f":"IF($B$403=\"ocultar\",\"ocultar\",IF('SA - ATIVIDADES'!$G$52=TRUE,IF('SA - ATIVIDADES'!$H$52>='SA - SERVICOS BASE'!AH408,\"mostrar\",\"ocultar\"),\"ocultar\"))","v":"ocultar"},"Designação (a preencher)","MODELO A - TEMPO - N.º DE HORAS DE TRABALHO",null,null,0,0,0,null,null,null,null,null,0,0,null,null,null,null,null,null,0,0,null,null,0,0,0,null,0,null,null,5,null,null,null,null,null,null,null,null,null,null,null,null,null,null,null,null,null,null,null,null,null,null,null,null,null,0,0,0,0,0,"MODELO A - TEMPO - N.º DE HORAS DE TRABALHO"]
[null,{"$f":"IF($B$403=\"ocultar\",\"ocultar\",IF('SA - ATIVIDADES'!$G$52=TRUE,IF('SA - ATIVIDADES'!$H$52>='SA - SERVICOS BASE'!AH409,\"mostrar\",\"ocultar\"),\"ocultar\"))","v":"ocultar"},"Designação (a preencher)","MODELO A - TEMPO - N.º DE HORAS DE TRABALHO",null,null,0,0,0,null,null,null,null,null,0,0,null,null,null,null,null,null,0,0,null,null,0,0,0,null,0,null,null,6,null,null,null,null,null,null,null,null,null,null,null,null,null,null,null,null,null,null,null,null,null,null,null,null,null,0,0,0,0,0,"MODELO A - TEMPO - N.º DE HORAS DE TRABALHO"]
[null,{"$f":"IF($B$403=\"ocultar\",\"ocultar\",IF('SA - ATIVIDADES'!$G$52=TRUE,IF('SA - ATIVIDADES'!$H$52>='SA - SERVICOS BASE'!AH410,\"mostrar\",\"ocultar\"),\"ocultar\"))","v":"ocultar"},"Designação (a preencher)","MODELO A - TEMPO - N.º DE HORAS DE TRABALHO",null,null,0,0,0,null,null,null,null,null,0,0,null,null,null,null,null,null,0,0,null,null,0,0,0,null,0,null,null,7,null,null,null,null,null,null,null,null,null,null,null,null,null,null,null,null,null,null,null,null,null,null,null,null,null,0,0,0,0,0,"MODELO A - TEMPO - N.º DE HORAS DE TRABALHO"]
[null,{"$f":"IF($B$403=\"ocultar\",\"ocultar\",IF('SA - ATIVIDADES'!$G$52=TRUE,IF('SA - ATIVIDADES'!$H$52>='SA - SERVICOS BASE'!AH411,\"mostrar\",\"ocultar\"),\"ocultar\"))","v":"ocultar"},"Designação (a preencher)","MODELO A - TEMPO - N.º DE HORAS DE TRABALHO",null,null,0,0,0,null,null,null,null,null,0,0,null,null,null,null,null,null,0,0,null,null,0,0,0,null,0,null,null,8,null,null,null,null,null,null,null,null,null,null,null,null,null,null,null,null,null,null,null,null,null,null,null,null,null,0,0,0,0,0,"MODELO A - TEMPO - N.º DE HORAS DE TRABALHO"]
[null,{"$f":"IF($B$403=\"ocultar\",\"ocultar\",IF('SA - ATIVIDADES'!$G$52=TRUE,IF('SA - ATIVIDADES'!$H$52>='SA - SERVICOS BASE'!AH412,\"mostrar\",\"ocultar\"),\"ocultar\"))","v":"ocultar"},"Designação (a preencher)","MODELO A - TEMPO - N.º DE HORAS DE TRABALHO",null,null,0,0,0,null,null,null,null,null,0,0,null,null,null,null,null,null,0,0,null,null,0,0,0,null,0,null,null,9,null,null,null,null,null,null,null,null,null,null,null,null,null,null,null,null,null,null,null,null,null,null,null,null,null,0,0,0,0,0,"MODELO A - TEMPO - N.º DE HORAS DE TRABALHO"]
[null,{"$f":"IF($B$403=\"ocultar\",\"ocultar\",IF('SA - ATIVIDADES'!$G$52=TRUE,IF('SA - ATIVIDADES'!$H$52>='SA - SERVICOS BASE'!AH413,\"mostrar\",\"ocultar\"),\"ocultar\"))","v":"ocultar"},"Designação (a preencher)","MODELO A - TEMPO - N.º DE HORAS DE TRABALHO",null,null,0,0,0,null,null,null,null,null,0,0,null,null,null,null,null,null,0,0,null,null,0,0,0,null,0,null,null,10,null,null,null,null,null,null,null,null,null,null,null,null,null,null,null,null,null,null,null,null,null,null,null,null,null,0,0,0,0,0,"MODELO A - TEMPO - N.º DE HORAS DE TRABALHO"]
[null,{"$f":"IF($B$404=\"ocultar\",\"ocultar\",\"mostrar\")","v":"ocultar"},"SUB-TOTAL",null,null,null,{"$f":"SUBTOTAL(109,G403:G413)","v":0},null,{"$f":"SUBTOTAL(109,I403:I413)","v":0},null,null,null,null,null,{"$f":"SUBTOTAL(9,O404:O413)","v":0},{"$f":"SUBTOTAL(9,P404:P413)","v":0},null,null,null,null,null,null,{"$f":"SUBTOTAL(9,W404:W413)","v":0},{"$f":"SUBTOTAL(9,X404:X413)","v":0},null,null,null,null,{"$f":"SUBTOTAL(109,AC404:AC413)","v":0},null,{"$f":"SUBTOTAL(109,AE404:AE413)","v":0},null,null,null,null,null,null,null,null,null,null,null,null,null,null,null,null,null,null,null,null,null,null,null,null,null,null,null,null,null,null,null,null,null,"MODELO A - TEMPO - N.º DE HORAS DE TRABALHO"]
[null,{"$f":"IF(B376=\"ocultar\",\"ocultar\",IF('SA - ATIVIDADES'!$G$49=\"Fase Única\",\"ocultar\",IF('SA - ATIVIDADES'!G53=TRUE,\"mostrar\",\"ocultar\")))","v":"ocultar"},"PROJETO  - FASE DE PROJETO DE EXECUÇÃO",null,null,null,null,null,null,null,null,null,null,null,null,null,null,null,null,null,null,null,null,null,null,null,null,null,null,null,null,null,null,null,null,null,null,null,null,null,null,null,null,null,null,null,null,null,null,null,null,null,null,null,null,null,null,null,null,null,null,null,null,null,"MODELO A - TEMPO - N.º DE HORAS DE TRABALHO"]
[null,{"$f":"IF($B$415=\"ocultar\",\"ocultar\",IF('SA - ATIVIDADES'!$G$53=TRUE,IF('SA - ATIVIDADES'!$H$53>='SA - SERVICOS BASE'!AH416,\"mostrar\",\"ocultar\"),\"ocultar\"))","v":"ocultar"},"Designação (a preencher)","MODELO A - TEMPO - N.º DE HORAS DE TRABALHO",null,null,0,{"$f":"$H$376","v":0},{"$f":"G416*H416","v":0},null,null,null,null,null,0,{"$f":"$P$376*O416","v":0},null,null,null,null,null,null,0,{"$f":"$X$376*W416","v":0},null,null,0,0,{"$f":"AA416*AB416","v":0},null,{"$f":"BL416","v":0},null,null,1,null,null,null,null,null,null,null,null,null,null,null,null,null,null,null,null,null,null,null,null,null,null,null,null,null,{"$f":"IF(OR(AND(LEFT($D$376,8)=\"MODELO M\", LEFT(D416,8)=\"MODELO A\"), AND(LEFT($D$376,8)=\"MODELO A\", $F$376=\"Atribuir valor detalhado por Fase/Elemento\")), I416, 0)","v":0},{"$f":"IF(OR(AND(LEFT($D$376,8)=\"MODELO M\", LEFT(D416,8)=\"MODELO B\"), AND(LEFT($D$376,8)=\"MODELO B\", $K$376=\"Atribuir valor detalhado por Fase/Elemento\")), P416, 0)","v":0},{"$f":"IF(OR(AND(LEFT($D$376,8)=\"MODELO M\", LEFT(D416,8)=\"MODELO C\"), AND(LEFT($D$376,8)=\"MODELO C\", $R$376=\"Atribuir valor detalhado por Fase/Elemento\")), X416, 0)","v":0},{"$f":"IF(OR(AND(LEFT($D$376,8)=\"MODELO M\", LEFT(D416,8)=\"MODELO D\"), AND(LEFT($D$376,8)=\"MODELO D\", $Z$376=\"Atribuir valor detalhado por Fase/Elemento\")), AC416, 0)","v":0},{"$f":"SUM(BH416:BK416)","v":0},"MODELO A - TEMPO - N.º DE HORAS DE TRABALHO"]
[null,{"$f":"IF($B$415=\"ocultar\",\"ocultar\",IF('SA - ATIVIDADES'!$G$53=TRUE,IF('SA - ATIVIDADES'!$H$53>='SA - SERVICOS BASE'!AH417,\"mostrar\",\"ocultar\"),\"ocultar\"))","v":"ocultar"},"Designação (a preencher)","MODELO A - TEMPO - N.º DE HORAS DE TRABALHO",null,null,0,0,0,null,null,null,null,null,0,{"$f":"$P$376*O417","v":0},null,null,null,null,null,null,0,{"$f":"$X$376*W417","v":0},null,null,0,0,0,null,0,null,null,2,null,null,null,null,null,null,null,null,null,null,null,null,null,null,null,null,null,null,null,null,null,null,null,null,null,0,0,0,0,0,"MODELO A - TEMPO - N.º DE HORAS DE TRABALHO"]
[null,{"$f":"IF($B$415=\"ocultar\",\"ocultar\",IF('SA - ATIVIDADES'!$G$53=TRUE,IF('SA - ATIVIDADES'!$H$53>='SA - SERVICOS BASE'!AH418,\"mostrar\",\"ocultar\"),\"ocultar\"))","v":"ocultar"},"Designação (a preencher)","MODELO A - TEMPO - N.º DE HORAS DE TRABALHO",null,null,0,0,0,null,null,null,null,null,0,0,null,null,null,null,null,null,0,0,null,null,0,0,0,null,0,null,null,3,null,null,null,null,null,null,null,null,null,null,null,null,null,null,null,null,null,null,null,null,null,null,null,null,null,0,0,0,0,0,"MODELO A - TEMPO - N.º DE HORAS DE TRABALHO"]
[null,{"$f":"IF($B$415=\"ocultar\",\"ocultar\",IF('SA - ATIVIDADES'!$G$53=TRUE,IF('SA - ATIVIDADES'!$H$53>='SA - SERVICOS BASE'!AH419,\"mostrar\",\"ocultar\"),\"ocultar\"))","v":"ocultar"},"Designação (a preencher)","MODELO A - TEMPO - N.º DE HORAS DE TRABALHO",null,null,0,0,0,null,null,null,null,null,0,0,null,null,null,null,null,null,0,0,null,null,0,0,0,null,0,null,null,4,null,null,null,null,null,null,null,null,null,null,null,null,null,null,null,null,null,null,null,null,null,null,null,null,null,0,0,0,0,0,"MODELO A - TEMPO - N.º DE HORAS DE TRABALHO"]
[null,{"$f":"IF($B$415=\"ocultar\",\"ocultar\",IF('SA - ATIVIDADES'!$G$53=TRUE,IF('SA - ATIVIDADES'!$H$53>='SA - SERVICOS BASE'!AH420,\"mostrar\",\"ocultar\"),\"ocultar\"))","v":"ocultar"},"Designação (a preencher)","MODELO A - TEMPO - N.º DE HORAS DE TRABALHO",null,null,0,0,0,null,null,null,null,null,0,0,null,null,null,null,null,null,0,0,null,null,0,0,0,null,0,null,null,5,null,null,null,null,null,null,null,null,null,null,null,null,null,null,null,null,null,null,null,null,null,null,null,null,null,0,0,0,0,0,"MODELO A - TEMPO - N.º DE HORAS DE TRABALHO"]
[null,{"$f":"IF($B$415=\"ocultar\",\"ocultar\",IF('SA - ATIVIDADES'!$G$53=TRUE,IF('SA - ATIVIDADES'!$H$53>='SA - SERVICOS BASE'!AH421,\"mostrar\",\"ocultar\"),\"ocultar\"))","v":"ocultar"},"Designação (a preencher)","MODELO A - TEMPO - N.º DE HORAS DE TRABALHO",null,null,0,0,0,null,null,null,null,null,0,0,null,null,null,null,null,null,0,0,null,null,0,0,0,null,0,null,null,6,null,null,null,null,null,null,null,null,null,null,null,null,null,null,null,null,null,null,null,null,null,null,null,null,null,0,0,0,0,0,"MODELO A - TEMPO - N.º DE HORAS DE TRABALHO"]
[null,{"$f":"IF($B$415=\"ocultar\",\"ocultar\",IF('SA - ATIVIDADES'!$G$53=TRUE,IF('SA - ATIVIDADES'!$H$53>='SA - SERVICOS BASE'!AH422,\"mostrar\",\"ocultar\"),\"ocultar\"))","v":"ocultar"},"Designação (a preencher)","MODELO A - TEMPO - N.º DE HORAS DE TRABALHO",null,null,0,0,0,null,null,null,null,null,0,0,null,null,null,null,null,null,0,0,null,null,0,0,0,null,0,null,null,7,null,null,null,null,null,null,null,null,null,null,null,null,null,null,null,null,null,null,null,null,null,null,null,null,null,0,0,0,0,0,"MODELO A - TEMPO - N.º DE HORAS DE TRABALHO"]
[null,{"$f":"IF($B$415=\"ocultar\",\"ocultar\",IF('SA - ATIVIDADES'!$G$53=TRUE,IF('SA - ATIVIDADES'!$H$53>='SA - SERVICOS BASE'!AH423,\"mostrar\",\"ocultar\"),\"ocultar\"))","v":"ocultar"},"Designação (a preencher)","MODELO A - TEMPO - N.º DE HORAS DE TRABALHO",null,null,0,0,0,null,null,null,null,null,0,0,null,null,null,null,null,null,0,0,null,null,0,0,0,null,0,null,null,8,null,null,null,null,null,null,null,null,null,null,null,null,null,null,null,null,null,null,null,null,null,null,null,null,null,0,0,0,0,0,"MODELO A - TEMPO - N.º DE HORAS DE TRABALHO"]
[null,{"$f":"IF($B$415=\"ocultar\",\"ocultar\",IF('SA - ATIVIDADES'!$G$53=TRUE,IF('SA - ATIVIDADES'!$H$53>='SA - SERVICOS BASE'!AH424,\"mostrar\",\"ocultar\"),\"ocultar\"))","v":"ocultar"},"Designação (a preencher)","MODELO A - TEMPO - N.º DE HORAS DE TRABALHO",null,null,0,0,0,null,null,null,null,null,0,0,null,null,null,null,null,null,0,0,null,null,0,0,0,null,0,null,null,9,null,null,null,null,null,null,null,null,null,null,null,null,null,null,null,null,null,null,null,null,null,null,null,null,null,0,0,0,0,0,"MODELO A - TEMPO - N.º DE HORAS DE TRABALHO"]
[null,{"$f":"IF($B$415=\"ocultar\",\"ocultar\",IF('SA - ATIVIDADES'!$G$53=TRUE,IF('SA - ATIVIDADES'!$H$53>='SA - SERVICOS BASE'!AH425,\"mostrar\",\"ocultar\"),\"ocultar\"))","v":"ocultar"},"Designação (a preencher)","MODELO A - TEMPO - N.º DE HORAS DE TRABALHO",null,null,0,0,0,null,null,null,null,null,0,0,null,null,null,null,null,null,0,0,null,null,0,0,0,null,0,null,null,10,null,null,null,null,null,null,null,null,null,null,null,null,null,null,null,null,null,null,null,null,null,null,null,null,null,0,0,0,0,0,"MODELO A - TEMPO - N.º DE HORAS DE TRABALHO"]
[null,{"$f":"IF($B$416=\"ocultar\",\"ocultar\",\"mostrar\")","v":"ocultar"},"SUB-TOTAL",null,null,null,{"$f":"SUBTOTAL(109,G415:G425)","v":0},null,{"$f":"SUBTOTAL(109,I415:I425)","v":0},null,null,null,null,null,{"$f":"SUBTOTAL(9,O416:O425)","v":0},{"$f":"SUBTOTAL(9,P416:P425)","v":0},null,null,null,null,null,null,{"$f":"SUBTOTAL(9,W416:W425)","v":0},{"$f":"SUBTOTAL(9,X416:X425)","v":0},null,null,null,null,{"$f":"SUBTOTAL(109,AC416:AC425)","v":0},null,{"$f":"SUBTOTAL(109,AE416:AE425)","v":0},null,null,null,null,null,null,null,null,null,null,null,null,null,null,null,null,null,null,null,null,null,null,null,null,null,null,null,null,null,null,null,null,null,"MODELO A - TEMPO - N.º DE HORAS DE TRABALHO"]
[null,{"$f":"IF($B$376=\"ocultar\",\"ocultar\",IF('SA - ATIVIDADES'!$G$49=\"Fase Única\",\"ocultar\",IF('SA - ATIVIDADES'!G54=TRUE,\"mostrar\",\"ocultar\")))","v":"ocultar"},"ASSISTÊNCIA TÉCNICA",null,null,null,null,null,null,null,null,null,null,null,null,null,null,null,null,null,null,null,null,null,null,null,null,null,null,null,null,null,null,null,null,null,null,null,null,null,null,null,null,null,null,null,null,null,null,null,null,null,null,null,null,null,null,null,null,null,null,null,null,null,"MODELO A - TEMPO - N.º DE HORAS DE TRABALHO"]
[null,{"$f":"IF($B$427=\"ocultar\",\"ocultar\",IF('SA - ATIVIDADES'!$G$54=TRUE,IF('SA - ATIVIDADES'!$H$54>='SA - SERVICOS BASE'!AH428,\"mostrar\",\"ocultar\"),\"ocultar\"))","v":"ocultar"},"Designação (a preencher)","MODELO A - TEMPO - N.º DE HORAS DE TRABALHO",null,null,0,{"$f":"$H$376","v":0},{"$f":"G428*H428","v":0},null,null,null,null,null,0,{"$f":"$P$376*O428","v":0},null,null,null,null,null,null,0,{"$f":"$X$376*W428","v":0},null,null,0,0,{"$f":"AA428*AB428","v":0},null,{"$f":"BL428","v":0},null,null,1,null,null,null,null,null,null,null,null,null,null,null,null,null,null,null,null,null,null,null,null,null,null,null,null,null,{"$f":"IF(OR(AND(LEFT($D$376,8)=\"MODELO M\", LEFT(D428,8)=\"MODELO A\"), AND(LEFT($D$376,8)=\"MODELO A\", $F$376=\"Atribuir valor detalhado por Fase/Elemento\")), I428, 0)","v":0},{"$f":"IF(OR(AND(LEFT($D$376,8)=\"MODELO M\", LEFT(D428,8)=\"MODELO B\"), AND(LEFT($D$376,8)=\"MODELO B\", $K$376=\"Atribuir valor detalhado por Fase/Elemento\")), P428, 0)","v":0},{"$f":"IF(OR(AND(LEFT($D$376,8)=\"MODELO M\", LEFT(D428,8)=\"MODELO C\"), AND(LEFT($D$376,8)=\"MODELO C\", $R$376=\"Atribuir valor detalhado por Fase/Elemento\")), X428, 0)","v":0},{"$f":"IF(OR(AND(LEFT($D$376,8)=\"MODELO M\", LEFT(D428,8)=\"MODELO D\"), AND(LEFT($D$376,8)=\"MODELO D\", $Z$376=\"Atribuir valor detalhado por Fase/Elemento\")), AC428, 0)","v":0},{"$f":"SUM(BH428:BK428)","v":0},"MODELO A - TEMPO - N.º DE HORAS DE TRABALHO"]
[null,{"$f":"IF($B$427=\"ocultar\",\"ocultar\",IF('SA - ATIVIDADES'!$G$54=TRUE,IF('SA - ATIVIDADES'!$H$54>='SA - SERVICOS BASE'!AH429,\"mostrar\",\"ocultar\"),\"ocultar\"))","v":"ocultar"},"Designação (a preencher)","MODELO A - TEMPO - N.º DE HORAS DE TRABALHO",null,null,0,0,0,null,null,null,null,null,0,{"$f":"$P$376*O429","v":0},null,null,null,null,null,null,0,{"$f":"$X$376*W429","v":0},null,null,0,0,0,null,0,null,null,2,null,null,null,null,null,null,null,null,null,null,null,null,null,null,null,null,null,null,null,null,null,null,null,null,null,0,0,0,0,0,"MODELO A - TEMPO - N.º DE HORAS DE TRABALHO"]
[null,{"$f":"IF($B$427=\"ocultar\",\"ocultar\",IF('SA - ATIVIDADES'!$G$54=TRUE,IF('SA - ATIVIDADES'!$H$54>='SA - SERVICOS BASE'!AH430,\"mostrar\",\"ocultar\"),\"ocultar\"))","v":"ocultar"},"Designação (a preencher)","MODELO A - TEMPO - N.º DE HORAS DE TRABALHO",null,null,0,0,0,null,null,null,null,null,0,0,null,null,null,null,null,null,0,0,null,null,0,0,0,null,0,null,null,3,null,null,null,null,null,null,null,null,null,null,null,null,null,null,null,null,null,null,null,null,null,null,null,null,null,0,0,0,0,0,"MODELO A - TEMPO - N.º DE HORAS DE TRABALHO"]
[null,{"$f":"IF($B$427=\"ocultar\",\"ocultar\",IF('SA - ATIVIDADES'!$G$54=TRUE,IF('SA - ATIVIDADES'!$H$54>='SA - SERVICOS BASE'!AH431,\"mostrar\",\"ocultar\"),\"ocultar\"))","v":"ocultar"},"Designação (a preencher)","MODELO A - TEMPO - N.º DE HORAS DE TRABALHO",null,null,0,0,0,null,null,null,null,null,0,0,null,null,null,null,null,null,0,0,null,null,0,0,0,null,0,null,null,4,null,null,null,null,null,null,null,null,null,null,null,null,null,null,null,null,null,null,null,null,null,null,null,null,null,0,0,0,0,0,"MODELO A - TEMPO - N.º DE HORAS DE TRABALHO"]
[null,{"$f":"IF($B$427=\"ocultar\",\"ocultar\",IF('SA - ATIVIDADES'!$G$54=TRUE,IF('SA - ATIVIDADES'!$H$54>='SA - SERVICOS BASE'!AH432,\"mostrar\",\"ocultar\"),\"ocultar\"))","v":"ocultar"},"Designação (a preencher)","MODELO A - TEMPO - N.º DE HORAS DE TRABALHO",null,null,0,0,0,null,null,null,null,null,0,0,null,null,null,null,null,null,0,0,null,null,0,0,0,null,0,null,null,5,null,null,null,null,null,null,null,null,null,null,null,null,null,null,null,null,null,null,null,null,null,null,null,null,null,0,0,0,0,0,"MODELO A - TEMPO - N.º DE HORAS DE TRABALHO"]
[null,{"$f":"IF($B$427=\"ocultar\",\"ocultar\",IF('SA - ATIVIDADES'!$G$54=TRUE,IF('SA - ATIVIDADES'!$H$54>='SA - SERVICOS BASE'!AH433,\"mostrar\",\"ocultar\"),\"ocultar\"))","v":"ocultar"},"Designação (a preencher)","MODELO A - TEMPO - N.º DE HORAS DE TRABALHO",null,null,0,0,0,null,null,null,null,null,0,0,null,null,null,null,null,null,0,0,null,null,0,0,0,null,0,null,null,6,null,null,null,null,null,null,null,null,null,null,null,null,null,null,null,null,null,null,null,null,null,null,null,null,null,0,0,0,0,0,"MODELO A - TEMPO - N.º DE HORAS DE TRABALHO"]
[null,{"$f":"IF($B$427=\"ocultar\",\"ocultar\",IF('SA - ATIVIDADES'!$G$54=TRUE,IF('SA - ATIVIDADES'!$H$54>='SA - SERVICOS BASE'!AH434,\"mostrar\",\"ocultar\"),\"ocultar\"))","v":"ocultar"},"Designação (a preencher)","MODELO A - TEMPO - N.º DE HORAS DE TRABALHO",null,null,0,0,0,null,null,null,null,null,0,0,null,null,null,null,null,null,0,0,null,null,0,0,0,null,0,null,null,7,null,null,null,null,null,null,null,null,null,null,null,null,null,null,null,null,null,null,null,null,null,null,null,null,null,0,0,0,0,0,"MODELO A - TEMPO - N.º DE HORAS DE TRABALHO"]
[null,{"$f":"IF($B$427=\"ocultar\",\"ocultar\",IF('SA - ATIVIDADES'!$G$54=TRUE,IF('SA - ATIVIDADES'!$H$54>='SA - SERVICOS BASE'!AH435,\"mostrar\",\"ocultar\"),\"ocultar\"))","v":"ocultar"},"Designação (a preencher)","MODELO A - TEMPO - N.º DE HORAS DE TRABALHO",null,null,0,0,0,null,null,null,null,null,0,0,null,null,null,null,null,null,0,0,null,null,0,0,0,null,0,null,null,8,null,null,null,null,null,null,null,null,null,null,null,null,null,null,null,null,null,null,null,null,null,null,null,null,null,0,0,0,0,0,"MODELO A - TEMPO - N.º DE HORAS DE TRABALHO"]
[null,{"$f":"IF($B$427=\"ocultar\",\"ocultar\",IF('SA - ATIVIDADES'!$G$54=TRUE,IF('SA - ATIVIDADES'!$H$54>='SA - SERVICOS BASE'!AH436,\"mostrar\",\"ocultar\"),\"ocultar\"))","v":"ocultar"},"Designação (a preencher)","MODELO A - TEMPO - N.º DE HORAS DE TRABALHO",null,null,0,0,0,null,null,null,null,null,0,0,null,null,null,null,null,null,0,0,null,null,0,0,0,null,0,null,null,9,null,null,null,null,null,null,null,null,null,null,null,null,null,null,null,null,null,null,null,null,null,null,null,null,null,0,0,0,0,0,"MODELO A - TEMPO - N.º DE HORAS DE TRABALHO"]
[null,{"$f":"IF($B$427=\"ocultar\",\"ocultar\",IF('SA - ATIVIDADES'!$G$54=TRUE,IF('SA - ATIVIDADES'!$H$54>='SA - SERVICOS BASE'!AH437,\"mostrar\",\"ocultar\"),\"ocultar\"))","v":"ocultar"},"Designação (a preencher)","MODELO A - TEMPO - N.º DE HORAS DE TRABALHO",null,null,0,0,0,null,null,null,null,null,0,0,null,null,null,null,null,null,0,0,null,null,0,0,0,null,0,null,null,10,null,null,null,null,null,null,null,null,null,null,null,null,null,null,null,null,null,null,null,null,null,null,null,null,null,0,0,0,0,0,"MODELO A - TEMPO - N.º DE HORAS DE TRABALHO"]
[null,{"$f":"IF($B$427=\"ocultar\",\"ocultar\",\"mostrar\")","v":"ocultar"},"SUB-TOTAL",null,null,null,{"$f":"SUBTOTAL(109,G427:G437)","v":0},null,{"$f":"SUBTOTAL(109,I427:I437)","v":0},null,null,null,null,null,{"$f":"SUBTOTAL(9,O428:O437)","v":0},{"$f":"SUBTOTAL(9,P428:P437)","v":0},null,null,null,null,null,null,{"$f":"SUBTOTAL(9,W428:W437)","v":0},{"$f":"SUBTOTAL(9,X428:X437)","v":0},null,null,null,null,0,null,{"$f":"SUBTOTAL(109,AE428:AE437)","v":0},null,null,null,null,null,null,null,null,null,null,null,null,null,null,null,null,null,null,null,null,null,null,null,null,null,null,null,null,null,null,null,null,null,"MODELO A - TEMPO - N.º DE HORAS DE TRABALHO"]
[null,{"$f":"IF($B$376=\"ocultar\",\"ocultar\",\"mostrar\")","v":"ocultar"},"TOTAL",null,null,null,{"$f":"IF($F376=\"Atribuir valor global à atividade\",G376,SUBTOTAL(109,G379:G438))","v":0},null,{"$f":"IF($F376=\"Atribuir valor global à atividade\",I376,SUBTOTAL(109,I379:I438))","v":0},null,null,null,null,null,{"$f":"IF($K$376=\"Atribuir valor global à atividade\",1,SUBTOTAL(109,O380:O438))","v":1},{"$f":"IF($K376=\"Atribuir valor global à atividade\",P376,SUBTOTAL(109,P380:P438))","v":0},null,null,null,null,null,null,{"$f":"IF($R$376=\"Atribuir valor global à atividade\",1,SUBTOTAL(109,W380:W438))","v":1},{"$f":"IF($R376=\"Atribuir valor global à atividade\",X376,SUBTOTAL(109,X380:X438))","v":0},null,null,null,null,{"$f":"IF($Z$376=\"Atribuir valor global à atividade\",AC376,SUBTOTAL(109,AC380:AC438))","v":0},null,{"$f":"BL376","v":0},null,null,null,null,null,null,null,null,null,null,null,null,null,null,null,null,null,null,null,null,null,null,null,null,null,null,null,null,null,null,null,null,null,"MODELO A - TEMPO - N.º DE HORAS DE TRABALHO"]
[null,{"$f":"IF($B$376=\"ocultar\",\"ocultar\",\"mostrar\")","v":"ocultar"},null,null,null,null,null,null,null,null,null,null,null,null,null,null,null,null,null,null,null,null,null,null,null,null,null,null,null,null,null,null,null,null,null,null,null,null,null,null,null,null,null,null,null,null,null,null,null,null,null,null,null,null,null,null,null,null,null,null,null,null,null,null,"MODELO A - TEMPO - N.º DE HORAS DE TRABALHO"]
[null,{"$f":"IF('SA - ATIVIDADES'!$F$56<>TRUE,\"ocultar\",\"mostrar\")","v":"ocultar"},"A9. PROJETO DE CONFORTO TÉRMICO DE EDIFÍCIOS DE HABITAÇÃO (REH)","MODELO A - TEMPO - N.º DE HORAS DE TRABALHO",null,"Atribuir valor global à atividade",0,0,{"$f":"G441*H441","v":0},null,"Atribuir valor global à atividade","Valor Global Obra (VG Obra)",{"$f":"IF(L441=\"Valor Global Obra (VG Obra)\",$M$9,\"\")","v":0},0,0,{"$f":"IF(L441=\"Valor Global Obra (VG Obra)\",M441*O441,N441*O441)","v":0},null,"Atribuir valor global à atividade","Valor/m2 fixo (VF m2)",{"$f":"IF(S441=\"Valor/m2 fixo (VF m2)\",$T$9,\"\")","v":0},0,0,null,{"$f":"IF(S441=\"Valor/m2 fixo (VF m2)\",T441*1*V441,U441*1*V441)","v":0},null,"Atribuir valor global à atividade",0,0,{"$f":"AA441*AB441","v":0},null,{"$f":"BL441","v":0},null,null,null,null,null,null,null,null,null,null,null,null,null,null,null,null,null,null,null,null,null,null,null,null,null,null,null,null,{"$f":"IF(LEFT($D$441,8)=\"MODELO A\",IF($F$441=\"Atribuir valor detalhado por Fase/Elemento\",SUBTOTAL(109,BH445:BH502),I441),IF(LEFT($D$441,8)=\"MODELO M\",SUBTOTAL(109,BH445:BH502),0))","v":0},{"$f":"IF(LEFT($D$441,8)=\"MODELO B\",IF($K$441=\"Atribuir valor detalhado por Fase/Elemento\",SUBTOTAL(109,BI445:BI502),P441),IF(LEFT($D$441,8)=\"MODELO M\",SUBTOTAL(109,BI445:BI502),0))","v":0},{"$f":"IF(LEFT($D$441,8)=\"MODELO C\",IF($R$441=\"Atribuir valor detalhado por Fase/Elemento\",SUBTOTAL(109,BJ445:BJ502),X441),IF(LEFT($D$441,8)=\"MODELO M\",SUBTOTAL(109,BJ445:BJ502),0))","v":0},{"$f":"IF(LEFT($D$441,8)=\"MODELO D\",IF($Z$441=\"Atribuir valor detalhado por Fase/Elemento\",SUBTOTAL(109,BK445:BK502),AC441),IF(LEFT($D$441,8)=\"MODELO M\",SUBTOTAL(109,BK445:BK502),0))","v":0},{"$f":"SUM(BH441:BK441)","v":0},"MODELO A - TEMPO - N.º DE HORAS DE TRABALHO"]
[null,{"$f":"IF($B$441=\"ocultar\",\"ocultar\",\"mostrar\")","v":"ocultar"},null,null,null,null,null,null,null,null,null,null,null,null,null,null,null,null,null,null,null,null,null,null,null,null,null,null,null,null,null,null,null,null,null,null,null,null,null,null,null,null,null,null,null,null,null,null,null,null,null,null,null,null,null,null,null,null,null,null,null,null,null,null,"MODELO A - TEMPO - N.º DE HORAS DE TRABALHO"]
[null,"ocultar",null,null,null,null,null,null,null,null,null,null,null,null,null,null,null,null,null,null,null,null,null,null,null,null,null,null,null,null,null,null,null,null,null,null,null,null,null,null,null,null,null,null,null,null,null,null,null,null,null,null,null,null,null,null,null,null,null,null,null,null,null,null,"MODELO A - TEMPO - N.º DE HORAS DE TRABALHO"]
[null,{"$f":"IF(B441=\"ocultar\",\"ocultar\",IF('SA - ATIVIDADES'!$G$56=\"Fase Única\",\"ocultar\",IF('SA - ATIVIDADES'!G57=TRUE,\"mostrar\",\"ocultar\")))","v":"ocultar"},"PROJETO - FASE DE PROGRAMA BASE",null,null,null,null,null,null,null,null,null,null,null,null,null,null,null,null,null,null,null,null,null,null,null,null,null,null,null,null,null,null,null,null,null,null,null,null,null,null,null,null,null,null,null,null,null,null,null,null,null,null,null,null,null,null,null,null,null,null,null,null,null,"MODELO A - TEMPO - N.º DE HORAS DE TRABALHO"]
[null,{"$f":"IF($B$444=\"ocultar\",\"ocultar\",IF('SA - ATIVIDADES'!$G$57=TRUE,IF('SA - ATIVIDADES'!$H$57>='SA - SERVICOS BASE'!AH445,\"mostrar\",\"ocultar\"),\"ocultar\"))","v":"ocultar"},"Designação (a preencher)","MODELO A - TEMPO - N.º DE HORAS DE TRABALHO",null,null,0,{"$f":"$H$441","v":0},{"$f":"G445*H445","v":0},null,null,null,null,null,0,{"$f":"$P$441*O445","v":0},null,null,null,null,null,null,0,{"$f":"$X$441*W445","v":0},null,null,0,0,{"$f":"AA445*AB445","v":0},null,{"$f":"BL445","v":0},null,null,1,null,null,null,null,null,null,null,null,null,null,null,null,null,null,null,null,null,null,null,null,null,null,null,null,null,{"$f":"IF(OR(AND(LEFT($D$441,8)=\"MODELO M\", LEFT(D445,8)=\"MODELO A\"), AND(LEFT($D$441,8)=\"MODELO A\", $F$441=\"Atribuir valor detalhado por Fase/Elemento\")), I445, 0)","v":0},{"$f":"IF(OR(AND(LEFT($D$441,8)=\"MODELO M\", LEFT(D445,8)=\"MODELO B\"), AND(LEFT($D$441,8)=\"MODELO B\", $K$441=\"Atribuir valor detalhado por Fase/Elemento\")), P445, 0)","v":0},{"$f":"IF(OR(AND(LEFT($D$441,8)=\"MODELO M\", LEFT(D445,8)=\"MODELO C\"), AND(LEFT($D$441,8)=\"MODELO C\", $R$441=\"Atribuir valor detalhado por Fase/Elemento\")), X445, 0)","v":0},{"$f":"IF(OR(AND(LEFT($D$441,8)=\"MODELO M\", LEFT(D445,8)=\"MODELO D\"), AND(LEFT($D$441,8)=\"MODELO D\", $Z$441=\"Atribuir valor detalhado por Fase/Elemento\")), AC445, 0)","v":0},{"$f":"SUM(BH445:BK445)","v":0},"MODELO A - TEMPO - N.º DE HORAS DE TRABALHO"]
[null,{"$f":"IF($B$444=\"ocultar\",\"ocultar\",IF('SA - ATIVIDADES'!$G$57=TRUE,IF('SA - ATIVIDADES'!$H$57>='SA - SERVICOS BASE'!AH446,\"mostrar\",\"ocultar\"),\"ocultar\"))","v":"ocultar"},"Designação (a preencher)","MODELO A - TEMPO - N.º DE HORAS DE TRABALHO",null,null,0,0,0,null,null,null,null,null,0,{"$f":"$P$441*O446","v":0},null,null,null,null,null,null,0,{"$f":"$X$441*W446","v":0},null,null,0,0,0,null,0,null,null,2,null,null,null,null,null,null,null,null,null,null,null,null,null,null,null,null,null,null,null,null,null,null,null,null,null,0,0,0,0,0,"MODELO A - TEMPO - N.º DE HORAS DE TRABALHO"]
[null,{"$f":"IF($B$444=\"ocultar\",\"ocultar\",IF('SA - ATIVIDADES'!$G$57=TRUE,IF('SA - ATIVIDADES'!$H$57>='SA - SERVICOS BASE'!AH447,\"mostrar\",\"ocultar\"),\"ocultar\"))","v":"ocultar"},"Designação (a preencher)","MODELO A - TEMPO - N.º DE HORAS DE TRABALHO",null,null,0,0,0,null,null,null,null,null,0,0,null,null,null,null,null,null,0,0,null,null,0,0,0,null,0,null,null,3,null,null,null,null,null,null,null,null,null,null,null,null,null,null,null,null,null,null,null,null,null,null,null,null,null,0,0,0,0,0,"MODELO A - TEMPO - N.º DE HORAS DE TRABALHO"]
[null,{"$f":"IF($B$444=\"ocultar\",\"ocultar\",IF('SA - ATIVIDADES'!$G$57=TRUE,IF('SA - ATIVIDADES'!$H$57>='SA - SERVICOS BASE'!AH448,\"mostrar\",\"ocultar\"),\"ocultar\"))","v":"ocultar"},"Designação (a preencher)","MODELO A - TEMPO - N.º DE HORAS DE TRABALHO",null,null,0,0,0,null,null,null,null,null,0,0,null,null,null,null,null,null,0,0,null,null,0,0,0,null,0,null,null,4,null,null,null,null,null,null,null,null,null,null,null,null,null,null,null,null,null,null,null,null,null,null,null,null,null,0,0,0,0,0,"MODELO A - TEMPO - N.º DE HORAS DE TRABALHO"]
[null,{"$f":"IF($B$444=\"ocultar\",\"ocultar\",IF('SA - ATIVIDADES'!$G$57=TRUE,IF('SA - ATIVIDADES'!$H$57>='SA - SERVICOS BASE'!AH449,\"mostrar\",\"ocultar\"),\"ocultar\"))","v":"ocultar"},"Designação (a preencher)","MODELO A - TEMPO - N.º DE HORAS DE TRABALHO",null,null,0,0,0,null,null,null,null,null,0,0,null,null,null,null,null,null,0,0,null,null,0,0,0,null,0,null,null,5,null,null,null,null,null,null,null,null,null,null,null,null,null,null,null,null,null,null,null,null,null,null,null,null,null,0,0,0,0,0,"MODELO A - TEMPO - N.º DE HORAS DE TRABALHO"]
[null,{"$f":"IF($B$444=\"ocultar\",\"ocultar\",IF('SA - ATIVIDADES'!$G$57=TRUE,IF('SA - ATIVIDADES'!$H$57>='SA - SERVICOS BASE'!AH450,\"mostrar\",\"ocultar\"),\"ocultar\"))","v":"ocultar"},"Designação (a preencher)","MODELO A - TEMPO - N.º DE HORAS DE TRABALHO",null,null,0,0,0,null,null,null,null,null,0,0,null,null,null,null,null,null,0,0,null,null,0,0,0,null,0,null,null,6,null,null,null,null,null,null,null,null,null,null,null,null,null,null,null,null,null,null,null,null,null,null,null,null,null,0,0,0,0,0,"MODELO A - TEMPO - N.º DE HORAS DE TRABALHO"]
[null,{"$f":"IF($B$444=\"ocultar\",\"ocultar\",IF('SA - ATIVIDADES'!$G$57=TRUE,IF('SA - ATIVIDADES'!$H$57>='SA - SERVICOS BASE'!AH451,\"mostrar\",\"ocultar\"),\"ocultar\"))","v":"ocultar"},"Designação (a preencher)","MODELO A - TEMPO - N.º DE HORAS DE TRABALHO",null,null,0,0,0,null,null,null,null,null,0,0,null,null,null,null,null,null,0,0,null,null,0,0,0,null,0,null,null,7,null,null,null,null,null,null,null,null,null,null,null,null,null,null,null,null,null,null,null,null,null,null,null,null,null,0,0,0,0,0,"MODELO A - TEMPO - N.º DE HORAS DE TRABALHO"]
[null,{"$f":"IF($B$444=\"ocultar\",\"ocultar\",IF('SA - ATIVIDADES'!$G$57=TRUE,IF('SA - ATIVIDADES'!$H$57>='SA - SERVICOS BASE'!AH452,\"mostrar\",\"ocultar\"),\"ocultar\"))","v":"ocultar"},"Designação (a preencher)","MODELO A - TEMPO - N.º DE HORAS DE TRABALHO",null,null,0,0,0,null,null,null,null,null,0,0,null,null,null,null,null,null,0,0,null,null,0,0,0,null,0,null,null,8,null,null,null,null,null,null,null,null,null,null,null,null,null,null,null,null,null,null,null,null,null,null,null,null,null,0,0,0,0,0,"MODELO A - TEMPO - N.º DE HORAS DE TRABALHO"]
[null,{"$f":"IF($B$444=\"ocultar\",\"ocultar\",IF('SA - ATIVIDADES'!$G$57=TRUE,IF('SA - ATIVIDADES'!$H$57>='SA - SERVICOS BASE'!AH453,\"mostrar\",\"ocultar\"),\"ocultar\"))","v":"ocultar"},"Designação (a preencher)","MODELO A - TEMPO - N.º DE HORAS DE TRABALHO",null,null,0,0,0,null,null,null,null,null,0,0,null,null,null,null,null,null,0,0,null,null,0,0,0,null,0,null,null,9,null,null,null,null,null,null,null,null,null,null,null,null,null,null,null,null,null,null,null,null,null,null,null,null,null,0,0,0,0,0,"MODELO A - TEMPO - N.º DE HORAS DE TRABALHO"]
[null,{"$f":"IF($B$444=\"ocultar\",\"ocultar\",IF('SA - ATIVIDADES'!$G$57=TRUE,IF('SA - ATIVIDADES'!$H$57>='SA - SERVICOS BASE'!AH454,\"mostrar\",\"ocultar\"),\"ocultar\"))","v":"ocultar"},"Designação (a preencher)","MODELO A - TEMPO - N.º DE HORAS DE TRABALHO",null,null,0,0,0,null,null,null,null,null,0,0,null,null,null,null,null,null,0,0,null,null,0,0,0,null,0,null,null,10,null,null,null,null,null,null,null,null,null,null,null,null,null,null,null,null,null,null,null,null,null,null,null,null,null,0,0,0,0,0,"MODELO A - TEMPO - N.º DE HORAS DE TRABALHO"]
[null,{"$f":"IF($B$445=\"ocultar\",\"ocultar\",\"mostrar\")","v":"ocultar"},"SUB-TOTAL",null,null,null,{"$f":"SUBTOTAL(109,G444:G454)","v":0},null,{"$f":"SUBTOTAL(109,I444:I454)","v":0},null,null,null,null,null,{"$f":"SUBTOTAL(9,O445:O454)","v":0},{"$f":"SUBTOTAL(9,P445:P454)","v":0},null,null,null,null,null,null,{"$f":"SUBTOTAL(9,W445:W454)","v":0},{"$f":"SUBTOTAL(9,X445:X454)","v":0},null,null,null,null,{"$f":"SUBTOTAL(109,AC445:AC454)","v":0},null,{"$f":"SUBTOTAL(109,AE445:AE454)","v":0},null,null,null,null,null,null,null,null,null,null,null,null,null,null,null,null,null,null,null,null,null,null,null,null,null,null,null,null,null,null,null,null,null,"MODELO A - TEMPO - N.º DE HORAS DE TRABALHO"]
[null,{"$f":"IF(B441=\"ocultar\",\"ocultar\",IF('SA - ATIVIDADES'!$G$56=\"Fase Única\",\"ocultar\",IF('SA - ATIVIDADES'!G58=TRUE,\"mostrar\",\"ocultar\")))","v":"ocultar"},"PROJETO - FASE DE ESTUDO PRÉVIO",null,null,null,null,null,null,null,null,null,null,null,null,null,null,null,null,null,null,null,null,null,null,null,null,null,null,null,null,null,null,null,null,null,null,null,null,null,null,null,null,null,null,null,null,null,null,null,null,null,null,null,null,null,null,null,null,null,null,null,null,null,"MODELO A - TEMPO - N.º DE HORAS DE TRABALHO"]
[null,{"$f":"IF($B$456=\"ocultar\",\"ocultar\",IF('SA - ATIVIDADES'!$G$58=TRUE,IF('SA - ATIVIDADES'!$H$58>='SA - SERVICOS BASE'!AH457,\"mostrar\",\"ocultar\"),\"ocultar\"))","v":"ocultar"},"Designação (a preencher)","MODELO A - TEMPO - N.º DE HORAS DE TRABALHO",null,null,0,{"$f":"$H$441","v":0},{"$f":"G457*H457","v":0},null,null,null,null,null,0,{"$f":"$P$441*O457","v":0},null,null,null,null,null,null,0,{"$f":"$X$441*W457","v":0},null,null,0,0,{"$f":"AA457*AB457","v":0},null,{"$f":"BL457","v":0},null,null,1,null,null,null,null,null,null,null,null,null,null,null,null,null,null,null,null,null,null,null,null,null,null,null,null,null,{"$f":"IF(OR(AND(LEFT($D$441,8)=\"MODELO M\", LEFT(D457,8)=\"MODELO A\"), AND(LEFT($D$441,8)=\"MODELO A\", $F$441=\"Atribuir valor detalhado por Fase/Elemento\")), I457, 0)","v":0},{"$f":"IF(OR(AND(LEFT($D$441,8)=\"MODELO M\", LEFT(D457,8)=\"MODELO B\"), AND(LEFT($D$441,8)=\"MODELO B\", $K$441=\"Atribuir valor detalhado por Fase/Elemento\")), P457, 0)","v":0},{"$f":"IF(OR(AND(LEFT($D$441,8)=\"MODELO M\", LEFT(D457,8)=\"MODELO C\"), AND(LEFT($D$441,8)=\"MODELO C\", $R$441=\"Atribuir valor detalhado por Fase/Elemento\")), X457, 0)","v":0},{"$f":"IF(OR(AND(LEFT($D$441,8)=\"MODELO M\", LEFT(D457,8)=\"MODELO D\"), AND(LEFT($D$441,8)=\"MODELO D\", $Z$441=\"Atribuir valor detalhado por Fase/Elemento\")), AC457, 0)","v":0},{"$f":"SUM(BH457:BK457)","v":0},"MODELO A - TEMPO - N.º DE HORAS DE TRABALHO"]
[null,{"$f":"IF($B$456=\"ocultar\",\"ocultar\",IF('SA - ATIVIDADES'!$G$58=TRUE,IF('SA - ATIVIDADES'!$H$58>='SA - SERVICOS BASE'!AH458,\"mostrar\",\"ocultar\"),\"ocultar\"))","v":"ocultar"},"Designação (a preencher)","MODELO A - TEMPO - N.º DE HORAS DE TRABALHO",null,null,0,0,0,null,null,null,null,null,0,{"$f":"$P$441*O458","v":0},null,null,null,null,null,null,0,{"$f":"$X$441*W458","v":0},null,null,0,0,0,null,0,null,null,2,null,null,null,null,null,null,null,null,null,null,null,null,null,null,null,null,null,null,null,null,null,null,null,null,null,0,0,0,0,0,"MODELO A - TEMPO - N.º DE HORAS DE TRABALHO"]
[null,{"$f":"IF($B$456=\"ocultar\",\"ocultar\",IF('SA - ATIVIDADES'!$G$58=TRUE,IF('SA - ATIVIDADES'!$H$58>='SA - SERVICOS BASE'!AH459,\"mostrar\",\"ocultar\"),\"ocultar\"))","v":"ocultar"},"Designação (a preencher)","MODELO A - TEMPO - N.º DE HORAS DE TRABALHO",null,null,0,0,0,null,null,null,null,null,0,0,null,null,null,null,null,null,0,0,null,null,0,0,0,null,0,null,null,3,null,null,null,null,null,null,null,null,null,null,null,null,null,null,null,null,null,null,null,null,null,null,null,null,null,0,0,0,0,0,"MODELO A - TEMPO - N.º DE HORAS DE TRABALHO"]
[null,{"$f":"IF($B$456=\"ocultar\",\"ocultar\",IF('SA - ATIVIDADES'!$G$58=TRUE,IF('SA - ATIVIDADES'!$H$58>='SA - SERVICOS BASE'!AH460,\"mostrar\",\"ocultar\"),\"ocultar\"))","v":"ocultar"},"Designação (a preencher)","MODELO A - TEMPO - N.º DE HORAS DE TRABALHO",null,null,0,0,0,null,null,null,null,null,0,0,null,null,null,null,null,null,0,0,null,null,0,0,0,null,0,null,null,4,null,null,null,null,null,null,null,null,null,null,null,null,null,null,null,null,null,null,null,null,null,null,null,null,null,0,0,0,0,0,{"$f":"IF($AH460<>\"\",BM459,IF(LEFT($D460,6)=\"MODELO\",$D460,BM459))","v":"MODELO A - TEMPO - N.º DE HORAS DE TRABALHO"}]
[null,{"$f":"IF($B$456=\"ocultar\",\"ocultar\",IF('SA - ATIVIDADES'!$G$58=TRUE,IF('SA - ATIVIDADES'!$H$58>='SA - SERVICOS BASE'!AH461,\"mostrar\",\"ocultar\"),\"ocultar\"))","v":"ocultar"},"Designação (a preencher)","MODELO A - TEMPO - N.º DE HORAS DE TRABALHO",null,null,0,0,0,null,null,null,null,null,0,0,null,null,null,null,null,null,0,0,null,null,0,0,0,null,0,null,null,5,null,null,null,null,null,null,null,null,null,null,null,null,null,null,null,null,null,null,null,null,null,null,null,null,null,0,0,0,0,0,"MODELO A - TEMPO - N.º DE HORAS DE TRABALHO"]
[null,{"$f":"IF($B$456=\"ocultar\",\"ocultar\",IF('SA - ATIVIDADES'!$G$58=TRUE,IF('SA - ATIVIDADES'!$H$58>='SA - SERVICOS BASE'!AH462,\"mostrar\",\"ocultar\"),\"ocultar\"))","v":"ocultar"},"Designação (a preencher)","MODELO A - TEMPO - N.º DE HORAS DE TRABALHO",null,null,0,0,0,null,null,null,null,null,0,0,null,null,null,null,null,null,0,0,null,null,0,0,0,null,0,null,null,6,null,null,null,null,null,null,null,null,null,null,null,null,null,null,null,null,null,null,null,null,null,null,null,null,null,0,0,0,0,0,"MODELO A - TEMPO - N.º DE HORAS DE TRABALHO"]
[null,{"$f":"IF($B$456=\"ocultar\",\"ocultar\",IF('SA - ATIVIDADES'!$G$58=TRUE,IF('SA - ATIVIDADES'!$H$58>='SA - SERVICOS BASE'!AH463,\"mostrar\",\"ocultar\"),\"ocultar\"))","v":"ocultar"},"Designação (a preencher)","MODELO A - TEMPO - N.º DE HORAS DE TRABALHO",null,null,0,0,0,null,null,null,null,null,0,0,null,null,null,null,null,null,0,0,null,null,0,0,0,null,0,null,null,7,null,null,null,null,null,null,null,null,null,null,null,null,null,null,null,null,null,null,null,null,null,null,null,null,null,0,0,0,0,0,"MODELO A - TEMPO - N.º DE HORAS DE TRABALHO"]
[null,{"$f":"IF($B$456=\"ocultar\",\"ocultar\",IF('SA - ATIVIDADES'!$G$58=TRUE,IF('SA - ATIVIDADES'!$H$58>='SA - SERVICOS BASE'!AH464,\"mostrar\",\"ocultar\"),\"ocultar\"))","v":"ocultar"},"Designação (a preencher)","MODELO A - TEMPO - N.º DE HORAS DE TRABALHO",null,null,0,0,0,null,null,null,null,null,0,0,null,null,null,null,null,null,0,0,null,null,0,0,0,null,0,null,null,8,null,null,null,null,null,null,null,null,null,null,null,null,null,null,null,null,null,null,null,null,null,null,null,null,null,0,0,0,0,0,"MODELO A - TEMPO - N.º DE HORAS DE TRABALHO"]
[null,{"$f":"IF($B$456=\"ocultar\",\"ocultar\",IF('SA - ATIVIDADES'!$G$58=TRUE,IF('SA - ATIVIDADES'!$H$58>='SA - SERVICOS BASE'!AH465,\"mostrar\",\"ocultar\"),\"ocultar\"))","v":"ocultar"},"Designação (a preencher)","MODELO A - TEMPO - N.º DE HORAS DE TRABALHO",null,null,0,0,0,null,null,null,null,null,0,0,null,null,null,null,null,null,0,0,null,null,0,0,0,null,0,null,null,9,null,null,null,null,null,null,null,null,null,null,null,null,null,null,null,null,null,null,null,null,null,null,null,null,null,0,0,0,0,0,"MODELO A - TEMPO - N.º DE HORAS DE TRABALHO"]
[null,{"$f":"IF($B$456=\"ocultar\",\"ocultar\",IF('SA - ATIVIDADES'!$G$58=TRUE,IF('SA - ATIVIDADES'!$H$58>='SA - SERVICOS BASE'!AH466,\"mostrar\",\"ocultar\"),\"ocultar\"))","v":"ocultar"},"Designação (a preencher)","MODELO A - TEMPO - N.º DE HORAS DE TRABALHO",null,null,0,0,0,null,null,null,null,null,0,0,null,null,null,null,null,null,0,0,null,null,0,0,0,null,0,null,null,10,null,null,null,null,null,null,null,null,null,null,null,null,null,null,null,null,null,null,null,null,null,null,null,null,null,0,0,0,0,0,"MODELO A - TEMPO - N.º DE HORAS DE TRABALHO"]
[null,{"$f":"IF($B$457=\"ocultar\",\"ocultar\",\"mostrar\")","v":"ocultar"},"SUB-TOTAL",null,null,null,{"$f":"SUBTOTAL(109,G456:G466)","v":0},null,{"$f":"SUBTOTAL(109,I456:I466)","v":0},null,null,null,null,null,{"$f":"SUBTOTAL(9,O457:O466)","v":0},{"$f":"SUBTOTAL(9,P457:P466)","v":0},null,null,null,null,null,null,{"$f":"SUBTOTAL(9,W457:W466)","v":0},{"$f":"SUBTOTAL(9,X457:X466)","v":0},null,null,null,null,{"$f":"SUBTOTAL(109,AC457:AC466)","v":0},null,{"$f":"SUBTOTAL(109,AE457:AE466)","v":0},null,null,null,null,null,null,null,null,null,null,null,null,null,null,null,null,null,null,null,null,null,null,null,null,null,null,null,null,null,null,null,null,null,"MODELO A - TEMPO - N.º DE HORAS DE TRABALHO"]
[null,{"$f":"IF(B441=\"ocultar\",\"ocultar\",IF('SA - ATIVIDADES'!$G$56=\"Fase Única\",\"ocultar\",IF('SA - ATIVIDADES'!G59=TRUE,\"mostrar\",\"ocultar\")))","v":"ocultar"},"PROJETO - FASE DE ANTEPROJETO",null,null,null,null,null,null,null,null,null,null,null,null,null,null,null,null,null,null,null,null,null,null,null,null,null,null,null,null,null,null,null,null,null,null,null,null,null,null,null,null,null,null,null,null,null,null,null,null,null,null,null,null,null,null,null,null,null,null,null,null,null,"MODELO A - TEMPO - N.º DE HORAS DE TRABALHO"]
[null,{"$f":"IF($B$468=\"ocultar\",\"ocultar\",IF('SA - ATIVIDADES'!$G$59=TRUE,IF('SA - ATIVIDADES'!$H$59>='SA - SERVICOS BASE'!AH469,\"mostrar\",\"ocultar\"),\"ocultar\"))","v":"ocultar"},"Designação (a preencher)","MODELO A - TEMPO - N.º DE HORAS DE TRABALHO",null,null,0,{"$f":"$H$441","v":0},{"$f":"G469*H469","v":0},null,null,null,null,null,0,{"$f":"$P$441*O469","v":0},null,null,null,null,null,null,0,{"$f":"$X$441*W469","v":0},null,null,0,0,{"$f":"AA469*AB469","v":0},null,{"$f":"BL469","v":0},null,null,1,null,null,null,null,null,null,null,null,null,null,null,null,null,null,null,null,null,null,null,null,null,null,null,null,null,{"$f":"IF(OR(AND(LEFT($D$441,8)=\"MODELO M\", LEFT(D469,8)=\"MODELO A\"), AND(LEFT($D$441,8)=\"MODELO A\", $F$441=\"Atribuir valor detalhado por Fase/Elemento\")), I469, 0)","v":0},{"$f":"IF(OR(AND(LEFT($D$441,8)=\"MODELO M\", LEFT(D469,8)=\"MODELO B\"), AND(LEFT($D$441,8)=\"MODELO B\", $K$441=\"Atribuir valor detalhado por Fase/Elemento\")), P469, 0)","v":0},{"$f":"IF(OR(AND(LEFT($D$441,8)=\"MODELO M\", LEFT(D469,8)=\"MODELO C\"), AND(LEFT($D$441,8)=\"MODELO C\", $R$441=\"Atribuir valor detalhado por Fase/Elemento\")), X469, 0)","v":0},{"$f":"IF(OR(AND(LEFT($D$441,8)=\"MODELO M\", LEFT(D469,8)=\"MODELO D\"), AND(LEFT($D$441,8)=\"MODELO D\", $Z$441=\"Atribuir valor detalhado por Fase/Elemento\")), AC469, 0)","v":0},{"$f":"SUM(BH469:BK469)","v":0},"MODELO A - TEMPO - N.º DE HORAS DE TRABALHO"]
[null,{"$f":"IF($B$468=\"ocultar\",\"ocultar\",IF('SA - ATIVIDADES'!$G$59=TRUE,IF('SA - ATIVIDADES'!$H$59>='SA - SERVICOS BASE'!AH470,\"mostrar\",\"ocultar\"),\"ocultar\"))","v":"ocultar"},"Designação (a preencher)","MODELO A - TEMPO - N.º DE HORAS DE TRABALHO",null,null,0,0,0,null,null,null,null,null,0,{"$f":"$P$441*O470","v":0},null,null,null,null,null,null,0,{"$f":"$X$441*W470","v":0},null,null,0,0,0,null,0,null,null,2,null,null,null,null,null,null,null,null,null,null,null,null,null,null,null,null,null,null,null,null,null,null,null,null,null,0,0,0,0,0,"MODELO A - TEMPO - N.º DE HORAS DE TRABALHO"]
[null,{"$f":"IF($B$468=\"ocultar\",\"ocultar\",IF('SA - ATIVIDADES'!$G$59=TRUE,IF('SA - ATIVIDADES'!$H$59>='SA - SERVICOS BASE'!AH471,\"mostrar\",\"ocultar\"),\"ocultar\"))","v":"ocultar"},"Designação (a preencher)","MODELO A - TEMPO - N.º DE HORAS DE TRABALHO",null,null,0,0,0,null,null,null,null,null,0,0,null,null,null,null,null,null,0,0,null,null,0,0,0,null,0,null,null,3,null,null,null,null,null,null,null,null,null,null,null,null,null,null,null,null,null,null,null,null,null,null,null,null,null,0,0,0,0,0,"MODELO A - TEMPO - N.º DE HORAS DE TRABALHO"]
[null,{"$f":"IF($B$468=\"ocultar\",\"ocultar\",IF('SA - ATIVIDADES'!$G$59=TRUE,IF('SA - ATIVIDADES'!$H$59>='SA - SERVICOS BASE'!AH472,\"mostrar\",\"ocultar\"),\"ocultar\"))","v":"ocultar"},"Designação (a preencher)","MODELO A - TEMPO - N.º DE HORAS DE TRABALHO",null,null,0,0,0,null,null,null,null,null,0,0,null,null,null,null,null,null,0,0,null,null,0,0,0,null,0,null,null,4,null,null,null,null,null,null,null,null,null,null,null,null,null,null,null,null,null,null,null,null,null,null,null,null,null,0,0,0,0,0,"MODELO A - TEMPO - N.º DE HORAS DE TRABALHO"]
[null,{"$f":"IF($B$468=\"ocultar\",\"ocultar\",IF('SA - ATIVIDADES'!$G$59=TRUE,IF('SA - ATIVIDADES'!$H$59>='SA - SERVICOS BASE'!AH473,\"mostrar\",\"ocultar\"),\"ocultar\"))","v":"ocultar"},"Designação (a preencher)","MODELO A - TEMPO - N.º DE HORAS DE TRABALHO",null,null,0,0,0,null,null,null,null,null,0,0,null,null,null,null,null,null,0,0,null,null,0,0,0,null,0,null,null,5,null,null,null,null,null,null,null,null,null,null,null,null,null,null,null,null,null,null,null,null,null,null,null,null,null,0,0,0,0,0,"MODELO A - TEMPO - N.º DE HORAS DE TRABALHO"]
[null,{"$f":"IF($B$468=\"ocultar\",\"ocultar\",IF('SA - ATIVIDADES'!$G$59=TRUE,IF('SA - ATIVIDADES'!$H$59>='SA - SERVICOS BASE'!AH474,\"mostrar\",\"ocultar\"),\"ocultar\"))","v":"ocultar"},"Designação (a preencher)","MODELO A - TEMPO - N.º DE HORAS DE TRABALHO",null,null,0,0,0,null,null,null,null,null,0,0,null,null,null,null,null,null,0,0,null,null,0,0,0,null,0,null,null,6,null,null,null,null,null,null,null,null,null,null,null,null,null,null,null,null,null,null,null,null,null,null,null,null,null,0,0,0,0,0,"MODELO A - TEMPO - N.º DE HORAS DE TRABALHO"]
[null,{"$f":"IF($B$468=\"ocultar\",\"ocultar\",IF('SA - ATIVIDADES'!$G$59=TRUE,IF('SA - ATIVIDADES'!$H$59>='SA - SERVICOS BASE'!AH475,\"mostrar\",\"ocultar\"),\"ocultar\"))","v":"ocultar"},"Designação (a preencher)","MODELO A - TEMPO - N.º DE HORAS DE TRABALHO",null,null,0,0,0,null,null,null,null,null,0,0,null,null,null,null,null,null,0,0,null,null,0,0,0,null,0,null,null,7,null,null,null,null,null,null,null,null,null,null,null,null,null,null,null,null,null,null,null,null,null,null,null,null,null,0,0,0,0,0,"MODELO A - TEMPO - N.º DE HORAS DE TRABALHO"]
[null,{"$f":"IF($B$468=\"ocultar\",\"ocultar\",IF('SA - ATIVIDADES'!$G$59=TRUE,IF('SA - ATIVIDADES'!$H$59>='SA - SERVICOS BASE'!AH476,\"mostrar\",\"ocultar\"),\"ocultar\"))","v":"ocultar"},"Designação (a preencher)","MODELO A - TEMPO - N.º DE HORAS DE TRABALHO",null,null,0,0,0,null,null,null,null,null,0,0,null,null,null,null,null,null,0,0,null,null,0,0,0,null,0,null,null,8,null,null,null,null,null,null,null,null,null,null,null,null,null,null,null,null,null,null,null,null,null,null,null,null,null,0,0,0,0,0,"MODELO A - TEMPO - N.º DE HORAS DE TRABALHO"]
[null,{"$f":"IF($B$468=\"ocultar\",\"ocultar\",IF('SA - ATIVIDADES'!$G$59=TRUE,IF('SA - ATIVIDADES'!$H$59>='SA - SERVICOS BASE'!AH477,\"mostrar\",\"ocultar\"),\"ocultar\"))","v":"ocultar"},"Designação (a preencher)","MODELO A - TEMPO - N.º DE HORAS DE TRABALHO",null,null,0,0,0,null,null,null,null,null,0,0,null,null,null,null,null,null,0,0,null,null,0,0,0,null,0,null,null,9,null,null,null,null,null,null,null,null,null,null,null,null,null,null,null,null,null,null,null,null,null,null,null,null,null,0,0,0,0,0,"MODELO A - TEMPO - N.º DE HORAS DE TRABALHO"]
[null,{"$f":"IF($B$468=\"ocultar\",\"ocultar\",IF('SA - ATIVIDADES'!$G$59=TRUE,IF('SA - ATIVIDADES'!$H$59>='SA - SERVICOS BASE'!AH478,\"mostrar\",\"ocultar\"),\"ocultar\"))","v":"ocultar"},"Designação (a preencher)","MODELO A - TEMPO - N.º DE HORAS DE TRABALHO",null,null,0,0,0,null,null,null,null,null,0,0,null,null,null,null,null,null,0,0,null,null,0,0,0,null,0,null,null,10,null,null,null,null,null,null,null,null,null,null,null,null,null,null,null,null,null,null,null,null,null,null,null,null,null,0,0,0,0,0,"MODELO A - TEMPO - N.º DE HORAS DE TRABALHO"]
[null,{"$f":"IF($B$469=\"ocultar\",\"ocultar\",\"mostrar\")","v":"ocultar"},"SUB-TOTAL",null,null,null,{"$f":"SUBTOTAL(109,G468:G478)","v":0},null,{"$f":"SUBTOTAL(109,I468:I478)","v":0},null,null,null,null,null,{"$f":"SUBTOTAL(9,O469:O478)","v":0},{"$f":"SUBTOTAL(9,P469:P478)","v":0},null,null,null,null,null,null,{"$f":"SUBTOTAL(9,W469:W478)","v":0},{"$f":"SUBTOTAL(9,X469:X478)","v":0},null,null,null,null,{"$f":"SUBTOTAL(109,AC469:AC478)","v":0},null,{"$f":"SUBTOTAL(109,AE469:AE478)","v":0},null,null,null,null,null,null,null,null,null,null,null,null,null,null,null,null,null,null,null,null,null,null,null,null,null,null,null,null,null,null,null,null,null,"MODELO A - TEMPO - N.º DE HORAS DE TRABALHO"]
[null,{"$f":"IF(B441=\"ocultar\",\"ocultar\",IF('SA - ATIVIDADES'!$G$56=\"Fase Única\",\"ocultar\",IF('SA - ATIVIDADES'!G60=TRUE,\"mostrar\",\"ocultar\")))","v":"ocultar"},"PROJETO  - FASE DE PROJETO DE EXECUÇÃO",null,null,null,null,null,null,null,null,null,null,null,null,null,null,null,null,null,null,null,null,null,null,null,null,null,null,null,null,null,null,null,null,null,null,null,null,null,null,null,null,null,null,null,null,null,null,null,null,null,null,null,null,null,null,null,null,null,null,null,null,null,"MODELO A - TEMPO - N.º DE HORAS DE TRABALHO"]
[null,{"$f":"IF($B$480=\"ocultar\",\"ocultar\",IF('SA - ATIVIDADES'!$G$60=TRUE,IF('SA - ATIVIDADES'!$H$60>='SA - SERVICOS BASE'!AH481,\"mostrar\",\"ocultar\"),\"ocultar\"))","v":"ocultar"},"Designação (a preencher)","MODELO A - TEMPO - N.º DE HORAS DE TRABALHO",null,null,0,{"$f":"$H$441","v":0},{"$f":"G481*H481","v":0},null,null,null,null,null,0,{"$f":"$P$441*O481","v":0},null,null,null,null,null,null,0,{"$f":"$X$441*W481","v":0},null,null,0,0,{"$f":"AA481*AB481","v":0},null,{"$f":"BL481","v":0},null,null,1,null,null,null,null,null,null,null,null,null,null,null,null,null,null,null,null,null,null,null,null,null,null,null,null,null,{"$f":"IF(OR(AND(LEFT($D$441,8)=\"MODELO M\", LEFT(D481,8)=\"MODELO A\"), AND(LEFT($D$441,8)=\"MODELO A\", $F$441=\"Atribuir valor detalhado por Fase/Elemento\")), I481, 0)","v":0},{"$f":"IF(OR(AND(LEFT($D$441,8)=\"MODELO M\", LEFT(D481,8)=\"MODELO B\"), AND(LEFT($D$441,8)=\"MODELO B\", $K$441=\"Atribuir valor detalhado por Fase/Elemento\")), P481, 0)","v":0},{"$f":"IF(OR(AND(LEFT($D$441,8)=\"MODELO M\", LEFT(D481,8)=\"MODELO C\"), AND(LEFT($D$441,8)=\"MODELO C\", $R$441=\"Atribuir valor detalhado por Fase/Elemento\")), X481, 0)","v":0},{"$f":"IF(OR(AND(LEFT($D$441,8)=\"MODELO M\", LEFT(D481,8)=\"MODELO D\"), AND(LEFT($D$441,8)=\"MODELO D\", $Z$441=\"Atribuir valor detalhado por Fase/Elemento\")), AC481, 0)","v":0},{"$f":"SUM(BH481:BK481)","v":0},"MODELO A - TEMPO - N.º DE HORAS DE TRABALHO"]
[null,{"$f":"IF($B$480=\"ocultar\",\"ocultar\",IF('SA - ATIVIDADES'!$G$60=TRUE,IF('SA - ATIVIDADES'!$H$60>='SA - SERVICOS BASE'!AH482,\"mostrar\",\"ocultar\"),\"ocultar\"))","v":"ocultar"},"Designação (a preencher)","MODELO A - TEMPO - N.º DE HORAS DE TRABALHO",null,null,0,0,0,null,null,null,null,null,0,{"$f":"$P$441*O482","v":0},null,null,null,null,null,null,0,{"$f":"$X$441*W482","v":0},null,null,0,0,0,null,0,null,null,2,null,null,null,null,null,null,null,null,null,null,null,null,null,null,null,null,null,null,null,null,null,null,null,null,null,0,0,0,0,0,"MODELO A - TEMPO - N.º DE HORAS DE TRABALHO"]
[null,{"$f":"IF($B$480=\"ocultar\",\"ocultar\",IF('SA - ATIVIDADES'!$G$60=TRUE,IF('SA - ATIVIDADES'!$H$60>='SA - SERVICOS BASE'!AH483,\"mostrar\",\"ocultar\"),\"ocultar\"))","v":"ocultar"},"Designação (a preencher)","MODELO A - TEMPO - N.º DE HORAS DE TRABALHO",null,null,0,0,0,null,null,null,null,null,0,0,null,null,null,null,null,null,0,0,null,null,0,0,0,null,0,null,null,3,null,null,null,null,null,null,null,null,null,null,null,null,null,null,null,null,null,null,null,null,null,null,null,null,null,0,0,0,0,0,"MODELO A - TEMPO - N.º DE HORAS DE TRABALHO"]
[null,{"$f":"IF($B$480=\"ocultar\",\"ocultar\",IF('SA - ATIVIDADES'!$G$60=TRUE,IF('SA - ATIVIDADES'!$H$60>='SA - SERVICOS BASE'!AH484,\"mostrar\",\"ocultar\"),\"ocultar\"))","v":"ocultar"},"Designação (a preencher)","MODELO A - TEMPO - N.º DE HORAS DE TRABALHO",null,null,0,0,0,null,null,null,null,null,0,0,null,null,null,null,null,null,0,0,null,null,0,0,0,null,0,null,null,4,null,null,null,null,null,null,null,null,null,null,null,null,null,null,null,null,null,null,null,null,null,null,null,null,null,0,0,0,0,0,"MODELO A - TEMPO - N.º DE HORAS DE TRABALHO"]
[null,{"$f":"IF($B$480=\"ocultar\",\"ocultar\",IF('SA - ATIVIDADES'!$G$60=TRUE,IF('SA - ATIVIDADES'!$H$60>='SA - SERVICOS BASE'!AH485,\"mostrar\",\"ocultar\"),\"ocultar\"))","v":"ocultar"},"Designação (a preencher)","MODELO A - TEMPO - N.º DE HORAS DE TRABALHO",null,null,0,0,0,null,null,null,null,null,0,0,null,null,null,null,null,null,0,0,null,null,0,0,0,null,0,null,null,5,null,null,null,null,null,null,null,null,null,null,null,null,null,null,null,null,null,null,null,null,null,null,null,null,null,0,0,0,0,0,"MODELO A - TEMPO - N.º DE HORAS DE TRABALHO"]
[null,{"$f":"IF($B$480=\"ocultar\",\"ocultar\",IF('SA - ATIVIDADES'!$G$60=TRUE,IF('SA - ATIVIDADES'!$H$60>='SA - SERVICOS BASE'!AH486,\"mostrar\",\"ocultar\"),\"ocultar\"))","v":"ocultar"},"Designação (a preencher)","MODELO A - TEMPO - N.º DE HORAS DE TRABALHO",null,null,0,0,0,null,null,null,null,null,0,0,null,null,null,null,null,null,0,0,null,null,0,0,0,null,0,null,null,6,null,null,null,null,null,null,null,null,null,null,null,null,null,null,null,null,null,null,null,null,null,null,null,null,null,0,0,0,0,0,"MODELO A - TEMPO - N.º DE HORAS DE TRABALHO"]
[null,{"$f":"IF($B$480=\"ocultar\",\"ocultar\",IF('SA - ATIVIDADES'!$G$60=TRUE,IF('SA - ATIVIDADES'!$H$60>='SA - SERVICOS BASE'!AH487,\"mostrar\",\"ocultar\"),\"ocultar\"))","v":"ocultar"},"Designação (a preencher)","MODELO A - TEMPO - N.º DE HORAS DE TRABALHO",null,null,0,0,0,null,null,null,null,null,0,0,null,null,null,null,null,null,0,0,null,null,0,0,0,null,0,null,null,7,null,null,null,null,null,null,null,null,null,null,null,null,null,null,null,null,null,null,null,null,null,null,null,null,null,0,0,0,0,0,"MODELO A - TEMPO - N.º DE HORAS DE TRABALHO"]
[null,{"$f":"IF($B$480=\"ocultar\",\"ocultar\",IF('SA - ATIVIDADES'!$G$60=TRUE,IF('SA - ATIVIDADES'!$H$60>='SA - SERVICOS BASE'!AH488,\"mostrar\",\"ocultar\"),\"ocultar\"))","v":"ocultar"},"Designação (a preencher)","MODELO A - TEMPO - N.º DE HORAS DE TRABALHO",null,null,0,0,0,null,null,null,null,null,0,0,null,null,null,null,null,null,0,0,null,null,0,0,0,null,0,null,null,8,null,null,null,null,null,null,null,null,null,null,null,null,null,null,null,null,null,null,null,null,null,null,null,null,null,0,0,0,0,0,"MODELO A - TEMPO - N.º DE HORAS DE TRABALHO"]
[null,{"$f":"IF($B$480=\"ocultar\",\"ocultar\",IF('SA - ATIVIDADES'!$G$60=TRUE,IF('SA - ATIVIDADES'!$H$60>='SA - SERVICOS BASE'!AH489,\"mostrar\",\"ocultar\"),\"ocultar\"))","v":"ocultar"},"Designação (a preencher)","MODELO A - TEMPO - N.º DE HORAS DE TRABALHO",null,null,0,0,0,null,null,null,null,null,0,0,null,null,null,null,null,null,0,0,null,null,0,0,0,null,0,null,null,9,null,null,null,null,null,null,null,null,null,null,null,null,null,null,null,null,null,null,null,null,null,null,null,null,null,0,0,0,0,0,"MODELO A - TEMPO - N.º DE HORAS DE TRABALHO"]
[null,{"$f":"IF($B$480=\"ocultar\",\"ocultar\",IF('SA - ATIVIDADES'!$G$60=TRUE,IF('SA - ATIVIDADES'!$H$60>='SA - SERVICOS BASE'!AH490,\"mostrar\",\"ocultar\"),\"ocultar\"))","v":"ocultar"},"Designação (a preencher)","MODELO A - TEMPO - N.º DE HORAS DE TRABALHO",null,null,0,0,0,null,null,null,null,null,0,0,null,null,null,null,null,null,0,0,null,null,0,0,0,null,0,null,null,10,null,null,null,null,null,null,null,null,null,null,null,null,null,null,null,null,null,null,null,null,null,null,null,null,null,0,0,0,0,0,"MODELO A - TEMPO - N.º DE HORAS DE TRABALHO"]
[null,{"$f":"IF($B$481=\"ocultar\",\"ocultar\",\"mostrar\")","v":"ocultar"},"SUB-TOTAL",null,null,null,{"$f":"SUBTOTAL(109,G480:G490)","v":0},null,{"$f":"SUBTOTAL(109,I480:I490)","v":0},null,null,null,null,null,{"$f":"SUBTOTAL(9,O481:O490)","v":0},{"$f":"SUBTOTAL(9,P481:P490)","v":0},null,null,null,null,null,null,{"$f":"SUBTOTAL(9,W481:W490)","v":0},{"$f":"SUBTOTAL(9,X481:X490)","v":0},null,null,null,null,{"$f":"SUBTOTAL(109,AC481:AC490)","v":0},null,{"$f":"SUBTOTAL(109,AE481:AE490)","v":0},null,null,null,null,null,null,null,null,null,null,null,null,null,null,null,null,null,null,null,null,null,null,null,null,null,null,null,null,null,null,null,null,null,"MODELO A - TEMPO - N.º DE HORAS DE TRABALHO"]
[null,{"$f":"IF($B$441=\"ocultar\",\"ocultar\",IF('SA - ATIVIDADES'!$G$56=\"Fase Única\",\"ocultar\",IF('SA - ATIVIDADES'!G61=TRUE,\"mostrar\",\"ocultar\")))","v":"ocultar"},"ASSISTÊNCIA TÉCNICA",null,null,null,null,null,null,null,null,null,null,null,null,null,null,null,null,null,null,null,null,null,null,null,null,null,null,null,null,null,null,null,null,null,null,null,null,null,null,null,null,null,null,null,null,null,null,null,null,null,null,null,null,null,null,null,null,null,null,null,null,null,"MODELO A - TEMPO - N.º DE HORAS DE TRABALHO"]
[null,{"$f":"IF($B$492=\"ocultar\",\"ocultar\",IF('SA - ATIVIDADES'!$G$61=TRUE,IF('SA - ATIVIDADES'!$H$61>='SA - SERVICOS BASE'!AH493,\"mostrar\",\"ocultar\"),\"ocultar\"))","v":"ocultar"},"Designação (a preencher)","MODELO A - TEMPO - N.º DE HORAS DE TRABALHO",null,null,0,{"$f":"$H$441","v":0},{"$f":"G493*H493","v":0},null,null,null,null,null,0,{"$f":"$P$441*O493","v":0},null,null,null,null,null,null,0,{"$f":"$X$441*W493","v":0},null,null,0,0,{"$f":"AA493*AB493","v":0},null,{"$f":"BL493","v":0},null,null,1,null,null,null,null,null,null,null,null,null,null,null,null,null,null,null,null,null,null,null,null,null,null,null,null,null,{"$f":"IF(OR(AND(LEFT($D$441,8)=\"MODELO M\", LEFT(D493,8)=\"MODELO A\"), AND(LEFT($D$441,8)=\"MODELO A\", $F$441=\"Atribuir valor detalhado por Fase/Elemento\")), I493, 0)","v":0},{"$f":"IF(OR(AND(LEFT($D$441,8)=\"MODELO M\", LEFT(D493,8)=\"MODELO B\"), AND(LEFT($D$441,8)=\"MODELO B\", $K$441=\"Atribuir valor detalhado por Fase/Elemento\")), P493, 0)","v":0},{"$f":"IF(OR(AND(LEFT($D$441,8)=\"MODELO M\", LEFT(D493,8)=\"MODELO C\"), AND(LEFT($D$441,8)=\"MODELO C\", $R$441=\"Atribuir valor detalhado por Fase/Elemento\")), X493, 0)","v":0},{"$f":"IF(OR(AND(LEFT($D$441,8)=\"MODELO M\", LEFT(D493,8)=\"MODELO D\"), AND(LEFT($D$441,8)=\"MODELO D\", $Z$441=\"Atribuir valor detalhado por Fase/Elemento\")), AC493, 0)","v":0},{"$f":"SUM(BH493:BK493)","v":0},"MODELO A - TEMPO - N.º DE HORAS DE TRABALHO"]
[null,{"$f":"IF($B$492=\"ocultar\",\"ocultar\",IF('SA - ATIVIDADES'!$G$61=TRUE,IF('SA - ATIVIDADES'!$H$61>='SA - SERVICOS BASE'!AH494,\"mostrar\",\"ocultar\"),\"ocultar\"))","v":"ocultar"},"Designação (a preencher)","MODELO A - TEMPO - N.º DE HORAS DE TRABALHO",null,null,0,0,0,null,null,null,null,null,0,{"$f":"$P$441*O494","v":0},null,null,null,null,null,null,0,{"$f":"$X$441*W494","v":0},null,null,0,0,0,null,0,null,null,2,null,null,null,null,null,null,null,null,null,null,null,null,null,null,null,null,null,null,null,null,null,null,null,null,null,0,0,0,0,0,"MODELO A - TEMPO - N.º DE HORAS DE TRABALHO"]
[null,{"$f":"IF($B$492=\"ocultar\",\"ocultar\",IF('SA - ATIVIDADES'!$G$61=TRUE,IF('SA - ATIVIDADES'!$H$61>='SA - SERVICOS BASE'!AH495,\"mostrar\",\"ocultar\"),\"ocultar\"))","v":"ocultar"},"Designação (a preencher)","MODELO A - TEMPO - N.º DE HORAS DE TRABALHO",null,null,0,0,0,null,null,null,null,null,0,0,null,null,null,null,null,null,0,0,null,null,0,0,0,null,0,null,null,3,null,null,null,null,null,null,null,null,null,null,null,null,null,null,null,null,null,null,null,null,null,null,null,null,null,0,0,0,0,0,"MODELO A - TEMPO - N.º DE HORAS DE TRABALHO"]
[null,{"$f":"IF($B$492=\"ocultar\",\"ocultar\",IF('SA - ATIVIDADES'!$G$61=TRUE,IF('SA - ATIVIDADES'!$H$61>='SA - SERVICOS BASE'!AH496,\"mostrar\",\"ocultar\"),\"ocultar\"))","v":"ocultar"},"Designação (a preencher)","MODELO A - TEMPO - N.º DE HORAS DE TRABALHO",null,null,0,0,0,null,null,null,null,null,0,0,null,null,null,null,null,null,0,0,null,null,0,0,0,null,0,null,null,4,null,null,null,null,null,null,null,null,null,null,null,null,null,null,null,null,null,null,null,null,null,null,null,null,null,0,0,0,0,0,"MODELO A - TEMPO - N.º DE HORAS DE TRABALHO"]
[null,{"$f":"IF($B$492=\"ocultar\",\"ocultar\",IF('SA - ATIVIDADES'!$G$61=TRUE,IF('SA - ATIVIDADES'!$H$61>='SA - SERVICOS BASE'!AH497,\"mostrar\",\"ocultar\"),\"ocultar\"))","v":"ocultar"},"Designação (a preencher)","MODELO A - TEMPO - N.º DE HORAS DE TRABALHO",null,null,0,0,0,null,null,null,null,null,0,0,null,null,null,null,null,null,0,0,null,null,0,0,0,null,0,null,null,5,null,null,null,null,null,null,null,null,null,null,null,null,null,null,null,null,null,null,null,null,null,null,null,null,null,0,0,0,0,0,"MODELO A - TEMPO - N.º DE HORAS DE TRABALHO"]
[null,{"$f":"IF($B$492=\"ocultar\",\"ocultar\",IF('SA - ATIVIDADES'!$G$61=TRUE,IF('SA - ATIVIDADES'!$H$61>='SA - SERVICOS BASE'!AH498,\"mostrar\",\"ocultar\"),\"ocultar\"))","v":"ocultar"},"Designação (a preencher)","MODELO A - TEMPO - N.º DE HORAS DE TRABALHO",null,null,0,0,0,null,null,null,null,null,0,0,null,null,null,null,null,null,0,0,null,null,0,0,0,null,0,null,null,6,null,null,null,null,null,null,null,null,null,null,null,null,null,null,null,null,null,null,null,null,null,null,null,null,null,0,0,0,0,0,"MODELO A - TEMPO - N.º DE HORAS DE TRABALHO"]
[null,{"$f":"IF($B$492=\"ocultar\",\"ocultar\",IF('SA - ATIVIDADES'!$G$61=TRUE,IF('SA - ATIVIDADES'!$H$61>='SA - SERVICOS BASE'!AH499,\"mostrar\",\"ocultar\"),\"ocultar\"))","v":"ocultar"},"Designação (a preencher)","MODELO A - TEMPO - N.º DE HORAS DE TRABALHO",null,null,0,0,0,null,null,null,null,null,0,0,null,null,null,null,null,null,0,0,null,null,0,0,0,null,0,null,null,7,null,null,null,null,null,null,null,null,null,null,null,null,null,null,null,null,null,null,null,null,null,null,null,null,null,0,0,0,0,0,"MODELO A - TEMPO - N.º DE HORAS DE TRABALHO"]
[null,{"$f":"IF($B$492=\"ocultar\",\"ocultar\",IF('SA - ATIVIDADES'!$G$61=TRUE,IF('SA - ATIVIDADES'!$H$61>='SA - SERVICOS BASE'!AH500,\"mostrar\",\"ocultar\"),\"ocultar\"))","v":"ocultar"},"Designação (a preencher)","MODELO A - TEMPO - N.º DE HORAS DE TRABALHO",null,null,0,0,0,null,null,null,null,null,0,0,null,null,null,null,null,null,0,0,null,null,0,0,0,null,0,null,null,8,null,null,null,null,null,null,null,null,null,null,null,null,null,null,null,null,null,null,null,null,null,null,null,null,null,0,0,0,0,0,"MODELO A - TEMPO - N.º DE HORAS DE TRABALHO"]
[null,{"$f":"IF($B$492=\"ocultar\",\"ocultar\",IF('SA - ATIVIDADES'!$G$61=TRUE,IF('SA - ATIVIDADES'!$H$61>='SA - SERVICOS BASE'!AH501,\"mostrar\",\"ocultar\"),\"ocultar\"))","v":"ocultar"},"Designação (a preencher)","MODELO A - TEMPO - N.º DE HORAS DE TRABALHO",null,null,0,0,0,null,null,null,null,null,0,0,null,null,null,null,null,null,0,0,null,null,0,0,0,null,0,null,null,9,null,null,null,null,null,null,null,null,null,null,null,null,null,null,null,null,null,null,null,null,null,null,null,null,null,0,0,0,0,0,"MODELO A - TEMPO - N.º DE HORAS DE TRABALHO"]
[null,{"$f":"IF($B$492=\"ocultar\",\"ocultar\",IF('SA - ATIVIDADES'!$G$61=TRUE,IF('SA - ATIVIDADES'!$H$61>='SA - SERVICOS BASE'!AH502,\"mostrar\",\"ocultar\"),\"ocultar\"))","v":"ocultar"},"Designação (a preencher)","MODELO A - TEMPO - N.º DE HORAS DE TRABALHO",null,null,0,0,0,null,null,null,null,null,0,0,null,null,null,null,null,null,0,0,null,null,0,0,0,null,0,null,null,10,null,null,null,null,null,null,null,null,null,null,null,null,null,null,null,null,null,null,null,null,null,null,null,null,null,0,0,0,0,0,"MODELO A - TEMPO - N.º DE HORAS DE TRABALHO"]
[null,{"$f":"IF($B$493=\"ocultar\",\"ocultar\",\"mostrar\")","v":"ocultar"},"SUB-TOTAL",null,null,null,{"$f":"SUBTOTAL(109,G492:G502)","v":0},null,{"$f":"SUBTOTAL(109,I492:I502)","v":0},null,null,null,null,null,{"$f":"SUBTOTAL(9,O493:O502)","v":0},{"$f":"SUBTOTAL(9,P493:P502)","v":0},null,null,null,null,null,null,{"$f":"SUBTOTAL(9,W493:W502)","v":0},{"$f":"SUBTOTAL(9,X493:X502)","v":0},null,null,null,null,0,null,{"$f":"SUBTOTAL(109,AE493:AE502)","v":0},null,null,null,null,null,null,null,null,null,null,null,null,null,null,null,null,null,null,null,null,null,null,null,null,null,null,null,null,null,null,null,null,null,"MODELO A - TEMPO - N.º DE HORAS DE TRABALHO"]
[null,{"$f":"IF($B$441=\"ocultar\",\"ocultar\",\"mostrar\")","v":"ocultar"},"TOTAL",null,null,null,{"$f":"IF($F441=\"Atribuir valor global à atividade\",G441,SUBTOTAL(109,G444:G503))","v":0},null,{"$f":"IF($F441=\"Atribuir valor global à atividade\",I441,SUBTOTAL(109,I444:I503))","v":0},null,null,null,null,null,{"$f":"IF($K$441=\"Atribuir valor global à atividade\",1,SUBTOTAL(109,O445:O503))","v":1},{"$f":"IF($K441=\"Atribuir valor global à atividade\",P441,SUBTOTAL(109,P445:P503))","v":0},null,null,null,null,null,null,{"$f":"IF($R$441=\"Atribuir valor global à atividade\",1,SUBTOTAL(109,W445:W503))","v":1},{"$f":"IF($R441=\"Atribuir valor global à atividade\",X441,SUBTOTAL(109,X445:X503))","v":0},null,null,null,null,{"$f":"IF($Z$441=\"Atribuir valor global à atividade\",AC441,SUBTOTAL(109,AC445:AC503))","v":0},null,{"$f":"BL441","v":0},null,null,null,null,null,null,null,null,null,null,null,null,null,null,null,null,null,null,null,null,null,null,null,null,null,null,null,null,null,null,null,null,null,"MODELO A - TEMPO - N.º DE HORAS DE TRABALHO"]
[null,{"$f":"IF($B$441=\"ocultar\",\"ocultar\",\"mostrar\")","v":"ocultar"},null,null,null,null,null,null,null,null,null,null,null,null,null,null,null,null,null,null,null,null,null,null,null,null,null,null,null,null,null,null,null,null,null,null,null,null,null,null,null,null,null,null,null,null,null,null,null,null,null,null,null,null,null,null,null,null,null,null,null,null,null,null,"MODELO A - TEMPO - N.º DE HORAS DE TRABALHO"]
[null,{"$f":"IF('SA - ATIVIDADES'!$F$63<>TRUE,\"ocultar\",\"mostrar\")","v":"ocultar"},"A10. PROJETO DE CONFORTO TÉRMICO DE EDIFÍCIOS DE COMÉRCIO COM POTÊNCIA NOMINAL ATÉ 30KW (PECS)","MODELO A - TEMPO - N.º DE HORAS DE TRABALHO",null,"Atribuir valor global à atividade",0,0,{"$f":"G506*H506","v":0},null,"Atribuir valor global à atividade","Valor Global Obra (VG Obra)",{"$f":"IF(L506=\"Valor Global Obra (VG Obra)\",$M$9,\"\")","v":0},0,0,{"$f":"IF(L506=\"Valor Global Obra (VG Obra)\",M506*O506,N506*O506)","v":0},null,"Atribuir valor global à atividade","Valor/m2 fixo (VF m2)",{"$f":"IF(S506=\"Valor/m2 fixo (VF m2)\",$T$9,\"\")","v":0},0,0,null,{"$f":"IF(S506=\"Valor/m2 fixo (VF m2)\",T506*1*V506,U506*1*V506)","v":0},null,"Atribuir valor global à atividade",0,0,{"$f":"AA506*AB506","v":0},null,{"$f":"BL506","v":0},null,null,null,null,null,null,null,null,null,null,null,null,null,null,null,null,null,null,null,null,null,null,null,null,null,null,null,null,{"$f":"IF(LEFT($D$506,8)=\"MODELO A\",IF($F$506=\"Atribuir valor detalhado por Fase/Elemento\",SUBTOTAL(109,BH510:BH567),I506),IF(LEFT($D$506,8)=\"MODELO M\",SUBTOTAL(109,BH510:BH567),0))","v":0},{"$f":"IF(LEFT($D$506,8)=\"MODELO B\",IF($K$506=\"Atribuir valor detalhado por Fase/Elemento\",SUBTOTAL(109,BI510:BI567),P506),IF(LEFT($D$506,8)=\"MODELO M\",SUBTOTAL(109,BI510:BI567),0))","v":0},{"$f":"IF(LEFT($D$506,8)=\"MODELO C\",IF($R$506=\"Atribuir valor detalhado por Fase/Elemento\",SUBTOTAL(109,BJ510:BJ567),X506),IF(LEFT($D$506,8)=\"MODELO M\",SUBTOTAL(109,BJ510:BJ567),0))","v":0},{"$f":"IF(LEFT($D$506,8)=\"MODELO D\",IF($Z$506=\"Atribuir valor detalhado por Fase/Elemento\",SUBTOTAL(109,BK510:BK567),AC506),IF(LEFT($D$506,8)=\"MODELO M\",SUBTOTAL(109,BK510:BK567),0))","v":0},{"$f":"SUM(BH506:BK506)","v":0},"MODELO A - TEMPO - N.º DE HORAS DE TRABALHO"]
[null,{"$f":"IF($B$506=\"ocultar\",\"ocultar\",\"mostrar\")","v":"ocultar"},null,null,null,null,null,null,null,null,null,null,null,null,null,null,null,null,null,null,null,null,null,null,null,null,null,null,null,null,null,null,null,null,null,null,null,null,null,null,null,null,null,null,null,null,null,null,null,null,null,null,null,null,null,null,null,null,null,null,null,null,null,null,"MODELO A - TEMPO - N.º DE HORAS DE TRABALHO"]
[null,"ocultar",null,null,null,null,null,null,null,null,null,null,null,null,null,null,null,null,null,null,null,null,null,null,null,null,null,null,null,null,null,null,null,null,null,null,null,null,null,null,null,null,null,null,null,null,null,null,null,null,null,null,null,null,null,null,null,null,null,null,null,null,null,null,"MODELO A - TEMPO - N.º DE HORAS DE TRABALHO"]
[null,{"$f":"IF(B506=\"ocultar\",\"ocultar\",IF('SA - ATIVIDADES'!$G$63=\"Fase Única\",\"ocultar\",IF('SA - ATIVIDADES'!G64=TRUE,\"mostrar\",\"ocultar\")))","v":"ocultar"},"PROJETO - FASE DE PROGRAMA BASE",null,null,null,null,null,null,null,null,null,null,null,null,null,null,null,null,null,null,null,null,null,null,null,null,null,null,null,null,null,null,null,null,null,null,null,null,null,null,null,null,null,null,null,null,null,null,null,null,null,null,null,null,null,null,null,null,null,null,null,null,null,"MODELO A - TEMPO - N.º DE HORAS DE TRABALHO"]
[null,{"$f":"IF($B$509=\"ocultar\",\"ocultar\",IF('SA - ATIVIDADES'!$G$64=TRUE,IF('SA - ATIVIDADES'!$H$64>='SA - SERVICOS BASE'!AH510,\"mostrar\",\"ocultar\"),\"ocultar\"))","v":"ocultar"},"Designação (a preencher)","MODELO A - TEMPO - N.º DE HORAS DE TRABALHO",null,null,0,{"$f":"$H$506","v":0},{"$f":"G510*H510","v":0},null,null,null,null,null,0,{"$f":"$P$506*O510","v":0},null,null,null,null,null,null,0,{"$f":"$X$506*W510","v":0},null,null,0,0,{"$f":"AA510*AB510","v":0},null,{"$f":"BL510","v":0},null,null,1,null,null,null,null,null,null,null,null,null,null,null,null,null,null,null,null,null,null,null,null,null,null,null,null,null,{"$f":"IF(OR(AND(LEFT($D$506,8)=\"MODELO M\", LEFT(D510,8)=\"MODELO A\"), AND(LEFT($D$506,8)=\"MODELO A\", $F$506=\"Atribuir valor detalhado por Fase/Elemento\")), I510, 0)","v":0},{"$f":"IF(OR(AND(LEFT($D$506,8)=\"MODELO M\", LEFT(D510,8)=\"MODELO B\"), AND(LEFT($D$506,8)=\"MODELO B\", $K$506=\"Atribuir valor detalhado por Fase/Elemento\")), P510, 0)","v":0},{"$f":"IF(OR(AND(LEFT($D$506,8)=\"MODELO M\", LEFT(D510,8)=\"MODELO C\"), AND(LEFT($D$506,8)=\"MODELO C\", $R$506=\"Atribuir valor detalhado por Fase/Elemento\")), X510, 0)","v":0},{"$f":"IF(OR(AND(LEFT($D$506,8)=\"MODELO M\", LEFT(D510,8)=\"MODELO D\"), AND(LEFT($D$506,8)=\"MODELO D\", $Z$506=\"Atribuir valor detalhado por Fase/Elemento\")), AC510, 0)","v":0},{"$f":"SUM(BH510:BK510)","v":0},"MODELO A - TEMPO - N.º DE HORAS DE TRABALHO"]
[null,{"$f":"IF($B$509=\"ocultar\",\"ocultar\",IF('SA - ATIVIDADES'!$G$64=TRUE,IF('SA - ATIVIDADES'!$H$64>='SA - SERVICOS BASE'!AH511,\"mostrar\",\"ocultar\"),\"ocultar\"))","v":"ocultar"},"Designação (a preencher)","MODELO A - TEMPO - N.º DE HORAS DE TRABALHO",null,null,0,0,0,null,null,null,null,null,0,{"$f":"$P$506*O511","v":0},null,null,null,null,null,null,0,{"$f":"$X$506*W511","v":0},null,null,0,0,0,null,0,null,null,2,null,null,null,null,null,null,null,null,null,null,null,null,null,null,null,null,null,null,null,null,null,null,null,null,null,0,0,0,0,0,"MODELO A - TEMPO - N.º DE HORAS DE TRABALHO"]
[null,{"$f":"IF($B$509=\"ocultar\",\"ocultar\",IF('SA - ATIVIDADES'!$G$64=TRUE,IF('SA - ATIVIDADES'!$H$64>='SA - SERVICOS BASE'!AH512,\"mostrar\",\"ocultar\"),\"ocultar\"))","v":"ocultar"},"Designação (a preencher)","MODELO A - TEMPO - N.º DE HORAS DE TRABALHO",null,null,0,0,0,null,null,null,null,null,0,0,null,null,null,null,null,null,0,0,null,null,0,0,0,null,0,null,null,3,null,null,null,null,null,null,null,null,null,null,null,null,null,null,null,null,null,null,null,null,null,null,null,null,null,0,0,0,0,0,"MODELO A - TEMPO - N.º DE HORAS DE TRABALHO"]
[null,{"$f":"IF($B$509=\"ocultar\",\"ocultar\",IF('SA - ATIVIDADES'!$G$64=TRUE,IF('SA - ATIVIDADES'!$H$64>='SA - SERVICOS BASE'!AH513,\"mostrar\",\"ocultar\"),\"ocultar\"))","v":"ocultar"},"Designação (a preencher)","MODELO A - TEMPO - N.º DE HORAS DE TRABALHO",null,null,0,0,0,null,null,null,null,null,0,0,null,null,null,null,null,null,0,0,null,null,0,0,0,null,0,null,null,4,null,null,null,null,null,null,null,null,null,null,null,null,null,null,null,null,null,null,null,null,null,null,null,null,null,0,0,0,0,0,"MODELO A - TEMPO - N.º DE HORAS DE TRABALHO"]
[null,{"$f":"IF($B$509=\"ocultar\",\"ocultar\",IF('SA - ATIVIDADES'!$G$64=TRUE,IF('SA - ATIVIDADES'!$H$64>='SA - SERVICOS BASE'!AH514,\"mostrar\",\"ocultar\"),\"ocultar\"))","v":"ocultar"},"Designação (a preencher)","MODELO A - TEMPO - N.º DE HORAS DE TRABALHO",null,null,0,0,0,null,null,null,null,null,0,0,null,null,null,null,null,null,0,0,null,null,0,0,0,null,0,null,null,5,null,null,null,null,null,null,null,null,null,null,null,null,null,null,null,null,null,null,null,null,null,null,null,null,null,0,0,0,0,0,"MODELO A - TEMPO - N.º DE HORAS DE TRABALHO"]
[null,{"$f":"IF($B$509=\"ocultar\",\"ocultar\",IF('SA - ATIVIDADES'!$G$64=TRUE,IF('SA - ATIVIDADES'!$H$64>='SA - SERVICOS BASE'!AH515,\"mostrar\",\"ocultar\"),\"ocultar\"))","v":"ocultar"},"Designação (a preencher)","MODELO A - TEMPO - N.º DE HORAS DE TRABALHO",null,null,0,0,0,null,null,null,null,null,0,0,null,null,null,null,null,null,0,0,null,null,0,0,0,null,0,null,null,6,null,null,null,null,null,null,null,null,null,null,null,null,null,null,null,null,null,null,null,null,null,null,null,null,null,0,0,0,0,0,"MODELO A - TEMPO - N.º DE HORAS DE TRABALHO"]
[null,{"$f":"IF($B$509=\"ocultar\",\"ocultar\",IF('SA - ATIVIDADES'!$G$64=TRUE,IF('SA - ATIVIDADES'!$H$64>='SA - SERVICOS BASE'!AH516,\"mostrar\",\"ocultar\"),\"ocultar\"))","v":"ocultar"},"Designação (a preencher)","MODELO A - TEMPO - N.º DE HORAS DE TRABALHO",null,null,0,0,0,null,null,null,null,null,0,0,null,null,null,null,null,null,0,0,null,null,0,0,0,null,0,null,null,7,null,null,null,null,null,null,null,null,null,null,null,null,null,null,null,null,null,null,null,null,null,null,null,null,null,0,0,0,0,0,"MODELO A - TEMPO - N.º DE HORAS DE TRABALHO"]
[null,{"$f":"IF($B$509=\"ocultar\",\"ocultar\",IF('SA - ATIVIDADES'!$G$64=TRUE,IF('SA - ATIVIDADES'!$H$64>='SA - SERVICOS BASE'!AH517,\"mostrar\",\"ocultar\"),\"ocultar\"))","v":"ocultar"},"Designação (a preencher)","MODELO A - TEMPO - N.º DE HORAS DE TRABALHO",null,null,0,0,0,null,null,null,null,null,0,0,null,null,null,null,null,null,0,0,null,null,0,0,0,null,0,null,null,8,null,null,null,null,null,null,null,null,null,null,null,null,null,null,null,null,null,null,null,null,null,null,null,null,null,0,0,0,0,0,"MODELO A - TEMPO - N.º DE HORAS DE TRABALHO"]
[null,{"$f":"IF($B$509=\"ocultar\",\"ocultar\",IF('SA - ATIVIDADES'!$G$64=TRUE,IF('SA - ATIVIDADES'!$H$64>='SA - SERVICOS BASE'!AH518,\"mostrar\",\"ocultar\"),\"ocultar\"))","v":"ocultar"},"Designação (a preencher)","MODELO A - TEMPO - N.º DE HORAS DE TRABALHO",null,null,0,0,0,null,null,null,null,null,0,0,null,null,null,null,null,null,0,0,null,null,0,0,0,null,0,null,null,9,null,null,null,null,null,null,null,null,null,null,null,null,null,null,null,null,null,null,null,null,null,null,null,null,null,0,0,0,0,0,"MODELO A - TEMPO - N.º DE HORAS DE TRABALHO"]
[null,{"$f":"IF($B$509=\"ocultar\",\"ocultar\",IF('SA - ATIVIDADES'!$G$64=TRUE,IF('SA - ATIVIDADES'!$H$64>='SA - SERVICOS BASE'!AH519,\"mostrar\",\"ocultar\"),\"ocultar\"))","v":"ocultar"},"Designação (a preencher)","MODELO A - TEMPO - N.º DE HORAS DE TRABALHO",null,null,0,0,0,null,null,null,null,null,0,0,null,null,null,null,null,null,0,0,null,null,0,0,0,null,0,null,null,10,null,null,null,null,null,null,null,null,null,null,null,null,null,null,null,null,null,null,null,null,null,null,null,null,null,0,0,0,0,0,"MODELO A - TEMPO - N.º DE HORAS DE TRABALHO"]
[null,{"$f":"IF($B$510=\"ocultar\",\"ocultar\",\"mostrar\")","v":"ocultar"},"SUB-TOTAL",null,null,null,{"$f":"SUBTOTAL(109,G509:G519)","v":0},null,{"$f":"SUBTOTAL(109,I509:I519)","v":0},null,null,null,null,null,{"$f":"SUBTOTAL(9,O510:O519)","v":0},{"$f":"SUBTOTAL(9,P510:P519)","v":0},null,null,null,null,null,null,{"$f":"SUBTOTAL(9,W510:W519)","v":0},{"$f":"SUBTOTAL(9,X510:X519)","v":0},null,null,null,null,{"$f":"SUBTOTAL(109,AC510:AC519)","v":0},null,{"$f":"SUBTOTAL(109,AE510:AE519)","v":0},null,null,null,null,null,null,null,null,null,null,null,null,null,null,null,null,null,null,null,null,null,null,null,null,null,null,null,null,null,null,null,null,null,"MODELO A - TEMPO - N.º DE HORAS DE TRABALHO"]
[null,{"$f":"IF(B506=\"ocultar\",\"ocultar\",IF('SA - ATIVIDADES'!$G$63=\"Fase Única\",\"ocultar\",IF('SA - ATIVIDADES'!G65=TRUE,\"mostrar\",\"ocultar\")))","v":"ocultar"},"PROJETO - FASE DE ESTUDO PRÉVIO",null,null,null,null,null,null,null,null,null,null,null,null,null,null,null,null,null,null,null,null,null,null,null,null,null,null,null,null,null,null,null,null,null,null,null,null,null,null,null,null,null,null,null,null,null,null,null,null,null,null,null,null,null,null,null,null,null,null,null,null,null,"MODELO A - TEMPO - N.º DE HORAS DE TRABALHO"]
[null,{"$f":"IF($B$521=\"ocultar\",\"ocultar\",IF('SA - ATIVIDADES'!$G$65=TRUE,IF('SA - ATIVIDADES'!$H$65>='SA - SERVICOS BASE'!AH522,\"mostrar\",\"ocultar\"),\"ocultar\"))","v":"ocultar"},"Designação (a preencher)","MODELO A - TEMPO - N.º DE HORAS DE TRABALHO",null,null,0,{"$f":"$H$506","v":0},{"$f":"G522*H522","v":0},null,null,null,null,null,0,{"$f":"$P$506*O522","v":0},null,null,null,null,null,null,0,{"$f":"$X$506*W522","v":0},null,null,0,0,{"$f":"AA522*AB522","v":0},null,{"$f":"BL522","v":0},null,null,1,null,null,null,null,null,null,null,null,null,null,null,null,null,null,null,null,null,null,null,null,null,null,null,null,null,{"$f":"IF(OR(AND(LEFT($D$506,8)=\"MODELO M\", LEFT(D522,8)=\"MODELO A\"), AND(LEFT($D$506,8)=\"MODELO A\", $F$506=\"Atribuir valor detalhado por Fase/Elemento\")), I522, 0)","v":0},{"$f":"IF(OR(AND(LEFT($D$506,8)=\"MODELO M\", LEFT(D522,8)=\"MODELO B\"), AND(LEFT($D$506,8)=\"MODELO B\", $K$506=\"Atribuir valor detalhado por Fase/Elemento\")), P522, 0)","v":0},{"$f":"IF(OR(AND(LEFT($D$506,8)=\"MODELO M\", LEFT(D522,8)=\"MODELO C\"), AND(LEFT($D$506,8)=\"MODELO C\", $R$506=\"Atribuir valor detalhado por Fase/Elemento\")), X522, 0)","v":0},{"$f":"IF(OR(AND(LEFT($D$506,8)=\"MODELO M\", LEFT(D522,8)=\"MODELO D\"), AND(LEFT($D$506,8)=\"MODELO D\", $Z$506=\"Atribuir valor detalhado por Fase/Elemento\")), AC522, 0)","v":0},{"$f":"SUM(BH522:BK522)","v":0},"MODELO A - TEMPO - N.º DE HORAS DE TRABALHO"]
[null,{"$f":"IF($B$521=\"ocultar\",\"ocultar\",IF('SA - ATIVIDADES'!$G$65=TRUE,IF('SA - ATIVIDADES'!$H$65>='SA - SERVICOS BASE'!AH523,\"mostrar\",\"ocultar\"),\"ocultar\"))","v":"ocultar"},"Designação (a preencher)","MODELO A - TEMPO - N.º DE HORAS DE TRABALHO",null,null,0,0,0,null,null,null,null,null,0,{"$f":"$P$506*O523","v":0},null,null,null,null,null,null,0,{"$f":"$X$506*W523","v":0},null,null,0,0,0,null,0,null,null,2,null,null,null,null,null,null,null,null,null,null,null,null,null,null,null,null,null,null,null,null,null,null,null,null,null,0,0,0,0,0,"MODELO A - TEMPO - N.º DE HORAS DE TRABALHO"]
[null,{"$f":"IF($B$521=\"ocultar\",\"ocultar\",IF('SA - ATIVIDADES'!$G$65=TRUE,IF('SA - ATIVIDADES'!$H$65>='SA - SERVICOS BASE'!AH524,\"mostrar\",\"ocultar\"),\"ocultar\"))","v":"ocultar"},"Designação (a preencher)","MODELO A - TEMPO - N.º DE HORAS DE TRABALHO",null,null,0,0,0,null,null,null,null,null,0,0,null,null,null,null,null,null,0,0,null,null,0,0,0,null,0,null,null,3,null,null,null,null,null,null,null,null,null,null,null,null,null,null,null,null,null,null,null,null,null,null,null,null,null,0,0,0,0,0,{"$f":"IF($AH524<>\"\",BM523,IF(LEFT($D524,6)=\"MODELO\",$D524,BM523))","v":"MODELO A - TEMPO - N.º DE HORAS DE TRABALHO"}]
[null,{"$f":"IF($B$521=\"ocultar\",\"ocultar\",IF('SA - ATIVIDADES'!$G$65=TRUE,IF('SA - ATIVIDADES'!$H$65>='SA - SERVICOS BASE'!AH525,\"mostrar\",\"ocultar\"),\"ocultar\"))","v":"ocultar"},"Designação (a preencher)","MODELO A - TEMPO - N.º DE HORAS DE TRABALHO",null,null,0,0,0,null,null,null,null,null,0,0,null,null,null,null,null,null,0,0,null,null,0,0,0,null,0,null,null,4,null,null,null,null,null,null,null,null,null,null,null,null,null,null,null,null,null,null,null,null,null,null,null,null,null,0,0,0,0,0,"MODELO A - TEMPO - N.º DE HORAS DE TRABALHO"]
[null,{"$f":"IF($B$521=\"ocultar\",\"ocultar\",IF('SA - ATIVIDADES'!$G$65=TRUE,IF('SA - ATIVIDADES'!$H$65>='SA - SERVICOS BASE'!AH526,\"mostrar\",\"ocultar\"),\"ocultar\"))","v":"ocultar"},"Designação (a preencher)","MODELO A - TEMPO - N.º DE HORAS DE TRABALHO",null,null,0,0,0,null,null,null,null,null,0,0,null,null,null,null,null,null,0,0,null,null,0,0,0,null,0,null,null,5,null,null,null,null,null,null,null,null,null,null,null,null,null,null,null,null,null,null,null,null,null,null,null,null,null,0,0,0,0,0,"MODELO A - TEMPO - N.º DE HORAS DE TRABALHO"]
[null,{"$f":"IF($B$521=\"ocultar\",\"ocultar\",IF('SA - ATIVIDADES'!$G$65=TRUE,IF('SA - ATIVIDADES'!$H$65>='SA - SERVICOS BASE'!AH527,\"mostrar\",\"ocultar\"),\"ocultar\"))","v":"ocultar"},"Designação (a preencher)","MODELO A - TEMPO - N.º DE HORAS DE TRABALHO",null,null,0,0,0,null,null,null,null,null,0,0,null,null,null,null,null,null,0,0,null,null,0,0,0,null,0,null,null,6,null,null,null,null,null,null,null,null,null,null,null,null,null,null,null,null,null,null,null,null,null,null,null,null,null,0,0,0,0,0,"MODELO A - TEMPO - N.º DE HORAS DE TRABALHO"]
[null,{"$f":"IF($B$521=\"ocultar\",\"ocultar\",IF('SA - ATIVIDADES'!$G$65=TRUE,IF('SA - ATIVIDADES'!$H$65>='SA - SERVICOS BASE'!AH528,\"mostrar\",\"ocultar\"),\"ocultar\"))","v":"ocultar"},"Designação (a preencher)","MODELO A - TEMPO - N.º DE HORAS DE TRABALHO",null,null,0,0,0,null,null,null,null,null,0,0,null,null,null,null,null,null,0,0,null,null,0,0,0,null,0,null,null,7,null,null,null,null,null,null,null,null,null,null,null,null,null,null,null,null,null,null,null,null,null,null,null,null,null,0,0,0,0,0,"MODELO A - TEMPO - N.º DE HORAS DE TRABALHO"]
[null,{"$f":"IF($B$521=\"ocultar\",\"ocultar\",IF('SA - ATIVIDADES'!$G$65=TRUE,IF('SA - ATIVIDADES'!$H$65>='SA - SERVICOS BASE'!AH529,\"mostrar\",\"ocultar\"),\"ocultar\"))","v":"ocultar"},"Designação (a preencher)","MODELO A - TEMPO - N.º DE HORAS DE TRABALHO",null,null,0,0,0,null,null,null,null,null,0,0,null,null,null,null,null,null,0,0,null,null,0,0,0,null,0,null,null,8,null,null,null,null,null,null,null,null,null,null,null,null,null,null,null,null,null,null,null,null,null,null,null,null,null,0,0,0,0,0,"MODELO A - TEMPO - N.º DE HORAS DE TRABALHO"]
[null,{"$f":"IF($B$521=\"ocultar\",\"ocultar\",IF('SA - ATIVIDADES'!$G$65=TRUE,IF('SA - ATIVIDADES'!$H$65>='SA - SERVICOS BASE'!AH530,\"mostrar\",\"ocultar\"),\"ocultar\"))","v":"ocultar"},"Designação (a preencher)","MODELO A - TEMPO - N.º DE HORAS DE TRABALHO",null,null,0,0,0,null,null,null,null,null,0,0,null,null,null,null,null,null,0,0,null,null,0,0,0,null,0,null,null,9,null,null,null,null,null,null,null,null,null,null,null,null,null,null,null,null,null,null,null,null,null,null,null,null,null,0,0,0,0,0,"MODELO A - TEMPO - N.º DE HORAS DE TRABALHO"]
[null,{"$f":"IF($B$521=\"ocultar\",\"ocultar\",IF('SA - ATIVIDADES'!$G$65=TRUE,IF('SA - ATIVIDADES'!$H$65>='SA - SERVICOS BASE'!AH531,\"mostrar\",\"ocultar\"),\"ocultar\"))","v":"ocultar"},"Designação (a preencher)","MODELO A - TEMPO - N.º DE HORAS DE TRABALHO",null,null,0,0,0,null,null,null,null,null,0,0,null,null,null,null,null,null,0,0,null,null,0,0,0,null,0,null,null,10,null,null,null,null,null,null,null,null,null,null,null,null,null,null,null,null,null,null,null,null,null,null,null,null,null,0,0,0,0,0,"MODELO A - TEMPO - N.º DE HORAS DE TRABALHO"]
[null,{"$f":"IF($B$522=\"ocultar\",\"ocultar\",\"mostrar\")","v":"ocultar"},"SUB-TOTAL",null,null,null,{"$f":"SUBTOTAL(109,G521:G531)","v":0},null,{"$f":"SUBTOTAL(109,I521:I531)","v":0},null,null,null,null,null,{"$f":"SUBTOTAL(9,O522:O531)","v":0},{"$f":"SUBTOTAL(9,P522:P531)","v":0},null,null,null,null,null,null,{"$f":"SUBTOTAL(9,W522:W531)","v":0},{"$f":"SUBTOTAL(9,X522:X531)","v":0},null,null,null,null,{"$f":"SUBTOTAL(109,AC522:AC531)","v":0},null,{"$f":"SUBTOTAL(109,AE522:AE531)","v":0},null,null,null,null,null,null,null,null,null,null,null,null,null,null,null,null,null,null,null,null,null,null,null,null,null,null,null,null,null,null,null,null,null,"MODELO A - TEMPO - N.º DE HORAS DE TRABALHO"]
[null,{"$f":"IF(B506=\"ocultar\",\"ocultar\",IF('SA - ATIVIDADES'!$G$63=\"Fase Única\",\"ocultar\",IF('SA - ATIVIDADES'!G66=TRUE,\"mostrar\",\"ocultar\")))","v":"ocultar"},"PROJETO - FASE DE ANTEPROJETO",null,null,null,null,null,null,null,null,null,null,null,null,null,null,null,null,null,null,null,null,null,null,null,null,null,null,null,null,null,null,null,null,null,null,null,null,null,null,null,null,null,null,null,null,null,null,null,null,null,null,null,null,null,null,null,null,null,null,null,null,null,"MODELO A - TEMPO - N.º DE HORAS DE TRABALHO"]
[null,{"$f":"IF($B$533=\"ocultar\",\"ocultar\",IF('SA - ATIVIDADES'!$G$66=TRUE,IF('SA - ATIVIDADES'!$H$66>='SA - SERVICOS BASE'!AH534,\"mostrar\",\"ocultar\"),\"ocultar\"))","v":"ocultar"},"Designação (a preencher)","MODELO A - TEMPO - N.º DE HORAS DE TRABALHO",null,null,0,{"$f":"$H$506","v":0},{"$f":"G534*H534","v":0},null,null,null,null,null,0,{"$f":"$P$506*O534","v":0},null,null,null,null,null,null,0,{"$f":"$X$506*W534","v":0},null,null,0,0,{"$f":"AA534*AB534","v":0},null,{"$f":"BL534","v":0},null,null,1,null,null,null,null,null,null,null,null,null,null,null,null,null,null,null,null,null,null,null,null,null,null,null,null,null,{"$f":"IF(OR(AND(LEFT($D$506,8)=\"MODELO M\", LEFT(D534,8)=\"MODELO A\"), AND(LEFT($D$506,8)=\"MODELO A\", $F$506=\"Atribuir valor detalhado por Fase/Elemento\")), I534, 0)","v":0},{"$f":"IF(OR(AND(LEFT($D$506,8)=\"MODELO M\", LEFT(D534,8)=\"MODELO B\"), AND(LEFT($D$506,8)=\"MODELO B\", $K$506=\"Atribuir valor detalhado por Fase/Elemento\")), P534, 0)","v":0},{"$f":"IF(OR(AND(LEFT($D$506,8)=\"MODELO M\", LEFT(D534,8)=\"MODELO C\"), AND(LEFT($D$506,8)=\"MODELO C\", $R$506=\"Atribuir valor detalhado por Fase/Elemento\")), X534, 0)","v":0},{"$f":"IF(OR(AND(LEFT($D$506,8)=\"MODELO M\", LEFT(D534,8)=\"MODELO D\"), AND(LEFT($D$506,8)=\"MODELO D\", $Z$506=\"Atribuir valor detalhado por Fase/Elemento\")), AC534, 0)","v":0},{"$f":"SUM(BH534:BK534)","v":0},"MODELO A - TEMPO - N.º DE HORAS DE TRABALHO"]
[null,{"$f":"IF($B$533=\"ocultar\",\"ocultar\",IF('SA - ATIVIDADES'!$G$66=TRUE,IF('SA - ATIVIDADES'!$H$66>='SA - SERVICOS BASE'!AH535,\"mostrar\",\"ocultar\"),\"ocultar\"))","v":"ocultar"},"Designação (a preencher)","MODELO A - TEMPO - N.º DE HORAS DE TRABALHO",null,null,0,0,0,null,null,null,null,null,0,{"$f":"$P$506*O535","v":0},null,null,null,null,null,null,0,{"$f":"$X$506*W535","v":0},null,null,0,0,0,null,0,null,null,2,null,null,null,null,null,null,null,null,null,null,null,null,null,null,null,null,null,null,null,null,null,null,null,null,null,0,0,0,0,0,"MODELO A - TEMPO - N.º DE HORAS DE TRABALHO"]
[null,{"$f":"IF($B$533=\"ocultar\",\"ocultar\",IF('SA - ATIVIDADES'!$G$66=TRUE,IF('SA - ATIVIDADES'!$H$66>='SA - SERVICOS BASE'!AH536,\"mostrar\",\"ocultar\"),\"ocultar\"))","v":"ocultar"},"Designação (a preencher)","MODELO A - TEMPO - N.º DE HORAS DE TRABALHO",null,null,0,0,0,null,null,null,null,null,0,0,null,null,null,null,null,null,0,0,null,null,0,0,0,null,0,null,null,3,null,null,null,null,null,null,null,null,null,null,null,null,null,null,null,null,null,null,null,null,null,null,null,null,null,0,0,0,0,0,"MODELO A - TEMPO - N.º DE HORAS DE TRABALHO"]
[null,{"$f":"IF($B$533=\"ocultar\",\"ocultar\",IF('SA - ATIVIDADES'!$G$66=TRUE,IF('SA - ATIVIDADES'!$H$66>='SA - SERVICOS BASE'!AH537,\"mostrar\",\"ocultar\"),\"ocultar\"))","v":"ocultar"},"Designação (a preencher)","MODELO A - TEMPO - N.º DE HORAS DE TRABALHO",null,null,0,0,0,null,null,null,null,null,0,0,null,null,null,null,null,null,0,0,null,null,0,0,0,null,0,null,null,4,null,null,null,null,null,null,null,null,null,null,null,null,null,null,null,null,null,null,null,null,null,null,null,null,null,0,0,0,0,0,"MODELO A - TEMPO - N.º DE HORAS DE TRABALHO"]
[null,{"$f":"IF($B$533=\"ocultar\",\"ocultar\",IF('SA - ATIVIDADES'!$G$66=TRUE,IF('SA - ATIVIDADES'!$H$66>='SA - SERVICOS BASE'!AH538,\"mostrar\",\"ocultar\"),\"ocultar\"))","v":"ocultar"},"Designação (a preencher)","MODELO A - TEMPO - N.º DE HORAS DE TRABALHO",null,null,0,0,0,null,null,null,null,null,0,0,null,null,null,null,null,null,0,0,null,null,0,0,0,null,0,null,null,5,null,null,null,null,null,null,null,null,null,null,null,null,null,null,null,null,null,null,null,null,null,null,null,null,null,0,0,0,0,0,"MODELO A - TEMPO - N.º DE HORAS DE TRABALHO"]
[null,{"$f":"IF($B$533=\"ocultar\",\"ocultar\",IF('SA - ATIVIDADES'!$G$66=TRUE,IF('SA - ATIVIDADES'!$H$66>='SA - SERVICOS BASE'!AH539,\"mostrar\",\"ocultar\"),\"ocultar\"))","v":"ocultar"},"Designação (a preencher)","MODELO A - TEMPO - N.º DE HORAS DE TRABALHO",null,null,0,0,0,null,null,null,null,null,0,0,null,null,null,null,null,null,0,0,null,null,0,0,0,null,0,null,null,6,null,null,null,null,null,null,null,null,null,null,null,null,null,null,null,null,null,null,null,null,null,null,null,null,null,0,0,0,0,0,"MODELO A - TEMPO - N.º DE HORAS DE TRABALHO"]
[null,{"$f":"IF($B$533=\"ocultar\",\"ocultar\",IF('SA - ATIVIDADES'!$G$66=TRUE,IF('SA - ATIVIDADES'!$H$66>='SA - SERVICOS BASE'!AH540,\"mostrar\",\"ocultar\"),\"ocultar\"))","v":"ocultar"},"Designação (a preencher)","MODELO A - TEMPO - N.º DE HORAS DE TRABALHO",null,null,0,0,0,null,null,null,null,null,0,0,null,null,null,null,null,null,0,0,null,null,0,0,0,null,0,null,null,7,null,null,null,null,null,null,null,null,null,null,null,null,null,null,null,null,null,null,null,null,null,null,null,null,null,0,0,0,0,0,"MODELO A - TEMPO - N.º DE HORAS DE TRABALHO"]
[null,{"$f":"IF($B$533=\"ocultar\",\"ocultar\",IF('SA - ATIVIDADES'!$G$66=TRUE,IF('SA - ATIVIDADES'!$H$66>='SA - SERVICOS BASE'!AH541,\"mostrar\",\"ocultar\"),\"ocultar\"))","v":"ocultar"},"Designação (a preencher)","MODELO A - TEMPO - N.º DE HORAS DE TRABALHO",null,null,0,0,0,null,null,null,null,null,0,0,null,null,null,null,null,null,0,0,null,null,0,0,0,null,0,null,null,8,null,null,null,null,null,null,null,null,null,null,null,null,null,null,null,null,null,null,null,null,null,null,null,null,null,0,0,0,0,0,"MODELO A - TEMPO - N.º DE HORAS DE TRABALHO"]
[null,{"$f":"IF($B$533=\"ocultar\",\"ocultar\",IF('SA - ATIVIDADES'!$G$66=TRUE,IF('SA - ATIVIDADES'!$H$66>='SA - SERVICOS BASE'!AH542,\"mostrar\",\"ocultar\"),\"ocultar\"))","v":"ocultar"},"Designação (a preencher)","MODELO A - TEMPO - N.º DE HORAS DE TRABALHO",null,null,0,0,0,null,null,null,null,null,0,0,null,null,null,null,null,null,0,0,null,null,0,0,0,null,0,null,null,9,null,null,null,null,null,null,null,null,null,null,null,null,null,null,null,null,null,null,null,null,null,null,null,null,null,0,0,0,0,0,"MODELO A - TEMPO - N.º DE HORAS DE TRABALHO"]
[null,{"$f":"IF($B$533=\"ocultar\",\"ocultar\",IF('SA - ATIVIDADES'!$G$66=TRUE,IF('SA - ATIVIDADES'!$H$66>='SA - SERVICOS BASE'!AH543,\"mostrar\",\"ocultar\"),\"ocultar\"))","v":"ocultar"},"Designação (a preencher)","MODELO A - TEMPO - N.º DE HORAS DE TRABALHO",null,null,0,0,0,null,null,null,null,null,0,0,null,null,null,null,null,null,0,0,null,null,0,0,0,null,0,null,null,10,null,null,null,null,null,null,null,null,null,null,null,null,null,null,null,null,null,null,null,null,null,null,null,null,null,0,0,0,0,0,"MODELO A - TEMPO - N.º DE HORAS DE TRABALHO"]
[null,{"$f":"IF($B$534=\"ocultar\",\"ocultar\",\"mostrar\")","v":"ocultar"},"SUB-TOTAL",null,null,null,{"$f":"SUBTOTAL(109,G533:G543)","v":0},null,{"$f":"SUBTOTAL(109,I533:I543)","v":0},null,null,null,null,null,{"$f":"SUBTOTAL(9,O534:O543)","v":0},{"$f":"SUBTOTAL(9,P534:P543)","v":0},null,null,null,null,null,null,{"$f":"SUBTOTAL(9,W534:W543)","v":0},{"$f":"SUBTOTAL(9,X534:X543)","v":0},null,null,null,null,{"$f":"SUBTOTAL(109,AC534:AC543)","v":0},null,{"$f":"SUBTOTAL(109,AE534:AE543)","v":0},null,null,null,null,null,null,null,null,null,null,null,null,null,null,null,null,null,null,null,null,null,null,null,null,null,null,null,null,null,null,null,null,null,"MODELO A - TEMPO - N.º DE HORAS DE TRABALHO"]
[null,{"$f":"IF(B506=\"ocultar\",\"ocultar\",IF('SA - ATIVIDADES'!$G$63=\"Fase Única\",\"ocultar\",IF('SA - ATIVIDADES'!G67=TRUE,\"mostrar\",\"ocultar\")))","v":"ocultar"},"PROJETO  - FASE DE PROJETO DE EXECUÇÃO",null,null,null,null,null,null,null,null,null,null,null,null,null,null,null,null,null,null,null,null,null,null,null,null,null,null,null,null,null,null,null,null,null,null,null,null,null,null,null,null,null,null,null,null,null,null,null,null,null,null,null,null,null,null,null,null,null,null,null,null,null,"MODELO A - TEMPO - N.º DE HORAS DE TRABALHO"]
[null,{"$f":"IF($B$545=\"ocultar\",\"ocultar\",IF('SA - ATIVIDADES'!$G$67=TRUE,IF('SA - ATIVIDADES'!$H$67>='SA - SERVICOS BASE'!AH546,\"mostrar\",\"ocultar\"),\"ocultar\"))","v":"ocultar"},"Designação (a preencher)","MODELO A - TEMPO - N.º DE HORAS DE TRABALHO",null,null,0,{"$f":"$H$506","v":0},{"$f":"G546*H546","v":0},null,null,null,null,null,0,{"$f":"$P$506*O546","v":0},null,null,null,null,null,null,0,{"$f":"$X$506*W546","v":0},null,null,0,0,{"$f":"AA546*AB546","v":0},null,{"$f":"BL546","v":0},null,null,1,null,null,null,null,null,null,null,null,null,null,null,null,null,null,null,null,null,null,null,null,null,null,null,null,null,{"$f":"IF(OR(AND(LEFT($D$506,8)=\"MODELO M\", LEFT(D546,8)=\"MODELO A\"), AND(LEFT($D$506,8)=\"MODELO A\", $F$506=\"Atribuir valor detalhado por Fase/Elemento\")), I546, 0)","v":0},{"$f":"IF(OR(AND(LEFT($D$506,8)=\"MODELO M\", LEFT(D546,8)=\"MODELO B\"), AND(LEFT($D$506,8)=\"MODELO B\", $K$506=\"Atribuir valor detalhado por Fase/Elemento\")), P546, 0)","v":0},{"$f":"IF(OR(AND(LEFT($D$506,8)=\"MODELO M\", LEFT(D546,8)=\"MODELO C\"), AND(LEFT($D$506,8)=\"MODELO C\", $R$506=\"Atribuir valor detalhado por Fase/Elemento\")), X546, 0)","v":0},{"$f":"IF(OR(AND(LEFT($D$506,8)=\"MODELO M\", LEFT(D546,8)=\"MODELO D\"), AND(LEFT($D$506,8)=\"MODELO D\", $Z$506=\"Atribuir valor detalhado por Fase/Elemento\")), AC546, 0)","v":0},{"$f":"SUM(BH546:BK546)","v":0},"MODELO A - TEMPO - N.º DE HORAS DE TRABALHO"]
[null,{"$f":"IF($B$545=\"ocultar\",\"ocultar\",IF('SA - ATIVIDADES'!$G$67=TRUE,IF('SA - ATIVIDADES'!$H$67>='SA - SERVICOS BASE'!AH547,\"mostrar\",\"ocultar\"),\"ocultar\"))","v":"ocultar"},"Designação (a preencher)","MODELO A - TEMPO - N.º DE HORAS DE TRABALHO",null,null,0,0,0,null,null,null,null,null,0,{"$f":"$P$506*O547","v":0},null,null,null,null,null,null,0,{"$f":"$X$506*W547","v":0},null,null,0,0,0,null,0,null,null,2,null,null,null,null,null,null,null,null,null,null,null,null,null,null,null,null,null,null,null,null,null,null,null,null,null,0,0,0,0,0,"MODELO A - TEMPO - N.º DE HORAS DE TRABALHO"]
[null,{"$f":"IF($B$545=\"ocultar\",\"ocultar\",IF('SA - ATIVIDADES'!$G$67=TRUE,IF('SA - ATIVIDADES'!$H$67>='SA - SERVICOS BASE'!AH548,\"mostrar\",\"ocultar\"),\"ocultar\"))","v":"ocultar"},"Designação (a preencher)","MODELO A - TEMPO - N.º DE HORAS DE TRABALHO",null,null,0,0,0,null,null,null,null,null,0,0,null,null,null,null,null,null,0,0,null,null,0,0,0,null,0,null,null,3,null,null,null,null,null,null,null,null,null,null,null,null,null,null,null,null,null,null,null,null,null,null,null,null,null,0,0,0,0,0,"MODELO A - TEMPO - N.º DE HORAS DE TRABALHO"]
[null,{"$f":"IF($B$545=\"ocultar\",\"ocultar\",IF('SA - ATIVIDADES'!$G$67=TRUE,IF('SA - ATIVIDADES'!$H$67>='SA - SERVICOS BASE'!AH549,\"mostrar\",\"ocultar\"),\"ocultar\"))","v":"ocultar"},"Designação (a preencher)","MODELO A - TEMPO - N.º DE HORAS DE TRABALHO",null,null,0,0,0,null,null,null,null,null,0,0,null,null,null,null,null,null,0,0,null,null,0,0,0,null,0,null,null,4,null,null,null,null,null,null,null,null,null,null,null,null,null,null,null,null,null,null,null,null,null,null,null,null,null,0,0,0,0,0,"MODELO A - TEMPO - N.º DE HORAS DE TRABALHO"]
[null,{"$f":"IF($B$545=\"ocultar\",\"ocultar\",IF('SA - ATIVIDADES'!$G$67=TRUE,IF('SA - ATIVIDADES'!$H$67>='SA - SERVICOS BASE'!AH550,\"mostrar\",\"ocultar\"),\"ocultar\"))","v":"ocultar"},"Designação (a preencher)","MODELO A - TEMPO - N.º DE HORAS DE TRABALHO",null,null,0,0,0,null,null,null,null,null,0,0,null,null,null,null,null,null,0,0,null,null,0,0,0,null,0,null,null,5,null,null,null,null,null,null,null,null,null,null,null,null,null,null,null,null,null,null,null,null,null,null,null,null,null,0,0,0,0,0,"MODELO A - TEMPO - N.º DE HORAS DE TRABALHO"]
[null,{"$f":"IF($B$545=\"ocultar\",\"ocultar\",IF('SA - ATIVIDADES'!$G$67=TRUE,IF('SA - ATIVIDADES'!$H$67>='SA - SERVICOS BASE'!AH551,\"mostrar\",\"ocultar\"),\"ocultar\"))","v":"ocultar"},"Designação (a preencher)","MODELO A - TEMPO - N.º DE HORAS DE TRABALHO",null,null,0,0,0,null,null,null,null,null,0,0,null,null,null,null,null,null,0,0,null,null,0,0,0,null,0,null,null,6,null,null,null,null,null,null,null,null,null,null,null,null,null,null,null,null,null,null,null,null,null,null,null,null,null,0,0,0,0,0,"MODELO A - TEMPO - N.º DE HORAS DE TRABALHO"]
[null,{"$f":"IF($B$545=\"ocultar\",\"ocultar\",IF('SA - ATIVIDADES'!$G$67=TRUE,IF('SA - ATIVIDADES'!$H$67>='SA - SERVICOS BASE'!AH552,\"mostrar\",\"ocultar\"),\"ocultar\"))","v":"ocultar"},"Designação (a preencher)","MODELO A - TEMPO - N.º DE HORAS DE TRABALHO",null,null,0,0,0,null,null,null,null,null,0,0,null,null,null,null,null,null,0,0,null,null,0,0,0,null,0,null,null,7,null,null,null,null,null,null,null,null,null,null,null,null,null,null,null,null,null,null,null,null,null,null,null,null,null,0,0,0,0,0,"MODELO A - TEMPO - N.º DE HORAS DE TRABALHO"]
[null,{"$f":"IF($B$545=\"ocultar\",\"ocultar\",IF('SA - ATIVIDADES'!$G$67=TRUE,IF('SA - ATIVIDADES'!$H$67>='SA - SERVICOS BASE'!AH553,\"mostrar\",\"ocultar\"),\"ocultar\"))","v":"ocultar"},"Designação (a preencher)","MODELO A - TEMPO - N.º DE HORAS DE TRABALHO",null,null,0,0,0,null,null,null,null,null,0,0,null,null,null,null,null,null,0,0,null,null,0,0,0,null,0,null,null,8,null,null,null,null,null,null,null,null,null,null,null,null,null,null,null,null,null,null,null,null,null,null,null,null,null,0,0,0,0,0,"MODELO A - TEMPO - N.º DE HORAS DE TRABALHO"]
[null,{"$f":"IF($B$545=\"ocultar\",\"ocultar\",IF('SA - ATIVIDADES'!$G$67=TRUE,IF('SA - ATIVIDADES'!$H$67>='SA - SERVICOS BASE'!AH554,\"mostrar\",\"ocultar\"),\"ocultar\"))","v":"ocultar"},"Designação (a preencher)","MODELO A - TEMPO - N.º DE HORAS DE TRABALHO",null,null,0,0,0,null,null,null,null,null,0,0,null,null,null,null,null,null,0,0,null,null,0,0,0,null,0,null,null,9,null,null,null,null,null,null,null,null,null,null,null,null,null,null,null,null,null,null,null,null,null,null,null,null,null,0,0,0,0,0,"MODELO A - TEMPO - N.º DE HORAS DE TRABALHO"]
[null,{"$f":"IF($B$545=\"ocultar\",\"ocultar\",IF('SA - ATIVIDADES'!$G$67=TRUE,IF('SA - ATIVIDADES'!$H$67>='SA - SERVICOS BASE'!AH555,\"mostrar\",\"ocultar\"),\"ocultar\"))","v":"ocultar"},"Designação (a preencher)","MODELO A - TEMPO - N.º DE HORAS DE TRABALHO",null,null,0,0,0,null,null,null,null,null,0,0,null,null,null,null,null,null,0,0,null,null,0,0,0,null,0,null,null,10,null,null,null,null,null,null,null,null,null,null,null,null,null,null,null,null,null,null,null,null,null,null,null,null,null,0,0,0,0,0,"MODELO A - TEMPO - N.º DE HORAS DE TRABALHO"]
[null,{"$f":"IF($B$546=\"ocultar\",\"ocultar\",\"mostrar\")","v":"ocultar"},"SUB-TOTAL",null,null,null,{"$f":"SUBTOTAL(109,G545:G555)","v":0},null,{"$f":"SUBTOTAL(109,I545:I555)","v":0},null,null,null,null,null,{"$f":"SUBTOTAL(9,O546:O555)","v":0},{"$f":"SUBTOTAL(9,P546:P555)","v":0},null,null,null,null,null,null,{"$f":"SUBTOTAL(9,W546:W555)","v":0},{"$f":"SUBTOTAL(9,X546:X555)","v":0},null,null,null,null,{"$f":"SUBTOTAL(109,AC546:AC555)","v":0},null,{"$f":"SUBTOTAL(109,AE546:AE555)","v":0},null,null,null,null,null,null,null,null,null,null,null,null,null,null,null,null,null,null,null,null,null,null,null,null,null,null,null,null,null,null,null,null,null,"MODELO A - TEMPO - N.º DE HORAS DE TRABALHO"]
[null,{"$f":"IF($B$506=\"ocultar\",\"ocultar\",IF('SA - ATIVIDADES'!$G$63=\"Fase Única\",\"ocultar\",IF('SA - ATIVIDADES'!G68=TRUE,\"mostrar\",\"ocultar\")))","v":"ocultar"},"ASSISTÊNCIA TÉCNICA",null,null,null,null,null,null,null,null,null,null,null,null,null,null,null,null,null,null,null,null,null,null,null,null,null,null,null,null,null,null,null,null,null,null,null,null,null,null,null,null,null,null,null,null,null,null,null,null,null,null,null,null,null,null,null,null,null,null,null,null,null,"MODELO A - TEMPO - N.º DE HORAS DE TRABALHO"]
[null,{"$f":"IF($B$557=\"ocultar\",\"ocultar\",IF('SA - ATIVIDADES'!$G$68=TRUE,IF('SA - ATIVIDADES'!$H$68>='SA - SERVICOS BASE'!AH558,\"mostrar\",\"ocultar\"),\"ocultar\"))","v":"ocultar"},"Designação (a preencher)","MODELO A - TEMPO - N.º DE HORAS DE TRABALHO",null,null,0,{"$f":"$H$506","v":0},{"$f":"G558*H558","v":0},null,null,null,null,null,0,{"$f":"$P$506*O558","v":0},null,null,null,null,null,null,0,{"$f":"$X$506*W558","v":0},null,null,0,0,{"$f":"AA558*AB558","v":0},null,{"$f":"BL558","v":0},null,null,1,null,null,null,null,null,null,null,null,null,null,null,null,null,null,null,null,null,null,null,null,null,null,null,null,null,{"$f":"IF(OR(AND(LEFT($D$506,8)=\"MODELO M\", LEFT(D558,8)=\"MODELO A\"), AND(LEFT($D$506,8)=\"MODELO A\", $F$506=\"Atribuir valor detalhado por Fase/Elemento\")), I558, 0)","v":0},{"$f":"IF(OR(AND(LEFT($D$506,8)=\"MODELO M\", LEFT(D558,8)=\"MODELO B\"), AND(LEFT($D$506,8)=\"MODELO B\", $K$506=\"Atribuir valor detalhado por Fase/Elemento\")), P558, 0)","v":0},{"$f":"IF(OR(AND(LEFT($D$506,8)=\"MODELO M\", LEFT(D558,8)=\"MODELO C\"), AND(LEFT($D$506,8)=\"MODELO C\", $R$506=\"Atribuir valor detalhado por Fase/Elemento\")), X558, 0)","v":0},{"$f":"IF(OR(AND(LEFT($D$506,8)=\"MODELO M\", LEFT(D558,8)=\"MODELO D\"), AND(LEFT($D$506,8)=\"MODELO D\", $Z$506=\"Atribuir valor detalhado por Fase/Elemento\")), AC558, 0)","v":0},{"$f":"SUM(BH558:BK558)","v":0},"MODELO A - TEMPO - N.º DE HORAS DE TRABALHO"]
[null,{"$f":"IF($B$557=\"ocultar\",\"ocultar\",IF('SA - ATIVIDADES'!$G$68=TRUE,IF('SA - ATIVIDADES'!$H$68>='SA - SERVICOS BASE'!AH559,\"mostrar\",\"ocultar\"),\"ocultar\"))","v":"ocultar"},"Designação (a preencher)","MODELO A - TEMPO - N.º DE HORAS DE TRABALHO",null,null,0,0,0,null,null,null,null,null,0,{"$f":"$P$506*O559","v":0},null,null,null,null,null,null,0,{"$f":"$X$506*W559","v":0},null,null,0,0,0,null,0,null,null,2,null,null,null,null,null,null,null,null,null,null,null,null,null,null,null,null,null,null,null,null,null,null,null,null,null,0,0,0,0,0,"MODELO A - TEMPO - N.º DE HORAS DE TRABALHO"]
[null,{"$f":"IF($B$557=\"ocultar\",\"ocultar\",IF('SA - ATIVIDADES'!$G$68=TRUE,IF('SA - ATIVIDADES'!$H$68>='SA - SERVICOS BASE'!AH560,\"mostrar\",\"ocultar\"),\"ocultar\"))","v":"ocultar"},"Designação (a preencher)","MODELO A - TEMPO - N.º DE HORAS DE TRABALHO",null,null,0,0,0,null,null,null,null,null,0,0,null,null,null,null,null,null,0,0,null,null,0,0,0,null,0,null,null,3,null,null,null,null,null,null,null,null,null,null,null,null,null,null,null,null,null,null,null,null,null,null,null,null,null,0,0,0,0,0,"MODELO A - TEMPO - N.º DE HORAS DE TRABALHO"]
[null,{"$f":"IF($B$557=\"ocultar\",\"ocultar\",IF('SA - ATIVIDADES'!$G$68=TRUE,IF('SA - ATIVIDADES'!$H$68>='SA - SERVICOS BASE'!AH561,\"mostrar\",\"ocultar\"),\"ocultar\"))","v":"ocultar"},"Designação (a preencher)","MODELO A - TEMPO - N.º DE HORAS DE TRABALHO",null,null,0,0,0,null,null,null,null,null,0,0,null,null,null,null,null,null,0,0,null,null,0,0,0,null,0,null,null,4,null,null,null,null,null,null,null,null,null,null,null,null,null,null,null,null,null,null,null,null,null,null,null,null,null,0,0,0,0,0,"MODELO A - TEMPO - N.º DE HORAS DE TRABALHO"]
[null,{"$f":"IF($B$557=\"ocultar\",\"ocultar\",IF('SA - ATIVIDADES'!$G$68=TRUE,IF('SA - ATIVIDADES'!$H$68>='SA - SERVICOS BASE'!AH562,\"mostrar\",\"ocultar\"),\"ocultar\"))","v":"ocultar"},"Designação (a preencher)","MODELO A - TEMPO - N.º DE HORAS DE TRABALHO",null,null,0,0,0,null,null,null,null,null,0,0,null,null,null,null,null,null,0,0,null,null,0,0,0,null,0,null,null,5,null,null,null,null,null,null,null,null,null,null,null,null,null,null,null,null,null,null,null,null,null,null,null,null,null,0,0,0,0,0,"MODELO A - TEMPO - N.º DE HORAS DE TRABALHO"]
[null,{"$f":"IF($B$557=\"ocultar\",\"ocultar\",IF('SA - ATIVIDADES'!$G$68=TRUE,IF('SA - ATIVIDADES'!$H$68>='SA - SERVICOS BASE'!AH563,\"mostrar\",\"ocultar\"),\"ocultar\"))","v":"ocultar"},"Designação (a preencher)","MODELO A - TEMPO - N.º DE HORAS DE TRABALHO",null,null,0,0,0,null,null,null,null,null,0,0,null,null,null,null,null,null,0,0,null,null,0,0,0,null,0,null,null,6,null,null,null,null,null,null,null,null,null,null,null,null,null,null,null,null,null,null,null,null,null,null,null,null,null,0,0,0,0,0,"MODELO A - TEMPO - N.º DE HORAS DE TRABALHO"]
[null,{"$f":"IF($B$557=\"ocultar\",\"ocultar\",IF('SA - ATIVIDADES'!$G$68=TRUE,IF('SA - ATIVIDADES'!$H$68>='SA - SERVICOS BASE'!AH564,\"mostrar\",\"ocultar\"),\"ocultar\"))","v":"ocultar"},"Designação (a preencher)","MODELO A - TEMPO - N.º DE HORAS DE TRABALHO",null,null,0,0,0,null,null,null,null,null,0,0,null,null,null,null,null,null,0,0,null,null,0,0,0,null,0,null,null,7,null,null,null,null,null,null,null,null,null,null,null,null,null,null,null,null,null,null,null,null,null,null,null,null,null,0,0,0,0,0,"MODELO A - TEMPO - N.º DE HORAS DE TRABALHO"]
[null,{"$f":"IF($B$557=\"ocultar\",\"ocultar\",IF('SA - ATIVIDADES'!$G$68=TRUE,IF('SA - ATIVIDADES'!$H$68>='SA - SERVICOS BASE'!AH565,\"mostrar\",\"ocultar\"),\"ocultar\"))","v":"ocultar"},"Designação (a preencher)","MODELO A - TEMPO - N.º DE HORAS DE TRABALHO",null,null,0,0,0,null,null,null,null,null,0,0,null,null,null,null,null,null,0,0,null,null,0,0,0,null,0,null,null,8,null,null,null,null,null,null,null,null,null,null,null,null,null,null,null,null,null,null,null,null,null,null,null,null,null,0,0,0,0,0,"MODELO A - TEMPO - N.º DE HORAS DE TRABALHO"]
[null,{"$f":"IF($B$557=\"ocultar\",\"ocultar\",IF('SA - ATIVIDADES'!$G$68=TRUE,IF('SA - ATIVIDADES'!$H$68>='SA - SERVICOS BASE'!AH566,\"mostrar\",\"ocultar\"),\"ocultar\"))","v":"ocultar"},"Designação (a preencher)","MODELO A - TEMPO - N.º DE HORAS DE TRABALHO",null,null,0,0,0,null,null,null,null,null,0,0,null,null,null,null,null,null,0,0,null,null,0,0,0,null,0,null,null,9,null,null,null,null,null,null,null,null,null,null,null,null,null,null,null,null,null,null,null,null,null,null,null,null,null,0,0,0,0,0,"MODELO A - TEMPO - N.º DE HORAS DE TRABALHO"]
[null,{"$f":"IF($B$557=\"ocultar\",\"ocultar\",IF('SA - ATIVIDADES'!$G$68=TRUE,IF('SA - ATIVIDADES'!$H$68>='SA - SERVICOS BASE'!AH567,\"mostrar\",\"ocultar\"),\"ocultar\"))","v":"ocultar"},"Designação (a preencher)","MODELO A - TEMPO - N.º DE HORAS DE TRABALHO",null,null,0,0,0,null,null,null,null,null,0,0,null,null,null,null,null,null,0,0,null,null,0,0,0,null,0,null,null,10,null,null,null,null,null,null,null,null,null,null,null,null,null,null,null,null,null,null,null,null,null,null,null,null,null,0,0,0,0,0,"MODELO A - TEMPO - N.º DE HORAS DE TRABALHO"]
[null,{"$f":"IF($B$558=\"ocultar\",\"ocultar\",\"mostrar\")","v":"ocultar"},"SUB-TOTAL",null,null,null,{"$f":"SUBTOTAL(109,G557:G567)","v":0},null,{"$f":"SUBTOTAL(109,I557:I567)","v":0},null,null,null,null,null,{"$f":"SUBTOTAL(9,O558:O567)","v":0},{"$f":"SUBTOTAL(9,P558:P567)","v":0},null,null,null,null,null,null,{"$f":"SUBTOTAL(9,W558:W567)","v":0},{"$f":"SUBTOTAL(9,X558:X567)","v":0},null,null,null,null,0,null,{"$f":"SUBTOTAL(109,AE558:AE567)","v":0},null,null,null,null,null,null,null,null,null,null,null,null,null,null,null,null,null,null,null,null,null,null,null,null,null,null,null,null,null,null,null,null,null,"MODELO A - TEMPO - N.º DE HORAS DE TRABALHO"]
[null,{"$f":"IF($B$506=\"ocultar\",\"ocultar\",\"mostrar\")","v":"ocultar"},"TOTAL",null,null,null,{"$f":"IF($F506=\"Atribuir valor global à atividade\",G506,SUBTOTAL(109,G509:G568))","v":0},null,{"$f":"IF($F506=\"Atribuir valor global à atividade\",I506,SUBTOTAL(109,I509:I568))","v":0},null,null,null,null,null,{"$f":"IF($K$506=\"Atribuir valor global à atividade\",1,SUBTOTAL(109,O508:O568))","v":1},{"$f":"IF($K506=\"Atribuir valor global à atividade\",P506,SUBTOTAL(109,P510:P568))","v":0},null,null,null,null,null,null,{"$f":"IF($R$506=\"Atribuir valor global à atividade\",1,SUBTOTAL(109,W508:W568))","v":1},{"$f":"IF($R506=\"Atribuir valor global à atividade\",X506,SUBTOTAL(109,X510:X568))","v":0},null,null,null,null,{"$f":"IF($Z$506=\"Atribuir valor global à atividade\",AC506,SUBTOTAL(109,AC510:AC568))","v":0},null,{"$f":"BL506","v":0},null,null,null,null,null,null,null,null,null,null,null,null,null,null,null,null,null,null,null,null,null,null,null,null,null,null,null,null,null,null,null,null,null,"MODELO A - TEMPO - N.º DE HORAS DE TRABALHO"]
[null,{"$f":"IF($B$506=\"ocultar\",\"ocultar\",\"mostrar\")","v":"ocultar"},null,null,null,null,null,null,null,null,null,null,null,null,null,null,null,null,null,null,null,null,null,null,null,null,null,null,null,null,null,null,null,null,null,null,null,null,null,null,null,null,null,null,null,null,null,null,null,null,null,null,null,null,null,null,null,null,null,null,null,null,null,null,"MODELO A - TEMPO - N.º DE HORAS DE TRABALHO"]
[null,{"$f":"IF('SA - ATIVIDADES'!$F$70<>TRUE,\"ocultar\",\"mostrar\")","v":"ocultar"},"A11. PROJETO DE CONDICIONAMENTO ACÚSTICO","MODELO A - TEMPO - N.º DE HORAS DE TRABALHO",null,"Atribuir valor global à atividade",0,0,{"$f":"G571*H571","v":0},null,"Atribuir valor global à atividade","Valor Global Obra (VG Obra)",{"$f":"IF(L571=\"Valor Global Obra (VG Obra)\",$M$9,\"\")","v":0},0,0,{"$f":"IF(L571=\"Valor Global Obra (VG Obra)\",M571*O571,N571*O571)","v":0},null,"Atribuir valor global à atividade","Valor/m2 fixo (VF m2)",{"$f":"IF(S571=\"Valor/m2 fixo (VF m2)\",$T$9,\"\")","v":0},0,0,null,{"$f":"IF(S571=\"Valor/m2 fixo (VF m2)\",T571*1*V571,U571*1*V571)","v":0},null,"Atribuir valor global à atividade",0,0,{"$f":"AA571*AB571","v":0},null,{"$f":"BL571","v":0},null,null,null,null,null,null,null,null,null,null,null,null,null,null,null,null,null,null,null,null,null,null,null,null,null,null,null,null,{"$f":"IF(LEFT($D$571,8)=\"MODELO A\",IF($F$571=\"Atribuir valor detalhado por Fase/Elemento\",SUBTOTAL(109,BH575:BH632),I571),IF(LEFT($D$571,8)=\"MODELO M\",SUBTOTAL(109,BH575:BH632),0))","v":0},{"$f":"IF(LEFT($D$571,8)=\"MODELO B\",IF($K$571=\"Atribuir valor detalhado por Fase/Elemento\",SUBTOTAL(109,BI575:BI632),P571),IF(LEFT($D$571,8)=\"MODELO M\",SUBTOTAL(109,BI575:BI632),0))","v":0},{"$f":"IF(LEFT($D$571,8)=\"MODELO C\",IF($R$571=\"Atribuir valor detalhado por Fase/Elemento\",SUBTOTAL(109,BJ575:BJ632),X571),IF(LEFT($D$571,8)=\"MODELO M\",SUBTOTAL(109,BJ575:BJ632),0))","v":0},{"$f":"IF(LEFT($D$571,8)=\"MODELO D\",IF($Z$571=\"Atribuir valor detalhado por Fase/Elemento\",SUBTOTAL(109,BK575:BK632),AC571),IF(LEFT($D$571,8)=\"MODELO M\",SUBTOTAL(109,BK575:BK632),0))","v":0},{"$f":"SUM(BH571:BK571)","v":0},"MODELO A - TEMPO - N.º DE HORAS DE TRABALHO"]
[null,{"$f":"IF($B$571=\"ocultar\",\"ocultar\",\"mostrar\")","v":"ocultar"},null,null,null,null,null,null,null,null,null,null,null,null,null,null,null,null,null,null,null,null,null,null,null,null,null,null,null,null,null,null,null,null,null,null,null,null,null,null,null,null,null,null,null,null,null,null,null,null,null,null,null,null,null,null,null,null,null,null,null,null,null,null,"MODELO A - TEMPO - N.º DE HORAS DE TRABALHO"]
[null,"ocultar",null,null,null,null,null,null,null,null,null,null,null,null,null,null,null,null,null,null,null,null,null,null,null,null,null,null,null,null,null,null,null,null,null,null,null,null,null,null,null,null,null,null,null,null,null,null,null,null,null,null,null,null,null,null,null,null,null,null,null,null,null,null,"MODELO A - TEMPO - N.º DE HORAS DE TRABALHO"]
[null,{"$f":"IF(B571=\"ocultar\",\"ocultar\",IF('SA - ATIVIDADES'!$G$70=\"Fase Única\",\"ocultar\",IF('SA - ATIVIDADES'!G71=TRUE,\"mostrar\",\"ocultar\")))","v":"ocultar"},"PROJETO - FASE DE PROGRAMA BASE",null,null,null,null,null,null,null,null,null,null,null,null,null,null,null,null,null,null,null,null,null,null,null,null,null,null,null,null,null,null,null,null,null,null,null,null,null,null,null,null,null,null,null,null,null,null,null,null,null,null,null,null,null,null,null,null,null,null,null,null,null,"MODELO A - TEMPO - N.º DE HORAS DE TRABALHO"]
[null,{"$f":"IF($B$574=\"ocultar\",\"ocultar\",IF('SA - ATIVIDADES'!$G$71=TRUE,IF('SA - ATIVIDADES'!$H$71>='SA - SERVICOS BASE'!AH575,\"mostrar\",\"ocultar\"),\"ocultar\"))","v":"ocultar"},"Designação (a preencher)","MODELO A - TEMPO - N.º DE HORAS DE TRABALHO",null,null,0,{"$f":"$H$571","v":0},{"$f":"G575*H575","v":0},null,null,null,null,null,0,{"$f":"$P$571*O575","v":0},null,null,null,null,null,null,0,{"$f":"$X$571*W575","v":0},null,null,0,0,{"$f":"AA575*AB575","v":0},null,{"$f":"BL575","v":0},null,null,1,null,null,null,null,null,null,null,null,null,null,null,null,null,null,null,null,null,null,null,null,null,null,null,null,null,{"$f":"IF(OR(AND(LEFT($D$571,8)=\"MODELO M\", LEFT(D575,8)=\"MODELO A\"), AND(LEFT($D$571,8)=\"MODELO A\", $F$571=\"Atribuir valor detalhado por Fase/Elemento\")), I575, 0)","v":0},{"$f":"IF(OR(AND(LEFT($D$571,8)=\"MODELO M\", LEFT(D575,8)=\"MODELO B\"), AND(LEFT($D$571,8)=\"MODELO B\", $K$571=\"Atribuir valor detalhado por Fase/Elemento\")), P575, 0)","v":0},{"$f":"IF(OR(AND(LEFT($D$571,8)=\"MODELO M\", LEFT(D575,8)=\"MODELO C\"), AND(LEFT($D$571,8)=\"MODELO C\", $R$571=\"Atribuir valor detalhado por Fase/Elemento\")), X575, 0)","v":0},{"$f":"IF(OR(AND(LEFT($D$571,8)=\"MODELO M\", LEFT(D575,8)=\"MODELO D\"), AND(LEFT($D$571,8)=\"MODELO D\", $Z$571=\"Atribuir valor detalhado por Fase/Elemento\")), AC575, 0)","v":0},{"$f":"SUM(BH575:BK575)","v":0},"MODELO A - TEMPO - N.º DE HORAS DE TRABALHO"]
[null,{"$f":"IF($B$574=\"ocultar\",\"ocultar\",IF('SA - ATIVIDADES'!$G$71=TRUE,IF('SA - ATIVIDADES'!$H$71>='SA - SERVICOS BASE'!AH576,\"mostrar\",\"ocultar\"),\"ocultar\"))","v":"ocultar"},"Designação (a preencher)","MODELO A - TEMPO - N.º DE HORAS DE TRABALHO",null,null,0,0,0,null,null,null,null,null,0,{"$f":"$P$571*O576","v":0},null,null,null,null,null,null,0,{"$f":"$X$571*W576","v":0},null,null,0,0,0,null,0,null,null,2,null,null,null,null,null,null,null,null,null,null,null,null,null,null,null,null,null,null,null,null,null,null,null,null,null,0,0,0,0,0,"MODELO A - TEMPO - N.º DE HORAS DE TRABALHO"]
[null,{"$f":"IF($B$574=\"ocultar\",\"ocultar\",IF('SA - ATIVIDADES'!$G$71=TRUE,IF('SA - ATIVIDADES'!$H$71>='SA - SERVICOS BASE'!AH577,\"mostrar\",\"ocultar\"),\"ocultar\"))","v":"ocultar"},"Designação (a preencher)","MODELO A - TEMPO - N.º DE HORAS DE TRABALHO",null,null,0,0,0,null,null,null,null,null,0,0,null,null,null,null,null,null,0,0,null,null,0,0,0,null,0,null,null,3,null,null,null,null,null,null,null,null,null,null,null,null,null,null,null,null,null,null,null,null,null,null,null,null,null,0,0,0,0,0,"MODELO A - TEMPO - N.º DE HORAS DE TRABALHO"]
[null,{"$f":"IF($B$574=\"ocultar\",\"ocultar\",IF('SA - ATIVIDADES'!$G$71=TRUE,IF('SA - ATIVIDADES'!$H$71>='SA - SERVICOS BASE'!AH578,\"mostrar\",\"ocultar\"),\"ocultar\"))","v":"ocultar"},"Designação (a preencher)","MODELO A - TEMPO - N.º DE HORAS DE TRABALHO",null,null,0,0,0,null,null,null,null,null,0,0,null,null,null,null,null,null,0,0,null,null,0,0,0,null,0,null,null,4,null,null,null,null,null,null,null,null,null,null,null,null,null,null,null,null,null,null,null,null,null,null,null,null,null,0,0,0,0,0,"MODELO A - TEMPO - N.º DE HORAS DE TRABALHO"]
[null,{"$f":"IF($B$574=\"ocultar\",\"ocultar\",IF('SA - ATIVIDADES'!$G$71=TRUE,IF('SA - ATIVIDADES'!$H$71>='SA - SERVICOS BASE'!AH579,\"mostrar\",\"ocultar\"),\"ocultar\"))","v":"ocultar"},"Designação (a preencher)","MODELO A - TEMPO - N.º DE HORAS DE TRABALHO",null,null,0,0,0,null,null,null,null,null,0,0,null,null,null,null,null,null,0,0,null,null,0,0,0,null,0,null,null,5,null,null,null,null,null,null,null,null,null,null,null,null,null,null,null,null,null,null,null,null,null,null,null,null,null,0,0,0,0,0,"MODELO A - TEMPO - N.º DE HORAS DE TRABALHO"]
[null,{"$f":"IF($B$574=\"ocultar\",\"ocultar\",IF('SA - ATIVIDADES'!$G$71=TRUE,IF('SA - ATIVIDADES'!$H$71>='SA - SERVICOS BASE'!AH580,\"mostrar\",\"ocultar\"),\"ocultar\"))","v":"ocultar"},"Designação (a preencher)","MODELO A - TEMPO - N.º DE HORAS DE TRABALHO",null,null,0,0,0,null,null,null,null,null,0,0,null,null,null,null,null,null,0,0,null,null,0,0,0,null,0,null,null,6,null,null,null,null,null,null,null,null,null,null,null,null,null,null,null,null,null,null,null,null,null,null,null,null,null,0,0,0,0,0,"MODELO A - TEMPO - N.º DE HORAS DE TRABALHO"]
[null,{"$f":"IF($B$574=\"ocultar\",\"ocultar\",IF('SA - ATIVIDADES'!$G$71=TRUE,IF('SA - ATIVIDADES'!$H$71>='SA - SERVICOS BASE'!AH581,\"mostrar\",\"ocultar\"),\"ocultar\"))","v":"ocultar"},"Designação (a preencher)","MODELO A - TEMPO - N.º DE HORAS DE TRABALHO",null,null,0,0,0,null,null,null,null,null,0,0,null,null,null,null,null,null,0,0,null,null,0,0,0,null,0,null,null,7,null,null,null,null,null,null,null,null,null,null,null,null,null,null,null,null,null,null,null,null,null,null,null,null,null,0,0,0,0,0,"MODELO A - TEMPO - N.º DE HORAS DE TRABALHO"]
[null,{"$f":"IF($B$574=\"ocultar\",\"ocultar\",IF('SA - ATIVIDADES'!$G$71=TRUE,IF('SA - ATIVIDADES'!$H$71>='SA - SERVICOS BASE'!AH582,\"mostrar\",\"ocultar\"),\"ocultar\"))","v":"ocultar"},"Designação (a preencher)","MODELO A - TEMPO - N.º DE HORAS DE TRABALHO",null,null,0,0,0,null,null,null,null,null,0,0,null,null,null,null,null,null,0,0,null,null,0,0,0,null,0,null,null,8,null,null,null,null,null,null,null,null,null,null,null,null,null,null,null,null,null,null,null,null,null,null,null,null,null,0,0,0,0,0,"MODELO A - TEMPO - N.º DE HORAS DE TRABALHO"]
[null,{"$f":"IF($B$574=\"ocultar\",\"ocultar\",IF('SA - ATIVIDADES'!$G$71=TRUE,IF('SA - ATIVIDADES'!$H$71>='SA - SERVICOS BASE'!AH583,\"mostrar\",\"ocultar\"),\"ocultar\"))","v":"ocultar"},"Designação (a preencher)","MODELO A - TEMPO - N.º DE HORAS DE TRABALHO",null,null,0,0,0,null,null,null,null,null,0,0,null,null,null,null,null,null,0,0,null,null,0,0,0,null,0,null,null,9,null,null,null,null,null,null,null,null,null,null,null,null,null,null,null,null,null,null,null,null,null,null,null,null,null,0,0,0,0,0,"MODELO A - TEMPO - N.º DE HORAS DE TRABALHO"]
[null,{"$f":"IF($B$574=\"ocultar\",\"ocultar\",IF('SA - ATIVIDADES'!$G$71=TRUE,IF('SA - ATIVIDADES'!$H$71>='SA - SERVICOS BASE'!AH584,\"mostrar\",\"ocultar\"),\"ocultar\"))","v":"ocultar"},"Designação (a preencher)","MODELO A - TEMPO - N.º DE HORAS DE TRABALHO",null,null,0,0,0,null,null,null,null,null,0,0,null,null,null,null,null,null,0,0,null,null,0,0,0,null,0,null,null,10,null,null,null,null,null,null,null,null,null,null,null,null,null,null,null,null,null,null,null,null,null,null,null,null,null,0,0,0,0,0,"MODELO A - TEMPO - N.º DE HORAS DE TRABALHO"]
[null,{"$f":"IF($B$575=\"ocultar\",\"ocultar\",\"mostrar\")","v":"ocultar"},"SUB-TOTAL",null,null,null,{"$f":"SUBTOTAL(109,G574:G584)","v":0},null,{"$f":"SUBTOTAL(109,I574:I584)","v":0},null,null,null,null,null,{"$f":"SUBTOTAL(9,O575:O584)","v":0},{"$f":"SUBTOTAL(9,P575:P584)","v":0},null,null,null,null,null,null,{"$f":"SUBTOTAL(9,W575:W584)","v":0},{"$f":"SUBTOTAL(9,X575:X584)","v":0},null,null,null,null,{"$f":"SUBTOTAL(109,AC575:AC584)","v":0},null,{"$f":"SUBTOTAL(109,AE575:AE584)","v":0},null,null,null,null,null,null,null,null,null,null,null,null,null,null,null,null,null,null,null,null,null,null,null,null,null,null,null,null,null,null,null,null,null,"MODELO A - TEMPO - N.º DE HORAS DE TRABALHO"]
[null,{"$f":"IF(B571=\"ocultar\",\"ocultar\",IF('SA - ATIVIDADES'!$G$70=\"Fase Única\",\"ocultar\",IF('SA - ATIVIDADES'!G72=TRUE,\"mostrar\",\"ocultar\")))","v":"ocultar"},"PROJETO - FASE DE ESTUDO PRÉVIO",null,null,null,null,null,null,null,null,null,null,null,null,null,null,null,null,null,null,null,null,null,null,null,null,null,null,null,null,null,null,null,null,null,null,null,null,null,null,null,null,null,null,null,null,null,null,null,null,null,null,null,null,null,null,null,null,null,null,null,null,null,"MODELO A - TEMPO - N.º DE HORAS DE TRABALHO"]
[null,{"$f":"IF($B$586=\"ocultar\",\"ocultar\",IF('SA - ATIVIDADES'!$G$72=TRUE,IF('SA - ATIVIDADES'!$H$72>='SA - SERVICOS BASE'!AH587,\"mostrar\",\"ocultar\"),\"ocultar\"))","v":"ocultar"},"Designação (a preencher)","MODELO A - TEMPO - N.º DE HORAS DE TRABALHO",null,null,0,{"$f":"$H$571","v":0},{"$f":"G587*H587","v":0},null,null,null,null,null,0,{"$f":"$P$571*O587","v":0},null,null,null,null,null,null,0,{"$f":"$X$571*W587","v":0},null,null,0,0,{"$f":"AA587*AB587","v":0},null,{"$f":"BL587","v":0},null,null,1,null,null,null,null,null,null,null,null,null,null,null,null,null,null,null,null,null,null,null,null,null,null,null,null,null,{"$f":"IF(OR(AND(LEFT($D$571,8)=\"MODELO M\", LEFT(D587,8)=\"MODELO A\"), AND(LEFT($D$571,8)=\"MODELO A\", $F$571=\"Atribuir valor detalhado por Fase/Elemento\")), I587, 0)","v":0},{"$f":"IF(OR(AND(LEFT($D$571,8)=\"MODELO M\", LEFT(D587,8)=\"MODELO B\"), AND(LEFT($D$571,8)=\"MODELO B\", $K$571=\"Atribuir valor detalhado por Fase/Elemento\")), P587, 0)","v":0},{"$f":"IF(OR(AND(LEFT($D$571,8)=\"MODELO M\", LEFT(D587,8)=\"MODELO C\"), AND(LEFT($D$571,8)=\"MODELO C\", $R$571=\"Atribuir valor detalhado por Fase/Elemento\")), X587, 0)","v":0},{"$f":"IF(OR(AND(LEFT($D$571,8)=\"MODELO M\", LEFT(D587,8)=\"MODELO D\"), AND(LEFT($D$571,8)=\"MODELO D\", $Z$571=\"Atribuir valor detalhado por Fase/Elemento\")), AC587, 0)","v":0},{"$f":"SUM(BH587:BK587)","v":0},"MODELO A - TEMPO - N.º DE HORAS DE TRABALHO"]
[null,{"$f":"IF($B$586=\"ocultar\",\"ocultar\",IF('SA - ATIVIDADES'!$G$72=TRUE,IF('SA - ATIVIDADES'!$H$72>='SA - SERVICOS BASE'!AH588,\"mostrar\",\"ocultar\"),\"ocultar\"))","v":"ocultar"},"Designação (a preencher)","MODELO A - TEMPO - N.º DE HORAS DE TRABALHO",null,null,0,0,0,null,null,null,null,null,0,{"$f":"$P$571*O588","v":0},null,null,null,null,null,null,0,{"$f":"$X$571*W588","v":0},null,null,0,0,0,null,0,null,null,2,null,null,null,null,null,null,null,null,null,null,null,null,null,null,null,null,null,null,null,null,null,null,null,null,null,0,0,0,0,0,{"$f":"IF($AH588<>\"\",BM587,IF(LEFT($D588,6)=\"MODELO\",$D588,BM587))","v":"MODELO A - TEMPO - N.º DE HORAS DE TRABALHO"}]
[null,{"$f":"IF($B$586=\"ocultar\",\"ocultar\",IF('SA - ATIVIDADES'!$G$72=TRUE,IF('SA - ATIVIDADES'!$H$72>='SA - SERVICOS BASE'!AH589,\"mostrar\",\"ocultar\"),\"ocultar\"))","v":"ocultar"},"Designação (a preencher)","MODELO A - TEMPO - N.º DE HORAS DE TRABALHO",null,null,0,0,0,null,null,null,null,null,0,0,null,null,null,null,null,null,0,0,null,null,0,0,0,null,0,null,null,3,null,null,null,null,null,null,null,null,null,null,null,null,null,null,null,null,null,null,null,null,null,null,null,null,null,0,0,0,0,0,"MODELO A - TEMPO - N.º DE HORAS DE TRABALHO"]
[null,{"$f":"IF($B$586=\"ocultar\",\"ocultar\",IF('SA - ATIVIDADES'!$G$72=TRUE,IF('SA - ATIVIDADES'!$H$72>='SA - SERVICOS BASE'!AH590,\"mostrar\",\"ocultar\"),\"ocultar\"))","v":"ocultar"},"Designação (a preencher)","MODELO A - TEMPO - N.º DE HORAS DE TRABALHO",null,null,0,0,0,null,null,null,null,null,0,0,null,null,null,null,null,null,0,0,null,null,0,0,0,null,0,null,null,4,null,null,null,null,null,null,null,null,null,null,null,null,null,null,null,null,null,null,null,null,null,null,null,null,null,0,0,0,0,0,"MODELO A - TEMPO - N.º DE HORAS DE TRABALHO"]
[null,{"$f":"IF($B$586=\"ocultar\",\"ocultar\",IF('SA - ATIVIDADES'!$G$72=TRUE,IF('SA - ATIVIDADES'!$H$72>='SA - SERVICOS BASE'!AH591,\"mostrar\",\"ocultar\"),\"ocultar\"))","v":"ocultar"},"Designação (a preencher)","MODELO A - TEMPO - N.º DE HORAS DE TRABALHO",null,null,0,0,0,null,null,null,null,null,0,0,null,null,null,null,null,null,0,0,null,null,0,0,0,null,0,null,null,5,null,null,null,null,null,null,null,null,null,null,null,null,null,null,null,null,null,null,null,null,null,null,null,null,null,0,0,0,0,0,"MODELO A - TEMPO - N.º DE HORAS DE TRABALHO"]
[null,{"$f":"IF($B$586=\"ocultar\",\"ocultar\",IF('SA - ATIVIDADES'!$G$72=TRUE,IF('SA - ATIVIDADES'!$H$72>='SA - SERVICOS BASE'!AH592,\"mostrar\",\"ocultar\"),\"ocultar\"))","v":"ocultar"},"Designação (a preencher)","MODELO A - TEMPO - N.º DE HORAS DE TRABALHO",null,null,0,0,0,null,null,null,null,null,0,0,null,null,null,null,null,null,0,0,null,null,0,0,0,null,0,null,null,6,null,null,null,null,null,null,null,null,null,null,null,null,null,null,null,null,null,null,null,null,null,null,null,null,null,0,0,0,0,0,"MODELO A - TEMPO - N.º DE HORAS DE TRABALHO"]
[null,{"$f":"IF($B$586=\"ocultar\",\"ocultar\",IF('SA - ATIVIDADES'!$G$72=TRUE,IF('SA - ATIVIDADES'!$H$72>='SA - SERVICOS BASE'!AH593,\"mostrar\",\"ocultar\"),\"ocultar\"))","v":"ocultar"},"Designação (a preencher)","MODELO A - TEMPO - N.º DE HORAS DE TRABALHO",null,null,0,0,0,null,null,null,null,null,0,0,null,null,null,null,null,null,0,0,null,null,0,0,0,null,0,null,null,7,null,null,null,null,null,null,null,null,null,null,null,null,null,null,null,null,null,null,null,null,null,null,null,null,null,0,0,0,0,0,"MODELO A - TEMPO - N.º DE HORAS DE TRABALHO"]
[null,{"$f":"IF($B$586=\"ocultar\",\"ocultar\",IF('SA - ATIVIDADES'!$G$72=TRUE,IF('SA - ATIVIDADES'!$H$72>='SA - SERVICOS BASE'!AH594,\"mostrar\",\"ocultar\"),\"ocultar\"))","v":"ocultar"},"Designação (a preencher)","MODELO A - TEMPO - N.º DE HORAS DE TRABALHO",null,null,0,0,0,null,null,null,null,null,0,0,null,null,null,null,null,null,0,0,null,null,0,0,0,null,0,null,null,8,null,null,null,null,null,null,null,null,null,null,null,null,null,null,null,null,null,null,null,null,null,null,null,null,null,0,0,0,0,0,"MODELO A - TEMPO - N.º DE HORAS DE TRABALHO"]
[null,{"$f":"IF($B$586=\"ocultar\",\"ocultar\",IF('SA - ATIVIDADES'!$G$72=TRUE,IF('SA - ATIVIDADES'!$H$72>='SA - SERVICOS BASE'!AH595,\"mostrar\",\"ocultar\"),\"ocultar\"))","v":"ocultar"},"Designação (a preencher)","MODELO A - TEMPO - N.º DE HORAS DE TRABALHO",null,null,0,0,0,null,null,null,null,null,0,0,null,null,null,null,null,null,0,0,null,null,0,0,0,null,0,null,null,9,null,null,null,null,null,null,null,null,null,null,null,null,null,null,null,null,null,null,null,null,null,null,null,null,null,0,0,0,0,0,"MODELO A - TEMPO - N.º DE HORAS DE TRABALHO"]
[null,{"$f":"IF($B$586=\"ocultar\",\"ocultar\",IF('SA - ATIVIDADES'!$G$72=TRUE,IF('SA - ATIVIDADES'!$H$72>='SA - SERVICOS BASE'!AH596,\"mostrar\",\"ocultar\"),\"ocultar\"))","v":"ocultar"},"Designação (a preencher)","MODELO A - TEMPO - N.º DE HORAS DE TRABALHO",null,null,0,0,0,null,null,null,null,null,0,0,null,null,null,null,null,null,0,0,null,null,0,0,0,null,0,null,null,10,null,null,null,null,null,null,null,null,null,null,null,null,null,null,null,null,null,null,null,null,null,null,null,null,null,0,0,0,0,0,"MODELO A - TEMPO - N.º DE HORAS DE TRABALHO"]
[null,{"$f":"IF($B$587=\"ocultar\",\"ocultar\",\"mostrar\")","v":"ocultar"},"SUB-TOTAL",null,null,null,{"$f":"SUBTOTAL(109,G586:G596)","v":0},null,{"$f":"SUBTOTAL(109,I586:I596)","v":0},null,null,null,null,null,{"$f":"SUBTOTAL(9,O587:O596)","v":0},{"$f":"SUBTOTAL(9,P587:P596)","v":0},null,null,null,null,null,null,{"$f":"SUBTOTAL(9,W587:W596)","v":0},{"$f":"SUBTOTAL(9,X587:X596)","v":0},null,null,null,null,{"$f":"SUBTOTAL(109,AC587:AC596)","v":0},null,{"$f":"SUBTOTAL(109,AE587:AE596)","v":0},null,null,null,null,null,null,null,null,null,null,null,null,null,null,null,null,null,null,null,null,null,null,null,null,null,null,null,null,null,null,null,null,null,"MODELO A - TEMPO - N.º DE HORAS DE TRABALHO"]
[null,{"$f":"IF(B571=\"ocultar\",\"ocultar\",IF('SA - ATIVIDADES'!$G$70=\"Fase Única\",\"ocultar\",IF('SA - ATIVIDADES'!G73=TRUE,\"mostrar\",\"ocultar\")))","v":"ocultar"},"PROJETO - FASE DE ANTEPROJETO",null,null,null,null,null,null,null,null,null,null,null,null,null,null,null,null,null,null,null,null,null,null,null,null,null,null,null,null,null,null,null,null,null,null,null,null,null,null,null,null,null,null,null,null,null,null,null,null,null,null,null,null,null,null,null,null,null,null,null,null,null,"MODELO A - TEMPO - N.º DE HORAS DE TRABALHO"]
[null,{"$f":"IF($B$598=\"ocultar\",\"ocultar\",IF('SA - ATIVIDADES'!$G$73=TRUE,IF('SA - ATIVIDADES'!$H$73>='SA - SERVICOS BASE'!AH599,\"mostrar\",\"ocultar\"),\"ocultar\"))","v":"ocultar"},"Designação (a preencher)","MODELO A - TEMPO - N.º DE HORAS DE TRABALHO",null,null,0,{"$f":"$H$571","v":0},{"$f":"G599*H599","v":0},null,null,null,null,null,0,{"$f":"$P$571*O599","v":0},null,null,null,null,null,null,0,{"$f":"$X$571*W599","v":0},null,null,0,0,{"$f":"AA599*AB599","v":0},null,{"$f":"BL599","v":0},null,null,1,null,null,null,null,null,null,null,null,null,null,null,null,null,null,null,null,null,null,null,null,null,null,null,null,null,{"$f":"IF(OR(AND(LEFT($D$571,8)=\"MODELO M\", LEFT(D599,8)=\"MODELO A\"), AND(LEFT($D$571,8)=\"MODELO A\", $F$571=\"Atribuir valor detalhado por Fase/Elemento\")), I599, 0)","v":0},{"$f":"IF(OR(AND(LEFT($D$571,8)=\"MODELO M\", LEFT(D599,8)=\"MODELO B\"), AND(LEFT($D$571,8)=\"MODELO B\", $K$571=\"Atribuir valor detalhado por Fase/Elemento\")), P599, 0)","v":0},{"$f":"IF(OR(AND(LEFT($D$571,8)=\"MODELO M\", LEFT(D599,8)=\"MODELO C\"), AND(LEFT($D$571,8)=\"MODELO C\", $R$571=\"Atribuir valor detalhado por Fase/Elemento\")), X599, 0)","v":0},{"$f":"IF(OR(AND(LEFT($D$571,8)=\"MODELO M\", LEFT(D599,8)=\"MODELO D\"), AND(LEFT($D$571,8)=\"MODELO D\", $Z$571=\"Atribuir valor detalhado por Fase/Elemento\")), AC599, 0)","v":0},{"$f":"SUM(BH599:BK599)","v":0},"MODELO A - TEMPO - N.º DE HORAS DE TRABALHO"]
[null,{"$f":"IF($B$598=\"ocultar\",\"ocultar\",IF('SA - ATIVIDADES'!$G$73=TRUE,IF('SA - ATIVIDADES'!$H$73>='SA - SERVICOS BASE'!AH600,\"mostrar\",\"ocultar\"),\"ocultar\"))","v":"ocultar"},"Designação (a preencher)","MODELO A - TEMPO - N.º DE HORAS DE TRABALHO",null,null,0,0,0,null,null,null,null,null,0,{"$f":"$P$571*O600","v":0},null,null,null,null,null,null,0,{"$f":"$X$571*W600","v":0},null,null,0,0,0,null,0,null,null,2,null,null,null,null,null,null,null,null,null,null,null,null,null,null,null,null,null,null,null,null,null,null,null,null,null,0,0,0,0,0,"MODELO A - TEMPO - N.º DE HORAS DE TRABALHO"]
[null,{"$f":"IF($B$598=\"ocultar\",\"ocultar\",IF('SA - ATIVIDADES'!$G$73=TRUE,IF('SA - ATIVIDADES'!$H$73>='SA - SERVICOS BASE'!AH601,\"mostrar\",\"ocultar\"),\"ocultar\"))","v":"ocultar"},"Designação (a preencher)","MODELO A - TEMPO - N.º DE HORAS DE TRABALHO",null,null,0,0,0,null,null,null,null,null,0,0,null,null,null,null,null,null,0,0,null,null,0,0,0,null,0,null,null,3,null,null,null,null,null,null,null,null,null,null,null,null,null,null,null,null,null,null,null,null,null,null,null,null,null,0,0,0,0,0,"MODELO A - TEMPO - N.º DE HORAS DE TRABALHO"]
[null,{"$f":"IF($B$598=\"ocultar\",\"ocultar\",IF('SA - ATIVIDADES'!$G$73=TRUE,IF('SA - ATIVIDADES'!$H$73>='SA - SERVICOS BASE'!AH602,\"mostrar\",\"ocultar\"),\"ocultar\"))","v":"ocultar"},"Designação (a preencher)","MODELO A - TEMPO - N.º DE HORAS DE TRABALHO",null,null,0,0,0,null,null,null,null,null,0,0,null,null,null,null,null,null,0,0,null,null,0,0,0,null,0,null,null,4,null,null,null,null,null,null,null,null,null,null,null,null,null,null,null,null,null,null,null,null,null,null,null,null,null,0,0,0,0,0,"MODELO A - TEMPO - N.º DE HORAS DE TRABALHO"]
[null,{"$f":"IF($B$598=\"ocultar\",\"ocultar\",IF('SA - ATIVIDADES'!$G$73=TRUE,IF('SA - ATIVIDADES'!$H$73>='SA - SERVICOS BASE'!AH603,\"mostrar\",\"ocultar\"),\"ocultar\"))","v":"ocultar"},"Designação (a preencher)","MODELO A - TEMPO - N.º DE HORAS DE TRABALHO",null,null,0,0,0,null,null,null,null,null,0,0,null,null,null,null,null,null,0,0,null,null,0,0,0,null,0,null,null,5,null,null,null,null,null,null,null,null,null,null,null,null,null,null,null,null,null,null,null,null,null,null,null,null,null,0,0,0,0,0,"MODELO A - TEMPO - N.º DE HORAS DE TRABALHO"]
[null,{"$f":"IF($B$598=\"ocultar\",\"ocultar\",IF('SA - ATIVIDADES'!$G$73=TRUE,IF('SA - ATIVIDADES'!$H$73>='SA - SERVICOS BASE'!AH604,\"mostrar\",\"ocultar\"),\"ocultar\"))","v":"ocultar"},"Designação (a preencher)","MODELO A - TEMPO - N.º DE HORAS DE TRABALHO",null,null,0,0,0,null,null,null,null,null,0,0,null,null,null,null,null,null,0,0,null,null,0,0,0,null,0,null,null,6,null,null,null,null,null,null,null,null,null,null,null,null,null,null,null,null,null,null,null,null,null,null,null,null,null,0,0,0,0,0,"MODELO A - TEMPO - N.º DE HORAS DE TRABALHO"]
[null,{"$f":"IF($B$598=\"ocultar\",\"ocultar\",IF('SA - ATIVIDADES'!$G$73=TRUE,IF('SA - ATIVIDADES'!$H$73>='SA - SERVICOS BASE'!AH605,\"mostrar\",\"ocultar\"),\"ocultar\"))","v":"ocultar"},"Designação (a preencher)","MODELO A - TEMPO - N.º DE HORAS DE TRABALHO",null,null,0,0,0,null,null,null,null,null,0,0,null,null,null,null,null,null,0,0,null,null,0,0,0,null,0,null,null,7,null,null,null,null,null,null,null,null,null,null,null,null,null,null,null,null,null,null,null,null,null,null,null,null,null,0,0,0,0,0,"MODELO A - TEMPO - N.º DE HORAS DE TRABALHO"]
[null,{"$f":"IF($B$598=\"ocultar\",\"ocultar\",IF('SA - ATIVIDADES'!$G$73=TRUE,IF('SA - ATIVIDADES'!$H$73>='SA - SERVICOS BASE'!AH606,\"mostrar\",\"ocultar\"),\"ocultar\"))","v":"ocultar"},"Designação (a preencher)","MODELO A - TEMPO - N.º DE HORAS DE TRABALHO",null,null,0,0,0,null,null,null,null,null,0,0,null,null,null,null,null,null,0,0,null,null,0,0,0,null,0,null,null,8,null,null,null,null,null,null,null,null,null,null,null,null,null,null,null,null,null,null,null,null,null,null,null,null,null,0,0,0,0,0,"MODELO A - TEMPO - N.º DE HORAS DE TRABALHO"]
[null,{"$f":"IF($B$598=\"ocultar\",\"ocultar\",IF('SA - ATIVIDADES'!$G$73=TRUE,IF('SA - ATIVIDADES'!$H$73>='SA - SERVICOS BASE'!AH607,\"mostrar\",\"ocultar\"),\"ocultar\"))","v":"ocultar"},"Designação (a preencher)","MODELO A - TEMPO - N.º DE HORAS DE TRABALHO",null,null,0,0,0,null,null,null,null,null,0,0,null,null,null,null,null,null,0,0,null,null,0,0,0,null,0,null,null,9,null,null,null,null,null,null,null,null,null,null,null,null,null,null,null,null,null,null,null,null,null,null,null,null,null,0,0,0,0,0,"MODELO A - TEMPO - N.º DE HORAS DE TRABALHO"]
[null,{"$f":"IF($B$598=\"ocultar\",\"ocultar\",IF('SA - ATIVIDADES'!$G$73=TRUE,IF('SA - ATIVIDADES'!$H$73>='SA - SERVICOS BASE'!AH608,\"mostrar\",\"ocultar\"),\"ocultar\"))","v":"ocultar"},"Designação (a preencher)","MODELO A - TEMPO - N.º DE HORAS DE TRABALHO",null,null,0,0,0,null,null,null,null,null,0,0,null,null,null,null,null,null,0,0,null,null,0,0,0,null,0,null,null,10,null,null,null,null,null,null,null,null,null,null,null,null,null,null,null,null,null,null,null,null,null,null,null,null,null,0,0,0,0,0,"MODELO A - TEMPO - N.º DE HORAS DE TRABALHO"]
[null,{"$f":"IF($B$599=\"ocultar\",\"ocultar\",\"mostrar\")","v":"ocultar"},"SUB-TOTAL",null,null,null,{"$f":"SUBTOTAL(109,G598:G608)","v":0},null,{"$f":"SUBTOTAL(109,I598:I608)","v":0},null,null,null,null,null,{"$f":"SUBTOTAL(9,O599:O608)","v":0},{"$f":"SUBTOTAL(9,P599:P608)","v":0},null,null,null,null,null,null,{"$f":"SUBTOTAL(9,W599:W608)","v":0},{"$f":"SUBTOTAL(9,X599:X608)","v":0},null,null,null,null,{"$f":"SUBTOTAL(109,AC599:AC608)","v":0},null,{"$f":"SUBTOTAL(109,AE599:AE608)","v":0},null,null,null,null,null,null,null,null,null,null,null,null,null,null,null,null,null,null,null,null,null,null,null,null,null,null,null,null,null,null,null,null,null,"MODELO A - TEMPO - N.º DE HORAS DE TRABALHO"]
[null,{"$f":"IF(B571=\"ocultar\",\"ocultar\",IF('SA - ATIVIDADES'!$G$70=\"Fase Única\",\"ocultar\",IF('SA - ATIVIDADES'!G74=TRUE,\"mostrar\",\"ocultar\")))","v":"ocultar"},"PROJETO  - FASE DE PROJETO DE EXECUÇÃO",null,null,null,null,null,null,null,null,null,null,null,null,null,null,null,null,null,null,null,null,null,null,null,null,null,null,null,null,null,null,null,null,null,null,null,null,null,null,null,null,null,null,null,null,null,null,null,null,null,null,null,null,null,null,null,null,null,null,null,null,null,"MODELO A - TEMPO - N.º DE HORAS DE TRABALHO"]
[null,{"$f":"IF($B$610=\"ocultar\",\"ocultar\",IF('SA - ATIVIDADES'!$G$74=TRUE,IF('SA - ATIVIDADES'!$H$74>='SA - SERVICOS BASE'!AH611,\"mostrar\",\"ocultar\"),\"ocultar\"))","v":"ocultar"},"Designação (a preencher)","MODELO A - TEMPO - N.º DE HORAS DE TRABALHO",null,null,0,{"$f":"$H$571","v":0},{"$f":"G611*H611","v":0},null,null,null,null,null,0,{"$f":"$P$571*O611","v":0},null,null,null,null,null,null,0,{"$f":"$X$571*W611","v":0},null,null,0,0,{"$f":"AA611*AB611","v":0},null,{"$f":"BL611","v":0},null,null,1,null,null,null,null,null,null,null,null,null,null,null,null,null,null,null,null,null,null,null,null,null,null,null,null,null,{"$f":"IF(OR(AND(LEFT($D$571,8)=\"MODELO M\", LEFT(D611,8)=\"MODELO A\"), AND(LEFT($D$571,8)=\"MODELO A\", $F$571=\"Atribuir valor detalhado por Fase/Elemento\")), I611, 0)","v":0},{"$f":"IF(OR(AND(LEFT($D$571,8)=\"MODELO M\", LEFT(D611,8)=\"MODELO B\"), AND(LEFT($D$571,8)=\"MODELO B\", $K$571=\"Atribuir valor detalhado por Fase/Elemento\")), P611, 0)","v":0},{"$f":"IF(OR(AND(LEFT($D$571,8)=\"MODELO M\", LEFT(D611,8)=\"MODELO C\"), AND(LEFT($D$571,8)=\"MODELO C\", $R$571=\"Atribuir valor detalhado por Fase/Elemento\")), X611, 0)","v":0},{"$f":"IF(OR(AND(LEFT($D$571,8)=\"MODELO M\", LEFT(D611,8)=\"MODELO D\"), AND(LEFT($D$571,8)=\"MODELO D\", $Z$571=\"Atribuir valor detalhado por Fase/Elemento\")), AC611, 0)","v":0},{"$f":"SUM(BH611:BK611)","v":0},"MODELO A - TEMPO - N.º DE HORAS DE TRABALHO"]
[null,{"$f":"IF($B$610=\"ocultar\",\"ocultar\",IF('SA - ATIVIDADES'!$G$74=TRUE,IF('SA - ATIVIDADES'!$H$74>='SA - SERVICOS BASE'!AH612,\"mostrar\",\"ocultar\"),\"ocultar\"))","v":"ocultar"},"Designação (a preencher)","MODELO A - TEMPO - N.º DE HORAS DE TRABALHO",null,null,0,0,0,null,null,null,null,null,0,{"$f":"$P$571*O612","v":0},null,null,null,null,null,null,0,{"$f":"$X$571*W612","v":0},null,null,0,0,0,null,0,null,null,2,null,null,null,null,null,null,null,null,null,null,null,null,null,null,null,null,null,null,null,null,null,null,null,null,null,0,0,0,0,0,"MODELO A - TEMPO - N.º DE HORAS DE TRABALHO"]
[null,{"$f":"IF($B$610=\"ocultar\",\"ocultar\",IF('SA - ATIVIDADES'!$G$74=TRUE,IF('SA - ATIVIDADES'!$H$74>='SA - SERVICOS BASE'!AH613,\"mostrar\",\"ocultar\"),\"ocultar\"))","v":"ocultar"},"Designação (a preencher)","MODELO A - TEMPO - N.º DE HORAS DE TRABALHO",null,null,0,0,0,null,null,null,null,null,0,0,null,null,null,null,null,null,0,0,null,null,0,0,0,null,0,null,null,3,null,null,null,null,null,null,null,null,null,null,null,null,null,null,null,null,null,null,null,null,null,null,null,null,null,0,0,0,0,0,"MODELO A - TEMPO - N.º DE HORAS DE TRABALHO"]
[null,{"$f":"IF($B$610=\"ocultar\",\"ocultar\",IF('SA - ATIVIDADES'!$G$74=TRUE,IF('SA - ATIVIDADES'!$H$74>='SA - SERVICOS BASE'!AH614,\"mostrar\",\"ocultar\"),\"ocultar\"))","v":"ocultar"},"Designação (a preencher)","MODELO A - TEMPO - N.º DE HORAS DE TRABALHO",null,null,0,0,0,null,null,null,null,null,0,0,null,null,null,null,null,null,0,0,null,null,0,0,0,null,0,null,null,4,null,null,null,null,null,null,null,null,null,null,null,null,null,null,null,null,null,null,null,null,null,null,null,null,null,0,0,0,0,0,"MODELO A - TEMPO - N.º DE HORAS DE TRABALHO"]
[null,{"$f":"IF($B$610=\"ocultar\",\"ocultar\",IF('SA - ATIVIDADES'!$G$74=TRUE,IF('SA - ATIVIDADES'!$H$74>='SA - SERVICOS BASE'!AH615,\"mostrar\",\"ocultar\"),\"ocultar\"))","v":"ocultar"},"Designação (a preencher)","MODELO A - TEMPO - N.º DE HORAS DE TRABALHO",null,null,0,0,0,null,null,null,null,null,0,0,null,null,null,null,null,null,0,0,null,null,0,0,0,null,0,null,null,5,null,null,null,null,null,null,null,null,null,null,null,null,null,null,null,null,null,null,null,null,null,null,null,null,null,0,0,0,0,0,"MODELO A - TEMPO - N.º DE HORAS DE TRABALHO"]
[null,{"$f":"IF($B$610=\"ocultar\",\"ocultar\",IF('SA - ATIVIDADES'!$G$74=TRUE,IF('SA - ATIVIDADES'!$H$74>='SA - SERVICOS BASE'!AH616,\"mostrar\",\"ocultar\"),\"ocultar\"))","v":"ocultar"},"Designação (a preencher)","MODELO A - TEMPO - N.º DE HORAS DE TRABALHO",null,null,0,0,0,null,null,null,null,null,0,0,null,null,null,null,null,null,0,0,null,null,0,0,0,null,0,null,null,6,null,null,null,null,null,null,null,null,null,null,null,null,null,null,null,null,null,null,null,null,null,null,null,null,null,0,0,0,0,0,"MODELO A - TEMPO - N.º DE HORAS DE TRABALHO"]
[null,{"$f":"IF($B$610=\"ocultar\",\"ocultar\",IF('SA - ATIVIDADES'!$G$74=TRUE,IF('SA - ATIVIDADES'!$H$74>='SA - SERVICOS BASE'!AH617,\"mostrar\",\"ocultar\"),\"ocultar\"))","v":"ocultar"},"Designação (a preencher)","MODELO A - TEMPO - N.º DE HORAS DE TRABALHO",null,null,0,0,0,null,null,null,null,null,0,0,null,null,null,null,null,null,0,0,null,null,0,0,0,null,0,null,null,7,null,null,null,null,null,null,null,null,null,null,null,null,null,null,null,null,null,null,null,null,null,null,null,null,null,0,0,0,0,0,"MODELO A - TEMPO - N.º DE HORAS DE TRABALHO"]
[null,{"$f":"IF($B$610=\"ocultar\",\"ocultar\",IF('SA - ATIVIDADES'!$G$74=TRUE,IF('SA - ATIVIDADES'!$H$74>='SA - SERVICOS BASE'!AH618,\"mostrar\",\"ocultar\"),\"ocultar\"))","v":"ocultar"},"Designação (a preencher)","MODELO A - TEMPO - N.º DE HORAS DE TRABALHO",null,null,0,0,0,null,null,null,null,null,0,0,null,null,null,null,null,null,0,0,null,null,0,0,0,null,0,null,null,8,null,null,null,null,null,null,null,null,null,null,null,null,null,null,null,null,null,null,null,null,null,null,null,null,null,0,0,0,0,0,"MODELO A - TEMPO - N.º DE HORAS DE TRABALHO"]
[null,{"$f":"IF($B$610=\"ocultar\",\"ocultar\",IF('SA - ATIVIDADES'!$G$74=TRUE,IF('SA - ATIVIDADES'!$H$74>='SA - SERVICOS BASE'!AH619,\"mostrar\",\"ocultar\"),\"ocultar\"))","v":"ocultar"},"Designação (a preencher)","MODELO A - TEMPO - N.º DE HORAS DE TRABALHO",null,null,0,0,0,null,null,null,null,null,0,0,null,null,null,null,null,null,0,0,null,null,0,0,0,null,0,null,null,9,null,null,null,null,null,null,null,null,null,null,null,null,null,null,null,null,null,null,null,null,null,null,null,null,null,0,0,0,0,0,"MODELO A - TEMPO - N.º DE HORAS DE TRABALHO"]
[null,{"$f":"IF($B$610=\"ocultar\",\"ocultar\",IF('SA - ATIVIDADES'!$G$74=TRUE,IF('SA - ATIVIDADES'!$H$74>='SA - SERVICOS BASE'!AH620,\"mostrar\",\"ocultar\"),\"ocultar\"))","v":"ocultar"},"Designação (a preencher)","MODELO A - TEMPO - N.º DE HORAS DE TRABALHO",null,null,0,0,0,null,null,null,null,null,0,0,null,null,null,null,null,null,0,0,null,null,0,0,0,null,0,null,null,10,null,null,null,null,null,null,null,null,null,null,null,null,null,null,null,null,null,null,null,null,null,null,null,null,null,0,0,0,0,0,"MODELO A - TEMPO - N.º DE HORAS DE TRABALHO"]
[null,{"$f":"IF($B$611=\"ocultar\",\"ocultar\",\"mostrar\")","v":"ocultar"},"SUB-TOTAL",null,null,null,{"$f":"SUBTOTAL(109,G610:G620)","v":0},null,{"$f":"SUBTOTAL(109,I610:I620)","v":0},null,null,null,null,null,{"$f":"SUBTOTAL(9,O611:O620)","v":0},{"$f":"SUBTOTAL(9,P611:P620)","v":0},null,null,null,null,null,null,{"$f":"SUBTOTAL(9,W611:W620)","v":0},{"$f":"SUBTOTAL(9,X611:X620)","v":0},null,null,null,null,{"$f":"SUBTOTAL(109,AC611:AC620)","v":0},null,{"$f":"SUBTOTAL(109,AE611:AE620)","v":0},null,null,null,null,null,null,null,null,null,null,null,null,null,null,null,null,null,null,null,null,null,null,null,null,null,null,null,null,null,null,null,null,null,"MODELO A - TEMPO - N.º DE HORAS DE TRABALHO"]
[null,{"$f":"IF($B$571=\"ocultar\",\"ocultar\",IF('SA - ATIVIDADES'!$G$70=\"Fase Única\",\"ocultar\",IF('SA - ATIVIDADES'!G75=TRUE,\"mostrar\",\"ocultar\")))","v":"ocultar"},"ASSISTÊNCIA TÉCNICA",null,null,null,null,null,null,null,null,null,null,null,null,null,null,null,null,null,null,null,null,null,null,null,null,null,null,null,null,null,null,null,null,null,null,null,null,null,null,null,null,null,null,null,null,null,null,null,null,null,null,null,null,null,null,null,null,null,null,null,null,null,"MODELO A - TEMPO - N.º DE HORAS DE TRABALHO"]
[null,{"$f":"IF($B$622=\"ocultar\",\"ocultar\",IF('SA - ATIVIDADES'!$G$75=TRUE,IF('SA - ATIVIDADES'!$H$75>='SA - SERVICOS BASE'!AH623,\"mostrar\",\"ocultar\"),\"ocultar\"))","v":"ocultar"},"Designação (a preencher)","MODELO A - TEMPO - N.º DE HORAS DE TRABALHO",null,null,0,{"$f":"$H$571","v":0},{"$f":"G623*H623","v":0},null,null,null,null,null,0,{"$f":"$P$571*O623","v":0},null,null,null,null,null,null,0,{"$f":"$X$571*W623","v":0},null,null,0,0,{"$f":"AA623*AB623","v":0},null,{"$f":"BL623","v":0},null,null,1,null,null,null,null,null,null,null,null,null,null,null,null,null,null,null,null,null,null,null,null,null,null,null,null,null,{"$f":"IF(OR(AND(LEFT($D$571,8)=\"MODELO M\", LEFT(D623,8)=\"MODELO A\"), AND(LEFT($D$571,8)=\"MODELO A\", $F$571=\"Atribuir valor detalhado por Fase/Elemento\")), I623, 0)","v":0},{"$f":"IF(OR(AND(LEFT($D$571,8)=\"MODELO M\", LEFT(D623,8)=\"MODELO B\"), AND(LEFT($D$571,8)=\"MODELO B\", $K$571=\"Atribuir valor detalhado por Fase/Elemento\")), P623, 0)","v":0},{"$f":"IF(OR(AND(LEFT($D$571,8)=\"MODELO M\", LEFT(D623,8)=\"MODELO C\"), AND(LEFT($D$571,8)=\"MODELO C\", $R$571=\"Atribuir valor detalhado por Fase/Elemento\")), X623, 0)","v":0},{"$f":"IF(OR(AND(LEFT($D$571,8)=\"MODELO M\", LEFT(D623,8)=\"MODELO D\"), AND(LEFT($D$571,8)=\"MODELO D\", $Z$571=\"Atribuir valor detalhado por Fase/Elemento\")), AC623, 0)","v":0},{"$f":"SUM(BH623:BK623)","v":0},"MODELO A - TEMPO - N.º DE HORAS DE TRABALHO"]
[null,{"$f":"IF($B$622=\"ocultar\",\"ocultar\",IF('SA - ATIVIDADES'!$G$75=TRUE,IF('SA - ATIVIDADES'!$H$75>='SA - SERVICOS BASE'!AH624,\"mostrar\",\"ocultar\"),\"ocultar\"))","v":"ocultar"},"Designação (a preencher)","MODELO A - TEMPO - N.º DE HORAS DE TRABALHO",null,null,0,0,0,null,null,null,null,null,0,{"$f":"$P$571*O624","v":0},null,null,null,null,null,null,0,{"$f":"$X$571*W624","v":0},null,null,0,0,0,null,0,null,null,2,null,null,null,null,null,null,null,null,null,null,null,null,null,null,null,null,null,null,null,null,null,null,null,null,null,0,0,0,0,0,"MODELO A - TEMPO - N.º DE HORAS DE TRABALHO"]
[null,{"$f":"IF($B$622=\"ocultar\",\"ocultar\",IF('SA - ATIVIDADES'!$G$75=TRUE,IF('SA - ATIVIDADES'!$H$75>='SA - SERVICOS BASE'!AH625,\"mostrar\",\"ocultar\"),\"ocultar\"))","v":"ocultar"},"Designação (a preencher)","MODELO A - TEMPO - N.º DE HORAS DE TRABALHO",null,null,0,0,0,null,null,null,null,null,0,0,null,null,null,null,null,null,0,0,null,null,0,0,0,null,0,null,null,3,null,null,null,null,null,null,null,null,null,null,null,null,null,null,null,null,null,null,null,null,null,null,null,null,null,0,0,0,0,0,"MODELO A - TEMPO - N.º DE HORAS DE TRABALHO"]
[null,{"$f":"IF($B$622=\"ocultar\",\"ocultar\",IF('SA - ATIVIDADES'!$G$75=TRUE,IF('SA - ATIVIDADES'!$H$75>='SA - SERVICOS BASE'!AH626,\"mostrar\",\"ocultar\"),\"ocultar\"))","v":"ocultar"},"Designação (a preencher)","MODELO A - TEMPO - N.º DE HORAS DE TRABALHO",null,null,0,0,0,null,null,null,null,null,0,0,null,null,null,null,null,null,0,0,null,null,0,0,0,null,0,null,null,4,null,null,null,null,null,null,null,null,null,null,null,null,null,null,null,null,null,null,null,null,null,null,null,null,null,0,0,0,0,0,"MODELO A - TEMPO - N.º DE HORAS DE TRABALHO"]
[null,{"$f":"IF($B$622=\"ocultar\",\"ocultar\",IF('SA - ATIVIDADES'!$G$75=TRUE,IF('SA - ATIVIDADES'!$H$75>='SA - SERVICOS BASE'!AH627,\"mostrar\",\"ocultar\"),\"ocultar\"))","v":"ocultar"},"Designação (a preencher)","MODELO A - TEMPO - N.º DE HORAS DE TRABALHO",null,null,0,0,0,null,null,null,null,null,0,0,null,null,null,null,null,null,0,0,null,null,0,0,0,null,0,null,null,5,null,null,null,null,null,null,null,null,null,null,null,null,null,null,null,null,null,null,null,null,null,null,null,null,null,0,0,0,0,0,"MODELO A - TEMPO - N.º DE HORAS DE TRABALHO"]
[null,{"$f":"IF($B$622=\"ocultar\",\"ocultar\",IF('SA - ATIVIDADES'!$G$75=TRUE,IF('SA - ATIVIDADES'!$H$75>='SA - SERVICOS BASE'!AH628,\"mostrar\",\"ocultar\"),\"ocultar\"))","v":"ocultar"},"Designação (a preencher)","MODELO A - TEMPO - N.º DE HORAS DE TRABALHO",null,null,0,0,0,null,null,null,null,null,0,0,null,null,null,null,null,null,0,0,null,null,0,0,0,null,0,null,null,6,null,null,null,null,null,null,null,null,null,null,null,null,null,null,null,null,null,null,null,null,null,null,null,null,null,0,0,0,0,0,"MODELO A - TEMPO - N.º DE HORAS DE TRABALHO"]
[null,{"$f":"IF($B$622=\"ocultar\",\"ocultar\",IF('SA - ATIVIDADES'!$G$75=TRUE,IF('SA - ATIVIDADES'!$H$75>='SA - SERVICOS BASE'!AH629,\"mostrar\",\"ocultar\"),\"ocultar\"))","v":"ocultar"},"Designação (a preencher)","MODELO A - TEMPO - N.º DE HORAS DE TRABALHO",null,null,0,0,0,null,null,null,null,null,0,0,null,null,null,null,null,null,0,0,null,null,0,0,0,null,0,null,null,7,null,null,null,null,null,null,null,null,null,null,null,null,null,null,null,null,null,null,null,null,null,null,null,null,null,0,0,0,0,0,"MODELO A - TEMPO - N.º DE HORAS DE TRABALHO"]
[null,{"$f":"IF($B$622=\"ocultar\",\"ocultar\",IF('SA - ATIVIDADES'!$G$75=TRUE,IF('SA - ATIVIDADES'!$H$75>='SA - SERVICOS BASE'!AH630,\"mostrar\",\"ocultar\"),\"ocultar\"))","v":"ocultar"},"Designação (a preencher)","MODELO A - TEMPO - N.º DE HORAS DE TRABALHO",null,null,0,0,0,null,null,null,null,null,0,0,null,null,null,null,null,null,0,0,null,null,0,0,0,null,0,null,null,8,null,null,null,null,null,null,null,null,null,null,null,null,null,null,null,null,null,null,null,null,null,null,null,null,null,0,0,0,0,0,"MODELO A - TEMPO - N.º DE HORAS DE TRABALHO"]
[null,{"$f":"IF($B$622=\"ocultar\",\"ocultar\",IF('SA - ATIVIDADES'!$G$75=TRUE,IF('SA - ATIVIDADES'!$H$75>='SA - SERVICOS BASE'!AH631,\"mostrar\",\"ocultar\"),\"ocultar\"))","v":"ocultar"},"Designação (a preencher)","MODELO A - TEMPO - N.º DE HORAS DE TRABALHO",null,null,0,0,0,null,null,null,null,null,0,0,null,null,null,null,null,null,0,0,null,null,0,0,0,null,0,null,null,9,null,null,null,null,null,null,null,null,null,null,null,null,null,null,null,null,null,null,null,null,null,null,null,null,null,0,0,0,0,0,"MODELO A - TEMPO - N.º DE HORAS DE TRABALHO"]
[null,{"$f":"IF($B$622=\"ocultar\",\"ocultar\",IF('SA - ATIVIDADES'!$G$75=TRUE,IF('SA - ATIVIDADES'!$H$75>='SA - SERVICOS BASE'!AH632,\"mostrar\",\"ocultar\"),\"ocultar\"))","v":"ocultar"},"Designação (a preencher)","MODELO A - TEMPO - N.º DE HORAS DE TRABALHO",null,null,0,0,0,null,null,null,null,null,0,0,null,null,null,null,null,null,0,0,null,null,0,0,0,null,0,null,null,10,null,null,null,null,null,null,null,null,null,null,null,null,null,null,null,null,null,null,null,null,null,null,null,null,null,0,0,0,0,0,"MODELO A - TEMPO - N.º DE HORAS DE TRABALHO"]
[null,{"$f":"IF($B$623=\"ocultar\",\"ocultar\",\"mostrar\")","v":"ocultar"},"SUB-TOTAL",null,null,null,{"$f":"SUBTOTAL(109,G622:G632)","v":0},null,{"$f":"SUBTOTAL(109,I622:I632)","v":0},null,null,null,null,null,{"$f":"SUBTOTAL(9,O623:O632)","v":0},{"$f":"SUBTOTAL(9,P623:P632)","v":0},null,null,null,null,null,null,{"$f":"SUBTOTAL(9,W623:W632)","v":0},{"$f":"SUBTOTAL(9,X623:X632)","v":0},null,null,null,null,0,null,{"$f":"SUBTOTAL(109,AE623:AE632)","v":0},null,null,null,null,null,null,null,null,null,null,null,null,null,null,null,null,null,null,null,null,null,null,null,null,null,null,null,null,null,null,null,null,null,"MODELO A - TEMPO - N.º DE HORAS DE TRABALHO"]
[null,{"$f":"IF($B$571=\"ocultar\",\"ocultar\",\"mostrar\")","v":"ocultar"},"TOTAL",null,null,null,{"$f":"IF($F571=\"Atribuir valor global à atividade\",G571,SUBTOTAL(109,G574:G633))","v":0},null,{"$f":"IF($F571=\"Atribuir valor global à atividade\",I571,SUBTOTAL(109,I574:I633))","v":0},null,null,null,null,null,{"$f":"IF($K$571=\"Atribuir valor global à atividade\",1,SUBTOTAL(109,O575:O633))","v":1},{"$f":"IF($K571=\"Atribuir valor global à atividade\",P571,SUBTOTAL(109,P575:P633))","v":0},null,null,null,null,null,null,{"$f":"IF($R$571=\"Atribuir valor global à atividade\",1,SUBTOTAL(109,W575:W633))","v":1},{"$f":"IF($R571=\"Atribuir valor global à atividade\",X571,SUBTOTAL(109,X575:X633))","v":0},null,null,null,null,{"$f":"IF($Z$571=\"Atribuir valor global à atividade\",AC571,SUBTOTAL(109,AC575:AC633))","v":0},null,{"$f":"BL571","v":0},null,null,null,null,null,null,null,null,null,null,null,null,null,null,null,null,null,null,null,null,null,null,null,null,null,null,null,null,null,null,null,null,null,"MODELO A - TEMPO - N.º DE HORAS DE TRABALHO"]
[null,{"$f":"IF($B$571=\"ocultar\",\"ocultar\",\"mostrar\")","v":"ocultar"},null,null,null,null,null,null,null,null,null,null,null,null,null,null,null,null,null,null,null,null,null,null,null,null,null,null,null,null,null,null,null,null,null,null,null,null,null,null,null,null,null,null,null,null,null,null,null,null,null,null,null,null,null,null,null,null,null,null,null,null,null,null,"MODELO A - TEMPO - N.º DE HORAS DE TRABALHO"]
[null,{"$f":"IF('SA - ATIVIDADES'!$F$77<>TRUE,\"ocultar\",\"mostrar\")","v":"ocultar"},"[…] PROJETOS DE ESPECIALIDADE (Outros)","MODELO A - TEMPO - N.º DE HORAS DE TRABALHO",null,"Atribuir valor global à atividade",0,0,{"$f":"G636*H636","v":0},null,"Atribuir valor global à atividade","Valor Global Obra (VG Obra)",{"$f":"IF(L636=\"Valor Global Obra (VG Obra)\",$M$9,\"\")","v":0},0,0,{"$f":"IF(L636=\"Valor Global Obra (VG Obra)\",M636*O636,N636*O636)","v":0},null,"Atribuir valor global à atividade","Valor/m2 fixo (VF m2)",{"$f":"IF(S636=\"Valor/m2 fixo (VF m2)\",$T$9,\"\")","v":0},0,0,null,{"$f":"IF(S636=\"Valor/m2 fixo (VF m2)\",T636*1*V636,U636*1*V636)","v":0},null,"Atribuir valor global à atividade",0,0,{"$f":"AA636*AB636","v":0},null,{"$f":"BL636","v":0},null,null,null,null,null,null,null,null,null,null,null,null,null,null,null,null,null,null,null,null,null,null,null,null,null,null,null,null,{"$f":"IF(LEFT($D$636,8)=\"MODELO A\",IF($F$636=\"Atribuir valor detalhado por Fase/Elemento\",SUBTOTAL(109,BH640:BH847),I636),IF(LEFT($D$636,8)=\"MODELO M\",SUBTOTAL(109,BH640:BH847),0))","v":0},{"$f":"IF(LEFT($D$636,8)=\"MODELO B\",IF($K$636=\"Atribuir valor detalhado por Fase/Elemento\",SUBTOTAL(109,BI640:BI847),P636),IF(LEFT($D$636,8)=\"MODELO M\",SUBTOTAL(109,BI640:BI847),0))","v":0},{"$f":"IF(LEFT($D$636,8)=\"MODELO C\",IF($R$636=\"Atribuir valor detalhado por Fase/Elemento\",SUBTOTAL(109,BJ640:BJ847),X636),IF(LEFT($D$636,8)=\"MODELO M\",SUBTOTAL(109,BJ640:BJ847),0))","v":0},{"$f":"IF(LEFT($D$636,8)=\"MODELO D\",IF($Z$636=\"Atribuir valor detalhado por Fase/Elemento\",SUBTOTAL(109,BK640:BK847),AC636),IF(LEFT($D$636,8)=\"MODELO M\",SUBTOTAL(109,BK640:BK847),0))","v":0},{"$f":"SUM(BH636:BK636)","v":0},"MODELO A - TEMPO - N.º DE HORAS DE TRABALHO"]
[null,{"$f":"IF($B$636=\"ocultar\",\"ocultar\",IF('SA - ATIVIDADES'!$G$77=\"Fase Única\",\"ocultar\",IF('SA - ATIVIDADES'!F77=TRUE,\"mostrar\",\"ocultar\")))","v":"ocultar"},null,null,null,null,null,null,null,null,null,null,null,null,null,null,null,null,null,null,null,null,null,null,null,null,null,null,null,null,null,null,null,null,null,null,null,null,null,null,null,null,null,null,null,null,null,null,null,null,null,null,null,null,null,null,null,null,null,null,null,null,null,null,"MODELO A - TEMPO - N.º DE HORAS DE TRABALHO"]
[null,"ocultar",null,null,null,null,null,null,null,null,null,null,null,null,null,null,null,null,null,null,null,null,null,null,null,null,null,null,null,null,null,null,null,null,null,null,null,null,null,null,null,null,null,null,null,null,null,null,null,null,null,null,null,null,null,null,null,null,null,null,null,null,null,null,"MODELO A - TEMPO - N.º DE HORAS DE TRABALHO"]
[null,{"$f":"IF($B$636=\"ocultar\",\"ocultar\",IF('SA - ATIVIDADES'!$G$77=\"Fase Única\",\"ocultar\",IF('SA - ATIVIDADES'!F77=TRUE,\"mostrar\",\"ocultar\")))","v":"ocultar"},"ESPECIALIDADE 1",null,null,null,null,null,null,null,null,null,null,null,null,null,null,null,null,null,null,null,null,null,null,null,null,null,null,null,null,null,null,null,null,null,null,null,null,null,null,null,null,null,null,null,null,null,null,null,null,null,null,null,null,null,null,null,null,null,null,null,null,null,"MODELO A - TEMPO - N.º DE HORAS DE TRABALHO"]
[null,{"$f":"IF($B$639=\"ocultar\",\"ocultar\",IF('SA - ATIVIDADES'!$G$78=TRUE,IF('SA - ATIVIDADES'!$H$78>='SA - SERVICOS BASE'!AH640,\"mostrar\",\"ocultar\"),\"ocultar\"))","v":"ocultar"},"Especialidade (a preencher)","MODELO A - TEMPO - N.º DE HORAS DE TRABALHO",null,null,0,0,{"$f":"G640*H640","v":0},null,null,null,null,null,0,{"$f":"$P$636*O640","v":0},null,null,null,null,null,null,0,{"$f":"$P$636*W640","v":0},null,null,0,0,{"$f":"AA640*AB640","v":0},null,{"$f":"BL640","v":0},null,null,1,null,null,null,null,null,null,null,null,null,null,null,null,null,null,null,null,null,null,null,null,null,null,null,null,null,{"$f":"IF(OR(AND(LEFT($D$636,8)=\"MODELO M\", LEFT(D640,8)=\"MODELO A\"), AND(LEFT($D$636,8)=\"MODELO A\", $F$636=\"Atribuir valor detalhado por Fase/Elemento\")), I640, 0)","v":0},{"$f":"IF(OR(AND(LEFT($D$636,8)=\"MODELO M\", LEFT(D640,8)=\"MODELO B\"), AND(LEFT($D$636,8)=\"MODELO B\", $K$636=\"Atribuir valor detalhado por Fase/Elemento\")), P640, 0)","v":0},{"$f":"IF(OR(AND(LEFT($D$636,8)=\"MODELO M\", LEFT(D640,8)=\"MODELO C\"), AND(LEFT($D$636,8)=\"MODELO C\", $R$636=\"Atribuir valor detalhado por Fase/Elemento\")), X640, 0)","v":0},{"$f":"IF(OR(AND(LEFT($D$636,8)=\"MODELO M\", LEFT(D640,8)=\"MODELO D\"), AND(LEFT($D$636,8)=\"MODELO D\", $Z$636=\"Atribuir valor detalhado por Fase/Elemento\")), AC640, 0)","v":0},{"$f":"SUM(BH640:BK640)","v":0},"MODELO A - TEMPO - N.º DE HORAS DE TRABALHO"]
[null,{"$f":"IF($B$639=\"ocultar\",\"ocultar\",IF('SA - ATIVIDADES'!$G$78=TRUE,IF('SA - ATIVIDADES'!$H$78>='SA - SERVICOS BASE'!AH641,\"mostrar\",\"ocultar\"),\"ocultar\"))","v":"ocultar"},"Especialidade (a preencher)","MODELO A - TEMPO - N.º DE HORAS DE TRABALHO",null,null,0,0,{"$f":"G641*H641","v":0},null,null,null,null,null,0,{"$f":"$P$636*O641","v":0},null,null,null,null,null,null,0,{"$f":"$P$636*W641","v":0},null,null,0,0,0,null,{"$f":"BL641","v":0},null,null,2,null,null,null,null,null,null,null,null,null,null,null,null,null,null,null,null,null,null,null,null,null,null,null,null,null,{"$f":"IF(OR(AND(LEFT($D$636,8)=\"MODELO M\", LEFT(D641,8)=\"MODELO A\"), AND(LEFT($D$636,8)=\"MODELO A\", $F$636=\"Atribuir valor detalhado por Fase/Elemento\")), I641, 0)","v":0},{"$f":"IF(OR(AND(LEFT($D$636,8)=\"MODELO M\", LEFT(D641,8)=\"MODELO B\"), AND(LEFT($D$636,8)=\"MODELO B\", $K$636=\"Atribuir valor detalhado por Fase/Elemento\")), P641, 0)","v":0},{"$f":"IF(OR(AND(LEFT($D$636,8)=\"MODELO M\", LEFT(D641,8)=\"MODELO C\"), AND(LEFT($D$636,8)=\"MODELO C\", $R$636=\"Atribuir valor detalhado por Fase/Elemento\")), X641, 0)","v":0},{"$f":"IF(OR(AND(LEFT($D$636,8)=\"MODELO M\", LEFT(D641,8)=\"MODELO D\"), AND(LEFT($D$636,8)=\"MODELO D\", $Z$636=\"Atribuir valor detalhado por Fase/Elemento\")), AC641, 0)","v":0},{"$f":"SUM(BH641:BK641)","v":0},"MODELO A - TEMPO - N.º DE HORAS DE TRABALHO"]
[null,{"$f":"IF($B$639=\"ocultar\",\"ocultar\",IF('SA - ATIVIDADES'!$G$78=TRUE,IF('SA - ATIVIDADES'!$H$78>='SA - SERVICOS BASE'!AH642,\"mostrar\",\"ocultar\"),\"ocultar\"))","v":"ocultar"},"Especialidade (a preencher)","MODELO A - TEMPO - N.º DE HORAS DE TRABALHO",null,null,0,0,{"$f":"G642*H642","v":0},null,null,null,null,null,0,0,null,null,null,null,null,null,0,0,null,null,0,0,0,null,{"$f":"BL642","v":0},null,null,3,null,null,null,null,null,null,null,null,null,null,null,null,null,null,null,null,null,null,null,null,null,null,null,null,null,{"$f":"IF(OR(AND(LEFT($D$636,8)=\"MODELO M\", LEFT(D642,8)=\"MODELO A\"), AND(LEFT($D$636,8)=\"MODELO A\", $F$636=\"Atribuir valor detalhado por Fase/Elemento\")), I642, 0)","v":0},{"$f":"IF(OR(AND(LEFT($D$636,8)=\"MODELO M\", LEFT(D642,8)=\"MODELO B\"), AND(LEFT($D$636,8)=\"MODELO B\", $K$636=\"Atribuir valor detalhado por Fase/Elemento\")), P642, 0)","v":0},{"$f":"IF(OR(AND(LEFT($D$636,8)=\"MODELO M\", LEFT(D642,8)=\"MODELO C\"), AND(LEFT($D$636,8)=\"MODELO C\", $R$636=\"Atribuir valor detalhado por Fase/Elemento\")), X642, 0)","v":0},{"$f":"IF(OR(AND(LEFT($D$636,8)=\"MODELO M\", LEFT(D642,8)=\"MODELO D\"), AND(LEFT($D$636,8)=\"MODELO D\", $Z$636=\"Atribuir valor detalhado por Fase/Elemento\")), AC642, 0)","v":0},{"$f":"SUM(BH642:BK642)","v":0},"MODELO A - TEMPO - N.º DE HORAS DE TRABALHO"]
[null,{"$f":"IF($B$639=\"ocultar\",\"ocultar\",IF('SA - ATIVIDADES'!$G$78=TRUE,IF('SA - ATIVIDADES'!$H$78>='SA - SERVICOS BASE'!AH643,\"mostrar\",\"ocultar\"),\"ocultar\"))","v":"ocultar"},"Especialidade (a preencher)","MODELO A - TEMPO - N.º DE HORAS DE TRABALHO",null,null,0,0,{"$f":"G643*H643","v":0},null,null,null,null,null,0,0,null,null,null,null,null,null,0,0,null,null,0,0,0,null,{"$f":"BL643","v":0},null,null,4,null,null,null,null,null,null,null,null,null,null,null,null,null,null,null,null,null,null,null,null,null,null,null,null,null,{"$f":"IF(OR(AND(LEFT($D$636,8)=\"MODELO M\", LEFT(D643,8)=\"MODELO A\"), AND(LEFT($D$636,8)=\"MODELO A\", $F$636=\"Atribuir valor detalhado por Fase/Elemento\")), I643, 0)","v":0},{"$f":"IF(OR(AND(LEFT($D$636,8)=\"MODELO M\", LEFT(D643,8)=\"MODELO B\"), AND(LEFT($D$636,8)=\"MODELO B\", $K$636=\"Atribuir valor detalhado por Fase/Elemento\")), P643, 0)","v":0},{"$f":"IF(OR(AND(LEFT($D$636,8)=\"MODELO M\", LEFT(D643,8)=\"MODELO C\"), AND(LEFT($D$636,8)=\"MODELO C\", $R$636=\"Atribuir valor detalhado por Fase/Elemento\")), X643, 0)","v":0},{"$f":"IF(OR(AND(LEFT($D$636,8)=\"MODELO M\", LEFT(D643,8)=\"MODELO D\"), AND(LEFT($D$636,8)=\"MODELO D\", $Z$636=\"Atribuir valor detalhado por Fase/Elemento\")), AC643, 0)","v":0},{"$f":"SUM(BH643:BK643)","v":0},"MODELO A - TEMPO - N.º DE HORAS DE TRABALHO"]
[null,{"$f":"IF($B$639=\"ocultar\",\"ocultar\",IF('SA - ATIVIDADES'!$G$78=TRUE,IF('SA - ATIVIDADES'!$H$78>='SA - SERVICOS BASE'!AH644,\"mostrar\",\"ocultar\"),\"ocultar\"))","v":"ocultar"},"Especialidade (a preencher)","MODELO A - TEMPO - N.º DE HORAS DE TRABALHO",null,null,0,0,{"$f":"G644*H644","v":0},null,null,null,null,null,0,0,null,null,null,null,null,null,0,0,null,null,0,0,0,null,{"$f":"BL644","v":0},null,null,5,null,null,null,null,null,null,null,null,null,null,null,null,null,null,null,null,null,null,null,null,null,null,null,null,null,{"$f":"IF(OR(AND(LEFT($D$636,8)=\"MODELO M\", LEFT(D644,8)=\"MODELO A\"), AND(LEFT($D$636,8)=\"MODELO A\", $F$636=\"Atribuir valor detalhado por Fase/Elemento\")), I644, 0)","v":0},{"$f":"IF(OR(AND(LEFT($D$636,8)=\"MODELO M\", LEFT(D644,8)=\"MODELO B\"), AND(LEFT($D$636,8)=\"MODELO B\", $K$636=\"Atribuir valor detalhado por Fase/Elemento\")), P644, 0)","v":0},{"$f":"IF(OR(AND(LEFT($D$636,8)=\"MODELO M\", LEFT(D644,8)=\"MODELO C\"), AND(LEFT($D$636,8)=\"MODELO C\", $R$636=\"Atribuir valor detalhado por Fase/Elemento\")), X644, 0)","v":0},{"$f":"IF(OR(AND(LEFT($D$636,8)=\"MODELO M\", LEFT(D644,8)=\"MODELO D\"), AND(LEFT($D$636,8)=\"MODELO D\", $Z$636=\"Atribuir valor detalhado por Fase/Elemento\")), AC644, 0)","v":0},{"$f":"SUM(BH644:BK644)","v":0},"MODELO A - TEMPO - N.º DE HORAS DE TRABALHO"]
[null,{"$f":"IF(B639=\"ocultar\",\"ocultar\",\"mostrar\")","v":"ocultar"},"SUB-TOTAL",null,null,null,{"$f":"SUBTOTAL(109,G640:G644)","v":0},null,{"$f":"SUBTOTAL(109,I640:I644)","v":0},null,null,null,null,null,{"$f":"SUBTOTAL(9,O640:O644)","v":0},{"$f":"SUBTOTAL(9,P640:P644)","v":0},null,null,null,null,null,null,{"$f":"SUBTOTAL(9,W640:W644)","v":0},{"$f":"SUBTOTAL(9,X640:X644)","v":0},null,null,null,null,{"$f":"SUBTOTAL(9,AC640:AC644)","v":0},null,{"$f":"SUBTOTAL(109,AE640:AE644)","v":0},null,null,null,null,null,null,null,null,null,null,null,null,null,null,null,null,null,null,null,null,null,null,null,null,null,null,null,null,null,null,null,null,null,"MODELO A - TEMPO - N.º DE HORAS DE TRABALHO"]
[null,{"$f":"IF($B$636=\"ocultar\",\"ocultar\",IF('SA - ATIVIDADES'!$G$77=\"Fase Única\",\"ocultar\",IF('SA - ATIVIDADES'!G79=TRUE,\"mostrar\",\"ocultar\")))","v":"ocultar"},"ESPECIALIDADE 2",null,null,null,null,null,null,null,null,null,null,null,null,null,null,null,null,null,null,null,null,null,null,null,null,null,null,null,null,null,null,null,null,null,null,null,null,null,null,null,null,null,null,null,null,null,null,null,null,null,null,null,null,null,null,null,null,null,null,null,null,null,"MODELO A - TEMPO - N.º DE HORAS DE TRABALHO"]
[null,{"$f":"IF($B$646=\"ocultar\",\"ocultar\",IF('SA - ATIVIDADES'!$G$79=TRUE,IF('SA - ATIVIDADES'!$H$79>='SA - SERVICOS BASE'!AH647,\"mostrar\",\"ocultar\"),\"ocultar\"))","v":"ocultar"},"Especialidade (a preencher)","MODELO A - TEMPO - N.º DE HORAS DE TRABALHO",null,null,0,0,{"$f":"G647*H647","v":0},null,null,null,null,null,0,{"$f":"$P$636*O647","v":0},null,null,null,null,null,null,0,{"$f":"$P$636*W647","v":0},null,null,0,0,{"$f":"AA647*AB647","v":0},null,{"$f":"BL647","v":0},null,null,1,null,null,null,null,null,null,null,null,null,null,null,null,null,null,null,null,null,null,null,null,null,null,null,null,null,{"$f":"IF(OR(AND(LEFT($D$636,8)=\"MODELO M\", LEFT(D647,8)=\"MODELO A\"), AND(LEFT($D$636,8)=\"MODELO A\", $F$636=\"Atribuir valor detalhado por Fase/Elemento\")), I647, 0)","v":0},{"$f":"IF(OR(AND(LEFT($D$636,8)=\"MODELO M\", LEFT(D647,8)=\"MODELO B\"), AND(LEFT($D$636,8)=\"MODELO B\", $K$636=\"Atribuir valor detalhado por Fase/Elemento\")), P647, 0)","v":0},{"$f":"IF(OR(AND(LEFT($D$636,8)=\"MODELO M\", LEFT(D647,8)=\"MODELO C\"), AND(LEFT($D$636,8)=\"MODELO C\", $R$636=\"Atribuir valor detalhado por Fase/Elemento\")), X647, 0)","v":0},{"$f":"IF(OR(AND(LEFT($D$636,8)=\"MODELO M\", LEFT(D647,8)=\"MODELO D\"), AND(LEFT($D$636,8)=\"MODELO D\", $Z$636=\"Atribuir valor detalhado por Fase/Elemento\")), AC647, 0)","v":0},{"$f":"SUM(BH647:BK647)","v":0},"MODELO A - TEMPO - N.º DE HORAS DE TRABALHO"]
[null,{"$f":"IF($B$646=\"ocultar\",\"ocultar\",IF('SA - ATIVIDADES'!$G$79=TRUE,IF('SA - ATIVIDADES'!$H$79>='SA - SERVICOS BASE'!AH648,\"mostrar\",\"ocultar\"),\"ocultar\"))","v":"ocultar"},"Especialidade (a preencher)","MODELO A - TEMPO - N.º DE HORAS DE TRABALHO",null,null,0,0,{"$f":"G648*H648","v":0},null,null,null,null,null,0,{"$f":"$P$636*O648","v":0},null,null,null,null,null,null,0,{"$f":"$P$636*W648","v":0},null,null,0,0,0,null,{"$f":"BL648","v":0},null,null,2,null,null,null,null,null,null,null,null,null,null,null,null,null,null,null,null,null,null,null,null,null,null,null,null,null,{"$f":"IF(OR(AND(LEFT($D$636,8)=\"MODELO M\", LEFT(D648,8)=\"MODELO A\"), AND(LEFT($D$636,8)=\"MODELO A\", $F$636=\"Atribuir valor detalhado por Fase/Elemento\")), I648, 0)","v":0},{"$f":"IF(OR(AND(LEFT($D$636,8)=\"MODELO M\", LEFT(D648,8)=\"MODELO B\"), AND(LEFT($D$636,8)=\"MODELO B\", $K$636=\"Atribuir valor detalhado por Fase/Elemento\")), P648, 0)","v":0},{"$f":"IF(OR(AND(LEFT($D$636,8)=\"MODELO M\", LEFT(D648,8)=\"MODELO C\"), AND(LEFT($D$636,8)=\"MODELO C\", $R$636=\"Atribuir valor detalhado por Fase/Elemento\")), X648, 0)","v":0},{"$f":"IF(OR(AND(LEFT($D$636,8)=\"MODELO M\", LEFT(D648,8)=\"MODELO D\"), AND(LEFT($D$636,8)=\"MODELO D\", $Z$636=\"Atribuir valor detalhado por Fase/Elemento\")), AC648, 0)","v":0},{"$f":"SUM(BH648:BK648)","v":0},"MODELO A - TEMPO - N.º DE HORAS DE TRABALHO"]
[null,{"$f":"IF($B$646=\"ocultar\",\"ocultar\",IF('SA - ATIVIDADES'!$G$79=TRUE,IF('SA - ATIVIDADES'!$H$79>='SA - SERVICOS BASE'!AH649,\"mostrar\",\"ocultar\"),\"ocultar\"))","v":"ocultar"},"Especialidade (a preencher)","MODELO A - TEMPO - N.º DE HORAS DE TRABALHO",null,null,0,0,{"$f":"G649*H649","v":0},null,null,null,null,null,0,0,null,null,null,null,null,null,0,0,null,null,0,0,0,null,{"$f":"BL649","v":0},null,null,3,null,null,null,null,null,null,null,null,null,null,null,null,null,null,null,null,null,null,null,null,null,null,null,null,null,{"$f":"IF(OR(AND(LEFT($D$636,8)=\"MODELO M\", LEFT(D649,8)=\"MODELO A\"), AND(LEFT($D$636,8)=\"MODELO A\", $F$636=\"Atribuir valor detalhado por Fase/Elemento\")), I649, 0)","v":0},{"$f":"IF(OR(AND(LEFT($D$636,8)=\"MODELO M\", LEFT(D649,8)=\"MODELO B\"), AND(LEFT($D$636,8)=\"MODELO B\", $K$636=\"Atribuir valor detalhado por Fase/Elemento\")), P649, 0)","v":0},{"$f":"IF(OR(AND(LEFT($D$636,8)=\"MODELO M\", LEFT(D649,8)=\"MODELO C\"), AND(LEFT($D$636,8)=\"MODELO C\", $R$636=\"Atribuir valor detalhado por Fase/Elemento\")), X649, 0)","v":0},{"$f":"IF(OR(AND(LEFT($D$636,8)=\"MODELO M\", LEFT(D649,8)=\"MODELO D\"), AND(LEFT($D$636,8)=\"MODELO D\", $Z$636=\"Atribuir valor detalhado por Fase/Elemento\")), AC649, 0)","v":0},{"$f":"SUM(BH649:BK649)","v":0},"MODELO A - TEMPO - N.º DE HORAS DE TRABALHO"]
[null,{"$f":"IF($B$646=\"ocultar\",\"ocultar\",IF('SA - ATIVIDADES'!$G$79=TRUE,IF('SA - ATIVIDADES'!$H$79>='SA - SERVICOS BASE'!AH650,\"mostrar\",\"ocultar\"),\"ocultar\"))","v":"ocultar"},"Especialidade (a preencher)","MODELO A - TEMPO - N.º DE HORAS DE TRABALHO",null,null,0,0,{"$f":"G650*H650","v":0},null,null,null,null,null,0,0,null,null,null,null,null,null,0,0,null,null,0,0,0,null,{"$f":"BL650","v":0},null,null,4,null,null,null,null,null,null,null,null,null,null,null,null,null,null,null,null,null,null,null,null,null,null,null,null,null,{"$f":"IF(OR(AND(LEFT($D$636,8)=\"MODELO M\", LEFT(D650,8)=\"MODELO A\"), AND(LEFT($D$636,8)=\"MODELO A\", $F$636=\"Atribuir valor detalhado por Fase/Elemento\")), I650, 0)","v":0},{"$f":"IF(OR(AND(LEFT($D$636,8)=\"MODELO M\", LEFT(D650,8)=\"MODELO B\"), AND(LEFT($D$636,8)=\"MODELO B\", $K$636=\"Atribuir valor detalhado por Fase/Elemento\")), P650, 0)","v":0},{"$f":"IF(OR(AND(LEFT($D$636,8)=\"MODELO M\", LEFT(D650,8)=\"MODELO C\"), AND(LEFT($D$636,8)=\"MODELO C\", $R$636=\"Atribuir valor detalhado por Fase/Elemento\")), X650, 0)","v":0},{"$f":"IF(OR(AND(LEFT($D$636,8)=\"MODELO M\", LEFT(D650,8)=\"MODELO D\"), AND(LEFT($D$636,8)=\"MODELO D\", $Z$636=\"Atribuir valor detalhado por Fase/Elemento\")), AC650, 0)","v":0},{"$f":"SUM(BH650:BK650)","v":0},"MODELO A - TEMPO - N.º DE HORAS DE TRABALHO"]
[null,{"$f":"IF($B$646=\"ocultar\",\"ocultar\",IF('SA - ATIVIDADES'!$G$79=TRUE,IF('SA - ATIVIDADES'!$H$79>='SA - SERVICOS BASE'!AH651,\"mostrar\",\"ocultar\"),\"ocultar\"))","v":"ocultar"},"Especialidade (a preencher)","MODELO A - TEMPO - N.º DE HORAS DE TRABALHO",null,null,0,0,{"$f":"G651*H651","v":0},null,null,null,null,null,0,0,null,null,null,null,null,null,0,0,null,null,0,0,0,null,{"$f":"BL651","v":0},null,null,5,null,null,null,null,null,null,null,null,null,null,null,null,null,null,null,null,null,null,null,null,null,null,null,null,null,{"$f":"IF(OR(AND(LEFT($D$636,8)=\"MODELO M\", LEFT(D651,8)=\"MODELO A\"), AND(LEFT($D$636,8)=\"MODELO A\", $F$636=\"Atribuir valor detalhado por Fase/Elemento\")), I651, 0)","v":0},{"$f":"IF(OR(AND(LEFT($D$636,8)=\"MODELO M\", LEFT(D651,8)=\"MODELO B\"), AND(LEFT($D$636,8)=\"MODELO B\", $K$636=\"Atribuir valor detalhado por Fase/Elemento\")), P651, 0)","v":0},{"$f":"IF(OR(AND(LEFT($D$636,8)=\"MODELO M\", LEFT(D651,8)=\"MODELO C\"), AND(LEFT($D$636,8)=\"MODELO C\", $R$636=\"Atribuir valor detalhado por Fase/Elemento\")), X651, 0)","v":0},{"$f":"IF(OR(AND(LEFT($D$636,8)=\"MODELO M\", LEFT(D651,8)=\"MODELO D\"), AND(LEFT($D$636,8)=\"MODELO D\", $Z$636=\"Atribuir valor detalhado por Fase/Elemento\")), AC651, 0)","v":0},{"$f":"SUM(BH651:BK651)","v":0},"MODELO A - TEMPO - N.º DE HORAS DE TRABALHO"]
[null,{"$f":"IF(B646=\"ocultar\",\"ocultar\",\"mostrar\")","v":"ocultar"},"SUB-TOTAL",null,null,null,{"$f":"SUBTOTAL(109,G647:G651)","v":0},null,{"$f":"SUBTOTAL(109,I647:I651)","v":0},null,null,null,null,null,{"$f":"SUBTOTAL(9,O647:O651)","v":0},{"$f":"SUBTOTAL(9,P647:P651)","v":0},null,null,null,null,null,null,{"$f":"SUBTOTAL(9,W647:W651)","v":0},{"$f":"SUBTOTAL(9,X647:X651)","v":0},null,null,null,null,{"$f":"SUBTOTAL(9,AC647:AC651)","v":0},null,{"$f":"SUBTOTAL(109,AE647:AE651)","v":0},null,null,null,null,null,null,null,null,null,null,null,null,null,null,null,null,null,null,null,null,null,null,null,null,null,null,null,null,null,null,null,null,null,{"$f":"IF($AH652<>\"\",BM651,IF(LEFT($D652,6)=\"MODELO\",$D652,BM651))","v":"MODELO A - TEMPO - N.º DE HORAS DE TRABALHO"}]
[null,{"$f":"IF($B$636=\"ocultar\",\"ocultar\",IF('SA - ATIVIDADES'!$G$77=\"Fase Única\",\"ocultar\",IF('SA - ATIVIDADES'!G80=TRUE,\"mostrar\",\"ocultar\")))","v":"ocultar"},"ESPECIALIDADE 3",null,null,null,null,null,null,null,null,null,null,null,null,null,null,null,null,null,null,null,null,null,null,null,null,null,null,null,null,null,null,null,null,null,null,null,null,null,null,null,null,null,null,null,null,null,null,null,null,null,null,null,null,null,null,null,null,null,null,null,null,null,"MODELO A - TEMPO - N.º DE HORAS DE TRABALHO"]
[null,{"$f":"IF($B$653=\"ocultar\",\"ocultar\",IF('SA - ATIVIDADES'!$G$80=TRUE,IF('SA - ATIVIDADES'!$H$80>='SA - SERVICOS BASE'!AH654,\"mostrar\",\"ocultar\"),\"ocultar\"))","v":"ocultar"},"Especialidade (a preencher)","MODELO A - TEMPO - N.º DE HORAS DE TRABALHO",null,null,0,0,{"$f":"G654*H654","v":0},null,null,null,null,null,0,{"$f":"$P$636*O654","v":0},null,null,null,null,null,null,0,{"$f":"$P$636*W654","v":0},null,null,0,0,0,null,{"$f":"BL654","v":0},null,null,1,null,null,null,null,null,null,null,null,null,null,null,null,null,null,null,null,null,null,null,null,null,null,null,null,null,{"$f":"IF(OR(AND(LEFT($D$636,8)=\"MODELO M\", LEFT(D654,8)=\"MODELO A\"), AND(LEFT($D$636,8)=\"MODELO A\", $F$636=\"Atribuir valor detalhado por Fase/Elemento\")), I654, 0)","v":0},{"$f":"IF(OR(AND(LEFT($D$636,8)=\"MODELO M\", LEFT(D654,8)=\"MODELO B\"), AND(LEFT($D$636,8)=\"MODELO B\", $K$636=\"Atribuir valor detalhado por Fase/Elemento\")), P654, 0)","v":0},{"$f":"IF(OR(AND(LEFT($D$636,8)=\"MODELO M\", LEFT(D654,8)=\"MODELO C\"), AND(LEFT($D$636,8)=\"MODELO C\", $R$636=\"Atribuir valor detalhado por Fase/Elemento\")), X654, 0)","v":0},{"$f":"IF(OR(AND(LEFT($D$636,8)=\"MODELO M\", LEFT(D654,8)=\"MODELO D\"), AND(LEFT($D$636,8)=\"MODELO D\", $Z$636=\"Atribuir valor detalhado por Fase/Elemento\")), AC654, 0)","v":0},{"$f":"SUM(BH654:BK654)","v":0},"MODELO A - TEMPO - N.º DE HORAS DE TRABALHO"]
[null,{"$f":"IF($B$653=\"ocultar\",\"ocultar\",IF('SA - ATIVIDADES'!$G$80=TRUE,IF('SA - ATIVIDADES'!$H$80>='SA - SERVICOS BASE'!AH655,\"mostrar\",\"ocultar\"),\"ocultar\"))","v":"ocultar"},"Especialidade (a preencher)","MODELO A - TEMPO - N.º DE HORAS DE TRABALHO",null,null,0,0,{"$f":"G655*H655","v":0},null,null,null,null,null,0,{"$f":"$P$636*O655","v":0},null,null,null,null,null,null,0,{"$f":"$P$636*W655","v":0},null,null,0,0,0,null,{"$f":"BL655","v":0},null,null,2,null,null,null,null,null,null,null,null,null,null,null,null,null,null,null,null,null,null,null,null,null,null,null,null,null,{"$f":"IF(OR(AND(LEFT($D$636,8)=\"MODELO M\", LEFT(D655,8)=\"MODELO A\"), AND(LEFT($D$636,8)=\"MODELO A\", $F$636=\"Atribuir valor detalhado por Fase/Elemento\")), I655, 0)","v":0},{"$f":"IF(OR(AND(LEFT($D$636,8)=\"MODELO M\", LEFT(D655,8)=\"MODELO B\"), AND(LEFT($D$636,8)=\"MODELO B\", $K$636=\"Atribuir valor detalhado por Fase/Elemento\")), P655, 0)","v":0},{"$f":"IF(OR(AND(LEFT($D$636,8)=\"MODELO M\", LEFT(D655,8)=\"MODELO C\"), AND(LEFT($D$636,8)=\"MODELO C\", $R$636=\"Atribuir valor detalhado por Fase/Elemento\")), X655, 0)","v":0},{"$f":"IF(OR(AND(LEFT($D$636,8)=\"MODELO M\", LEFT(D655,8)=\"MODELO D\"), AND(LEFT($D$636,8)=\"MODELO D\", $Z$636=\"Atribuir valor detalhado por Fase/Elemento\")), AC655, 0)","v":0},{"$f":"SUM(BH655:BK655)","v":0},"MODELO A - TEMPO - N.º DE HORAS DE TRABALHO"]
[null,{"$f":"IF($B$653=\"ocultar\",\"ocultar\",IF('SA - ATIVIDADES'!$G$80=TRUE,IF('SA - ATIVIDADES'!$H$80>='SA - SERVICOS BASE'!AH656,\"mostrar\",\"ocultar\"),\"ocultar\"))","v":"ocultar"},"Especialidade (a preencher)","MODELO A - TEMPO - N.º DE HORAS DE TRABALHO",null,null,0,0,{"$f":"G656*H656","v":0},null,null,null,null,null,0,0,null,null,null,null,null,null,0,0,null,null,0,0,0,null,{"$f":"BL656","v":0},null,null,3,null,null,null,null,null,null,null,null,null,null,null,null,null,null,null,null,null,null,null,null,null,null,null,null,null,{"$f":"IF(OR(AND(LEFT($D$636,8)=\"MODELO M\", LEFT(D656,8)=\"MODELO A\"), AND(LEFT($D$636,8)=\"MODELO A\", $F$636=\"Atribuir valor detalhado por Fase/Elemento\")), I656, 0)","v":0},{"$f":"IF(OR(AND(LEFT($D$636,8)=\"MODELO M\", LEFT(D656,8)=\"MODELO B\"), AND(LEFT($D$636,8)=\"MODELO B\", $K$636=\"Atribuir valor detalhado por Fase/Elemento\")), P656, 0)","v":0},{"$f":"IF(OR(AND(LEFT($D$636,8)=\"MODELO M\", LEFT(D656,8)=\"MODELO C\"), AND(LEFT($D$636,8)=\"MODELO C\", $R$636=\"Atribuir valor detalhado por Fase/Elemento\")), X656, 0)","v":0},{"$f":"IF(OR(AND(LEFT($D$636,8)=\"MODELO M\", LEFT(D656,8)=\"MODELO D\"), AND(LEFT($D$636,8)=\"MODELO D\", $Z$636=\"Atribuir valor detalhado por Fase/Elemento\")), AC656, 0)","v":0},{"$f":"SUM(BH656:BK656)","v":0},"MODELO A - TEMPO - N.º DE HORAS DE TRABALHO"]
[null,{"$f":"IF($B$653=\"ocultar\",\"ocultar\",IF('SA - ATIVIDADES'!$G$80=TRUE,IF('SA - ATIVIDADES'!$H$80>='SA - SERVICOS BASE'!AH657,\"mostrar\",\"ocultar\"),\"ocultar\"))","v":"ocultar"},"Especialidade (a preencher)","MODELO A - TEMPO - N.º DE HORAS DE TRABALHO",null,null,0,0,{"$f":"G657*H657","v":0},null,null,null,null,null,0,0,null,null,null,null,null,null,0,0,null,null,0,0,0,null,{"$f":"BL657","v":0},null,null,4,null,null,null,null,null,null,null,null,null,null,null,null,null,null,null,null,null,null,null,null,null,null,null,null,null,{"$f":"IF(OR(AND(LEFT($D$636,8)=\"MODELO M\", LEFT(D657,8)=\"MODELO A\"), AND(LEFT($D$636,8)=\"MODELO A\", $F$636=\"Atribuir valor detalhado por Fase/Elemento\")), I657, 0)","v":0},{"$f":"IF(OR(AND(LEFT($D$636,8)=\"MODELO M\", LEFT(D657,8)=\"MODELO B\"), AND(LEFT($D$636,8)=\"MODELO B\", $K$636=\"Atribuir valor detalhado por Fase/Elemento\")), P657, 0)","v":0},{"$f":"IF(OR(AND(LEFT($D$636,8)=\"MODELO M\", LEFT(D657,8)=\"MODELO C\"), AND(LEFT($D$636,8)=\"MODELO C\", $R$636=\"Atribuir valor detalhado por Fase/Elemento\")), X657, 0)","v":0},{"$f":"IF(OR(AND(LEFT($D$636,8)=\"MODELO M\", LEFT(D657,8)=\"MODELO D\"), AND(LEFT($D$636,8)=\"MODELO D\", $Z$636=\"Atribuir valor detalhado por Fase/Elemento\")), AC657, 0)","v":0},{"$f":"SUM(BH657:BK657)","v":0},"MODELO A - TEMPO - N.º DE HORAS DE TRABALHO"]
[null,{"$f":"IF($B$653=\"ocultar\",\"ocultar\",IF('SA - ATIVIDADES'!$G$80=TRUE,IF('SA - ATIVIDADES'!$H$80>='SA - SERVICOS BASE'!AH658,\"mostrar\",\"ocultar\"),\"ocultar\"))","v":"ocultar"},"Especialidade (a preencher)","MODELO A - TEMPO - N.º DE HORAS DE TRABALHO",null,null,0,0,{"$f":"G658*H658","v":0},null,null,null,null,null,0,0,null,null,null,null,null,null,0,0,null,null,0,0,0,null,{"$f":"BL658","v":0},null,null,5,null,null,null,null,null,null,null,null,null,null,null,null,null,null,null,null,null,null,null,null,null,null,null,null,null,{"$f":"IF(OR(AND(LEFT($D$636,8)=\"MODELO M\", LEFT(D658,8)=\"MODELO A\"), AND(LEFT($D$636,8)=\"MODELO A\", $F$636=\"Atribuir valor detalhado por Fase/Elemento\")), I658, 0)","v":0},{"$f":"IF(OR(AND(LEFT($D$636,8)=\"MODELO M\", LEFT(D658,8)=\"MODELO B\"), AND(LEFT($D$636,8)=\"MODELO B\", $K$636=\"Atribuir valor detalhado por Fase/Elemento\")), P658, 0)","v":0},{"$f":"IF(OR(AND(LEFT($D$636,8)=\"MODELO M\", LEFT(D658,8)=\"MODELO C\"), AND(LEFT($D$636,8)=\"MODELO C\", $R$636=\"Atribuir valor detalhado por Fase/Elemento\")), X658, 0)","v":0},{"$f":"IF(OR(AND(LEFT($D$636,8)=\"MODELO M\", LEFT(D658,8)=\"MODELO D\"), AND(LEFT($D$636,8)=\"MODELO D\", $Z$636=\"Atribuir valor detalhado por Fase/Elemento\")), AC658, 0)","v":0},{"$f":"SUM(BH658:BK658)","v":0},"MODELO A - TEMPO - N.º DE HORAS DE TRABALHO"]
[null,{"$f":"IF(B653=\"ocultar\",\"ocultar\",\"mostrar\")","v":"ocultar"},"SUB-TOTAL",null,null,null,{"$f":"SUBTOTAL(109,G654:G658)","v":0},null,{"$f":"SUBTOTAL(109,I654:I658)","v":0},null,null,null,null,null,{"$f":"SUBTOTAL(9,O654:O658)","v":0},{"$f":"SUBTOTAL(9,P654:P658)","v":0},null,null,null,null,null,null,{"$f":"SUBTOTAL(9,W654:W658)","v":0},{"$f":"SUBTOTAL(9,X654:X658)","v":0},null,null,null,null,{"$f":"SUBTOTAL(9,AC654:AC658)","v":0},null,{"$f":"SUBTOTAL(109,AE654:AE658)","v":0},null,null,null,null,null,null,null,null,null,null,null,null,null,null,null,null,null,null,null,null,null,null,null,null,null,null,null,null,null,null,null,null,null,"MODELO A - TEMPO - N.º DE HORAS DE TRABALHO"]
[null,{"$f":"IF($B$636=\"ocultar\",\"ocultar\",IF('SA - ATIVIDADES'!$G$77=\"Fase Única\",\"ocultar\",IF('SA - ATIVIDADES'!G81=TRUE,\"mostrar\",\"ocultar\")))","v":"ocultar"},"ESPECIALIDADE 4",null,null,null,null,null,null,null,null,null,null,null,null,null,null,null,null,null,null,null,null,null,null,null,null,null,null,null,null,null,null,null,null,null,null,null,null,null,null,null,null,null,null,null,null,null,null,null,null,null,null,null,null,null,null,null,null,null,null,null,null,null,"MODELO A - TEMPO - N.º DE HORAS DE TRABALHO"]
[null,{"$f":"IF($B$660=\"ocultar\",\"ocultar\",IF('SA - ATIVIDADES'!$G$81=TRUE,IF('SA - ATIVIDADES'!$H$81>='SA - SERVICOS BASE'!AH661,\"mostrar\",\"ocultar\"),\"ocultar\"))","v":"ocultar"},"Especialidade (a preencher)","MODELO A - TEMPO - N.º DE HORAS DE TRABALHO",null,null,0,0,{"$f":"G661*H661","v":0},null,null,null,null,null,0,{"$f":"$P$636*O661","v":0},null,null,null,null,null,null,0,{"$f":"$P$636*W661","v":0},null,null,0,0,{"$f":"AA661*AB661","v":0},null,{"$f":"BL661","v":0},null,null,1,null,null,null,null,null,null,null,null,null,null,null,null,null,null,null,null,null,null,null,null,null,null,null,null,null,{"$f":"IF(OR(AND(LEFT($D$636,8)=\"MODELO M\", LEFT(D661,8)=\"MODELO A\"), AND(LEFT($D$636,8)=\"MODELO A\", $F$636=\"Atribuir valor detalhado por Fase/Elemento\")), I661, 0)","v":0},{"$f":"IF(OR(AND(LEFT($D$636,8)=\"MODELO M\", LEFT(D661,8)=\"MODELO B\"), AND(LEFT($D$636,8)=\"MODELO B\", $K$636=\"Atribuir valor detalhado por Fase/Elemento\")), P661, 0)","v":0},{"$f":"IF(OR(AND(LEFT($D$636,8)=\"MODELO M\", LEFT(D661,8)=\"MODELO C\"), AND(LEFT($D$636,8)=\"MODELO C\", $R$636=\"Atribuir valor detalhado por Fase/Elemento\")), X661, 0)","v":0},{"$f":"IF(OR(AND(LEFT($D$636,8)=\"MODELO M\", LEFT(D661,8)=\"MODELO D\"), AND(LEFT($D$636,8)=\"MODELO D\", $Z$636=\"Atribuir valor detalhado por Fase/Elemento\")), AC661, 0)","v":0},{"$f":"SUM(BH661:BK661)","v":0},"MODELO A - TEMPO - N.º DE HORAS DE TRABALHO"]
[null,{"$f":"IF($B$660=\"ocultar\",\"ocultar\",IF('SA - ATIVIDADES'!$G$81=TRUE,IF('SA - ATIVIDADES'!$H$81>='SA - SERVICOS BASE'!AH662,\"mostrar\",\"ocultar\"),\"ocultar\"))","v":"ocultar"},"Especialidade (a preencher)","MODELO A - TEMPO - N.º DE HORAS DE TRABALHO",null,null,0,0,{"$f":"G662*H662","v":0},null,null,null,null,null,0,{"$f":"$P$636*O662","v":0},null,null,null,null,null,null,0,{"$f":"$P$636*W662","v":0},null,null,0,0,0,null,{"$f":"BL662","v":0},null,null,2,null,null,null,null,null,null,null,null,null,null,null,null,null,null,null,null,null,null,null,null,null,null,null,null,null,{"$f":"IF(OR(AND(LEFT($D$636,8)=\"MODELO M\", LEFT(D662,8)=\"MODELO A\"), AND(LEFT($D$636,8)=\"MODELO A\", $F$636=\"Atribuir valor detalhado por Fase/Elemento\")), I662, 0)","v":0},{"$f":"IF(OR(AND(LEFT($D$636,8)=\"MODELO M\", LEFT(D662,8)=\"MODELO B\"), AND(LEFT($D$636,8)=\"MODELO B\", $K$636=\"Atribuir valor detalhado por Fase/Elemento\")), P662, 0)","v":0},{"$f":"IF(OR(AND(LEFT($D$636,8)=\"MODELO M\", LEFT(D662,8)=\"MODELO C\"), AND(LEFT($D$636,8)=\"MODELO C\", $R$636=\"Atribuir valor detalhado por Fase/Elemento\")), X662, 0)","v":0},{"$f":"IF(OR(AND(LEFT($D$636,8)=\"MODELO M\", LEFT(D662,8)=\"MODELO D\"), AND(LEFT($D$636,8)=\"MODELO D\", $Z$636=\"Atribuir valor detalhado por Fase/Elemento\")), AC662, 0)","v":0},{"$f":"SUM(BH662:BK662)","v":0},"MODELO A - TEMPO - N.º DE HORAS DE TRABALHO"]
[null,{"$f":"IF($B$660=\"ocultar\",\"ocultar\",IF('SA - ATIVIDADES'!$G$81=TRUE,IF('SA - ATIVIDADES'!$H$81>='SA - SERVICOS BASE'!AH663,\"mostrar\",\"ocultar\"),\"ocultar\"))","v":"ocultar"},"Especialidade (a preencher)","MODELO A - TEMPO - N.º DE HORAS DE TRABALHO",null,null,0,0,{"$f":"G663*H663","v":0},null,null,null,null,null,0,0,null,null,null,null,null,null,0,0,null,null,0,0,0,null,{"$f":"BL663","v":0},null,null,3,null,null,null,null,null,null,null,null,null,null,null,null,null,null,null,null,null,null,null,null,null,null,null,null,null,{"$f":"IF(OR(AND(LEFT($D$636,8)=\"MODELO M\", LEFT(D663,8)=\"MODELO A\"), AND(LEFT($D$636,8)=\"MODELO A\", $F$636=\"Atribuir valor detalhado por Fase/Elemento\")), I663, 0)","v":0},{"$f":"IF(OR(AND(LEFT($D$636,8)=\"MODELO M\", LEFT(D663,8)=\"MODELO B\"), AND(LEFT($D$636,8)=\"MODELO B\", $K$636=\"Atribuir valor detalhado por Fase/Elemento\")), P663, 0)","v":0},{"$f":"IF(OR(AND(LEFT($D$636,8)=\"MODELO M\", LEFT(D663,8)=\"MODELO C\"), AND(LEFT($D$636,8)=\"MODELO C\", $R$636=\"Atribuir valor detalhado por Fase/Elemento\")), X663, 0)","v":0},{"$f":"IF(OR(AND(LEFT($D$636,8)=\"MODELO M\", LEFT(D663,8)=\"MODELO D\"), AND(LEFT($D$636,8)=\"MODELO D\", $Z$636=\"Atribuir valor detalhado por Fase/Elemento\")), AC663, 0)","v":0},{"$f":"SUM(BH663:BK663)","v":0},"MODELO A - TEMPO - N.º DE HORAS DE TRABALHO"]
[null,{"$f":"IF($B$660=\"ocultar\",\"ocultar\",IF('SA - ATIVIDADES'!$G$81=TRUE,IF('SA - ATIVIDADES'!$H$81>='SA - SERVICOS BASE'!AH664,\"mostrar\",\"ocultar\"),\"ocultar\"))","v":"ocultar"},"Especialidade (a preencher)","MODELO A - TEMPO - N.º DE HORAS DE TRABALHO",null,null,0,0,{"$f":"G664*H664","v":0},null,null,null,null,null,0,0,null,null,null,null,null,null,0,0,null,null,0,0,0,null,{"$f":"BL664","v":0},null,null,4,null,null,null,null,null,null,null,null,null,null,null,null,null,null,null,null,null,null,null,null,null,null,null,null,null,{"$f":"IF(OR(AND(LEFT($D$636,8)=\"MODELO M\", LEFT(D664,8)=\"MODELO A\"), AND(LEFT($D$636,8)=\"MODELO A\", $F$636=\"Atribuir valor detalhado por Fase/Elemento\")), I664, 0)","v":0},{"$f":"IF(OR(AND(LEFT($D$636,8)=\"MODELO M\", LEFT(D664,8)=\"MODELO B\"), AND(LEFT($D$636,8)=\"MODELO B\", $K$636=\"Atribuir valor detalhado por Fase/Elemento\")), P664, 0)","v":0},{"$f":"IF(OR(AND(LEFT($D$636,8)=\"MODELO M\", LEFT(D664,8)=\"MODELO C\"), AND(LEFT($D$636,8)=\"MODELO C\", $R$636=\"Atribuir valor detalhado por Fase/Elemento\")), X664, 0)","v":0},{"$f":"IF(OR(AND(LEFT($D$636,8)=\"MODELO M\", LEFT(D664,8)=\"MODELO D\"), AND(LEFT($D$636,8)=\"MODELO D\", $Z$636=\"Atribuir valor detalhado por Fase/Elemento\")), AC664, 0)","v":0},{"$f":"SUM(BH664:BK664)","v":0},"MODELO A - TEMPO - N.º DE HORAS DE TRABALHO"]
[null,{"$f":"IF($B$660=\"ocultar\",\"ocultar\",IF('SA - ATIVIDADES'!$G$81=TRUE,IF('SA - ATIVIDADES'!$H$81>='SA - SERVICOS BASE'!AH665,\"mostrar\",\"ocultar\"),\"ocultar\"))","v":"ocultar"},"Especialidade (a preencher)","MODELO A - TEMPO - N.º DE HORAS DE TRABALHO",null,null,0,0,{"$f":"G665*H665","v":0},null,null,null,null,null,0,0,null,null,null,null,null,null,0,0,null,null,0,0,0,null,{"$f":"BL665","v":0},null,null,5,null,null,null,null,null,null,null,null,null,null,null,null,null,null,null,null,null,null,null,null,null,null,null,null,null,{"$f":"IF(OR(AND(LEFT($D$636,8)=\"MODELO M\", LEFT(D665,8)=\"MODELO A\"), AND(LEFT($D$636,8)=\"MODELO A\", $F$636=\"Atribuir valor detalhado por Fase/Elemento\")), I665, 0)","v":0},{"$f":"IF(OR(AND(LEFT($D$636,8)=\"MODELO M\", LEFT(D665,8)=\"MODELO B\"), AND(LEFT($D$636,8)=\"MODELO B\", $K$636=\"Atribuir valor detalhado por Fase/Elemento\")), P665, 0)","v":0},{"$f":"IF(OR(AND(LEFT($D$636,8)=\"MODELO M\", LEFT(D665,8)=\"MODELO C\"), AND(LEFT($D$636,8)=\"MODELO C\", $R$636=\"Atribuir valor detalhado por Fase/Elemento\")), X665, 0)","v":0},{"$f":"IF(OR(AND(LEFT($D$636,8)=\"MODELO M\", LEFT(D665,8)=\"MODELO D\"), AND(LEFT($D$636,8)=\"MODELO D\", $Z$636=\"Atribuir valor detalhado por Fase/Elemento\")), AC665, 0)","v":0},{"$f":"SUM(BH665:BK665)","v":0},"MODELO A - TEMPO - N.º DE HORAS DE TRABALHO"]
[null,{"$f":"IF(B660=\"ocultar\",\"ocultar\",\"mostrar\")","v":"ocultar"},"SUB-TOTAL",null,null,null,{"$f":"SUBTOTAL(109,G661:G665)","v":0},null,{"$f":"SUBTOTAL(109,I661:I665)","v":0},null,null,null,null,null,{"$f":"SUBTOTAL(9,O661:O665)","v":0},{"$f":"SUBTOTAL(9,P661:P665)","v":0},null,null,null,null,null,null,{"$f":"SUBTOTAL(9,W661:W665)","v":0},{"$f":"SUBTOTAL(9,X661:X665)","v":0},null,null,null,null,{"$f":"SUBTOTAL(9,AC661:AC665)","v":0},null,{"$f":"SUBTOTAL(109,AE661:AE665)","v":0},null,null,null,null,null,null,null,null,null,null,null,null,null,null,null,null,null,null,null,null,null,null,null,null,null,null,null,null,null,null,null,null,null,"MODELO A - TEMPO - N.º DE HORAS DE TRABALHO"]
[null,{"$f":"IF($B$636=\"ocultar\",\"ocultar\",IF('SA - ATIVIDADES'!$G$77=\"Fase Única\",\"ocultar\",IF('SA - ATIVIDADES'!G82=TRUE,\"mostrar\",\"ocultar\")))","v":"ocultar"},"ESPECIALIDADE 5",null,null,null,null,null,null,null,null,null,null,null,null,null,null,null,null,null,null,null,null,null,null,null,null,null,null,null,null,null,null,null,null,null,null,null,null,null,null,null,null,null,null,null,null,null,null,null,null,null,null,null,null,null,null,null,null,null,null,null,null,null,"MODELO A - TEMPO - N.º DE HORAS DE TRABALHO"]
[null,{"$f":"IF($B$667=\"ocultar\",\"ocultar\",IF('SA - ATIVIDADES'!$G$82=TRUE,IF('SA - ATIVIDADES'!$H$82>='SA - SERVICOS BASE'!AH668,\"mostrar\",\"ocultar\"),\"ocultar\"))","v":"ocultar"},"Especialidade (a preencher)","MODELO A - TEMPO - N.º DE HORAS DE TRABALHO",null,null,0,0,{"$f":"G668*H668","v":0},null,null,null,null,null,0,{"$f":"$P$636*O668","v":0},null,null,null,null,null,null,0,{"$f":"$P$636*W668","v":0},null,null,0,0,0,null,{"$f":"BL668","v":0},null,null,1,null,null,null,null,null,null,null,null,null,null,null,null,null,null,null,null,null,null,null,null,null,null,null,null,null,{"$f":"IF(OR(AND(LEFT($D$636,8)=\"MODELO M\", LEFT(D668,8)=\"MODELO A\"), AND(LEFT($D$636,8)=\"MODELO A\", $F$636=\"Atribuir valor detalhado por Fase/Elemento\")), I668, 0)","v":0},{"$f":"IF(OR(AND(LEFT($D$636,8)=\"MODELO M\", LEFT(D668,8)=\"MODELO B\"), AND(LEFT($D$636,8)=\"MODELO B\", $K$636=\"Atribuir valor detalhado por Fase/Elemento\")), P668, 0)","v":0},{"$f":"IF(OR(AND(LEFT($D$636,8)=\"MODELO M\", LEFT(D668,8)=\"MODELO C\"), AND(LEFT($D$636,8)=\"MODELO C\", $R$636=\"Atribuir valor detalhado por Fase/Elemento\")), X668, 0)","v":0},{"$f":"IF(OR(AND(LEFT($D$636,8)=\"MODELO M\", LEFT(D668,8)=\"MODELO D\"), AND(LEFT($D$636,8)=\"MODELO D\", $Z$636=\"Atribuir valor detalhado por Fase/Elemento\")), AC668, 0)","v":0},{"$f":"SUM(BH668:BK668)","v":0},"MODELO A - TEMPO - N.º DE HORAS DE TRABALHO"]
[null,{"$f":"IF($B$667=\"ocultar\",\"ocultar\",IF('SA - ATIVIDADES'!$G$82=TRUE,IF('SA - ATIVIDADES'!$H$82>='SA - SERVICOS BASE'!AH669,\"mostrar\",\"ocultar\"),\"ocultar\"))","v":"ocultar"},"Especialidade (a preencher)","MODELO A - TEMPO - N.º DE HORAS DE TRABALHO",null,null,0,0,{"$f":"G669*H669","v":0},null,null,null,null,null,0,{"$f":"$P$636*O669","v":0},null,null,null,null,null,null,0,{"$f":"$P$636*W669","v":0},null,null,0,0,0,null,{"$f":"BL669","v":0},null,null,2,null,null,null,null,null,null,null,null,null,null,null,null,null,null,null,null,null,null,null,null,null,null,null,null,null,{"$f":"IF(OR(AND(LEFT($D$636,8)=\"MODELO M\", LEFT(D669,8)=\"MODELO A\"), AND(LEFT($D$636,8)=\"MODELO A\", $F$636=\"Atribuir valor detalhado por Fase/Elemento\")), I669, 0)","v":0},{"$f":"IF(OR(AND(LEFT($D$636,8)=\"MODELO M\", LEFT(D669,8)=\"MODELO B\"), AND(LEFT($D$636,8)=\"MODELO B\", $K$636=\"Atribuir valor detalhado por Fase/Elemento\")), P669, 0)","v":0},{"$f":"IF(OR(AND(LEFT($D$636,8)=\"MODELO M\", LEFT(D669,8)=\"MODELO C\"), AND(LEFT($D$636,8)=\"MODELO C\", $R$636=\"Atribuir valor detalhado por Fase/Elemento\")), X669, 0)","v":0},{"$f":"IF(OR(AND(LEFT($D$636,8)=\"MODELO M\", LEFT(D669,8)=\"MODELO D\"), AND(LEFT($D$636,8)=\"MODELO D\", $Z$636=\"Atribuir valor detalhado por Fase/Elemento\")), AC669, 0)","v":0},{"$f":"SUM(BH669:BK669)","v":0},"MODELO A - TEMPO - N.º DE HORAS DE TRABALHO"]
[null,{"$f":"IF($B$667=\"ocultar\",\"ocultar\",IF('SA - ATIVIDADES'!$G$82=TRUE,IF('SA - ATIVIDADES'!$H$82>='SA - SERVICOS BASE'!AH670,\"mostrar\",\"ocultar\"),\"ocultar\"))","v":"ocultar"},"Especialidade (a preencher)","MODELO A - TEMPO - N.º DE HORAS DE TRABALHO",null,null,0,0,{"$f":"G670*H670","v":0},null,null,null,null,null,0,0,null,null,null,null,null,null,0,0,null,null,0,0,0,null,{"$f":"BL670","v":0},null,null,3,null,null,null,null,null,null,null,null,null,null,null,null,null,null,null,null,null,null,null,null,null,null,null,null,null,{"$f":"IF(OR(AND(LEFT($D$636,8)=\"MODELO M\", LEFT(D670,8)=\"MODELO A\"), AND(LEFT($D$636,8)=\"MODELO A\", $F$636=\"Atribuir valor detalhado por Fase/Elemento\")), I670, 0)","v":0},{"$f":"IF(OR(AND(LEFT($D$636,8)=\"MODELO M\", LEFT(D670,8)=\"MODELO B\"), AND(LEFT($D$636,8)=\"MODELO B\", $K$636=\"Atribuir valor detalhado por Fase/Elemento\")), P670, 0)","v":0},{"$f":"IF(OR(AND(LEFT($D$636,8)=\"MODELO M\", LEFT(D670,8)=\"MODELO C\"), AND(LEFT($D$636,8)=\"MODELO C\", $R$636=\"Atribuir valor detalhado por Fase/Elemento\")), X670, 0)","v":0},{"$f":"IF(OR(AND(LEFT($D$636,8)=\"MODELO M\", LEFT(D670,8)=\"MODELO D\"), AND(LEFT($D$636,8)=\"MODELO D\", $Z$636=\"Atribuir valor detalhado por Fase/Elemento\")), AC670, 0)","v":0},{"$f":"SUM(BH670:BK670)","v":0},"MODELO A - TEMPO - N.º DE HORAS DE TRABALHO"]
[null,{"$f":"IF($B$667=\"ocultar\",\"ocultar\",IF('SA - ATIVIDADES'!$G$82=TRUE,IF('SA - ATIVIDADES'!$H$82>='SA - SERVICOS BASE'!AH671,\"mostrar\",\"ocultar\"),\"ocultar\"))","v":"ocultar"},"Especialidade (a preencher)","MODELO A - TEMPO - N.º DE HORAS DE TRABALHO",null,null,0,0,{"$f":"G671*H671","v":0},null,null,null,null,null,0,0,null,null,null,null,null,null,0,0,null,null,0,0,0,null,{"$f":"BL671","v":0},null,null,4,null,null,null,null,null,null,null,null,null,null,null,null,null,null,null,null,null,null,null,null,null,null,null,null,null,{"$f":"IF(OR(AND(LEFT($D$636,8)=\"MODELO M\", LEFT(D671,8)=\"MODELO A\"), AND(LEFT($D$636,8)=\"MODELO A\", $F$636=\"Atribuir valor detalhado por Fase/Elemento\")), I671, 0)","v":0},{"$f":"IF(OR(AND(LEFT($D$636,8)=\"MODELO M\", LEFT(D671,8)=\"MODELO B\"), AND(LEFT($D$636,8)=\"MODELO B\", $K$636=\"Atribuir valor detalhado por Fase/Elemento\")), P671, 0)","v":0},{"$f":"IF(OR(AND(LEFT($D$636,8)=\"MODELO M\", LEFT(D671,8)=\"MODELO C\"), AND(LEFT($D$636,8)=\"MODELO C\", $R$636=\"Atribuir valor detalhado por Fase/Elemento\")), X671, 0)","v":0},{"$f":"IF(OR(AND(LEFT($D$636,8)=\"MODELO M\", LEFT(D671,8)=\"MODELO D\"), AND(LEFT($D$636,8)=\"MODELO D\", $Z$636=\"Atribuir valor detalhado por Fase/Elemento\")), AC671, 0)","v":0},{"$f":"SUM(BH671:BK671)","v":0},"MODELO A - TEMPO - N.º DE HORAS DE TRABALHO"]
[null,{"$f":"IF($B$667=\"ocultar\",\"ocultar\",IF('SA - ATIVIDADES'!$G$82=TRUE,IF('SA - ATIVIDADES'!$H$82>='SA - SERVICOS BASE'!AH672,\"mostrar\",\"ocultar\"),\"ocultar\"))","v":"ocultar"},"Especialidade (a preencher)","MODELO A - TEMPO - N.º DE HORAS DE TRABALHO",null,null,0,0,{"$f":"G672*H672","v":0},null,null,null,null,null,0,0,null,null,null,null,null,null,0,0,null,null,0,0,0,null,{"$f":"BL672","v":0},null,null,5,null,null,null,null,null,null,null,null,null,null,null,null,null,null,null,null,null,null,null,null,null,null,null,null,null,{"$f":"IF(OR(AND(LEFT($D$636,8)=\"MODELO M\", LEFT(D672,8)=\"MODELO A\"), AND(LEFT($D$636,8)=\"MODELO A\", $F$636=\"Atribuir valor detalhado por Fase/Elemento\")), I672, 0)","v":0},{"$f":"IF(OR(AND(LEFT($D$636,8)=\"MODELO M\", LEFT(D672,8)=\"MODELO B\"), AND(LEFT($D$636,8)=\"MODELO B\", $K$636=\"Atribuir valor detalhado por Fase/Elemento\")), P672, 0)","v":0},{"$f":"IF(OR(AND(LEFT($D$636,8)=\"MODELO M\", LEFT(D672,8)=\"MODELO C\"), AND(LEFT($D$636,8)=\"MODELO C\", $R$636=\"Atribuir valor detalhado por Fase/Elemento\")), X672, 0)","v":0},{"$f":"IF(OR(AND(LEFT($D$636,8)=\"MODELO M\", LEFT(D672,8)=\"MODELO D\"), AND(LEFT($D$636,8)=\"MODELO D\", $Z$636=\"Atribuir valor detalhado por Fase/Elemento\")), AC672, 0)","v":0},{"$f":"SUM(BH672:BK672)","v":0},"MODELO A - TEMPO - N.º DE HORAS DE TRABALHO"]
[null,{"$f":"IF(B667=\"ocultar\",\"ocultar\",\"mostrar\")","v":"ocultar"},"SUB-TOTAL",null,null,null,{"$f":"SUBTOTAL(109,G668:G672)","v":0},null,{"$f":"SUBTOTAL(109,I668:I672)","v":0},null,null,null,null,null,{"$f":"SUBTOTAL(9,O668:O672)","v":0},{"$f":"SUBTOTAL(9,P668:P672)","v":0},null,null,null,null,null,null,{"$f":"SUBTOTAL(9,W668:W672)","v":0},{"$f":"SUBTOTAL(9,X668:X672)","v":0},null,null,null,null,{"$f":"SUBTOTAL(9,AC668:AC672)","v":0},null,{"$f":"SUBTOTAL(109,AE668:AE672)","v":0},null,null,null,null,null,null,null,null,null,null,null,null,null,null,null,null,null,null,null,null,null,null,null,null,null,null,null,null,null,null,null,null,null,"MODELO A - TEMPO - N.º DE HORAS DE TRABALHO"]
[null,{"$f":"IF($B$636=\"ocultar\",\"ocultar\",IF('SA - ATIVIDADES'!$G$77=\"Fase Única\",\"ocultar\",IF('SA - ATIVIDADES'!G83=TRUE,\"mostrar\",\"ocultar\")))","v":"ocultar"},"ESPECIALIDADE 6",null,null,null,null,null,null,null,null,null,null,null,null,null,null,null,null,null,null,null,null,null,null,null,null,null,null,null,null,null,null,null,null,null,null,null,null,null,null,null,null,null,null,null,null,null,null,null,null,null,null,null,null,null,null,null,null,null,null,null,null,null,"MODELO A - TEMPO - N.º DE HORAS DE TRABALHO"]
[null,{"$f":"IF($B$674=\"ocultar\",\"ocultar\",IF('SA - ATIVIDADES'!$G$83=TRUE,IF('SA - ATIVIDADES'!$H$83>='SA - SERVICOS BASE'!AH675,\"mostrar\",\"ocultar\"),\"ocultar\"))","v":"ocultar"},"Especialidade (a preencher)","MODELO A - TEMPO - N.º DE HORAS DE TRABALHO",null,null,0,0,{"$f":"G675*H675","v":0},null,null,null,null,null,0,{"$f":"$P$636*O675","v":0},null,null,null,null,null,null,0,{"$f":"$P$636*W675","v":0},null,null,0,0,{"$f":"AA675*AB675","v":0},null,{"$f":"BL675","v":0},null,null,1,null,null,null,null,null,null,null,null,null,null,null,null,null,null,null,null,null,null,null,null,null,null,null,null,null,{"$f":"IF(OR(AND(LEFT($D$636,8)=\"MODELO M\", LEFT(D675,8)=\"MODELO A\"), AND(LEFT($D$636,8)=\"MODELO A\", $F$636=\"Atribuir valor detalhado por Fase/Elemento\")), I675, 0)","v":0},{"$f":"IF(OR(AND(LEFT($D$636,8)=\"MODELO M\", LEFT(D675,8)=\"MODELO B\"), AND(LEFT($D$636,8)=\"MODELO B\", $K$636=\"Atribuir valor detalhado por Fase/Elemento\")), P675, 0)","v":0},{"$f":"IF(OR(AND(LEFT($D$636,8)=\"MODELO M\", LEFT(D675,8)=\"MODELO C\"), AND(LEFT($D$636,8)=\"MODELO C\", $R$636=\"Atribuir valor detalhado por Fase/Elemento\")), X675, 0)","v":0},{"$f":"IF(OR(AND(LEFT($D$636,8)=\"MODELO M\", LEFT(D675,8)=\"MODELO D\"), AND(LEFT($D$636,8)=\"MODELO D\", $Z$636=\"Atribuir valor detalhado por Fase/Elemento\")), AC675, 0)","v":0},{"$f":"SUM(BH675:BK675)","v":0},"MODELO A - TEMPO - N.º DE HORAS DE TRABALHO"]
[null,{"$f":"IF($B$674=\"ocultar\",\"ocultar\",IF('SA - ATIVIDADES'!$G$83=TRUE,IF('SA - ATIVIDADES'!$H$83>='SA - SERVICOS BASE'!AH676,\"mostrar\",\"ocultar\"),\"ocultar\"))","v":"ocultar"},"Especialidade (a preencher)","MODELO A - TEMPO - N.º DE HORAS DE TRABALHO",null,null,0,0,{"$f":"G676*H676","v":0},null,null,null,null,null,0,{"$f":"$P$636*O676","v":0},null,null,null,null,null,null,0,{"$f":"$P$636*W676","v":0},null,null,0,0,0,null,{"$f":"BL676","v":0},null,null,2,null,null,null,null,null,null,null,null,null,null,null,null,null,null,null,null,null,null,null,null,null,null,null,null,null,{"$f":"IF(OR(AND(LEFT($D$636,8)=\"MODELO M\", LEFT(D676,8)=\"MODELO A\"), AND(LEFT($D$636,8)=\"MODELO A\", $F$636=\"Atribuir valor detalhado por Fase/Elemento\")), I676, 0)","v":0},{"$f":"IF(OR(AND(LEFT($D$636,8)=\"MODELO M\", LEFT(D676,8)=\"MODELO B\"), AND(LEFT($D$636,8)=\"MODELO B\", $K$636=\"Atribuir valor detalhado por Fase/Elemento\")), P676, 0)","v":0},{"$f":"IF(OR(AND(LEFT($D$636,8)=\"MODELO M\", LEFT(D676,8)=\"MODELO C\"), AND(LEFT($D$636,8)=\"MODELO C\", $R$636=\"Atribuir valor detalhado por Fase/Elemento\")), X676, 0)","v":0},{"$f":"IF(OR(AND(LEFT($D$636,8)=\"MODELO M\", LEFT(D676,8)=\"MODELO D\"), AND(LEFT($D$636,8)=\"MODELO D\", $Z$636=\"Atribuir valor detalhado por Fase/Elemento\")), AC676, 0)","v":0},{"$f":"SUM(BH676:BK676)","v":0},"MODELO A - TEMPO - N.º DE HORAS DE TRABALHO"]
[null,{"$f":"IF($B$674=\"ocultar\",\"ocultar\",IF('SA - ATIVIDADES'!$G$83=TRUE,IF('SA - ATIVIDADES'!$H$83>='SA - SERVICOS BASE'!AH677,\"mostrar\",\"ocultar\"),\"ocultar\"))","v":"ocultar"},"Especialidade (a preencher)","MODELO A - TEMPO - N.º DE HORAS DE TRABALHO",null,null,0,0,{"$f":"G677*H677","v":0},null,null,null,null,null,0,0,null,null,null,null,null,null,0,0,null,null,0,0,0,null,{"$f":"BL677","v":0},null,null,3,null,null,null,null,null,null,null,null,null,null,null,null,null,null,null,null,null,null,null,null,null,null,null,null,null,{"$f":"IF(OR(AND(LEFT($D$636,8)=\"MODELO M\", LEFT(D677,8)=\"MODELO A\"), AND(LEFT($D$636,8)=\"MODELO A\", $F$636=\"Atribuir valor detalhado por Fase/Elemento\")), I677, 0)","v":0},{"$f":"IF(OR(AND(LEFT($D$636,8)=\"MODELO M\", LEFT(D677,8)=\"MODELO B\"), AND(LEFT($D$636,8)=\"MODELO B\", $K$636=\"Atribuir valor detalhado por Fase/Elemento\")), P677, 0)","v":0},{"$f":"IF(OR(AND(LEFT($D$636,8)=\"MODELO M\", LEFT(D677,8)=\"MODELO C\"), AND(LEFT($D$636,8)=\"MODELO C\", $R$636=\"Atribuir valor detalhado por Fase/Elemento\")), X677, 0)","v":0},{"$f":"IF(OR(AND(LEFT($D$636,8)=\"MODELO M\", LEFT(D677,8)=\"MODELO D\"), AND(LEFT($D$636,8)=\"MODELO D\", $Z$636=\"Atribuir valor detalhado por Fase/Elemento\")), AC677, 0)","v":0},{"$f":"SUM(BH677:BK677)","v":0},"MODELO A - TEMPO - N.º DE HORAS DE TRABALHO"]
[null,{"$f":"IF($B$674=\"ocultar\",\"ocultar\",IF('SA - ATIVIDADES'!$G$83=TRUE,IF('SA - ATIVIDADES'!$H$83>='SA - SERVICOS BASE'!AH678,\"mostrar\",\"ocultar\"),\"ocultar\"))","v":"ocultar"},"Especialidade (a preencher)","MODELO A - TEMPO - N.º DE HORAS DE TRABALHO",null,null,0,0,{"$f":"G678*H678","v":0},null,null,null,null,null,0,0,null,null,null,null,null,null,0,0,null,null,0,0,0,null,{"$f":"BL678","v":0},null,null,4,null,null,null,null,null,null,null,null,null,null,null,null,null,null,null,null,null,null,null,null,null,null,null,null,null,{"$f":"IF(OR(AND(LEFT($D$636,8)=\"MODELO M\", LEFT(D678,8)=\"MODELO A\"), AND(LEFT($D$636,8)=\"MODELO A\", $F$636=\"Atribuir valor detalhado por Fase/Elemento\")), I678, 0)","v":0},{"$f":"IF(OR(AND(LEFT($D$636,8)=\"MODELO M\", LEFT(D678,8)=\"MODELO B\"), AND(LEFT($D$636,8)=\"MODELO B\", $K$636=\"Atribuir valor detalhado por Fase/Elemento\")), P678, 0)","v":0},{"$f":"IF(OR(AND(LEFT($D$636,8)=\"MODELO M\", LEFT(D678,8)=\"MODELO C\"), AND(LEFT($D$636,8)=\"MODELO C\", $R$636=\"Atribuir valor detalhado por Fase/Elemento\")), X678, 0)","v":0},{"$f":"IF(OR(AND(LEFT($D$636,8)=\"MODELO M\", LEFT(D678,8)=\"MODELO D\"), AND(LEFT($D$636,8)=\"MODELO D\", $Z$636=\"Atribuir valor detalhado por Fase/Elemento\")), AC678, 0)","v":0},{"$f":"SUM(BH678:BK678)","v":0},"MODELO A - TEMPO - N.º DE HORAS DE TRABALHO"]
[null,{"$f":"IF($B$674=\"ocultar\",\"ocultar\",IF('SA - ATIVIDADES'!$G$83=TRUE,IF('SA - ATIVIDADES'!$H$83>='SA - SERVICOS BASE'!AH679,\"mostrar\",\"ocultar\"),\"ocultar\"))","v":"ocultar"},"Especialidade (a preencher)","MODELO A - TEMPO - N.º DE HORAS DE TRABALHO",null,null,0,0,{"$f":"G679*H679","v":0},null,null,null,null,null,0,0,null,null,null,null,null,null,0,0,null,null,0,0,0,null,{"$f":"BL679","v":0},null,null,5,null,null,null,null,null,null,null,null,null,null,null,null,null,null,null,null,null,null,null,null,null,null,null,null,null,{"$f":"IF(OR(AND(LEFT($D$636,8)=\"MODELO M\", LEFT(D679,8)=\"MODELO A\"), AND(LEFT($D$636,8)=\"MODELO A\", $F$636=\"Atribuir valor detalhado por Fase/Elemento\")), I679, 0)","v":0},{"$f":"IF(OR(AND(LEFT($D$636,8)=\"MODELO M\", LEFT(D679,8)=\"MODELO B\"), AND(LEFT($D$636,8)=\"MODELO B\", $K$636=\"Atribuir valor detalhado por Fase/Elemento\")), P679, 0)","v":0},{"$f":"IF(OR(AND(LEFT($D$636,8)=\"MODELO M\", LEFT(D679,8)=\"MODELO C\"), AND(LEFT($D$636,8)=\"MODELO C\", $R$636=\"Atribuir valor detalhado por Fase/Elemento\")), X679, 0)","v":0},{"$f":"IF(OR(AND(LEFT($D$636,8)=\"MODELO M\", LEFT(D679,8)=\"MODELO D\"), AND(LEFT($D$636,8)=\"MODELO D\", $Z$636=\"Atribuir valor detalhado por Fase/Elemento\")), AC679, 0)","v":0},{"$f":"SUM(BH679:BK679)","v":0},"MODELO A - TEMPO - N.º DE HORAS DE TRABALHO"]
[null,{"$f":"IF(B674=\"ocultar\",\"ocultar\",\"mostrar\")","v":"ocultar"},"SUB-TOTAL",null,null,null,{"$f":"SUBTOTAL(109,G675:G679)","v":0},null,{"$f":"SUBTOTAL(109,I675:I679)","v":0},null,null,null,null,null,{"$f":"SUBTOTAL(9,O675:O679)","v":0},{"$f":"SUBTOTAL(9,P675:P679)","v":0},null,null,null,null,null,null,{"$f":"SUBTOTAL(9,W675:W679)","v":0},{"$f":"SUBTOTAL(9,X675:X679)","v":0},null,null,null,null,{"$f":"SUBTOTAL(9,AC675:AC679)","v":0},null,{"$f":"SUBTOTAL(109,AE675:AE679)","v":0},null,null,null,null,null,null,null,null,null,null,null,null,null,null,null,null,null,null,null,null,null,null,null,null,null,null,null,null,null,null,null,null,null,"MODELO A - TEMPO - N.º DE HORAS DE TRABALHO"]
[null,{"$f":"IF($B$636=\"ocultar\",\"ocultar\",IF('SA - ATIVIDADES'!$G$77=\"Fase Única\",\"ocultar\",IF('SA - ATIVIDADES'!G84=TRUE,\"mostrar\",\"ocultar\")))","v":"ocultar"},"ESPECIALIDADE 7",null,null,null,null,null,null,null,null,null,null,null,null,null,null,null,null,null,null,null,null,null,null,null,null,null,null,null,null,null,null,null,null,null,null,null,null,null,null,null,null,null,null,null,null,null,null,null,null,null,null,null,null,null,null,null,null,null,null,null,null,null,"MODELO A - TEMPO - N.º DE HORAS DE TRABALHO"]
[null,{"$f":"IF($B$681=\"ocultar\",\"ocultar\",IF('SA - ATIVIDADES'!$G$84=TRUE,IF('SA - ATIVIDADES'!$H$84>='SA - SERVICOS BASE'!AH682,\"mostrar\",\"ocultar\"),\"ocultar\"))","v":"ocultar"},"Especialidade (a preencher)","MODELO A - TEMPO - N.º DE HORAS DE TRABALHO",null,null,0,0,{"$f":"G682*H682","v":0},null,null,null,null,null,0,{"$f":"$P$636*O682","v":0},null,null,null,null,null,null,0,{"$f":"$P$636*W682","v":0},null,null,0,0,{"$f":"AA682*AB682","v":0},null,{"$f":"BL682","v":0},null,null,1,null,null,null,null,null,null,null,null,null,null,null,null,null,null,null,null,null,null,null,null,null,null,null,null,null,{"$f":"IF(OR(AND(LEFT($D$636,8)=\"MODELO M\", LEFT(D682,8)=\"MODELO A\"), AND(LEFT($D$636,8)=\"MODELO A\", $F$636=\"Atribuir valor detalhado por Fase/Elemento\")), I682, 0)","v":0},{"$f":"IF(OR(AND(LEFT($D$636,8)=\"MODELO M\", LEFT(D682,8)=\"MODELO B\"), AND(LEFT($D$636,8)=\"MODELO B\", $K$636=\"Atribuir valor detalhado por Fase/Elemento\")), P682, 0)","v":0},{"$f":"IF(OR(AND(LEFT($D$636,8)=\"MODELO M\", LEFT(D682,8)=\"MODELO C\"), AND(LEFT($D$636,8)=\"MODELO C\", $R$636=\"Atribuir valor detalhado por Fase/Elemento\")), X682, 0)","v":0},{"$f":"IF(OR(AND(LEFT($D$636,8)=\"MODELO M\", LEFT(D682,8)=\"MODELO D\"), AND(LEFT($D$636,8)=\"MODELO D\", $Z$636=\"Atribuir valor detalhado por Fase/Elemento\")), AC682, 0)","v":0},{"$f":"SUM(BH682:BK682)","v":0},"MODELO A - TEMPO - N.º DE HORAS DE TRABALHO"]
[null,{"$f":"IF($B$681=\"ocultar\",\"ocultar\",IF('SA - ATIVIDADES'!$G$84=TRUE,IF('SA - ATIVIDADES'!$H$84>='SA - SERVICOS BASE'!AH683,\"mostrar\",\"ocultar\"),\"ocultar\"))","v":"ocultar"},"Especialidade (a preencher)","MODELO A - TEMPO - N.º DE HORAS DE TRABALHO",null,null,0,0,{"$f":"G683*H683","v":0},null,null,null,null,null,0,{"$f":"$P$636*O683","v":0},null,null,null,null,null,null,0,{"$f":"$P$636*W683","v":0},null,null,0,0,0,null,{"$f":"BL683","v":0},null,null,2,null,null,null,null,null,null,null,null,null,null,null,null,null,null,null,null,null,null,null,null,null,null,null,null,null,{"$f":"IF(OR(AND(LEFT($D$636,8)=\"MODELO M\", LEFT(D683,8)=\"MODELO A\"), AND(LEFT($D$636,8)=\"MODELO A\", $F$636=\"Atribuir valor detalhado por Fase/Elemento\")), I683, 0)","v":0},{"$f":"IF(OR(AND(LEFT($D$636,8)=\"MODELO M\", LEFT(D683,8)=\"MODELO B\"), AND(LEFT($D$636,8)=\"MODELO B\", $K$636=\"Atribuir valor detalhado por Fase/Elemento\")), P683, 0)","v":0},{"$f":"IF(OR(AND(LEFT($D$636,8)=\"MODELO M\", LEFT(D683,8)=\"MODELO C\"), AND(LEFT($D$636,8)=\"MODELO C\", $R$636=\"Atribuir valor detalhado por Fase/Elemento\")), X683, 0)","v":0},{"$f":"IF(OR(AND(LEFT($D$636,8)=\"MODELO M\", LEFT(D683,8)=\"MODELO D\"), AND(LEFT($D$636,8)=\"MODELO D\", $Z$636=\"Atribuir valor detalhado por Fase/Elemento\")), AC683, 0)","v":0},{"$f":"SUM(BH683:BK683)","v":0},"MODELO A - TEMPO - N.º DE HORAS DE TRABALHO"]
[null,{"$f":"IF($B$681=\"ocultar\",\"ocultar\",IF('SA - ATIVIDADES'!$G$84=TRUE,IF('SA - ATIVIDADES'!$H$84>='SA - SERVICOS BASE'!AH684,\"mostrar\",\"ocultar\"),\"ocultar\"))","v":"ocultar"},"Especialidade (a preencher)","MODELO A - TEMPO - N.º DE HORAS DE TRABALHO",null,null,0,0,{"$f":"G684*H684","v":0},null,null,null,null,null,0,0,null,null,null,null,null,null,0,0,null,null,0,0,0,null,{"$f":"BL684","v":0},null,null,3,null,null,null,null,null,null,null,null,null,null,null,null,null,null,null,null,null,null,null,null,null,null,null,null,null,{"$f":"IF(OR(AND(LEFT($D$636,8)=\"MODELO M\", LEFT(D684,8)=\"MODELO A\"), AND(LEFT($D$636,8)=\"MODELO A\", $F$636=\"Atribuir valor detalhado por Fase/Elemento\")), I684, 0)","v":0},{"$f":"IF(OR(AND(LEFT($D$636,8)=\"MODELO M\", LEFT(D684,8)=\"MODELO B\"), AND(LEFT($D$636,8)=\"MODELO B\", $K$636=\"Atribuir valor detalhado por Fase/Elemento\")), P684, 0)","v":0},{"$f":"IF(OR(AND(LEFT($D$636,8)=\"MODELO M\", LEFT(D684,8)=\"MODELO C\"), AND(LEFT($D$636,8)=\"MODELO C\", $R$636=\"Atribuir valor detalhado por Fase/Elemento\")), X684, 0)","v":0},{"$f":"IF(OR(AND(LEFT($D$636,8)=\"MODELO M\", LEFT(D684,8)=\"MODELO D\"), AND(LEFT($D$636,8)=\"MODELO D\", $Z$636=\"Atribuir valor detalhado por Fase/Elemento\")), AC684, 0)","v":0},{"$f":"SUM(BH684:BK684)","v":0},"MODELO A - TEMPO - N.º DE HORAS DE TRABALHO"]
[null,{"$f":"IF($B$681=\"ocultar\",\"ocultar\",IF('SA - ATIVIDADES'!$G$84=TRUE,IF('SA - ATIVIDADES'!$H$84>='SA - SERVICOS BASE'!AH685,\"mostrar\",\"ocultar\"),\"ocultar\"))","v":"ocultar"},"Especialidade (a preencher)","MODELO A - TEMPO - N.º DE HORAS DE TRABALHO",null,null,0,0,{"$f":"G685*H685","v":0},null,null,null,null,null,0,0,null,null,null,null,null,null,0,0,null,null,0,0,0,null,{"$f":"BL685","v":0},null,null,4,null,null,null,null,null,null,null,null,null,null,null,null,null,null,null,null,null,null,null,null,null,null,null,null,null,{"$f":"IF(OR(AND(LEFT($D$636,8)=\"MODELO M\", LEFT(D685,8)=\"MODELO A\"), AND(LEFT($D$636,8)=\"MODELO A\", $F$636=\"Atribuir valor detalhado por Fase/Elemento\")), I685, 0)","v":0},{"$f":"IF(OR(AND(LEFT($D$636,8)=\"MODELO M\", LEFT(D685,8)=\"MODELO B\"), AND(LEFT($D$636,8)=\"MODELO B\", $K$636=\"Atribuir valor detalhado por Fase/Elemento\")), P685, 0)","v":0},{"$f":"IF(OR(AND(LEFT($D$636,8)=\"MODELO M\", LEFT(D685,8)=\"MODELO C\"), AND(LEFT($D$636,8)=\"MODELO C\", $R$636=\"Atribuir valor detalhado por Fase/Elemento\")), X685, 0)","v":0},{"$f":"IF(OR(AND(LEFT($D$636,8)=\"MODELO M\", LEFT(D685,8)=\"MODELO D\"), AND(LEFT($D$636,8)=\"MODELO D\", $Z$636=\"Atribuir valor detalhado por Fase/Elemento\")), AC685, 0)","v":0},{"$f":"SUM(BH685:BK685)","v":0},"MODELO A - TEMPO - N.º DE HORAS DE TRABALHO"]
[null,{"$f":"IF($B$681=\"ocultar\",\"ocultar\",IF('SA - ATIVIDADES'!$G$84=TRUE,IF('SA - ATIVIDADES'!$H$84>='SA - SERVICOS BASE'!AH686,\"mostrar\",\"ocultar\"),\"ocultar\"))","v":"ocultar"},"Especialidade (a preencher)","MODELO A - TEMPO - N.º DE HORAS DE TRABALHO",null,null,0,0,{"$f":"G686*H686","v":0},null,null,null,null,null,0,0,null,null,null,null,null,null,0,0,null,null,0,0,0,null,{"$f":"BL686","v":0},null,null,5,null,null,null,null,null,null,null,null,null,null,null,null,null,null,null,null,null,null,null,null,null,null,null,null,null,{"$f":"IF(OR(AND(LEFT($D$636,8)=\"MODELO M\", LEFT(D686,8)=\"MODELO A\"), AND(LEFT($D$636,8)=\"MODELO A\", $F$636=\"Atribuir valor detalhado por Fase/Elemento\")), I686, 0)","v":0},{"$f":"IF(OR(AND(LEFT($D$636,8)=\"MODELO M\", LEFT(D686,8)=\"MODELO B\"), AND(LEFT($D$636,8)=\"MODELO B\", $K$636=\"Atribuir valor detalhado por Fase/Elemento\")), P686, 0)","v":0},{"$f":"IF(OR(AND(LEFT($D$636,8)=\"MODELO M\", LEFT(D686,8)=\"MODELO C\"), AND(LEFT($D$636,8)=\"MODELO C\", $R$636=\"Atribuir valor detalhado por Fase/Elemento\")), X686, 0)","v":0},{"$f":"IF(OR(AND(LEFT($D$636,8)=\"MODELO M\", LEFT(D686,8)=\"MODELO D\"), AND(LEFT($D$636,8)=\"MODELO D\", $Z$636=\"Atribuir valor detalhado por Fase/Elemento\")), AC686, 0)","v":0},{"$f":"SUM(BH686:BK686)","v":0},"MODELO A - TEMPO - N.º DE HORAS DE TRABALHO"]
[null,{"$f":"IF(B681=\"ocultar\",\"ocultar\",\"mostrar\")","v":"ocultar"},"SUB-TOTAL",null,null,null,{"$f":"SUBTOTAL(109,G682:G686)","v":0},null,{"$f":"SUBTOTAL(109,I682:I686)","v":0},null,null,null,null,null,{"$f":"SUBTOTAL(9,O682:O686)","v":0},{"$f":"SUBTOTAL(9,P682:P686)","v":0},null,null,null,null,null,null,{"$f":"SUBTOTAL(9,W682:W686)","v":0},{"$f":"SUBTOTAL(9,X682:X686)","v":0},null,null,null,null,{"$f":"SUBTOTAL(9,AC682:AC686)","v":0},null,{"$f":"SUBTOTAL(109,AE682:AE686)","v":0},null,null,null,null,null,null,null,null,null,null,null,null,null,null,null,null,null,null,null,null,null,null,null,null,null,null,null,null,null,null,null,null,null,"MODELO A - TEMPO - N.º DE HORAS DE TRABALHO"]
[null,{"$f":"IF($B$636=\"ocultar\",\"ocultar\",IF('SA - ATIVIDADES'!$G$77=\"Fase Única\",\"ocultar\",IF('SA - ATIVIDADES'!G85=TRUE,\"mostrar\",\"ocultar\")))","v":"ocultar"},"ESPECIALIDADE 8",null,null,null,null,null,null,null,null,null,null,null,null,null,null,null,null,null,null,null,null,null,null,null,null,null,null,null,null,null,null,null,null,null,null,null,null,null,null,null,null,null,null,null,null,null,null,null,null,null,null,null,null,null,null,null,null,null,null,null,null,null,"MODELO A - TEMPO - N.º DE HORAS DE TRABALHO"]
[null,{"$f":"IF($B$688=\"ocultar\",\"ocultar\",IF('SA - ATIVIDADES'!$G$85=TRUE,IF('SA - ATIVIDADES'!$H$85>='SA - SERVICOS BASE'!AH689,\"mostrar\",\"ocultar\"),\"ocultar\"))","v":"ocultar"},"Especialidade (a preencher)","MODELO A - TEMPO - N.º DE HORAS DE TRABALHO",null,null,0,0,{"$f":"G689*H689","v":0},null,null,null,null,null,0,{"$f":"$P$636*O689","v":0},null,null,null,null,null,null,0,{"$f":"$P$636*W689","v":0},null,null,0,0,{"$f":"AA689*AB689","v":0},null,{"$f":"BL689","v":0},null,null,1,null,null,null,null,null,null,null,null,null,null,null,null,null,null,null,null,null,null,null,null,null,null,null,null,null,{"$f":"IF(OR(AND(LEFT($D$636,8)=\"MODELO M\", LEFT(D689,8)=\"MODELO A\"), AND(LEFT($D$636,8)=\"MODELO A\", $F$636=\"Atribuir valor detalhado por Fase/Elemento\")), I689, 0)","v":0},{"$f":"IF(OR(AND(LEFT($D$636,8)=\"MODELO M\", LEFT(D689,8)=\"MODELO B\"), AND(LEFT($D$636,8)=\"MODELO B\", $K$636=\"Atribuir valor detalhado por Fase/Elemento\")), P689, 0)","v":0},{"$f":"IF(OR(AND(LEFT($D$636,8)=\"MODELO M\", LEFT(D689,8)=\"MODELO C\"), AND(LEFT($D$636,8)=\"MODELO C\", $R$636=\"Atribuir valor detalhado por Fase/Elemento\")), X689, 0)","v":0},{"$f":"IF(OR(AND(LEFT($D$636,8)=\"MODELO M\", LEFT(D689,8)=\"MODELO D\"), AND(LEFT($D$636,8)=\"MODELO D\", $Z$636=\"Atribuir valor detalhado por Fase/Elemento\")), AC689, 0)","v":0},{"$f":"SUM(BH689:BK689)","v":0},"MODELO A - TEMPO - N.º DE HORAS DE TRABALHO"]
[null,{"$f":"IF($B$688=\"ocultar\",\"ocultar\",IF('SA - ATIVIDADES'!$G$85=TRUE,IF('SA - ATIVIDADES'!$H$85>='SA - SERVICOS BASE'!AH690,\"mostrar\",\"ocultar\"),\"ocultar\"))","v":"ocultar"},"Especialidade (a preencher)","MODELO A - TEMPO - N.º DE HORAS DE TRABALHO",null,null,0,0,{"$f":"G690*H690","v":0},null,null,null,null,null,0,{"$f":"$P$636*O690","v":0},null,null,null,null,null,null,0,{"$f":"$P$636*W690","v":0},null,null,0,0,0,null,{"$f":"BL690","v":0},null,null,2,null,null,null,null,null,null,null,null,null,null,null,null,null,null,null,null,null,null,null,null,null,null,null,null,null,{"$f":"IF(OR(AND(LEFT($D$636,8)=\"MODELO M\", LEFT(D690,8)=\"MODELO A\"), AND(LEFT($D$636,8)=\"MODELO A\", $F$636=\"Atribuir valor detalhado por Fase/Elemento\")), I690, 0)","v":0},{"$f":"IF(OR(AND(LEFT($D$636,8)=\"MODELO M\", LEFT(D690,8)=\"MODELO B\"), AND(LEFT($D$636,8)=\"MODELO B\", $K$636=\"Atribuir valor detalhado por Fase/Elemento\")), P690, 0)","v":0},{"$f":"IF(OR(AND(LEFT($D$636,8)=\"MODELO M\", LEFT(D690,8)=\"MODELO C\"), AND(LEFT($D$636,8)=\"MODELO C\", $R$636=\"Atribuir valor detalhado por Fase/Elemento\")), X690, 0)","v":0},{"$f":"IF(OR(AND(LEFT($D$636,8)=\"MODELO M\", LEFT(D690,8)=\"MODELO D\"), AND(LEFT($D$636,8)=\"MODELO D\", $Z$636=\"Atribuir valor detalhado por Fase/Elemento\")), AC690, 0)","v":0},{"$f":"SUM(BH690:BK690)","v":0},"MODELO A - TEMPO - N.º DE HORAS DE TRABALHO"]
[null,{"$f":"IF($B$688=\"ocultar\",\"ocultar\",IF('SA - ATIVIDADES'!$G$85=TRUE,IF('SA - ATIVIDADES'!$H$85>='SA - SERVICOS BASE'!AH691,\"mostrar\",\"ocultar\"),\"ocultar\"))","v":"ocultar"},"Especialidade (a preencher)","MODELO A - TEMPO - N.º DE HORAS DE TRABALHO",null,null,0,0,{"$f":"G691*H691","v":0},null,null,null,null,null,0,0,null,null,null,null,null,null,0,0,null,null,0,0,0,null,{"$f":"BL691","v":0},null,null,3,null,null,null,null,null,null,null,null,null,null,null,null,null,null,null,null,null,null,null,null,null,null,null,null,null,{"$f":"IF(OR(AND(LEFT($D$636,8)=\"MODELO M\", LEFT(D691,8)=\"MODELO A\"), AND(LEFT($D$636,8)=\"MODELO A\", $F$636=\"Atribuir valor detalhado por Fase/Elemento\")), I691, 0)","v":0},{"$f":"IF(OR(AND(LEFT($D$636,8)=\"MODELO M\", LEFT(D691,8)=\"MODELO B\"), AND(LEFT($D$636,8)=\"MODELO B\", $K$636=\"Atribuir valor detalhado por Fase/Elemento\")), P691, 0)","v":0},{"$f":"IF(OR(AND(LEFT($D$636,8)=\"MODELO M\", LEFT(D691,8)=\"MODELO C\"), AND(LEFT($D$636,8)=\"MODELO C\", $R$636=\"Atribuir valor detalhado por Fase/Elemento\")), X691, 0)","v":0},{"$f":"IF(OR(AND(LEFT($D$636,8)=\"MODELO M\", LEFT(D691,8)=\"MODELO D\"), AND(LEFT($D$636,8)=\"MODELO D\", $Z$636=\"Atribuir valor detalhado por Fase/Elemento\")), AC691, 0)","v":0},{"$f":"SUM(BH691:BK691)","v":0},"MODELO A - TEMPO - N.º DE HORAS DE TRABALHO"]
[null,{"$f":"IF($B$688=\"ocultar\",\"ocultar\",IF('SA - ATIVIDADES'!$G$85=TRUE,IF('SA - ATIVIDADES'!$H$85>='SA - SERVICOS BASE'!AH692,\"mostrar\",\"ocultar\"),\"ocultar\"))","v":"ocultar"},"Especialidade (a preencher)","MODELO A - TEMPO - N.º DE HORAS DE TRABALHO",null,null,0,0,{"$f":"G692*H692","v":0},null,null,null,null,null,0,0,null,null,null,null,null,null,0,0,null,null,0,0,0,null,{"$f":"BL692","v":0},null,null,4,null,null,null,null,null,null,null,null,null,null,null,null,null,null,null,null,null,null,null,null,null,null,null,null,null,{"$f":"IF(OR(AND(LEFT($D$636,8)=\"MODELO M\", LEFT(D692,8)=\"MODELO A\"), AND(LEFT($D$636,8)=\"MODELO A\", $F$636=\"Atribuir valor detalhado por Fase/Elemento\")), I692, 0)","v":0},{"$f":"IF(OR(AND(LEFT($D$636,8)=\"MODELO M\", LEFT(D692,8)=\"MODELO B\"), AND(LEFT($D$636,8)=\"MODELO B\", $K$636=\"Atribuir valor detalhado por Fase/Elemento\")), P692, 0)","v":0},{"$f":"IF(OR(AND(LEFT($D$636,8)=\"MODELO M\", LEFT(D692,8)=\"MODELO C\"), AND(LEFT($D$636,8)=\"MODELO C\", $R$636=\"Atribuir valor detalhado por Fase/Elemento\")), X692, 0)","v":0},{"$f":"IF(OR(AND(LEFT($D$636,8)=\"MODELO M\", LEFT(D692,8)=\"MODELO D\"), AND(LEFT($D$636,8)=\"MODELO D\", $Z$636=\"Atribuir valor detalhado por Fase/Elemento\")), AC692, 0)","v":0},{"$f":"SUM(BH692:BK692)","v":0},"MODELO A - TEMPO - N.º DE HORAS DE TRABALHO"]
[null,{"$f":"IF($B$688=\"ocultar\",\"ocultar\",IF('SA - ATIVIDADES'!$G$85=TRUE,IF('SA - ATIVIDADES'!$H$85>='SA - SERVICOS BASE'!AH693,\"mostrar\",\"ocultar\"),\"ocultar\"))","v":"ocultar"},"Especialidade (a preencher)","MODELO A - TEMPO - N.º DE HORAS DE TRABALHO",null,null,0,0,{"$f":"G693*H693","v":0},null,null,null,null,null,0,0,null,null,null,null,null,null,0,0,null,null,0,0,0,null,{"$f":"BL693","v":0},null,null,5,null,null,null,null,null,null,null,null,null,null,null,null,null,null,null,null,null,null,null,null,null,null,null,null,null,{"$f":"IF(OR(AND(LEFT($D$636,8)=\"MODELO M\", LEFT(D693,8)=\"MODELO A\"), AND(LEFT($D$636,8)=\"MODELO A\", $F$636=\"Atribuir valor detalhado por Fase/Elemento\")), I693, 0)","v":0},{"$f":"IF(OR(AND(LEFT($D$636,8)=\"MODELO M\", LEFT(D693,8)=\"MODELO B\"), AND(LEFT($D$636,8)=\"MODELO B\", $K$636=\"Atribuir valor detalhado por Fase/Elemento\")), P693, 0)","v":0},{"$f":"IF(OR(AND(LEFT($D$636,8)=\"MODELO M\", LEFT(D693,8)=\"MODELO C\"), AND(LEFT($D$636,8)=\"MODELO C\", $R$636=\"Atribuir valor detalhado por Fase/Elemento\")), X693, 0)","v":0},{"$f":"IF(OR(AND(LEFT($D$636,8)=\"MODELO M\", LEFT(D693,8)=\"MODELO D\"), AND(LEFT($D$636,8)=\"MODELO D\", $Z$636=\"Atribuir valor detalhado por Fase/Elemento\")), AC693, 0)","v":0},{"$f":"SUM(BH693:BK693)","v":0},"MODELO A - TEMPO - N.º DE HORAS DE TRABALHO"]
[null,{"$f":"IF(B688=\"ocultar\",\"ocultar\",\"mostrar\")","v":"ocultar"},"SUB-TOTAL",null,null,null,{"$f":"SUBTOTAL(109,G689:G693)","v":0},null,{"$f":"SUBTOTAL(109,I689:I693)","v":0},null,null,null,null,null,{"$f":"SUBTOTAL(9,O689:O693)","v":0},{"$f":"SUBTOTAL(9,P689:P693)","v":0},null,null,null,null,null,null,{"$f":"SUBTOTAL(9,W689:W693)","v":0},{"$f":"SUBTOTAL(9,X689:X693)","v":0},null,null,null,null,{"$f":"SUBTOTAL(9,AC689:AC693)","v":0},null,{"$f":"SUBTOTAL(109,AE689:AE693)","v":0},null,null,null,null,null,null,null,null,null,null,null,null,null,null,null,null,null,null,null,null,null,null,null,null,null,null,null,null,null,null,null,null,null,"MODELO A - TEMPO - N.º DE HORAS DE TRABALHO"]
[null,{"$f":"IF($B$636=\"ocultar\",\"ocultar\",IF('SA - ATIVIDADES'!$G$77=\"Fase Única\",\"ocultar\",IF('SA - ATIVIDADES'!G86=TRUE,\"mostrar\",\"ocultar\")))","v":"ocultar"},"ESPECIALIDADE 9",null,null,null,null,null,null,null,null,null,null,null,null,null,null,null,null,null,null,null,null,null,null,null,null,null,null,null,null,null,null,null,null,null,null,null,null,null,null,null,null,null,null,null,null,null,null,null,null,null,null,null,null,null,null,null,null,null,null,null,null,null,"MODELO A - TEMPO - N.º DE HORAS DE TRABALHO"]
[null,{"$f":"IF($B$695=\"ocultar\",\"ocultar\",IF('SA - ATIVIDADES'!$G$86=TRUE,IF('SA - ATIVIDADES'!$H$86>='SA - SERVICOS BASE'!AH696,\"mostrar\",\"ocultar\"),\"ocultar\"))","v":"ocultar"},"Especialidade (a preencher)","MODELO A - TEMPO - N.º DE HORAS DE TRABALHO",null,null,0,0,{"$f":"G696*H696","v":0},null,null,null,null,null,0,{"$f":"$P$636*O696","v":0},null,null,null,null,null,null,0,{"$f":"$P$636*W696","v":0},null,null,0,0,{"$f":"AA696*AB696","v":0},null,{"$f":"BL696","v":0},null,null,1,null,null,null,null,null,null,null,null,null,null,null,null,null,null,null,null,null,null,null,null,null,null,null,null,null,{"$f":"IF(OR(AND(LEFT($D$636,8)=\"MODELO M\", LEFT(D696,8)=\"MODELO A\"), AND(LEFT($D$636,8)=\"MODELO A\", $F$636=\"Atribuir valor detalhado por Fase/Elemento\")), I696, 0)","v":0},{"$f":"IF(OR(AND(LEFT($D$636,8)=\"MODELO M\", LEFT(D696,8)=\"MODELO B\"), AND(LEFT($D$636,8)=\"MODELO B\", $K$636=\"Atribuir valor detalhado por Fase/Elemento\")), P696, 0)","v":0},{"$f":"IF(OR(AND(LEFT($D$636,8)=\"MODELO M\", LEFT(D696,8)=\"MODELO C\"), AND(LEFT($D$636,8)=\"MODELO C\", $R$636=\"Atribuir valor detalhado por Fase/Elemento\")), X696, 0)","v":0},{"$f":"IF(OR(AND(LEFT($D$636,8)=\"MODELO M\", LEFT(D696,8)=\"MODELO D\"), AND(LEFT($D$636,8)=\"MODELO D\", $Z$636=\"Atribuir valor detalhado por Fase/Elemento\")), AC696, 0)","v":0},{"$f":"SUM(BH696:BK696)","v":0},"MODELO A - TEMPO - N.º DE HORAS DE TRABALHO"]
[null,{"$f":"IF($B$695=\"ocultar\",\"ocultar\",IF('SA - ATIVIDADES'!$G$86=TRUE,IF('SA - ATIVIDADES'!$H$86>='SA - SERVICOS BASE'!AH697,\"mostrar\",\"ocultar\"),\"ocultar\"))","v":"ocultar"},"Especialidade (a preencher)","MODELO A - TEMPO - N.º DE HORAS DE TRABALHO",null,null,0,0,{"$f":"G697*H697","v":0},null,null,null,null,null,0,{"$f":"$P$636*O697","v":0},null,null,null,null,null,null,0,{"$f":"$P$636*W697","v":0},null,null,0,0,0,null,{"$f":"BL697","v":0},null,null,2,null,null,null,null,null,null,null,null,null,null,null,null,null,null,null,null,null,null,null,null,null,null,null,null,null,{"$f":"IF(OR(AND(LEFT($D$636,8)=\"MODELO M\", LEFT(D697,8)=\"MODELO A\"), AND(LEFT($D$636,8)=\"MODELO A\", $F$636=\"Atribuir valor detalhado por Fase/Elemento\")), I697, 0)","v":0},{"$f":"IF(OR(AND(LEFT($D$636,8)=\"MODELO M\", LEFT(D697,8)=\"MODELO B\"), AND(LEFT($D$636,8)=\"MODELO B\", $K$636=\"Atribuir valor detalhado por Fase/Elemento\")), P697, 0)","v":0},{"$f":"IF(OR(AND(LEFT($D$636,8)=\"MODELO M\", LEFT(D697,8)=\"MODELO C\"), AND(LEFT($D$636,8)=\"MODELO C\", $R$636=\"Atribuir valor detalhado por Fase/Elemento\")), X697, 0)","v":0},{"$f":"IF(OR(AND(LEFT($D$636,8)=\"MODELO M\", LEFT(D697,8)=\"MODELO D\"), AND(LEFT($D$636,8)=\"MODELO D\", $Z$636=\"Atribuir valor detalhado por Fase/Elemento\")), AC697, 0)","v":0},{"$f":"SUM(BH697:BK697)","v":0},"MODELO A - TEMPO - N.º DE HORAS DE TRABALHO"]
[null,{"$f":"IF($B$695=\"ocultar\",\"ocultar\",IF('SA - ATIVIDADES'!$G$86=TRUE,IF('SA - ATIVIDADES'!$H$86>='SA - SERVICOS BASE'!AH698,\"mostrar\",\"ocultar\"),\"ocultar\"))","v":"ocultar"},"Especialidade (a preencher)","MODELO A - TEMPO - N.º DE HORAS DE TRABALHO",null,null,0,0,{"$f":"G698*H698","v":0},null,null,null,null,null,0,0,null,null,null,null,null,null,0,0,null,null,0,0,0,null,{"$f":"BL698","v":0},null,null,3,null,null,null,null,null,null,null,null,null,null,null,null,null,null,null,null,null,null,null,null,null,null,null,null,null,{"$f":"IF(OR(AND(LEFT($D$636,8)=\"MODELO M\", LEFT(D698,8)=\"MODELO A\"), AND(LEFT($D$636,8)=\"MODELO A\", $F$636=\"Atribuir valor detalhado por Fase/Elemento\")), I698, 0)","v":0},{"$f":"IF(OR(AND(LEFT($D$636,8)=\"MODELO M\", LEFT(D698,8)=\"MODELO B\"), AND(LEFT($D$636,8)=\"MODELO B\", $K$636=\"Atribuir valor detalhado por Fase/Elemento\")), P698, 0)","v":0},{"$f":"IF(OR(AND(LEFT($D$636,8)=\"MODELO M\", LEFT(D698,8)=\"MODELO C\"), AND(LEFT($D$636,8)=\"MODELO C\", $R$636=\"Atribuir valor detalhado por Fase/Elemento\")), X698, 0)","v":0},{"$f":"IF(OR(AND(LEFT($D$636,8)=\"MODELO M\", LEFT(D698,8)=\"MODELO D\"), AND(LEFT($D$636,8)=\"MODELO D\", $Z$636=\"Atribuir valor detalhado por Fase/Elemento\")), AC698, 0)","v":0},{"$f":"SUM(BH698:BK698)","v":0},"MODELO A - TEMPO - N.º DE HORAS DE TRABALHO"]
[null,{"$f":"IF($B$695=\"ocultar\",\"ocultar\",IF('SA - ATIVIDADES'!$G$86=TRUE,IF('SA - ATIVIDADES'!$H$86>='SA - SERVICOS BASE'!AH699,\"mostrar\",\"ocultar\"),\"ocultar\"))","v":"ocultar"},"Especialidade (a preencher)","MODELO A - TEMPO - N.º DE HORAS DE TRABALHO",null,null,0,0,{"$f":"G699*H699","v":0},null,null,null,null,null,0,0,null,null,null,null,null,null,0,0,null,null,0,0,0,null,{"$f":"BL699","v":0},null,null,4,null,null,null,null,null,null,null,null,null,null,null,null,null,null,null,null,null,null,null,null,null,null,null,null,null,{"$f":"IF(OR(AND(LEFT($D$636,8)=\"MODELO M\", LEFT(D699,8)=\"MODELO A\"), AND(LEFT($D$636,8)=\"MODELO A\", $F$636=\"Atribuir valor detalhado por Fase/Elemento\")), I699, 0)","v":0},{"$f":"IF(OR(AND(LEFT($D$636,8)=\"MODELO M\", LEFT(D699,8)=\"MODELO B\"), AND(LEFT($D$636,8)=\"MODELO B\", $K$636=\"Atribuir valor detalhado por Fase/Elemento\")), P699, 0)","v":0},{"$f":"IF(OR(AND(LEFT($D$636,8)=\"MODELO M\", LEFT(D699,8)=\"MODELO C\"), AND(LEFT($D$636,8)=\"MODELO C\", $R$636=\"Atribuir valor detalhado por Fase/Elemento\")), X699, 0)","v":0},{"$f":"IF(OR(AND(LEFT($D$636,8)=\"MODELO M\", LEFT(D699,8)=\"MODELO D\"), AND(LEFT($D$636,8)=\"MODELO D\", $Z$636=\"Atribuir valor detalhado por Fase/Elemento\")), AC699, 0)","v":0},{"$f":"SUM(BH699:BK699)","v":0},"MODELO A - TEMPO - N.º DE HORAS DE TRABALHO"]
[null,{"$f":"IF($B$695=\"ocultar\",\"ocultar\",IF('SA - ATIVIDADES'!$G$86=TRUE,IF('SA - ATIVIDADES'!$H$86>='SA - SERVICOS BASE'!AH700,\"mostrar\",\"ocultar\"),\"ocultar\"))","v":"ocultar"},"Especialidade (a preencher)","MODELO A - TEMPO - N.º DE HORAS DE TRABALHO",null,null,0,0,{"$f":"G700*H700","v":0},null,null,null,null,null,0,0,null,null,null,null,null,null,0,0,null,null,0,0,0,null,{"$f":"BL700","v":0},null,null,5,null,null,null,null,null,null,null,null,null,null,null,null,null,null,null,null,null,null,null,null,null,null,null,null,null,{"$f":"IF(OR(AND(LEFT($D$636,8)=\"MODELO M\", LEFT(D700,8)=\"MODELO A\"), AND(LEFT($D$636,8)=\"MODELO A\", $F$636=\"Atribuir valor detalhado por Fase/Elemento\")), I700, 0)","v":0},{"$f":"IF(OR(AND(LEFT($D$636,8)=\"MODELO M\", LEFT(D700,8)=\"MODELO B\"), AND(LEFT($D$636,8)=\"MODELO B\", $K$636=\"Atribuir valor detalhado por Fase/Elemento\")), P700, 0)","v":0},{"$f":"IF(OR(AND(LEFT($D$636,8)=\"MODELO M\", LEFT(D700,8)=\"MODELO C\"), AND(LEFT($D$636,8)=\"MODELO C\", $R$636=\"Atribuir valor detalhado por Fase/Elemento\")), X700, 0)","v":0},{"$f":"IF(OR(AND(LEFT($D$636,8)=\"MODELO M\", LEFT(D700,8)=\"MODELO D\"), AND(LEFT($D$636,8)=\"MODELO D\", $Z$636=\"Atribuir valor detalhado por Fase/Elemento\")), AC700, 0)","v":0},{"$f":"SUM(BH700:BK700)","v":0},"MODELO A - TEMPO - N.º DE HORAS DE TRABALHO"]
[null,{"$f":"IF(B695=\"ocultar\",\"ocultar\",\"mostrar\")","v":"ocultar"},"SUB-TOTAL",null,null,null,{"$f":"SUBTOTAL(109,G696:G700)","v":0},null,{"$f":"SUBTOTAL(109,I696:I700)","v":0},null,null,null,null,null,{"$f":"SUBTOTAL(9,O696:O700)","v":0},{"$f":"SUBTOTAL(9,P696:P700)","v":0},null,null,null,null,null,null,{"$f":"SUBTOTAL(9,W696:W700)","v":0},{"$f":"SUBTOTAL(9,X696:X700)","v":0},null,null,null,null,{"$f":"SUBTOTAL(9,AC696:AC700)","v":0},null,{"$f":"SUBTOTAL(109,AE696:AE700)","v":0},null,null,null,null,null,null,null,null,null,null,null,null,null,null,null,null,null,null,null,null,null,null,null,null,null,null,null,null,null,null,null,null,null,"MODELO A - TEMPO - N.º DE HORAS DE TRABALHO"]
[null,{"$f":"IF($B$636=\"ocultar\",\"ocultar\",IF('SA - ATIVIDADES'!$G$77=\"Fase Única\",\"ocultar\",IF('SA - ATIVIDADES'!G87=TRUE,\"mostrar\",\"ocultar\")))","v":"ocultar"},"ESPECIALIDADE 10",null,null,null,null,null,null,null,null,null,null,null,null,null,null,null,null,null,null,null,null,null,null,null,null,null,null,null,null,null,null,null,null,null,null,null,null,null,null,null,null,null,null,null,null,null,null,null,null,null,null,null,null,null,null,null,null,null,null,null,null,null,"MODELO A - TEMPO - N.º DE HORAS DE TRABALHO"]
[null,{"$f":"IF($B$702=\"ocultar\",\"ocultar\",IF('SA - ATIVIDADES'!$G$87=TRUE,IF('SA - ATIVIDADES'!$H$87>='SA - SERVICOS BASE'!AH703,\"mostrar\",\"ocultar\"),\"ocultar\"))","v":"ocultar"},"Especialidade (a preencher)","MODELO A - TEMPO - N.º DE HORAS DE TRABALHO",null,null,0,0,{"$f":"G703*H703","v":0},null,null,null,null,null,0,{"$f":"$P$636*O703","v":0},null,null,null,null,null,null,0,{"$f":"$P$636*W703","v":0},null,null,0,0,{"$f":"AA703*AB703","v":0},null,{"$f":"BL703","v":0},null,null,1,null,null,null,null,null,null,null,null,null,null,null,null,null,null,null,null,null,null,null,null,null,null,null,null,null,{"$f":"IF(OR(AND(LEFT($D$636,8)=\"MODELO M\", LEFT(D703,8)=\"MODELO A\"), AND(LEFT($D$636,8)=\"MODELO A\", $F$636=\"Atribuir valor detalhado por Fase/Elemento\")), I703, 0)","v":0},{"$f":"IF(OR(AND(LEFT($D$636,8)=\"MODELO M\", LEFT(D703,8)=\"MODELO B\"), AND(LEFT($D$636,8)=\"MODELO B\", $K$636=\"Atribuir valor detalhado por Fase/Elemento\")), P703, 0)","v":0},{"$f":"IF(OR(AND(LEFT($D$636,8)=\"MODELO M\", LEFT(D703,8)=\"MODELO C\"), AND(LEFT($D$636,8)=\"MODELO C\", $R$636=\"Atribuir valor detalhado por Fase/Elemento\")), X703, 0)","v":0},{"$f":"IF(OR(AND(LEFT($D$636,8)=\"MODELO M\", LEFT(D703,8)=\"MODELO D\"), AND(LEFT($D$636,8)=\"MODELO D\", $Z$636=\"Atribuir valor detalhado por Fase/Elemento\")), AC703, 0)","v":0},{"$f":"SUM(BH703:BK703)","v":0},"MODELO A - TEMPO - N.º DE HORAS DE TRABALHO"]
[null,{"$f":"IF($B$702=\"ocultar\",\"ocultar\",IF('SA - ATIVIDADES'!$G$87=TRUE,IF('SA - ATIVIDADES'!$H$87>='SA - SERVICOS BASE'!AH704,\"mostrar\",\"ocultar\"),\"ocultar\"))","v":"ocultar"},"Especialidade (a preencher)","MODELO A - TEMPO - N.º DE HORAS DE TRABALHO",null,null,0,0,{"$f":"G704*H704","v":0},null,null,null,null,null,0,{"$f":"$P$636*O704","v":0},null,null,null,null,null,null,0,{"$f":"$P$636*W704","v":0},null,null,0,0,0,null,{"$f":"BL704","v":0},null,null,2,null,null,null,null,null,null,null,null,null,null,null,null,null,null,null,null,null,null,null,null,null,null,null,null,null,{"$f":"IF(OR(AND(LEFT($D$636,8)=\"MODELO M\", LEFT(D704,8)=\"MODELO A\"), AND(LEFT($D$636,8)=\"MODELO A\", $F$636=\"Atribuir valor detalhado por Fase/Elemento\")), I704, 0)","v":0},{"$f":"IF(OR(AND(LEFT($D$636,8)=\"MODELO M\", LEFT(D704,8)=\"MODELO B\"), AND(LEFT($D$636,8)=\"MODELO B\", $K$636=\"Atribuir valor detalhado por Fase/Elemento\")), P704, 0)","v":0},{"$f":"IF(OR(AND(LEFT($D$636,8)=\"MODELO M\", LEFT(D704,8)=\"MODELO C\"), AND(LEFT($D$636,8)=\"MODELO C\", $R$636=\"Atribuir valor detalhado por Fase/Elemento\")), X704, 0)","v":0},{"$f":"IF(OR(AND(LEFT($D$636,8)=\"MODELO M\", LEFT(D704,8)=\"MODELO D\"), AND(LEFT($D$636,8)=\"MODELO D\", $Z$636=\"Atribuir valor detalhado por Fase/Elemento\")), AC704, 0)","v":0},{"$f":"SUM(BH704:BK704)","v":0},"MODELO A - TEMPO - N.º DE HORAS DE TRABALHO"]
[null,{"$f":"IF($B$702=\"ocultar\",\"ocultar\",IF('SA - ATIVIDADES'!$G$87=TRUE,IF('SA - ATIVIDADES'!$H$87>='SA - SERVICOS BASE'!AH705,\"mostrar\",\"ocultar\"),\"ocultar\"))","v":"ocultar"},"Especialidade (a preencher)","MODELO A - TEMPO - N.º DE HORAS DE TRABALHO",null,null,0,0,{"$f":"G705*H705","v":0},null,null,null,null,null,0,0,null,null,null,null,null,null,0,0,null,null,0,0,0,null,{"$f":"BL705","v":0},null,null,3,null,null,null,null,null,null,null,null,null,null,null,null,null,null,null,null,null,null,null,null,null,null,null,null,null,{"$f":"IF(OR(AND(LEFT($D$636,8)=\"MODELO M\", LEFT(D705,8)=\"MODELO A\"), AND(LEFT($D$636,8)=\"MODELO A\", $F$636=\"Atribuir valor detalhado por Fase/Elemento\")), I705, 0)","v":0},{"$f":"IF(OR(AND(LEFT($D$636,8)=\"MODELO M\", LEFT(D705,8)=\"MODELO B\"), AND(LEFT($D$636,8)=\"MODELO B\", $K$636=\"Atribuir valor detalhado por Fase/Elemento\")), P705, 0)","v":0},{"$f":"IF(OR(AND(LEFT($D$636,8)=\"MODELO M\", LEFT(D705,8)=\"MODELO C\"), AND(LEFT($D$636,8)=\"MODELO C\", $R$636=\"Atribuir valor detalhado por Fase/Elemento\")), X705, 0)","v":0},{"$f":"IF(OR(AND(LEFT($D$636,8)=\"MODELO M\", LEFT(D705,8)=\"MODELO D\"), AND(LEFT($D$636,8)=\"MODELO D\", $Z$636=\"Atribuir valor detalhado por Fase/Elemento\")), AC705, 0)","v":0},{"$f":"SUM(BH705:BK705)","v":0},"MODELO A - TEMPO - N.º DE HORAS DE TRABALHO"]
[null,{"$f":"IF($B$702=\"ocultar\",\"ocultar\",IF('SA - ATIVIDADES'!$G$87=TRUE,IF('SA - ATIVIDADES'!$H$87>='SA - SERVICOS BASE'!AH706,\"mostrar\",\"ocultar\"),\"ocultar\"))","v":"ocultar"},"Especialidade (a preencher)","MODELO A - TEMPO - N.º DE HORAS DE TRABALHO",null,null,0,0,{"$f":"G706*H706","v":0},null,null,null,null,null,0,0,null,null,null,null,null,null,0,0,null,null,0,0,0,null,{"$f":"BL706","v":0},null,null,4,null,null,null,null,null,null,null,null,null,null,null,null,null,null,null,null,null,null,null,null,null,null,null,null,null,{"$f":"IF(OR(AND(LEFT($D$636,8)=\"MODELO M\", LEFT(D706,8)=\"MODELO A\"), AND(LEFT($D$636,8)=\"MODELO A\", $F$636=\"Atribuir valor detalhado por Fase/Elemento\")), I706, 0)","v":0},{"$f":"IF(OR(AND(LEFT($D$636,8)=\"MODELO M\", LEFT(D706,8)=\"MODELO B\"), AND(LEFT($D$636,8)=\"MODELO B\", $K$636=\"Atribuir valor detalhado por Fase/Elemento\")), P706, 0)","v":0},{"$f":"IF(OR(AND(LEFT($D$636,8)=\"MODELO M\", LEFT(D706,8)=\"MODELO C\"), AND(LEFT($D$636,8)=\"MODELO C\", $R$636=\"Atribuir valor detalhado por Fase/Elemento\")), X706, 0)","v":0},{"$f":"IF(OR(AND(LEFT($D$636,8)=\"MODELO M\", LEFT(D706,8)=\"MODELO D\"), AND(LEFT($D$636,8)=\"MODELO D\", $Z$636=\"Atribuir valor detalhado por Fase/Elemento\")), AC706, 0)","v":0},{"$f":"SUM(BH706:BK706)","v":0},"MODELO A - TEMPO - N.º DE HORAS DE TRABALHO"]
[null,{"$f":"IF($B$702=\"ocultar\",\"ocultar\",IF('SA - ATIVIDADES'!$G$87=TRUE,IF('SA - ATIVIDADES'!$H$87>='SA - SERVICOS BASE'!AH707,\"mostrar\",\"ocultar\"),\"ocultar\"))","v":"ocultar"},"Especialidade (a preencher)","MODELO A - TEMPO - N.º DE HORAS DE TRABALHO",null,null,0,0,{"$f":"G707*H707","v":0},null,null,null,null,null,0,0,null,null,null,null,null,null,0,0,null,null,0,0,0,null,{"$f":"BL707","v":0},null,null,5,null,null,null,null,null,null,null,null,null,null,null,null,null,null,null,null,null,null,null,null,null,null,null,null,null,{"$f":"IF(OR(AND(LEFT($D$636,8)=\"MODELO M\", LEFT(D707,8)=\"MODELO A\"), AND(LEFT($D$636,8)=\"MODELO A\", $F$636=\"Atribuir valor detalhado por Fase/Elemento\")), I707, 0)","v":0},{"$f":"IF(OR(AND(LEFT($D$636,8)=\"MODELO M\", LEFT(D707,8)=\"MODELO B\"), AND(LEFT($D$636,8)=\"MODELO B\", $K$636=\"Atribuir valor detalhado por Fase/Elemento\")), P707, 0)","v":0},{"$f":"IF(OR(AND(LEFT($D$636,8)=\"MODELO M\", LEFT(D707,8)=\"MODELO C\"), AND(LEFT($D$636,8)=\"MODELO C\", $R$636=\"Atribuir valor detalhado por Fase/Elemento\")), X707, 0)","v":0},{"$f":"IF(OR(AND(LEFT($D$636,8)=\"MODELO M\", LEFT(D707,8)=\"MODELO D\"), AND(LEFT($D$636,8)=\"MODELO D\", $Z$636=\"Atribuir valor detalhado por Fase/Elemento\")), AC707, 0)","v":0},{"$f":"SUM(BH707:BK707)","v":0},"MODELO A - TEMPO - N.º DE HORAS DE TRABALHO"]
[null,{"$f":"IF(B702=\"ocultar\",\"ocultar\",\"mostrar\")","v":"ocultar"},"SUB-TOTAL",null,null,null,{"$f":"SUBTOTAL(109,G703:G707)","v":0},null,{"$f":"SUBTOTAL(109,I703:I707)","v":0},null,null,null,null,null,{"$f":"SUBTOTAL(9,O703:O707)","v":0},{"$f":"SUBTOTAL(9,P703:P707)","v":0},null,null,null,null,null,null,{"$f":"SUBTOTAL(9,W703:W707)","v":0},{"$f":"SUBTOTAL(9,X703:X707)","v":0},null,null,null,null,{"$f":"SUBTOTAL(9,AC703:AC707)","v":0},null,{"$f":"SUBTOTAL(109,AE703:AE707)","v":0},null,null,null,null,null,null,null,null,null,null,null,null,null,null,null,null,null,null,null,null,null,null,null,null,null,null,null,null,null,null,null,null,null,"MODELO A - TEMPO - N.º DE HORAS DE TRABALHO"]
[null,{"$f":"IF($B$636=\"ocultar\",\"ocultar\",IF('SA - ATIVIDADES'!$G$77=\"Fase Única\",\"ocultar\",IF('SA - ATIVIDADES'!G88=TRUE,\"mostrar\",\"ocultar\")))","v":"ocultar"},"ESPECIALIDADE 11",null,null,null,null,null,null,null,null,null,null,null,null,null,null,null,null,null,null,null,null,null,null,null,null,null,null,null,null,null,null,null,null,null,null,null,null,null,null,null,null,null,null,null,null,null,null,null,null,null,null,null,null,null,null,null,null,null,null,null,null,null,"MODELO A - TEMPO - N.º DE HORAS DE TRABALHO"]
[null,{"$f":"IF($B$709=\"ocultar\",\"ocultar\",IF('SA - ATIVIDADES'!$G$88=TRUE,IF('SA - ATIVIDADES'!$H$88>='SA - SERVICOS BASE'!AH710,\"mostrar\",\"ocultar\"),\"ocultar\"))","v":"ocultar"},"Especialidade (a preencher)","MODELO A - TEMPO - N.º DE HORAS DE TRABALHO",null,null,0,0,{"$f":"G710*H710","v":0},null,null,null,null,null,0,{"$f":"$P$636*O710","v":0},null,null,null,null,null,null,0,{"$f":"$P$636*W710","v":0},null,null,0,0,{"$f":"AA710*AB710","v":0},null,{"$f":"BL710","v":0},null,null,1,null,null,null,null,null,null,null,null,null,null,null,null,null,null,null,null,null,null,null,null,null,null,null,null,null,{"$f":"IF(OR(AND(LEFT($D$636,8)=\"MODELO M\", LEFT(D710,8)=\"MODELO A\"), AND(LEFT($D$636,8)=\"MODELO A\", $F$636=\"Atribuir valor detalhado por Fase/Elemento\")), I710, 0)","v":0},{"$f":"IF(OR(AND(LEFT($D$636,8)=\"MODELO M\", LEFT(D710,8)=\"MODELO B\"), AND(LEFT($D$636,8)=\"MODELO B\", $K$636=\"Atribuir valor detalhado por Fase/Elemento\")), P710, 0)","v":0},{"$f":"IF(OR(AND(LEFT($D$636,8)=\"MODELO M\", LEFT(D710,8)=\"MODELO C\"), AND(LEFT($D$636,8)=\"MODELO C\", $R$636=\"Atribuir valor detalhado por Fase/Elemento\")), X710, 0)","v":0},{"$f":"IF(OR(AND(LEFT($D$636,8)=\"MODELO M\", LEFT(D710,8)=\"MODELO D\"), AND(LEFT($D$636,8)=\"MODELO D\", $Z$636=\"Atribuir valor detalhado por Fase/Elemento\")), AC710, 0)","v":0},{"$f":"SUM(BH710:BK710)","v":0},"MODELO A - TEMPO - N.º DE HORAS DE TRABALHO"]
[null,{"$f":"IF($B$709=\"ocultar\",\"ocultar\",IF('SA - ATIVIDADES'!$G$88=TRUE,IF('SA - ATIVIDADES'!$H$88>='SA - SERVICOS BASE'!AH711,\"mostrar\",\"ocultar\"),\"ocultar\"))","v":"ocultar"},"Especialidade (a preencher)","MODELO A - TEMPO - N.º DE HORAS DE TRABALHO",null,null,0,0,{"$f":"G711*H711","v":0},null,null,null,null,null,0,{"$f":"$P$636*O711","v":0},null,null,null,null,null,null,0,{"$f":"$P$636*W711","v":0},null,null,0,0,0,null,{"$f":"BL711","v":0},null,null,2,null,null,null,null,null,null,null,null,null,null,null,null,null,null,null,null,null,null,null,null,null,null,null,null,null,{"$f":"IF(OR(AND(LEFT($D$636,8)=\"MODELO M\", LEFT(D711,8)=\"MODELO A\"), AND(LEFT($D$636,8)=\"MODELO A\", $F$636=\"Atribuir valor detalhado por Fase/Elemento\")), I711, 0)","v":0},{"$f":"IF(OR(AND(LEFT($D$636,8)=\"MODELO M\", LEFT(D711,8)=\"MODELO B\"), AND(LEFT($D$636,8)=\"MODELO B\", $K$636=\"Atribuir valor detalhado por Fase/Elemento\")), P711, 0)","v":0},{"$f":"IF(OR(AND(LEFT($D$636,8)=\"MODELO M\", LEFT(D711,8)=\"MODELO C\"), AND(LEFT($D$636,8)=\"MODELO C\", $R$636=\"Atribuir valor detalhado por Fase/Elemento\")), X711, 0)","v":0},{"$f":"IF(OR(AND(LEFT($D$636,8)=\"MODELO M\", LEFT(D711,8)=\"MODELO D\"), AND(LEFT($D$636,8)=\"MODELO D\", $Z$636=\"Atribuir valor detalhado por Fase/Elemento\")), AC711, 0)","v":0},{"$f":"SUM(BH711:BK711)","v":0},"MODELO A - TEMPO - N.º DE HORAS DE TRABALHO"]
[null,{"$f":"IF($B$709=\"ocultar\",\"ocultar\",IF('SA - ATIVIDADES'!$G$88=TRUE,IF('SA - ATIVIDADES'!$H$88>='SA - SERVICOS BASE'!AH712,\"mostrar\",\"ocultar\"),\"ocultar\"))","v":"ocultar"},"Especialidade (a preencher)","MODELO A - TEMPO - N.º DE HORAS DE TRABALHO",null,null,0,0,{"$f":"G712*H712","v":0},null,null,null,null,null,0,0,null,null,null,null,null,null,0,0,null,null,0,0,0,null,{"$f":"BL712","v":0},null,null,3,null,null,null,null,null,null,null,null,null,null,null,null,null,null,null,null,null,null,null,null,null,null,null,null,null,{"$f":"IF(OR(AND(LEFT($D$636,8)=\"MODELO M\", LEFT(D712,8)=\"MODELO A\"), AND(LEFT($D$636,8)=\"MODELO A\", $F$636=\"Atribuir valor detalhado por Fase/Elemento\")), I712, 0)","v":0},{"$f":"IF(OR(AND(LEFT($D$636,8)=\"MODELO M\", LEFT(D712,8)=\"MODELO B\"), AND(LEFT($D$636,8)=\"MODELO B\", $K$636=\"Atribuir valor detalhado por Fase/Elemento\")), P712, 0)","v":0},{"$f":"IF(OR(AND(LEFT($D$636,8)=\"MODELO M\", LEFT(D712,8)=\"MODELO C\"), AND(LEFT($D$636,8)=\"MODELO C\", $R$636=\"Atribuir valor detalhado por Fase/Elemento\")), X712, 0)","v":0},{"$f":"IF(OR(AND(LEFT($D$636,8)=\"MODELO M\", LEFT(D712,8)=\"MODELO D\"), AND(LEFT($D$636,8)=\"MODELO D\", $Z$636=\"Atribuir valor detalhado por Fase/Elemento\")), AC712, 0)","v":0},{"$f":"SUM(BH712:BK712)","v":0},"MODELO A - TEMPO - N.º DE HORAS DE TRABALHO"]
[null,{"$f":"IF($B$709=\"ocultar\",\"ocultar\",IF('SA - ATIVIDADES'!$G$88=TRUE,IF('SA - ATIVIDADES'!$H$88>='SA - SERVICOS BASE'!AH713,\"mostrar\",\"ocultar\"),\"ocultar\"))","v":"ocultar"},"Especialidade (a preencher)","MODELO A - TEMPO - N.º DE HORAS DE TRABALHO",null,null,0,0,{"$f":"G713*H713","v":0},null,null,null,null,null,0,0,null,null,null,null,null,null,0,0,null,null,0,0,0,null,{"$f":"BL713","v":0},null,null,4,null,null,null,null,null,null,null,null,null,null,null,null,null,null,null,null,null,null,null,null,null,null,null,null,null,{"$f":"IF(OR(AND(LEFT($D$636,8)=\"MODELO M\", LEFT(D713,8)=\"MODELO A\"), AND(LEFT($D$636,8)=\"MODELO A\", $F$636=\"Atribuir valor detalhado por Fase/Elemento\")), I713, 0)","v":0},{"$f":"IF(OR(AND(LEFT($D$636,8)=\"MODELO M\", LEFT(D713,8)=\"MODELO B\"), AND(LEFT($D$636,8)=\"MODELO B\", $K$636=\"Atribuir valor detalhado por Fase/Elemento\")), P713, 0)","v":0},{"$f":"IF(OR(AND(LEFT($D$636,8)=\"MODELO M\", LEFT(D713,8)=\"MODELO C\"), AND(LEFT($D$636,8)=\"MODELO C\", $R$636=\"Atribuir valor detalhado por Fase/Elemento\")), X713, 0)","v":0},{"$f":"IF(OR(AND(LEFT($D$636,8)=\"MODELO M\", LEFT(D713,8)=\"MODELO D\"), AND(LEFT($D$636,8)=\"MODELO D\", $Z$636=\"Atribuir valor detalhado por Fase/Elemento\")), AC713, 0)","v":0},{"$f":"SUM(BH713:BK713)","v":0},"MODELO A - TEMPO - N.º DE HORAS DE TRABALHO"]
[null,{"$f":"IF($B$709=\"ocultar\",\"ocultar\",IF('SA - ATIVIDADES'!$G$88=TRUE,IF('SA - ATIVIDADES'!$H$88>='SA - SERVICOS BASE'!AH714,\"mostrar\",\"ocultar\"),\"ocultar\"))","v":"ocultar"},"Especialidade (a preencher)","MODELO A - TEMPO - N.º DE HORAS DE TRABALHO",null,null,0,0,{"$f":"G714*H714","v":0},null,null,null,null,null,0,0,null,null,null,null,null,null,0,0,null,null,0,0,0,null,{"$f":"BL714","v":0},null,null,5,null,null,null,null,null,null,null,null,null,null,null,null,null,null,null,null,null,null,null,null,null,null,null,null,null,{"$f":"IF(OR(AND(LEFT($D$636,8)=\"MODELO M\", LEFT(D714,8)=\"MODELO A\"), AND(LEFT($D$636,8)=\"MODELO A\", $F$636=\"Atribuir valor detalhado por Fase/Elemento\")), I714, 0)","v":0},{"$f":"IF(OR(AND(LEFT($D$636,8)=\"MODELO M\", LEFT(D714,8)=\"MODELO B\"), AND(LEFT($D$636,8)=\"MODELO B\", $K$636=\"Atribuir valor detalhado por Fase/Elemento\")), P714, 0)","v":0},{"$f":"IF(OR(AND(LEFT($D$636,8)=\"MODELO M\", LEFT(D714,8)=\"MODELO C\"), AND(LEFT($D$636,8)=\"MODELO C\", $R$636=\"Atribuir valor detalhado por Fase/Elemento\")), X714, 0)","v":0},{"$f":"IF(OR(AND(LEFT($D$636,8)=\"MODELO M\", LEFT(D714,8)=\"MODELO D\"), AND(LEFT($D$636,8)=\"MODELO D\", $Z$636=\"Atribuir valor detalhado por Fase/Elemento\")), AC714, 0)","v":0},{"$f":"SUM(BH714:BK714)","v":0},"MODELO A - TEMPO - N.º DE HORAS DE TRABALHO"]
[null,{"$f":"IF(B709=\"ocultar\",\"ocultar\",\"mostrar\")","v":"ocultar"},"SUB-TOTAL",null,null,null,{"$f":"SUBTOTAL(109,G710:G714)","v":0},null,{"$f":"SUBTOTAL(109,I710:I714)","v":0},null,null,null,null,null,{"$f":"SUBTOTAL(9,O710:O714)","v":0},{"$f":"SUBTOTAL(9,P710:P714)","v":0},null,null,null,null,null,null,{"$f":"SUBTOTAL(9,W710:W714)","v":0},{"$f":"SUBTOTAL(9,X710:X714)","v":0},null,null,null,null,{"$f":"SUBTOTAL(9,AC710:AC714)","v":0},null,{"$f":"SUBTOTAL(109,AE710:AE714)","v":0},null,null,null,null,null,null,null,null,null,null,null,null,null,null,null,null,null,null,null,null,null,null,null,null,null,null,null,null,null,null,null,null,null,"MODELO A - TEMPO - N.º DE HORAS DE TRABALHO"]
[null,{"$f":"IF($B$636=\"ocultar\",\"ocultar\",IF('SA - ATIVIDADES'!$G$77=\"Fase Única\",\"ocultar\",IF('SA - ATIVIDADES'!G89=TRUE,\"mostrar\",\"ocultar\")))","v":"ocultar"},"ESPECIALIDADE 12",null,null,null,null,null,null,null,null,null,null,null,null,null,null,null,null,null,null,null,null,null,null,null,null,null,null,null,null,null,null,null,null,null,null,null,null,null,null,null,null,null,null,null,null,null,null,null,null,null,null,null,null,null,null,null,null,null,null,null,null,null,{"$f":"IF($AH716<>\"\",BM715,IF(LEFT($D716,6)=\"MODELO\",$D716,BM715))","v":"MODELO A - TEMPO - N.º DE HORAS DE TRABALHO"}]
[null,{"$f":"IF($B$716=\"ocultar\",\"ocultar\",IF('SA - ATIVIDADES'!$G$89=TRUE,IF('SA - ATIVIDADES'!$H$89>='SA - SERVICOS BASE'!AH717,\"mostrar\",\"ocultar\"),\"ocultar\"))","v":"ocultar"},"Especialidade (a preencher)","MODELO A - TEMPO - N.º DE HORAS DE TRABALHO",null,null,0,0,{"$f":"G717*H717","v":0},null,null,null,null,null,0,{"$f":"$P$636*O717","v":0},null,null,null,null,null,null,0,{"$f":"$P$636*W717","v":0},null,null,0,0,{"$f":"AA717*AB717","v":0},null,{"$f":"BL717","v":0},null,null,1,null,null,null,null,null,null,null,null,null,null,null,null,null,null,null,null,null,null,null,null,null,null,null,null,null,{"$f":"IF(OR(AND(LEFT($D$636,8)=\"MODELO M\", LEFT(D717,8)=\"MODELO A\"), AND(LEFT($D$636,8)=\"MODELO A\", $F$636=\"Atribuir valor detalhado por Fase/Elemento\")), I717, 0)","v":0},{"$f":"IF(OR(AND(LEFT($D$636,8)=\"MODELO M\", LEFT(D717,8)=\"MODELO B\"), AND(LEFT($D$636,8)=\"MODELO B\", $K$636=\"Atribuir valor detalhado por Fase/Elemento\")), P717, 0)","v":0},{"$f":"IF(OR(AND(LEFT($D$636,8)=\"MODELO M\", LEFT(D717,8)=\"MODELO C\"), AND(LEFT($D$636,8)=\"MODELO C\", $R$636=\"Atribuir valor detalhado por Fase/Elemento\")), X717, 0)","v":0},{"$f":"IF(OR(AND(LEFT($D$636,8)=\"MODELO M\", LEFT(D717,8)=\"MODELO D\"), AND(LEFT($D$636,8)=\"MODELO D\", $Z$636=\"Atribuir valor detalhado por Fase/Elemento\")), AC717, 0)","v":0},{"$f":"SUM(BH717:BK717)","v":0},"MODELO A - TEMPO - N.º DE HORAS DE TRABALHO"]
[null,{"$f":"IF($B$716=\"ocultar\",\"ocultar\",IF('SA - ATIVIDADES'!$G$89=TRUE,IF('SA - ATIVIDADES'!$H$89>='SA - SERVICOS BASE'!AH718,\"mostrar\",\"ocultar\"),\"ocultar\"))","v":"ocultar"},"Especialidade (a preencher)","MODELO A - TEMPO - N.º DE HORAS DE TRABALHO",null,null,0,0,{"$f":"G718*H718","v":0},null,null,null,null,null,0,{"$f":"$P$636*O718","v":0},null,null,null,null,null,null,0,{"$f":"$P$636*W718","v":0},null,null,0,0,0,null,{"$f":"BL718","v":0},null,null,2,null,null,null,null,null,null,null,null,null,null,null,null,null,null,null,null,null,null,null,null,null,null,null,null,null,{"$f":"IF(OR(AND(LEFT($D$636,8)=\"MODELO M\", LEFT(D718,8)=\"MODELO A\"), AND(LEFT($D$636,8)=\"MODELO A\", $F$636=\"Atribuir valor detalhado por Fase/Elemento\")), I718, 0)","v":0},{"$f":"IF(OR(AND(LEFT($D$636,8)=\"MODELO M\", LEFT(D718,8)=\"MODELO B\"), AND(LEFT($D$636,8)=\"MODELO B\", $K$636=\"Atribuir valor detalhado por Fase/Elemento\")), P718, 0)","v":0},{"$f":"IF(OR(AND(LEFT($D$636,8)=\"MODELO M\", LEFT(D718,8)=\"MODELO C\"), AND(LEFT($D$636,8)=\"MODELO C\", $R$636=\"Atribuir valor detalhado por Fase/Elemento\")), X718, 0)","v":0},{"$f":"IF(OR(AND(LEFT($D$636,8)=\"MODELO M\", LEFT(D718,8)=\"MODELO D\"), AND(LEFT($D$636,8)=\"MODELO D\", $Z$636=\"Atribuir valor detalhado por Fase/Elemento\")), AC718, 0)","v":0},{"$f":"SUM(BH718:BK718)","v":0},"MODELO A - TEMPO - N.º DE HORAS DE TRABALHO"]
[null,{"$f":"IF($B$716=\"ocultar\",\"ocultar\",IF('SA - ATIVIDADES'!$G$89=TRUE,IF('SA - ATIVIDADES'!$H$89>='SA - SERVICOS BASE'!AH719,\"mostrar\",\"ocultar\"),\"ocultar\"))","v":"ocultar"},"Especialidade (a preencher)","MODELO A - TEMPO - N.º DE HORAS DE TRABALHO",null,null,0,0,{"$f":"G719*H719","v":0},null,null,null,null,null,0,0,null,null,null,null,null,null,0,0,null,null,0,0,0,null,{"$f":"BL719","v":0},null,null,3,null,null,null,null,null,null,null,null,null,null,null,null,null,null,null,null,null,null,null,null,null,null,null,null,null,{"$f":"IF(OR(AND(LEFT($D$636,8)=\"MODELO M\", LEFT(D719,8)=\"MODELO A\"), AND(LEFT($D$636,8)=\"MODELO A\", $F$636=\"Atribuir valor detalhado por Fase/Elemento\")), I719, 0)","v":0},{"$f":"IF(OR(AND(LEFT($D$636,8)=\"MODELO M\", LEFT(D719,8)=\"MODELO B\"), AND(LEFT($D$636,8)=\"MODELO B\", $K$636=\"Atribuir valor detalhado por Fase/Elemento\")), P719, 0)","v":0},{"$f":"IF(OR(AND(LEFT($D$636,8)=\"MODELO M\", LEFT(D719,8)=\"MODELO C\"), AND(LEFT($D$636,8)=\"MODELO C\", $R$636=\"Atribuir valor detalhado por Fase/Elemento\")), X719, 0)","v":0},{"$f":"IF(OR(AND(LEFT($D$636,8)=\"MODELO M\", LEFT(D719,8)=\"MODELO D\"), AND(LEFT($D$636,8)=\"MODELO D\", $Z$636=\"Atribuir valor detalhado por Fase/Elemento\")), AC719, 0)","v":0},{"$f":"SUM(BH719:BK719)","v":0},"MODELO A - TEMPO - N.º DE HORAS DE TRABALHO"]
[null,{"$f":"IF($B$716=\"ocultar\",\"ocultar\",IF('SA - ATIVIDADES'!$G$89=TRUE,IF('SA - ATIVIDADES'!$H$89>='SA - SERVICOS BASE'!AH720,\"mostrar\",\"ocultar\"),\"ocultar\"))","v":"ocultar"},"Especialidade (a preencher)","MODELO A - TEMPO - N.º DE HORAS DE TRABALHO",null,null,0,0,{"$f":"G720*H720","v":0},null,null,null,null,null,0,0,null,null,null,null,null,null,0,0,null,null,0,0,0,null,{"$f":"BL720","v":0},null,null,4,null,null,null,null,null,null,null,null,null,null,null,null,null,null,null,null,null,null,null,null,null,null,null,null,null,{"$f":"IF(OR(AND(LEFT($D$636,8)=\"MODELO M\", LEFT(D720,8)=\"MODELO A\"), AND(LEFT($D$636,8)=\"MODELO A\", $F$636=\"Atribuir valor detalhado por Fase/Elemento\")), I720, 0)","v":0},{"$f":"IF(OR(AND(LEFT($D$636,8)=\"MODELO M\", LEFT(D720,8)=\"MODELO B\"), AND(LEFT($D$636,8)=\"MODELO B\", $K$636=\"Atribuir valor detalhado por Fase/Elemento\")), P720, 0)","v":0},{"$f":"IF(OR(AND(LEFT($D$636,8)=\"MODELO M\", LEFT(D720,8)=\"MODELO C\"), AND(LEFT($D$636,8)=\"MODELO C\", $R$636=\"Atribuir valor detalhado por Fase/Elemento\")), X720, 0)","v":0},{"$f":"IF(OR(AND(LEFT($D$636,8)=\"MODELO M\", LEFT(D720,8)=\"MODELO D\"), AND(LEFT($D$636,8)=\"MODELO D\", $Z$636=\"Atribuir valor detalhado por Fase/Elemento\")), AC720, 0)","v":0},{"$f":"SUM(BH720:BK720)","v":0},"MODELO A - TEMPO - N.º DE HORAS DE TRABALHO"]
[null,{"$f":"IF($B$716=\"ocultar\",\"ocultar\",IF('SA - ATIVIDADES'!$G$89=TRUE,IF('SA - ATIVIDADES'!$H$89>='SA - SERVICOS BASE'!AH721,\"mostrar\",\"ocultar\"),\"ocultar\"))","v":"ocultar"},"Especialidade (a preencher)","MODELO A - TEMPO - N.º DE HORAS DE TRABALHO",null,null,0,0,{"$f":"G721*H721","v":0},null,null,null,null,null,0,0,null,null,null,null,null,null,0,0,null,null,0,0,0,null,{"$f":"BL721","v":0},null,null,5,null,null,null,null,null,null,null,null,null,null,null,null,null,null,null,null,null,null,null,null,null,null,null,null,null,{"$f":"IF(OR(AND(LEFT($D$636,8)=\"MODELO M\", LEFT(D721,8)=\"MODELO A\"), AND(LEFT($D$636,8)=\"MODELO A\", $F$636=\"Atribuir valor detalhado por Fase/Elemento\")), I721, 0)","v":0},{"$f":"IF(OR(AND(LEFT($D$636,8)=\"MODELO M\", LEFT(D721,8)=\"MODELO B\"), AND(LEFT($D$636,8)=\"MODELO B\", $K$636=\"Atribuir valor detalhado por Fase/Elemento\")), P721, 0)","v":0},{"$f":"IF(OR(AND(LEFT($D$636,8)=\"MODELO M\", LEFT(D721,8)=\"MODELO C\"), AND(LEFT($D$636,8)=\"MODELO C\", $R$636=\"Atribuir valor detalhado por Fase/Elemento\")), X721, 0)","v":0},{"$f":"IF(OR(AND(LEFT($D$636,8)=\"MODELO M\", LEFT(D721,8)=\"MODELO D\"), AND(LEFT($D$636,8)=\"MODELO D\", $Z$636=\"Atribuir valor detalhado por Fase/Elemento\")), AC721, 0)","v":0},{"$f":"SUM(BH721:BK721)","v":0},"MODELO A - TEMPO - N.º DE HORAS DE TRABALHO"]
[null,{"$f":"IF(B716=\"ocultar\",\"ocultar\",\"mostrar\")","v":"ocultar"},"SUB-TOTAL",null,null,null,{"$f":"SUBTOTAL(109,G717:G721)","v":0},null,{"$f":"SUBTOTAL(109,I717:I721)","v":0},null,null,null,null,null,{"$f":"SUBTOTAL(9,O717:O721)","v":0},{"$f":"SUBTOTAL(9,P717:P721)","v":0},null,null,null,null,null,null,{"$f":"SUBTOTAL(9,W717:W721)","v":0},{"$f":"SUBTOTAL(9,X717:X721)","v":0},null,null,null,null,{"$f":"SUBTOTAL(9,AC717:AC721)","v":0},null,{"$f":"SUBTOTAL(109,AE717:AE721)","v":0},null,null,null,null,null,null,null,null,null,null,null,null,null,null,null,null,null,null,null,null,null,null,null,null,null,null,null,null,null,null,null,null,null,"MODELO A - TEMPO - N.º DE HORAS DE TRABALHO"]
[null,{"$f":"IF($B$636=\"ocultar\",\"ocultar\",IF('SA - ATIVIDADES'!$G$77=\"Fase Única\",\"ocultar\",IF('SA - ATIVIDADES'!G90=TRUE,\"mostrar\",\"ocultar\")))","v":"ocultar"},"ESPECIALIDADE 13",null,null,null,null,null,null,null,null,null,null,null,null,null,null,null,null,null,null,null,null,null,null,null,null,null,null,null,null,null,null,null,null,null,null,null,null,null,null,null,null,null,null,null,null,null,null,null,null,null,null,null,null,null,null,null,null,null,null,null,null,null,"MODELO A - TEMPO - N.º DE HORAS DE TRABALHO"]
[null,{"$f":"IF($B$723=\"ocultar\",\"ocultar\",IF('SA - ATIVIDADES'!$G$90=TRUE,IF('SA - ATIVIDADES'!$H$90>='SA - SERVICOS BASE'!AH724,\"mostrar\",\"ocultar\"),\"ocultar\"))","v":"ocultar"},"Especialidade (a preencher)","MODELO A - TEMPO - N.º DE HORAS DE TRABALHO",null,null,0,0,{"$f":"G724*H724","v":0},null,null,null,null,null,0,{"$f":"$P$636*O724","v":0},null,null,null,null,null,null,0,{"$f":"$P$636*W724","v":0},null,null,0,0,{"$f":"AA724*AB724","v":0},null,{"$f":"BL724","v":0},null,null,1,null,null,null,null,null,null,null,null,null,null,null,null,null,null,null,null,null,null,null,null,null,null,null,null,null,{"$f":"IF(OR(AND(LEFT($D$636,8)=\"MODELO M\", LEFT(D724,8)=\"MODELO A\"), AND(LEFT($D$636,8)=\"MODELO A\", $F$636=\"Atribuir valor detalhado por Fase/Elemento\")), I724, 0)","v":0},{"$f":"IF(OR(AND(LEFT($D$636,8)=\"MODELO M\", LEFT(D724,8)=\"MODELO B\"), AND(LEFT($D$636,8)=\"MODELO B\", $K$636=\"Atribuir valor detalhado por Fase/Elemento\")), P724, 0)","v":0},{"$f":"IF(OR(AND(LEFT($D$636,8)=\"MODELO M\", LEFT(D724,8)=\"MODELO C\"), AND(LEFT($D$636,8)=\"MODELO C\", $R$636=\"Atribuir valor detalhado por Fase/Elemento\")), X724, 0)","v":0},{"$f":"IF(OR(AND(LEFT($D$636,8)=\"MODELO M\", LEFT(D724,8)=\"MODELO D\"), AND(LEFT($D$636,8)=\"MODELO D\", $Z$636=\"Atribuir valor detalhado por Fase/Elemento\")), AC724, 0)","v":0},{"$f":"SUM(BH724:BK724)","v":0},"MODELO A - TEMPO - N.º DE HORAS DE TRABALHO"]
[null,{"$f":"IF($B$723=\"ocultar\",\"ocultar\",IF('SA - ATIVIDADES'!$G$90=TRUE,IF('SA - ATIVIDADES'!$H$90>='SA - SERVICOS BASE'!AH725,\"mostrar\",\"ocultar\"),\"ocultar\"))","v":"ocultar"},"Especialidade (a preencher)","MODELO A - TEMPO - N.º DE HORAS DE TRABALHO",null,null,0,0,{"$f":"G725*H725","v":0},null,null,null,null,null,0,{"$f":"$P$636*O725","v":0},null,null,null,null,null,null,0,{"$f":"$P$636*W725","v":0},null,null,0,0,0,null,{"$f":"BL725","v":0},null,null,2,null,null,null,null,null,null,null,null,null,null,null,null,null,null,null,null,null,null,null,null,null,null,null,null,null,{"$f":"IF(OR(AND(LEFT($D$636,8)=\"MODELO M\", LEFT(D725,8)=\"MODELO A\"), AND(LEFT($D$636,8)=\"MODELO A\", $F$636=\"Atribuir valor detalhado por Fase/Elemento\")), I725, 0)","v":0},{"$f":"IF(OR(AND(LEFT($D$636,8)=\"MODELO M\", LEFT(D725,8)=\"MODELO B\"), AND(LEFT($D$636,8)=\"MODELO B\", $K$636=\"Atribuir valor detalhado por Fase/Elemento\")), P725, 0)","v":0},{"$f":"IF(OR(AND(LEFT($D$636,8)=\"MODELO M\", LEFT(D725,8)=\"MODELO C\"), AND(LEFT($D$636,8)=\"MODELO C\", $R$636=\"Atribuir valor detalhado por Fase/Elemento\")), X725, 0)","v":0},{"$f":"IF(OR(AND(LEFT($D$636,8)=\"MODELO M\", LEFT(D725,8)=\"MODELO D\"), AND(LEFT($D$636,8)=\"MODELO D\", $Z$636=\"Atribuir valor detalhado por Fase/Elemento\")), AC725, 0)","v":0},{"$f":"SUM(BH725:BK725)","v":0},"MODELO A - TEMPO - N.º DE HORAS DE TRABALHO"]
[null,{"$f":"IF($B$723=\"ocultar\",\"ocultar\",IF('SA - ATIVIDADES'!$G$90=TRUE,IF('SA - ATIVIDADES'!$H$90>='SA - SERVICOS BASE'!AH726,\"mostrar\",\"ocultar\"),\"ocultar\"))","v":"ocultar"},"Especialidade (a preencher)","MODELO A - TEMPO - N.º DE HORAS DE TRABALHO",null,null,0,0,{"$f":"G726*H726","v":0},null,null,null,null,null,0,0,null,null,null,null,null,null,0,0,null,null,0,0,0,null,{"$f":"BL726","v":0},null,null,3,null,null,null,null,null,null,null,null,null,null,null,null,null,null,null,null,null,null,null,null,null,null,null,null,null,{"$f":"IF(OR(AND(LEFT($D$636,8)=\"MODELO M\", LEFT(D726,8)=\"MODELO A\"), AND(LEFT($D$636,8)=\"MODELO A\", $F$636=\"Atribuir valor detalhado por Fase/Elemento\")), I726, 0)","v":0},{"$f":"IF(OR(AND(LEFT($D$636,8)=\"MODELO M\", LEFT(D726,8)=\"MODELO B\"), AND(LEFT($D$636,8)=\"MODELO B\", $K$636=\"Atribuir valor detalhado por Fase/Elemento\")), P726, 0)","v":0},{"$f":"IF(OR(AND(LEFT($D$636,8)=\"MODELO M\", LEFT(D726,8)=\"MODELO C\"), AND(LEFT($D$636,8)=\"MODELO C\", $R$636=\"Atribuir valor detalhado por Fase/Elemento\")), X726, 0)","v":0},{"$f":"IF(OR(AND(LEFT($D$636,8)=\"MODELO M\", LEFT(D726,8)=\"MODELO D\"), AND(LEFT($D$636,8)=\"MODELO D\", $Z$636=\"Atribuir valor detalhado por Fase/Elemento\")), AC726, 0)","v":0},{"$f":"SUM(BH726:BK726)","v":0},"MODELO A - TEMPO - N.º DE HORAS DE TRABALHO"]
[null,{"$f":"IF($B$723=\"ocultar\",\"ocultar\",IF('SA - ATIVIDADES'!$G$90=TRUE,IF('SA - ATIVIDADES'!$H$90>='SA - SERVICOS BASE'!AH727,\"mostrar\",\"ocultar\"),\"ocultar\"))","v":"ocultar"},"Especialidade (a preencher)","MODELO A - TEMPO - N.º DE HORAS DE TRABALHO",null,null,0,0,{"$f":"G727*H727","v":0},null,null,null,null,null,0,0,null,null,null,null,null,null,0,0,null,null,0,0,0,null,{"$f":"BL727","v":0},null,null,4,null,null,null,null,null,null,null,null,null,null,null,null,null,null,null,null,null,null,null,null,null,null,null,null,null,{"$f":"IF(OR(AND(LEFT($D$636,8)=\"MODELO M\", LEFT(D727,8)=\"MODELO A\"), AND(LEFT($D$636,8)=\"MODELO A\", $F$636=\"Atribuir valor detalhado por Fase/Elemento\")), I727, 0)","v":0},{"$f":"IF(OR(AND(LEFT($D$636,8)=\"MODELO M\", LEFT(D727,8)=\"MODELO B\"), AND(LEFT($D$636,8)=\"MODELO B\", $K$636=\"Atribuir valor detalhado por Fase/Elemento\")), P727, 0)","v":0},{"$f":"IF(OR(AND(LEFT($D$636,8)=\"MODELO M\", LEFT(D727,8)=\"MODELO C\"), AND(LEFT($D$636,8)=\"MODELO C\", $R$636=\"Atribuir valor detalhado por Fase/Elemento\")), X727, 0)","v":0},{"$f":"IF(OR(AND(LEFT($D$636,8)=\"MODELO M\", LEFT(D727,8)=\"MODELO D\"), AND(LEFT($D$636,8)=\"MODELO D\", $Z$636=\"Atribuir valor detalhado por Fase/Elemento\")), AC727, 0)","v":0},{"$f":"SUM(BH727:BK727)","v":0},"MODELO A - TEMPO - N.º DE HORAS DE TRABALHO"]
[null,{"$f":"IF($B$723=\"ocultar\",\"ocultar\",IF('SA - ATIVIDADES'!$G$90=TRUE,IF('SA - ATIVIDADES'!$H$90>='SA - SERVICOS BASE'!AH728,\"mostrar\",\"ocultar\"),\"ocultar\"))","v":"ocultar"},"Especialidade (a preencher)","MODELO A - TEMPO - N.º DE HORAS DE TRABALHO",null,null,0,0,{"$f":"G728*H728","v":0},null,null,null,null,null,0,0,null,null,null,null,null,null,0,0,null,null,0,0,0,null,{"$f":"BL728","v":0},null,null,5,null,null,null,null,null,null,null,null,null,null,null,null,null,null,null,null,null,null,null,null,null,null,null,null,null,{"$f":"IF(OR(AND(LEFT($D$636,8)=\"MODELO M\", LEFT(D728,8)=\"MODELO A\"), AND(LEFT($D$636,8)=\"MODELO A\", $F$636=\"Atribuir valor detalhado por Fase/Elemento\")), I728, 0)","v":0},{"$f":"IF(OR(AND(LEFT($D$636,8)=\"MODELO M\", LEFT(D728,8)=\"MODELO B\"), AND(LEFT($D$636,8)=\"MODELO B\", $K$636=\"Atribuir valor detalhado por Fase/Elemento\")), P728, 0)","v":0},{"$f":"IF(OR(AND(LEFT($D$636,8)=\"MODELO M\", LEFT(D728,8)=\"MODELO C\"), AND(LEFT($D$636,8)=\"MODELO C\", $R$636=\"Atribuir valor detalhado por Fase/Elemento\")), X728, 0)","v":0},{"$f":"IF(OR(AND(LEFT($D$636,8)=\"MODELO M\", LEFT(D728,8)=\"MODELO D\"), AND(LEFT($D$636,8)=\"MODELO D\", $Z$636=\"Atribuir valor detalhado por Fase/Elemento\")), AC728, 0)","v":0},{"$f":"SUM(BH728:BK728)","v":0},"MODELO A - TEMPO - N.º DE HORAS DE TRABALHO"]
[null,{"$f":"IF(B723=\"ocultar\",\"ocultar\",\"mostrar\")","v":"ocultar"},"SUB-TOTAL",null,null,null,{"$f":"SUBTOTAL(109,G724:G728)","v":0},null,{"$f":"SUBTOTAL(109,I724:I728)","v":0},null,null,null,null,null,{"$f":"SUBTOTAL(9,O724:O728)","v":0},{"$f":"SUBTOTAL(9,P724:P728)","v":0},null,null,null,null,null,null,{"$f":"SUBTOTAL(9,W724:W728)","v":0},{"$f":"SUBTOTAL(9,X724:X728)","v":0},null,null,null,null,{"$f":"SUBTOTAL(9,AC724:AC728)","v":0},null,{"$f":"SUBTOTAL(109,AE724:AE728)","v":0},null,null,null,null,null,null,null,null,null,null,null,null,null,null,null,null,null,null,null,null,null,null,null,null,null,null,null,null,null,null,null,null,null,"MODELO A - TEMPO - N.º DE HORAS DE TRABALHO"]
[null,{"$f":"IF($B$636=\"ocultar\",\"ocultar\",IF('SA - ATIVIDADES'!$G$77=\"Fase Única\",\"ocultar\",IF('SA - ATIVIDADES'!G91=TRUE,\"mostrar\",\"ocultar\")))","v":"ocultar"},"ESPECIALIDADE 14",null,null,null,null,null,null,null,null,null,null,null,null,null,null,null,null,null,null,null,null,null,null,null,null,null,null,null,null,null,null,null,null,null,null,null,null,null,null,null,null,null,null,null,null,null,null,null,null,null,null,null,null,null,null,null,null,null,null,null,null,null,"MODELO A - TEMPO - N.º DE HORAS DE TRABALHO"]
[null,{"$f":"IF($B$730=\"ocultar\",\"ocultar\",IF('SA - ATIVIDADES'!$G$91=TRUE,IF('SA - ATIVIDADES'!$H$91>='SA - SERVICOS BASE'!AH731,\"mostrar\",\"ocultar\"),\"ocultar\"))","v":"ocultar"},"Especialidade (a preencher)","MODELO A - TEMPO - N.º DE HORAS DE TRABALHO",null,null,0,0,{"$f":"G731*H731","v":0},null,null,null,null,null,0,{"$f":"$P$636*O731","v":0},null,null,null,null,null,null,0,{"$f":"$P$636*W731","v":0},null,null,0,0,{"$f":"AA731*AB731","v":0},null,{"$f":"BL731","v":0},null,null,1,null,null,null,null,null,null,null,null,null,null,null,null,null,null,null,null,null,null,null,null,null,null,null,null,null,{"$f":"IF(OR(AND(LEFT($D$636,8)=\"MODELO M\", LEFT(D731,8)=\"MODELO A\"), AND(LEFT($D$636,8)=\"MODELO A\", $F$636=\"Atribuir valor detalhado por Fase/Elemento\")), I731, 0)","v":0},{"$f":"IF(OR(AND(LEFT($D$636,8)=\"MODELO M\", LEFT(D731,8)=\"MODELO B\"), AND(LEFT($D$636,8)=\"MODELO B\", $K$636=\"Atribuir valor detalhado por Fase/Elemento\")), P731, 0)","v":0},{"$f":"IF(OR(AND(LEFT($D$636,8)=\"MODELO M\", LEFT(D731,8)=\"MODELO C\"), AND(LEFT($D$636,8)=\"MODELO C\", $R$636=\"Atribuir valor detalhado por Fase/Elemento\")), X731, 0)","v":0},{"$f":"IF(OR(AND(LEFT($D$636,8)=\"MODELO M\", LEFT(D731,8)=\"MODELO D\"), AND(LEFT($D$636,8)=\"MODELO D\", $Z$636=\"Atribuir valor detalhado por Fase/Elemento\")), AC731, 0)","v":0},{"$f":"SUM(BH731:BK731)","v":0},"MODELO A - TEMPO - N.º DE HORAS DE TRABALHO"]
[null,{"$f":"IF($B$730=\"ocultar\",\"ocultar\",IF('SA - ATIVIDADES'!$G$91=TRUE,IF('SA - ATIVIDADES'!$H$91>='SA - SERVICOS BASE'!AH732,\"mostrar\",\"ocultar\"),\"ocultar\"))","v":"ocultar"},"Especialidade (a preencher)","MODELO A - TEMPO - N.º DE HORAS DE TRABALHO",null,null,0,0,{"$f":"G732*H732","v":0},null,null,null,null,null,0,{"$f":"$P$636*O732","v":0},null,null,null,null,null,null,0,{"$f":"$P$636*W732","v":0},null,null,0,0,0,null,{"$f":"BL732","v":0},null,null,2,null,null,null,null,null,null,null,null,null,null,null,null,null,null,null,null,null,null,null,null,null,null,null,null,null,{"$f":"IF(OR(AND(LEFT($D$636,8)=\"MODELO M\", LEFT(D732,8)=\"MODELO A\"), AND(LEFT($D$636,8)=\"MODELO A\", $F$636=\"Atribuir valor detalhado por Fase/Elemento\")), I732, 0)","v":0},{"$f":"IF(OR(AND(LEFT($D$636,8)=\"MODELO M\", LEFT(D732,8)=\"MODELO B\"), AND(LEFT($D$636,8)=\"MODELO B\", $K$636=\"Atribuir valor detalhado por Fase/Elemento\")), P732, 0)","v":0},{"$f":"IF(OR(AND(LEFT($D$636,8)=\"MODELO M\", LEFT(D732,8)=\"MODELO C\"), AND(LEFT($D$636,8)=\"MODELO C\", $R$636=\"Atribuir valor detalhado por Fase/Elemento\")), X732, 0)","v":0},{"$f":"IF(OR(AND(LEFT($D$636,8)=\"MODELO M\", LEFT(D732,8)=\"MODELO D\"), AND(LEFT($D$636,8)=\"MODELO D\", $Z$636=\"Atribuir valor detalhado por Fase/Elemento\")), AC732, 0)","v":0},{"$f":"SUM(BH732:BK732)","v":0},"MODELO A - TEMPO - N.º DE HORAS DE TRABALHO"]
[null,{"$f":"IF($B$730=\"ocultar\",\"ocultar\",IF('SA - ATIVIDADES'!$G$91=TRUE,IF('SA - ATIVIDADES'!$H$91>='SA - SERVICOS BASE'!AH733,\"mostrar\",\"ocultar\"),\"ocultar\"))","v":"ocultar"},"Especialidade (a preencher)","MODELO A - TEMPO - N.º DE HORAS DE TRABALHO",null,null,0,0,{"$f":"G733*H733","v":0},null,null,null,null,null,0,0,null,null,null,null,null,null,0,0,null,null,0,0,0,null,{"$f":"BL733","v":0},null,null,3,null,null,null,null,null,null,null,null,null,null,null,null,null,null,null,null,null,null,null,null,null,null,null,null,null,{"$f":"IF(OR(AND(LEFT($D$636,8)=\"MODELO M\", LEFT(D733,8)=\"MODELO A\"), AND(LEFT($D$636,8)=\"MODELO A\", $F$636=\"Atribuir valor detalhado por Fase/Elemento\")), I733, 0)","v":0},{"$f":"IF(OR(AND(LEFT($D$636,8)=\"MODELO M\", LEFT(D733,8)=\"MODELO B\"), AND(LEFT($D$636,8)=\"MODELO B\", $K$636=\"Atribuir valor detalhado por Fase/Elemento\")), P733, 0)","v":0},{"$f":"IF(OR(AND(LEFT($D$636,8)=\"MODELO M\", LEFT(D733,8)=\"MODELO C\"), AND(LEFT($D$636,8)=\"MODELO C\", $R$636=\"Atribuir valor detalhado por Fase/Elemento\")), X733, 0)","v":0},{"$f":"IF(OR(AND(LEFT($D$636,8)=\"MODELO M\", LEFT(D733,8)=\"MODELO D\"), AND(LEFT($D$636,8)=\"MODELO D\", $Z$636=\"Atribuir valor detalhado por Fase/Elemento\")), AC733, 0)","v":0},{"$f":"SUM(BH733:BK733)","v":0},"MODELO A - TEMPO - N.º DE HORAS DE TRABALHO"]
[null,{"$f":"IF($B$730=\"ocultar\",\"ocultar\",IF('SA - ATIVIDADES'!$G$91=TRUE,IF('SA - ATIVIDADES'!$H$91>='SA - SERVICOS BASE'!AH734,\"mostrar\",\"ocultar\"),\"ocultar\"))","v":"ocultar"},"Especialidade (a preencher)","MODELO A - TEMPO - N.º DE HORAS DE TRABALHO",null,null,0,0,{"$f":"G734*H734","v":0},null,null,null,null,null,0,0,null,null,null,null,null,null,0,0,null,null,0,0,0,null,{"$f":"BL734","v":0},null,null,4,null,null,null,null,null,null,null,null,null,null,null,null,null,null,null,null,null,null,null,null,null,null,null,null,null,{"$f":"IF(OR(AND(LEFT($D$636,8)=\"MODELO M\", LEFT(D734,8)=\"MODELO A\"), AND(LEFT($D$636,8)=\"MODELO A\", $F$636=\"Atribuir valor detalhado por Fase/Elemento\")), I734, 0)","v":0},{"$f":"IF(OR(AND(LEFT($D$636,8)=\"MODELO M\", LEFT(D734,8)=\"MODELO B\"), AND(LEFT($D$636,8)=\"MODELO B\", $K$636=\"Atribuir valor detalhado por Fase/Elemento\")), P734, 0)","v":0},{"$f":"IF(OR(AND(LEFT($D$636,8)=\"MODELO M\", LEFT(D734,8)=\"MODELO C\"), AND(LEFT($D$636,8)=\"MODELO C\", $R$636=\"Atribuir valor detalhado por Fase/Elemento\")), X734, 0)","v":0},{"$f":"IF(OR(AND(LEFT($D$636,8)=\"MODELO M\", LEFT(D734,8)=\"MODELO D\"), AND(LEFT($D$636,8)=\"MODELO D\", $Z$636=\"Atribuir valor detalhado por Fase/Elemento\")), AC734, 0)","v":0},{"$f":"SUM(BH734:BK734)","v":0},"MODELO A - TEMPO - N.º DE HORAS DE TRABALHO"]
[null,{"$f":"IF($B$730=\"ocultar\",\"ocultar\",IF('SA - ATIVIDADES'!$G$91=TRUE,IF('SA - ATIVIDADES'!$H$91>='SA - SERVICOS BASE'!AH735,\"mostrar\",\"ocultar\"),\"ocultar\"))","v":"ocultar"},"Especialidade (a preencher)","MODELO A - TEMPO - N.º DE HORAS DE TRABALHO",null,null,0,0,{"$f":"G735*H735","v":0},null,null,null,null,null,0,0,null,null,null,null,null,null,0,0,null,null,0,0,0,null,{"$f":"BL735","v":0},null,null,5,null,null,null,null,null,null,null,null,null,null,null,null,null,null,null,null,null,null,null,null,null,null,null,null,null,{"$f":"IF(OR(AND(LEFT($D$636,8)=\"MODELO M\", LEFT(D735,8)=\"MODELO A\"), AND(LEFT($D$636,8)=\"MODELO A\", $F$636=\"Atribuir valor detalhado por Fase/Elemento\")), I735, 0)","v":0},{"$f":"IF(OR(AND(LEFT($D$636,8)=\"MODELO M\", LEFT(D735,8)=\"MODELO B\"), AND(LEFT($D$636,8)=\"MODELO B\", $K$636=\"Atribuir valor detalhado por Fase/Elemento\")), P735, 0)","v":0},{"$f":"IF(OR(AND(LEFT($D$636,8)=\"MODELO M\", LEFT(D735,8)=\"MODELO C\"), AND(LEFT($D$636,8)=\"MODELO C\", $R$636=\"Atribuir valor detalhado por Fase/Elemento\")), X735, 0)","v":0},{"$f":"IF(OR(AND(LEFT($D$636,8)=\"MODELO M\", LEFT(D735,8)=\"MODELO D\"), AND(LEFT($D$636,8)=\"MODELO D\", $Z$636=\"Atribuir valor detalhado por Fase/Elemento\")), AC735, 0)","v":0},{"$f":"SUM(BH735:BK735)","v":0},"MODELO A - TEMPO - N.º DE HORAS DE TRABALHO"]
[null,{"$f":"IF(B730=\"ocultar\",\"ocultar\",\"mostrar\")","v":"ocultar"},"SUB-TOTAL",null,null,null,{"$f":"SUBTOTAL(109,G731:G735)","v":0},null,{"$f":"SUBTOTAL(109,I731:I735)","v":0},null,null,null,null,null,{"$f":"SUBTOTAL(9,O731:O735)","v":0},{"$f":"SUBTOTAL(9,P731:P735)","v":0},null,null,null,null,null,null,{"$f":"SUBTOTAL(9,W731:W735)","v":0},{"$f":"SUBTOTAL(9,X731:X735)","v":0},null,null,null,null,{"$f":"SUBTOTAL(9,AC731:AC735)","v":0},null,{"$f":"SUBTOTAL(109,AE731:AE735)","v":0},null,null,null,null,null,null,null,null,null,null,null,null,null,null,null,null,null,null,null,null,null,null,null,null,null,null,null,null,null,null,null,null,null,"MODELO A - TEMPO - N.º DE HORAS DE TRABALHO"]
[null,{"$f":"IF($B$636=\"ocultar\",\"ocultar\",IF('SA - ATIVIDADES'!$G$77=\"Fase Única\",\"ocultar\",IF('SA - ATIVIDADES'!G92=TRUE,\"mostrar\",\"ocultar\")))","v":"ocultar"},"ESPECIALIDADE 15",null,null,null,null,null,null,null,null,null,null,null,null,null,null,null,null,null,null,null,null,null,null,null,null,null,null,null,null,null,null,null,null,null,null,null,null,null,null,null,null,null,null,null,null,null,null,null,null,null,null,null,null,null,null,null,null,null,null,null,null,null,"MODELO A - TEMPO - N.º DE HORAS DE TRABALHO"]
[null,{"$f":"IF($B$737=\"ocultar\",\"ocultar\",IF('SA - ATIVIDADES'!$G$92=TRUE,IF('SA - ATIVIDADES'!$H$92>='SA - SERVICOS BASE'!AH738,\"mostrar\",\"ocultar\"),\"ocultar\"))","v":"ocultar"},"Especialidade (a preencher)","MODELO A - TEMPO - N.º DE HORAS DE TRABALHO",null,null,0,0,{"$f":"G738*H738","v":0},null,null,null,null,null,0,{"$f":"$P$636*O738","v":0},null,null,null,null,null,null,0,{"$f":"$P$636*W738","v":0},null,null,0,0,{"$f":"AA738*AB738","v":0},null,{"$f":"BL738","v":0},null,null,1,null,null,null,null,null,null,null,null,null,null,null,null,null,null,null,null,null,null,null,null,null,null,null,null,null,{"$f":"IF(OR(AND(LEFT($D$636,8)=\"MODELO M\", LEFT(D738,8)=\"MODELO A\"), AND(LEFT($D$636,8)=\"MODELO A\", $F$636=\"Atribuir valor detalhado por Fase/Elemento\")), I738, 0)","v":0},{"$f":"IF(OR(AND(LEFT($D$636,8)=\"MODELO M\", LEFT(D738,8)=\"MODELO B\"), AND(LEFT($D$636,8)=\"MODELO B\", $K$636=\"Atribuir valor detalhado por Fase/Elemento\")), P738, 0)","v":0},{"$f":"IF(OR(AND(LEFT($D$636,8)=\"MODELO M\", LEFT(D738,8)=\"MODELO C\"), AND(LEFT($D$636,8)=\"MODELO C\", $R$636=\"Atribuir valor detalhado por Fase/Elemento\")), X738, 0)","v":0},{"$f":"IF(OR(AND(LEFT($D$636,8)=\"MODELO M\", LEFT(D738,8)=\"MODELO D\"), AND(LEFT($D$636,8)=\"MODELO D\", $Z$636=\"Atribuir valor detalhado por Fase/Elemento\")), AC738, 0)","v":0},{"$f":"SUM(BH738:BK738)","v":0},"MODELO A - TEMPO - N.º DE HORAS DE TRABALHO"]
[null,{"$f":"IF($B$737=\"ocultar\",\"ocultar\",IF('SA - ATIVIDADES'!$G$92=TRUE,IF('SA - ATIVIDADES'!$H$92>='SA - SERVICOS BASE'!AH739,\"mostrar\",\"ocultar\"),\"ocultar\"))","v":"ocultar"},"Especialidade (a preencher)","MODELO A - TEMPO - N.º DE HORAS DE TRABALHO",null,null,0,0,{"$f":"G739*H739","v":0},null,null,null,null,null,0,{"$f":"$P$636*O739","v":0},null,null,null,null,null,null,0,{"$f":"$P$636*W739","v":0},null,null,0,0,0,null,{"$f":"BL739","v":0},null,null,2,null,null,null,null,null,null,null,null,null,null,null,null,null,null,null,null,null,null,null,null,null,null,null,null,null,{"$f":"IF(OR(AND(LEFT($D$636,8)=\"MODELO M\", LEFT(D739,8)=\"MODELO A\"), AND(LEFT($D$636,8)=\"MODELO A\", $F$636=\"Atribuir valor detalhado por Fase/Elemento\")), I739, 0)","v":0},{"$f":"IF(OR(AND(LEFT($D$636,8)=\"MODELO M\", LEFT(D739,8)=\"MODELO B\"), AND(LEFT($D$636,8)=\"MODELO B\", $K$636=\"Atribuir valor detalhado por Fase/Elemento\")), P739, 0)","v":0},{"$f":"IF(OR(AND(LEFT($D$636,8)=\"MODELO M\", LEFT(D739,8)=\"MODELO C\"), AND(LEFT($D$636,8)=\"MODELO C\", $R$636=\"Atribuir valor detalhado por Fase/Elemento\")), X739, 0)","v":0},{"$f":"IF(OR(AND(LEFT($D$636,8)=\"MODELO M\", LEFT(D739,8)=\"MODELO D\"), AND(LEFT($D$636,8)=\"MODELO D\", $Z$636=\"Atribuir valor detalhado por Fase/Elemento\")), AC739, 0)","v":0},{"$f":"SUM(BH739:BK739)","v":0},"MODELO A - TEMPO - N.º DE HORAS DE TRABALHO"]
[null,{"$f":"IF($B$737=\"ocultar\",\"ocultar\",IF('SA - ATIVIDADES'!$G$92=TRUE,IF('SA - ATIVIDADES'!$H$92>='SA - SERVICOS BASE'!AH740,\"mostrar\",\"ocultar\"),\"ocultar\"))","v":"ocultar"},"Especialidade (a preencher)","MODELO A - TEMPO - N.º DE HORAS DE TRABALHO",null,null,0,0,{"$f":"G740*H740","v":0},null,null,null,null,null,0,0,null,null,null,null,null,null,0,0,null,null,0,0,0,null,{"$f":"BL740","v":0},null,null,3,null,null,null,null,null,null,null,null,null,null,null,null,null,null,null,null,null,null,null,null,null,null,null,null,null,{"$f":"IF(OR(AND(LEFT($D$636,8)=\"MODELO M\", LEFT(D740,8)=\"MODELO A\"), AND(LEFT($D$636,8)=\"MODELO A\", $F$636=\"Atribuir valor detalhado por Fase/Elemento\")), I740, 0)","v":0},{"$f":"IF(OR(AND(LEFT($D$636,8)=\"MODELO M\", LEFT(D740,8)=\"MODELO B\"), AND(LEFT($D$636,8)=\"MODELO B\", $K$636=\"Atribuir valor detalhado por Fase/Elemento\")), P740, 0)","v":0},{"$f":"IF(OR(AND(LEFT($D$636,8)=\"MODELO M\", LEFT(D740,8)=\"MODELO C\"), AND(LEFT($D$636,8)=\"MODELO C\", $R$636=\"Atribuir valor detalhado por Fase/Elemento\")), X740, 0)","v":0},{"$f":"IF(OR(AND(LEFT($D$636,8)=\"MODELO M\", LEFT(D740,8)=\"MODELO D\"), AND(LEFT($D$636,8)=\"MODELO D\", $Z$636=\"Atribuir valor detalhado por Fase/Elemento\")), AC740, 0)","v":0},{"$f":"SUM(BH740:BK740)","v":0},"MODELO A - TEMPO - N.º DE HORAS DE TRABALHO"]
[null,{"$f":"IF($B$737=\"ocultar\",\"ocultar\",IF('SA - ATIVIDADES'!$G$92=TRUE,IF('SA - ATIVIDADES'!$H$92>='SA - SERVICOS BASE'!AH741,\"mostrar\",\"ocultar\"),\"ocultar\"))","v":"ocultar"},"Especialidade (a preencher)","MODELO A - TEMPO - N.º DE HORAS DE TRABALHO",null,null,0,0,{"$f":"G741*H741","v":0},null,null,null,null,null,0,0,null,null,null,null,null,null,0,0,null,null,0,0,0,null,{"$f":"BL741","v":0},null,null,4,null,null,null,null,null,null,null,null,null,null,null,null,null,null,null,null,null,null,null,null,null,null,null,null,null,{"$f":"IF(OR(AND(LEFT($D$636,8)=\"MODELO M\", LEFT(D741,8)=\"MODELO A\"), AND(LEFT($D$636,8)=\"MODELO A\", $F$636=\"Atribuir valor detalhado por Fase/Elemento\")), I741, 0)","v":0},{"$f":"IF(OR(AND(LEFT($D$636,8)=\"MODELO M\", LEFT(D741,8)=\"MODELO B\"), AND(LEFT($D$636,8)=\"MODELO B\", $K$636=\"Atribuir valor detalhado por Fase/Elemento\")), P741, 0)","v":0},{"$f":"IF(OR(AND(LEFT($D$636,8)=\"MODELO M\", LEFT(D741,8)=\"MODELO C\"), AND(LEFT($D$636,8)=\"MODELO C\", $R$636=\"Atribuir valor detalhado por Fase/Elemento\")), X741, 0)","v":0},{"$f":"IF(OR(AND(LEFT($D$636,8)=\"MODELO M\", LEFT(D741,8)=\"MODELO D\"), AND(LEFT($D$636,8)=\"MODELO D\", $Z$636=\"Atribuir valor detalhado por Fase/Elemento\")), AC741, 0)","v":0},{"$f":"SUM(BH741:BK741)","v":0},"MODELO A - TEMPO - N.º DE HORAS DE TRABALHO"]
[null,{"$f":"IF($B$737=\"ocultar\",\"ocultar\",IF('SA - ATIVIDADES'!$G$92=TRUE,IF('SA - ATIVIDADES'!$H$92>='SA - SERVICOS BASE'!AH742,\"mostrar\",\"ocultar\"),\"ocultar\"))","v":"ocultar"},"Especialidade (a preencher)","MODELO A - TEMPO - N.º DE HORAS DE TRABALHO",null,null,0,0,{"$f":"G742*H742","v":0},null,null,null,null,null,0,0,null,null,null,null,null,null,0,0,null,null,0,0,0,null,{"$f":"BL742","v":0},null,null,5,null,null,null,null,null,null,null,null,null,null,null,null,null,null,null,null,null,null,null,null,null,null,null,null,null,{"$f":"IF(OR(AND(LEFT($D$636,8)=\"MODELO M\", LEFT(D742,8)=\"MODELO A\"), AND(LEFT($D$636,8)=\"MODELO A\", $F$636=\"Atribuir valor detalhado por Fase/Elemento\")), I742, 0)","v":0},{"$f":"IF(OR(AND(LEFT($D$636,8)=\"MODELO M\", LEFT(D742,8)=\"MODELO B\"), AND(LEFT($D$636,8)=\"MODELO B\", $K$636=\"Atribuir valor detalhado por Fase/Elemento\")), P742, 0)","v":0},{"$f":"IF(OR(AND(LEFT($D$636,8)=\"MODELO M\", LEFT(D742,8)=\"MODELO C\"), AND(LEFT($D$636,8)=\"MODELO C\", $R$636=\"Atribuir valor detalhado por Fase/Elemento\")), X742, 0)","v":0},{"$f":"IF(OR(AND(LEFT($D$636,8)=\"MODELO M\", LEFT(D742,8)=\"MODELO D\"), AND(LEFT($D$636,8)=\"MODELO D\", $Z$636=\"Atribuir valor detalhado por Fase/Elemento\")), AC742, 0)","v":0},{"$f":"SUM(BH742:BK742)","v":0},"MODELO A - TEMPO - N.º DE HORAS DE TRABALHO"]
[null,{"$f":"IF(B737=\"ocultar\",\"ocultar\",\"mostrar\")","v":"ocultar"},"SUB-TOTAL",null,null,null,{"$f":"SUBTOTAL(109,G738:G742)","v":0},null,{"$f":"SUBTOTAL(109,I738:I742)","v":0},null,null,null,null,null,{"$f":"SUBTOTAL(9,O738:O742)","v":0},{"$f":"SUBTOTAL(9,P738:P742)","v":0},null,null,null,null,null,null,{"$f":"SUBTOTAL(9,W738:W742)","v":0},{"$f":"SUBTOTAL(9,X738:X742)","v":0},null,null,null,null,{"$f":"SUBTOTAL(9,AC738:AC742)","v":0},null,{"$f":"SUBTOTAL(109,AE738:AE742)","v":0},null,null,null,null,null,null,null,null,null,null,null,null,null,null,null,null,null,null,null,null,null,null,null,null,null,null,null,null,null,null,null,null,null,"MODELO A - TEMPO - N.º DE HORAS DE TRABALHO"]
[null,{"$f":"IF($B$636=\"ocultar\",\"ocultar\",IF('SA - ATIVIDADES'!$G$77=\"Fase Única\",\"ocultar\",IF('SA - ATIVIDADES'!G93=TRUE,\"mostrar\",\"ocultar\")))","v":"ocultar"},"ESPECIALIDADE 16",null,null,null,null,null,null,null,null,null,null,null,null,null,null,null,null,null,null,null,null,null,null,null,null,null,null,null,null,null,null,null,null,null,null,null,null,null,null,null,null,null,null,null,null,null,null,null,null,null,null,null,null,null,null,null,null,null,null,null,null,null,"MODELO A - TEMPO - N.º DE HORAS DE TRABALHO"]
[null,{"$f":"IF($B$744=\"ocultar\",\"ocultar\",IF('SA - ATIVIDADES'!$G$93=TRUE,IF('SA - ATIVIDADES'!$H$93>='SA - SERVICOS BASE'!AH745,\"mostrar\",\"ocultar\"),\"ocultar\"))","v":"ocultar"},"Especialidade (a preencher)","MODELO A - TEMPO - N.º DE HORAS DE TRABALHO",null,null,0,0,{"$f":"G745*H745","v":0},null,null,null,null,null,0,{"$f":"$P$636*O745","v":0},null,null,null,null,null,null,0,{"$f":"$P$636*W745","v":0},null,null,0,0,{"$f":"AA745*AB745","v":0},null,{"$f":"BL745","v":0},null,null,1,null,null,null,null,null,null,null,null,null,null,null,null,null,null,null,null,null,null,null,null,null,null,null,null,null,{"$f":"IF(OR(AND(LEFT($D$636,8)=\"MODELO M\", LEFT(D745,8)=\"MODELO A\"), AND(LEFT($D$636,8)=\"MODELO A\", $F$636=\"Atribuir valor detalhado por Fase/Elemento\")), I745, 0)","v":0},{"$f":"IF(OR(AND(LEFT($D$636,8)=\"MODELO M\", LEFT(D745,8)=\"MODELO B\"), AND(LEFT($D$636,8)=\"MODELO B\", $K$636=\"Atribuir valor detalhado por Fase/Elemento\")), P745, 0)","v":0},{"$f":"IF(OR(AND(LEFT($D$636,8)=\"MODELO M\", LEFT(D745,8)=\"MODELO C\"), AND(LEFT($D$636,8)=\"MODELO C\", $R$636=\"Atribuir valor detalhado por Fase/Elemento\")), X745, 0)","v":0},{"$f":"IF(OR(AND(LEFT($D$636,8)=\"MODELO M\", LEFT(D745,8)=\"MODELO D\"), AND(LEFT($D$636,8)=\"MODELO D\", $Z$636=\"Atribuir valor detalhado por Fase/Elemento\")), AC745, 0)","v":0},{"$f":"SUM(BH745:BK745)","v":0},"MODELO A - TEMPO - N.º DE HORAS DE TRABALHO"]
[null,{"$f":"IF($B$744=\"ocultar\",\"ocultar\",IF('SA - ATIVIDADES'!$G$93=TRUE,IF('SA - ATIVIDADES'!$H$93>='SA - SERVICOS BASE'!AH746,\"mostrar\",\"ocultar\"),\"ocultar\"))","v":"ocultar"},"Especialidade (a preencher)","MODELO A - TEMPO - N.º DE HORAS DE TRABALHO",null,null,0,0,{"$f":"G746*H746","v":0},null,null,null,null,null,0,{"$f":"$P$636*O746","v":0},null,null,null,null,null,null,0,{"$f":"$P$636*W746","v":0},null,null,0,0,0,null,{"$f":"BL746","v":0},null,null,2,null,null,null,null,null,null,null,null,null,null,null,null,null,null,null,null,null,null,null,null,null,null,null,null,null,{"$f":"IF(OR(AND(LEFT($D$636,8)=\"MODELO M\", LEFT(D746,8)=\"MODELO A\"), AND(LEFT($D$636,8)=\"MODELO A\", $F$636=\"Atribuir valor detalhado por Fase/Elemento\")), I746, 0)","v":0},{"$f":"IF(OR(AND(LEFT($D$636,8)=\"MODELO M\", LEFT(D746,8)=\"MODELO B\"), AND(LEFT($D$636,8)=\"MODELO B\", $K$636=\"Atribuir valor detalhado por Fase/Elemento\")), P746, 0)","v":0},{"$f":"IF(OR(AND(LEFT($D$636,8)=\"MODELO M\", LEFT(D746,8)=\"MODELO C\"), AND(LEFT($D$636,8)=\"MODELO C\", $R$636=\"Atribuir valor detalhado por Fase/Elemento\")), X746, 0)","v":0},{"$f":"IF(OR(AND(LEFT($D$636,8)=\"MODELO M\", LEFT(D746,8)=\"MODELO D\"), AND(LEFT($D$636,8)=\"MODELO D\", $Z$636=\"Atribuir valor detalhado por Fase/Elemento\")), AC746, 0)","v":0},{"$f":"SUM(BH746:BK746)","v":0},"MODELO A - TEMPO - N.º DE HORAS DE TRABALHO"]
[null,{"$f":"IF($B$744=\"ocultar\",\"ocultar\",IF('SA - ATIVIDADES'!$G$93=TRUE,IF('SA - ATIVIDADES'!$H$93>='SA - SERVICOS BASE'!AH747,\"mostrar\",\"ocultar\"),\"ocultar\"))","v":"ocultar"},"Especialidade (a preencher)","MODELO A - TEMPO - N.º DE HORAS DE TRABALHO",null,null,0,0,{"$f":"G747*H747","v":0},null,null,null,null,null,0,0,null,null,null,null,null,null,0,0,null,null,0,0,0,null,{"$f":"BL747","v":0},null,null,3,null,null,null,null,null,null,null,null,null,null,null,null,null,null,null,null,null,null,null,null,null,null,null,null,null,{"$f":"IF(OR(AND(LEFT($D$636,8)=\"MODELO M\", LEFT(D747,8)=\"MODELO A\"), AND(LEFT($D$636,8)=\"MODELO A\", $F$636=\"Atribuir valor detalhado por Fase/Elemento\")), I747, 0)","v":0},{"$f":"IF(OR(AND(LEFT($D$636,8)=\"MODELO M\", LEFT(D747,8)=\"MODELO B\"), AND(LEFT($D$636,8)=\"MODELO B\", $K$636=\"Atribuir valor detalhado por Fase/Elemento\")), P747, 0)","v":0},{"$f":"IF(OR(AND(LEFT($D$636,8)=\"MODELO M\", LEFT(D747,8)=\"MODELO C\"), AND(LEFT($D$636,8)=\"MODELO C\", $R$636=\"Atribuir valor detalhado por Fase/Elemento\")), X747, 0)","v":0},{"$f":"IF(OR(AND(LEFT($D$636,8)=\"MODELO M\", LEFT(D747,8)=\"MODELO D\"), AND(LEFT($D$636,8)=\"MODELO D\", $Z$636=\"Atribuir valor detalhado por Fase/Elemento\")), AC747, 0)","v":0},{"$f":"SUM(BH747:BK747)","v":0},"MODELO A - TEMPO - N.º DE HORAS DE TRABALHO"]
[null,{"$f":"IF($B$744=\"ocultar\",\"ocultar\",IF('SA - ATIVIDADES'!$G$93=TRUE,IF('SA - ATIVIDADES'!$H$93>='SA - SERVICOS BASE'!AH748,\"mostrar\",\"ocultar\"),\"ocultar\"))","v":"ocultar"},"Especialidade (a preencher)","MODELO A - TEMPO - N.º DE HORAS DE TRABALHO",null,null,0,0,{"$f":"G748*H748","v":0},null,null,null,null,null,0,0,null,null,null,null,null,null,0,0,null,null,0,0,0,null,{"$f":"BL748","v":0},null,null,4,null,null,null,null,null,null,null,null,null,null,null,null,null,null,null,null,null,null,null,null,null,null,null,null,null,{"$f":"IF(OR(AND(LEFT($D$636,8)=\"MODELO M\", LEFT(D748,8)=\"MODELO A\"), AND(LEFT($D$636,8)=\"MODELO A\", $F$636=\"Atribuir valor detalhado por Fase/Elemento\")), I748, 0)","v":0},{"$f":"IF(OR(AND(LEFT($D$636,8)=\"MODELO M\", LEFT(D748,8)=\"MODELO B\"), AND(LEFT($D$636,8)=\"MODELO B\", $K$636=\"Atribuir valor detalhado por Fase/Elemento\")), P748, 0)","v":0},{"$f":"IF(OR(AND(LEFT($D$636,8)=\"MODELO M\", LEFT(D748,8)=\"MODELO C\"), AND(LEFT($D$636,8)=\"MODELO C\", $R$636=\"Atribuir valor detalhado por Fase/Elemento\")), X748, 0)","v":0},{"$f":"IF(OR(AND(LEFT($D$636,8)=\"MODELO M\", LEFT(D748,8)=\"MODELO D\"), AND(LEFT($D$636,8)=\"MODELO D\", $Z$636=\"Atribuir valor detalhado por Fase/Elemento\")), AC748, 0)","v":0},{"$f":"SUM(BH748:BK748)","v":0},"MODELO A - TEMPO - N.º DE HORAS DE TRABALHO"]
[null,{"$f":"IF($B$744=\"ocultar\",\"ocultar\",IF('SA - ATIVIDADES'!$G$93=TRUE,IF('SA - ATIVIDADES'!$H$93>='SA - SERVICOS BASE'!AH749,\"mostrar\",\"ocultar\"),\"ocultar\"))","v":"ocultar"},"Especialidade (a preencher)","MODELO A - TEMPO - N.º DE HORAS DE TRABALHO",null,null,0,0,{"$f":"G749*H749","v":0},null,null,null,null,null,0,0,null,null,null,null,null,null,0,0,null,null,0,0,0,null,{"$f":"BL749","v":0},null,null,5,null,null,null,null,null,null,null,null,null,null,null,null,null,null,null,null,null,null,null,null,null,null,null,null,null,{"$f":"IF(OR(AND(LEFT($D$636,8)=\"MODELO M\", LEFT(D749,8)=\"MODELO A\"), AND(LEFT($D$636,8)=\"MODELO A\", $F$636=\"Atribuir valor detalhado por Fase/Elemento\")), I749, 0)","v":0},{"$f":"IF(OR(AND(LEFT($D$636,8)=\"MODELO M\", LEFT(D749,8)=\"MODELO B\"), AND(LEFT($D$636,8)=\"MODELO B\", $K$636=\"Atribuir valor detalhado por Fase/Elemento\")), P749, 0)","v":0},{"$f":"IF(OR(AND(LEFT($D$636,8)=\"MODELO M\", LEFT(D749,8)=\"MODELO C\"), AND(LEFT($D$636,8)=\"MODELO C\", $R$636=\"Atribuir valor detalhado por Fase/Elemento\")), X749, 0)","v":0},{"$f":"IF(OR(AND(LEFT($D$636,8)=\"MODELO M\", LEFT(D749,8)=\"MODELO D\"), AND(LEFT($D$636,8)=\"MODELO D\", $Z$636=\"Atribuir valor detalhado por Fase/Elemento\")), AC749, 0)","v":0},{"$f":"SUM(BH749:BK749)","v":0},"MODELO A - TEMPO - N.º DE HORAS DE TRABALHO"]
[null,{"$f":"IF(B744=\"ocultar\",\"ocultar\",\"mostrar\")","v":"ocultar"},"SUB-TOTAL",null,null,null,{"$f":"SUBTOTAL(109,G745:G749)","v":0},null,{"$f":"SUBTOTAL(109,I745:I749)","v":0},null,null,null,null,null,{"$f":"SUBTOTAL(9,O745:O749)","v":0},{"$f":"SUBTOTAL(9,P745:P749)","v":0},null,null,null,null,null,null,{"$f":"SUBTOTAL(9,W745:W749)","v":0},{"$f":"SUBTOTAL(9,X745:X749)","v":0},null,null,null,null,{"$f":"SUBTOTAL(9,AC745:AC749)","v":0},null,{"$f":"SUBTOTAL(109,AE745:AE749)","v":0},null,null,null,null,null,null,null,null,null,null,null,null,null,null,null,null,null,null,null,null,null,null,null,null,null,null,null,null,null,null,null,null,null,"MODELO A - TEMPO - N.º DE HORAS DE TRABALHO"]
[null,{"$f":"IF($B$636=\"ocultar\",\"ocultar\",IF('SA - ATIVIDADES'!$G$77=\"Fase Única\",\"ocultar\",IF('SA - ATIVIDADES'!G94=TRUE,\"mostrar\",\"ocultar\")))","v":"ocultar"},"ESPECIALIDADE 17",null,null,null,null,null,null,null,null,null,null,null,null,null,null,null,null,null,null,null,null,null,null,null,null,null,null,null,null,null,null,null,null,null,null,null,null,null,null,null,null,null,null,null,null,null,null,null,null,null,null,null,null,null,null,null,null,null,null,null,null,null,"MODELO A - TEMPO - N.º DE HORAS DE TRABALHO"]
[null,{"$f":"IF($B$751=\"ocultar\",\"ocultar\",IF('SA - ATIVIDADES'!$G$94=TRUE,IF('SA - ATIVIDADES'!$H$94>='SA - SERVICOS BASE'!AH752,\"mostrar\",\"ocultar\"),\"ocultar\"))","v":"ocultar"},"Especialidade (a preencher)","MODELO A - TEMPO - N.º DE HORAS DE TRABALHO",null,null,0,0,{"$f":"G752*H752","v":0},null,null,null,null,null,0,{"$f":"$P$636*O752","v":0},null,null,null,null,null,null,0,{"$f":"$P$636*W752","v":0},null,null,0,0,{"$f":"AA752*AB752","v":0},null,{"$f":"BL752","v":0},null,null,1,null,null,null,null,null,null,null,null,null,null,null,null,null,null,null,null,null,null,null,null,null,null,null,null,null,{"$f":"IF(OR(AND(LEFT($D$636,8)=\"MODELO M\", LEFT(D752,8)=\"MODELO A\"), AND(LEFT($D$636,8)=\"MODELO A\", $F$636=\"Atribuir valor detalhado por Fase/Elemento\")), I752, 0)","v":0},{"$f":"IF(OR(AND(LEFT($D$636,8)=\"MODELO M\", LEFT(D752,8)=\"MODELO B\"), AND(LEFT($D$636,8)=\"MODELO B\", $K$636=\"Atribuir valor detalhado por Fase/Elemento\")), P752, 0)","v":0},{"$f":"IF(OR(AND(LEFT($D$636,8)=\"MODELO M\", LEFT(D752,8)=\"MODELO C\"), AND(LEFT($D$636,8)=\"MODELO C\", $R$636=\"Atribuir valor detalhado por Fase/Elemento\")), X752, 0)","v":0},{"$f":"IF(OR(AND(LEFT($D$636,8)=\"MODELO M\", LEFT(D752,8)=\"MODELO D\"), AND(LEFT($D$636,8)=\"MODELO D\", $Z$636=\"Atribuir valor detalhado por Fase/Elemento\")), AC752, 0)","v":0},{"$f":"SUM(BH752:BK752)","v":0},"MODELO A - TEMPO - N.º DE HORAS DE TRABALHO"]
[null,{"$f":"IF($B$751=\"ocultar\",\"ocultar\",IF('SA - ATIVIDADES'!$G$94=TRUE,IF('SA - ATIVIDADES'!$H$94>='SA - SERVICOS BASE'!AH753,\"mostrar\",\"ocultar\"),\"ocultar\"))","v":"ocultar"},"Especialidade (a preencher)","MODELO A - TEMPO - N.º DE HORAS DE TRABALHO",null,null,0,0,{"$f":"G753*H753","v":0},null,null,null,null,null,0,{"$f":"$P$636*O753","v":0},null,null,null,null,null,null,0,{"$f":"$P$636*W753","v":0},null,null,0,0,0,null,{"$f":"BL753","v":0},null,null,2,null,null,null,null,null,null,null,null,null,null,null,null,null,null,null,null,null,null,null,null,null,null,null,null,null,{"$f":"IF(OR(AND(LEFT($D$636,8)=\"MODELO M\", LEFT(D753,8)=\"MODELO A\"), AND(LEFT($D$636,8)=\"MODELO A\", $F$636=\"Atribuir valor detalhado por Fase/Elemento\")), I753, 0)","v":0},{"$f":"IF(OR(AND(LEFT($D$636,8)=\"MODELO M\", LEFT(D753,8)=\"MODELO B\"), AND(LEFT($D$636,8)=\"MODELO B\", $K$636=\"Atribuir valor detalhado por Fase/Elemento\")), P753, 0)","v":0},{"$f":"IF(OR(AND(LEFT($D$636,8)=\"MODELO M\", LEFT(D753,8)=\"MODELO C\"), AND(LEFT($D$636,8)=\"MODELO C\", $R$636=\"Atribuir valor detalhado por Fase/Elemento\")), X753, 0)","v":0},{"$f":"IF(OR(AND(LEFT($D$636,8)=\"MODELO M\", LEFT(D753,8)=\"MODELO D\"), AND(LEFT($D$636,8)=\"MODELO D\", $Z$636=\"Atribuir valor detalhado por Fase/Elemento\")), AC753, 0)","v":0},{"$f":"SUM(BH753:BK753)","v":0},"MODELO A - TEMPO - N.º DE HORAS DE TRABALHO"]
[null,{"$f":"IF($B$751=\"ocultar\",\"ocultar\",IF('SA - ATIVIDADES'!$G$94=TRUE,IF('SA - ATIVIDADES'!$H$94>='SA - SERVICOS BASE'!AH754,\"mostrar\",\"ocultar\"),\"ocultar\"))","v":"ocultar"},"Especialidade (a preencher)","MODELO A - TEMPO - N.º DE HORAS DE TRABALHO",null,null,0,0,{"$f":"G754*H754","v":0},null,null,null,null,null,0,0,null,null,null,null,null,null,0,0,null,null,0,0,0,null,{"$f":"BL754","v":0},null,null,3,null,null,null,null,null,null,null,null,null,null,null,null,null,null,null,null,null,null,null,null,null,null,null,null,null,{"$f":"IF(OR(AND(LEFT($D$636,8)=\"MODELO M\", LEFT(D754,8)=\"MODELO A\"), AND(LEFT($D$636,8)=\"MODELO A\", $F$636=\"Atribuir valor detalhado por Fase/Elemento\")), I754, 0)","v":0},{"$f":"IF(OR(AND(LEFT($D$636,8)=\"MODELO M\", LEFT(D754,8)=\"MODELO B\"), AND(LEFT($D$636,8)=\"MODELO B\", $K$636=\"Atribuir valor detalhado por Fase/Elemento\")), P754, 0)","v":0},{"$f":"IF(OR(AND(LEFT($D$636,8)=\"MODELO M\", LEFT(D754,8)=\"MODELO C\"), AND(LEFT($D$636,8)=\"MODELO C\", $R$636=\"Atribuir valor detalhado por Fase/Elemento\")), X754, 0)","v":0},{"$f":"IF(OR(AND(LEFT($D$636,8)=\"MODELO M\", LEFT(D754,8)=\"MODELO D\"), AND(LEFT($D$636,8)=\"MODELO D\", $Z$636=\"Atribuir valor detalhado por Fase/Elemento\")), AC754, 0)","v":0},{"$f":"SUM(BH754:BK754)","v":0},"MODELO A - TEMPO - N.º DE HORAS DE TRABALHO"]
[null,{"$f":"IF($B$751=\"ocultar\",\"ocultar\",IF('SA - ATIVIDADES'!$G$94=TRUE,IF('SA - ATIVIDADES'!$H$94>='SA - SERVICOS BASE'!AH755,\"mostrar\",\"ocultar\"),\"ocultar\"))","v":"ocultar"},"Especialidade (a preencher)","MODELO A - TEMPO - N.º DE HORAS DE TRABALHO",null,null,0,0,{"$f":"G755*H755","v":0},null,null,null,null,null,0,0,null,null,null,null,null,null,0,0,null,null,0,0,0,null,{"$f":"BL755","v":0},null,null,4,null,null,null,null,null,null,null,null,null,null,null,null,null,null,null,null,null,null,null,null,null,null,null,null,null,{"$f":"IF(OR(AND(LEFT($D$636,8)=\"MODELO M\", LEFT(D755,8)=\"MODELO A\"), AND(LEFT($D$636,8)=\"MODELO A\", $F$636=\"Atribuir valor detalhado por Fase/Elemento\")), I755, 0)","v":0},{"$f":"IF(OR(AND(LEFT($D$636,8)=\"MODELO M\", LEFT(D755,8)=\"MODELO B\"), AND(LEFT($D$636,8)=\"MODELO B\", $K$636=\"Atribuir valor detalhado por Fase/Elemento\")), P755, 0)","v":0},{"$f":"IF(OR(AND(LEFT($D$636,8)=\"MODELO M\", LEFT(D755,8)=\"MODELO C\"), AND(LEFT($D$636,8)=\"MODELO C\", $R$636=\"Atribuir valor detalhado por Fase/Elemento\")), X755, 0)","v":0},{"$f":"IF(OR(AND(LEFT($D$636,8)=\"MODELO M\", LEFT(D755,8)=\"MODELO D\"), AND(LEFT($D$636,8)=\"MODELO D\", $Z$636=\"Atribuir valor detalhado por Fase/Elemento\")), AC755, 0)","v":0},{"$f":"SUM(BH755:BK755)","v":0},"MODELO A - TEMPO - N.º DE HORAS DE TRABALHO"]
[null,{"$f":"IF($B$751=\"ocultar\",\"ocultar\",IF('SA - ATIVIDADES'!$G$94=TRUE,IF('SA - ATIVIDADES'!$H$94>='SA - SERVICOS BASE'!AH756,\"mostrar\",\"ocultar\"),\"ocultar\"))","v":"ocultar"},"Especialidade (a preencher)","MODELO A - TEMPO - N.º DE HORAS DE TRABALHO",null,null,0,0,{"$f":"G756*H756","v":0},null,null,null,null,null,0,0,null,null,null,null,null,null,0,0,null,null,0,0,0,null,{"$f":"BL756","v":0},null,null,5,null,null,null,null,null,null,null,null,null,null,null,null,null,null,null,null,null,null,null,null,null,null,null,null,null,{"$f":"IF(OR(AND(LEFT($D$636,8)=\"MODELO M\", LEFT(D756,8)=\"MODELO A\"), AND(LEFT($D$636,8)=\"MODELO A\", $F$636=\"Atribuir valor detalhado por Fase/Elemento\")), I756, 0)","v":0},{"$f":"IF(OR(AND(LEFT($D$636,8)=\"MODELO M\", LEFT(D756,8)=\"MODELO B\"), AND(LEFT($D$636,8)=\"MODELO B\", $K$636=\"Atribuir valor detalhado por Fase/Elemento\")), P756, 0)","v":0},{"$f":"IF(OR(AND(LEFT($D$636,8)=\"MODELO M\", LEFT(D756,8)=\"MODELO C\"), AND(LEFT($D$636,8)=\"MODELO C\", $R$636=\"Atribuir valor detalhado por Fase/Elemento\")), X756, 0)","v":0},{"$f":"IF(OR(AND(LEFT($D$636,8)=\"MODELO M\", LEFT(D756,8)=\"MODELO D\"), AND(LEFT($D$636,8)=\"MODELO D\", $Z$636=\"Atribuir valor detalhado por Fase/Elemento\")), AC756, 0)","v":0},{"$f":"SUM(BH756:BK756)","v":0},"MODELO A - TEMPO - N.º DE HORAS DE TRABALHO"]
[null,{"$f":"IF(B751=\"ocultar\",\"ocultar\",\"mostrar\")","v":"ocultar"},"SUB-TOTAL",null,null,null,{"$f":"SUBTOTAL(109,G752:G756)","v":0},null,{"$f":"SUBTOTAL(109,I752:I756)","v":0},null,null,null,null,null,{"$f":"SUBTOTAL(9,O752:O756)","v":0},{"$f":"SUBTOTAL(9,P752:P756)","v":0},null,null,null,null,null,null,{"$f":"SUBTOTAL(9,W752:W756)","v":0},{"$f":"SUBTOTAL(9,X752:X756)","v":0},null,null,null,null,{"$f":"SUBTOTAL(9,AC752:AC756)","v":0},null,{"$f":"SUBTOTAL(109,AE752:AE756)","v":0},null,null,null,null,null,null,null,null,null,null,null,null,null,null,null,null,null,null,null,null,null,null,null,null,null,null,null,null,null,null,null,null,null,"MODELO A - TEMPO - N.º DE HORAS DE TRABALHO"]
[null,{"$f":"IF($B$636=\"ocultar\",\"ocultar\",IF('SA - ATIVIDADES'!$G$77=\"Fase Única\",\"ocultar\",IF('SA - ATIVIDADES'!G95=TRUE,\"mostrar\",\"ocultar\")))","v":"ocultar"},"ESPECIALIDADE 18",null,null,null,null,null,null,null,null,null,null,null,null,null,null,null,null,null,null,null,null,null,null,null,null,null,null,null,null,null,null,null,null,null,null,null,null,null,null,null,null,null,null,null,null,null,null,null,null,null,null,null,null,null,null,null,null,null,null,null,null,null,"MODELO A - TEMPO - N.º DE HORAS DE TRABALHO"]
[null,{"$f":"IF($B$758=\"ocultar\",\"ocultar\",IF('SA - ATIVIDADES'!$G$95=TRUE,IF('SA - ATIVIDADES'!$H$95>='SA - SERVICOS BASE'!AH759,\"mostrar\",\"ocultar\"),\"ocultar\"))","v":"ocultar"},"Especialidade (a preencher)","MODELO A - TEMPO - N.º DE HORAS DE TRABALHO",null,null,0,0,{"$f":"G759*H759","v":0},null,null,null,null,null,0,{"$f":"$P$636*O759","v":0},null,null,null,null,null,null,0,{"$f":"$P$636*W759","v":0},null,null,0,0,{"$f":"AA759*AB759","v":0},null,{"$f":"BL759","v":0},null,null,1,null,null,null,null,null,null,null,null,null,null,null,null,null,null,null,null,null,null,null,null,null,null,null,null,null,{"$f":"IF(OR(AND(LEFT($D$636,8)=\"MODELO M\", LEFT(D759,8)=\"MODELO A\"), AND(LEFT($D$636,8)=\"MODELO A\", $F$636=\"Atribuir valor detalhado por Fase/Elemento\")), I759, 0)","v":0},{"$f":"IF(OR(AND(LEFT($D$636,8)=\"MODELO M\", LEFT(D759,8)=\"MODELO B\"), AND(LEFT($D$636,8)=\"MODELO B\", $K$636=\"Atribuir valor detalhado por Fase/Elemento\")), P759, 0)","v":0},{"$f":"IF(OR(AND(LEFT($D$636,8)=\"MODELO M\", LEFT(D759,8)=\"MODELO C\"), AND(LEFT($D$636,8)=\"MODELO C\", $R$636=\"Atribuir valor detalhado por Fase/Elemento\")), X759, 0)","v":0},{"$f":"IF(OR(AND(LEFT($D$636,8)=\"MODELO M\", LEFT(D759,8)=\"MODELO D\"), AND(LEFT($D$636,8)=\"MODELO D\", $Z$636=\"Atribuir valor detalhado por Fase/Elemento\")), AC759, 0)","v":0},{"$f":"SUM(BH759:BK759)","v":0},"MODELO A - TEMPO - N.º DE HORAS DE TRABALHO"]
[null,{"$f":"IF($B$758=\"ocultar\",\"ocultar\",IF('SA - ATIVIDADES'!$G$95=TRUE,IF('SA - ATIVIDADES'!$H$95>='SA - SERVICOS BASE'!AH760,\"mostrar\",\"ocultar\"),\"ocultar\"))","v":"ocultar"},"Especialidade (a preencher)","MODELO A - TEMPO - N.º DE HORAS DE TRABALHO",null,null,0,0,{"$f":"G760*H760","v":0},null,null,null,null,null,0,{"$f":"$P$636*O760","v":0},null,null,null,null,null,null,0,{"$f":"$P$636*W760","v":0},null,null,0,0,0,null,{"$f":"BL760","v":0},null,null,2,null,null,null,null,null,null,null,null,null,null,null,null,null,null,null,null,null,null,null,null,null,null,null,null,null,{"$f":"IF(OR(AND(LEFT($D$636,8)=\"MODELO M\", LEFT(D760,8)=\"MODELO A\"), AND(LEFT($D$636,8)=\"MODELO A\", $F$636=\"Atribuir valor detalhado por Fase/Elemento\")), I760, 0)","v":0},{"$f":"IF(OR(AND(LEFT($D$636,8)=\"MODELO M\", LEFT(D760,8)=\"MODELO B\"), AND(LEFT($D$636,8)=\"MODELO B\", $K$636=\"Atribuir valor detalhado por Fase/Elemento\")), P760, 0)","v":0},{"$f":"IF(OR(AND(LEFT($D$636,8)=\"MODELO M\", LEFT(D760,8)=\"MODELO C\"), AND(LEFT($D$636,8)=\"MODELO C\", $R$636=\"Atribuir valor detalhado por Fase/Elemento\")), X760, 0)","v":0},{"$f":"IF(OR(AND(LEFT($D$636,8)=\"MODELO M\", LEFT(D760,8)=\"MODELO D\"), AND(LEFT($D$636,8)=\"MODELO D\", $Z$636=\"Atribuir valor detalhado por Fase/Elemento\")), AC760, 0)","v":0},{"$f":"SUM(BH760:BK760)","v":0},"MODELO A - TEMPO - N.º DE HORAS DE TRABALHO"]
[null,{"$f":"IF($B$758=\"ocultar\",\"ocultar\",IF('SA - ATIVIDADES'!$G$95=TRUE,IF('SA - ATIVIDADES'!$H$95>='SA - SERVICOS BASE'!AH761,\"mostrar\",\"ocultar\"),\"ocultar\"))","v":"ocultar"},"Especialidade (a preencher)","MODELO A - TEMPO - N.º DE HORAS DE TRABALHO",null,null,0,0,{"$f":"G761*H761","v":0},null,null,null,null,null,0,0,null,null,null,null,null,null,0,0,null,null,0,0,0,null,{"$f":"BL761","v":0},null,null,3,null,null,null,null,null,null,null,null,null,null,null,null,null,null,null,null,null,null,null,null,null,null,null,null,null,{"$f":"IF(OR(AND(LEFT($D$636,8)=\"MODELO M\", LEFT(D761,8)=\"MODELO A\"), AND(LEFT($D$636,8)=\"MODELO A\", $F$636=\"Atribuir valor detalhado por Fase/Elemento\")), I761, 0)","v":0},{"$f":"IF(OR(AND(LEFT($D$636,8)=\"MODELO M\", LEFT(D761,8)=\"MODELO B\"), AND(LEFT($D$636,8)=\"MODELO B\", $K$636=\"Atribuir valor detalhado por Fase/Elemento\")), P761, 0)","v":0},{"$f":"IF(OR(AND(LEFT($D$636,8)=\"MODELO M\", LEFT(D761,8)=\"MODELO C\"), AND(LEFT($D$636,8)=\"MODELO C\", $R$636=\"Atribuir valor detalhado por Fase/Elemento\")), X761, 0)","v":0},{"$f":"IF(OR(AND(LEFT($D$636,8)=\"MODELO M\", LEFT(D761,8)=\"MODELO D\"), AND(LEFT($D$636,8)=\"MODELO D\", $Z$636=\"Atribuir valor detalhado por Fase/Elemento\")), AC761, 0)","v":0},{"$f":"SUM(BH761:BK761)","v":0},"MODELO A - TEMPO - N.º DE HORAS DE TRABALHO"]
[null,{"$f":"IF($B$758=\"ocultar\",\"ocultar\",IF('SA - ATIVIDADES'!$G$95=TRUE,IF('SA - ATIVIDADES'!$H$95>='SA - SERVICOS BASE'!AH762,\"mostrar\",\"ocultar\"),\"ocultar\"))","v":"ocultar"},"Especialidade (a preencher)","MODELO A - TEMPO - N.º DE HORAS DE TRABALHO",null,null,0,0,{"$f":"G762*H762","v":0},null,null,null,null,null,0,0,null,null,null,null,null,null,0,0,null,null,0,0,0,null,{"$f":"BL762","v":0},null,null,4,null,null,null,null,null,null,null,null,null,null,null,null,null,null,null,null,null,null,null,null,null,null,null,null,null,{"$f":"IF(OR(AND(LEFT($D$636,8)=\"MODELO M\", LEFT(D762,8)=\"MODELO A\"), AND(LEFT($D$636,8)=\"MODELO A\", $F$636=\"Atribuir valor detalhado por Fase/Elemento\")), I762, 0)","v":0},{"$f":"IF(OR(AND(LEFT($D$636,8)=\"MODELO M\", LEFT(D762,8)=\"MODELO B\"), AND(LEFT($D$636,8)=\"MODELO B\", $K$636=\"Atribuir valor detalhado por Fase/Elemento\")), P762, 0)","v":0},{"$f":"IF(OR(AND(LEFT($D$636,8)=\"MODELO M\", LEFT(D762,8)=\"MODELO C\"), AND(LEFT($D$636,8)=\"MODELO C\", $R$636=\"Atribuir valor detalhado por Fase/Elemento\")), X762, 0)","v":0},{"$f":"IF(OR(AND(LEFT($D$636,8)=\"MODELO M\", LEFT(D762,8)=\"MODELO D\"), AND(LEFT($D$636,8)=\"MODELO D\", $Z$636=\"Atribuir valor detalhado por Fase/Elemento\")), AC762, 0)","v":0},{"$f":"SUM(BH762:BK762)","v":0},"MODELO A - TEMPO - N.º DE HORAS DE TRABALHO"]
[null,{"$f":"IF($B$758=\"ocultar\",\"ocultar\",IF('SA - ATIVIDADES'!$G$95=TRUE,IF('SA - ATIVIDADES'!$H$95>='SA - SERVICOS BASE'!AH763,\"mostrar\",\"ocultar\"),\"ocultar\"))","v":"ocultar"},"Especialidade (a preencher)","MODELO A - TEMPO - N.º DE HORAS DE TRABALHO",null,null,0,0,{"$f":"G763*H763","v":0},null,null,null,null,null,0,0,null,null,null,null,null,null,0,0,null,null,0,0,0,null,{"$f":"BL763","v":0},null,null,5,null,null,null,null,null,null,null,null,null,null,null,null,null,null,null,null,null,null,null,null,null,null,null,null,null,{"$f":"IF(OR(AND(LEFT($D$636,8)=\"MODELO M\", LEFT(D763,8)=\"MODELO A\"), AND(LEFT($D$636,8)=\"MODELO A\", $F$636=\"Atribuir valor detalhado por Fase/Elemento\")), I763, 0)","v":0},{"$f":"IF(OR(AND(LEFT($D$636,8)=\"MODELO M\", LEFT(D763,8)=\"MODELO B\"), AND(LEFT($D$636,8)=\"MODELO B\", $K$636=\"Atribuir valor detalhado por Fase/Elemento\")), P763, 0)","v":0},{"$f":"IF(OR(AND(LEFT($D$636,8)=\"MODELO M\", LEFT(D763,8)=\"MODELO C\"), AND(LEFT($D$636,8)=\"MODELO C\", $R$636=\"Atribuir valor detalhado por Fase/Elemento\")), X763, 0)","v":0},{"$f":"IF(OR(AND(LEFT($D$636,8)=\"MODELO M\", LEFT(D763,8)=\"MODELO D\"), AND(LEFT($D$636,8)=\"MODELO D\", $Z$636=\"Atribuir valor detalhado por Fase/Elemento\")), AC763, 0)","v":0},{"$f":"SUM(BH763:BK763)","v":0},"MODELO A - TEMPO - N.º DE HORAS DE TRABALHO"]
[null,{"$f":"IF(B758=\"ocultar\",\"ocultar\",\"mostrar\")","v":"ocultar"},"SUB-TOTAL",null,null,null,{"$f":"SUBTOTAL(109,G759:G763)","v":0},null,{"$f":"SUBTOTAL(109,I759:I763)","v":0},null,null,null,null,null,{"$f":"SUBTOTAL(9,O759:O763)","v":0},{"$f":"SUBTOTAL(9,P759:P763)","v":0},null,null,null,null,null,null,{"$f":"SUBTOTAL(9,W759:W763)","v":0},{"$f":"SUBTOTAL(9,X759:X763)","v":0},null,null,null,null,{"$f":"SUBTOTAL(9,AC759:AC763)","v":0},null,{"$f":"SUBTOTAL(109,AE759:AE763)","v":0},null,null,null,null,null,null,null,null,null,null,null,null,null,null,null,null,null,null,null,null,null,null,null,null,null,null,null,null,null,null,null,null,null,"MODELO A - TEMPO - N.º DE HORAS DE TRABALHO"]
[null,{"$f":"IF($B$636=\"ocultar\",\"ocultar\",IF('SA - ATIVIDADES'!$G$77=\"Fase Única\",\"ocultar\",IF('SA - ATIVIDADES'!G96=TRUE,\"mostrar\",\"ocultar\")))","v":"ocultar"},"ESPECIALIDADE 19",null,null,null,null,null,null,null,null,null,null,null,null,null,null,null,null,null,null,null,null,null,null,null,null,null,null,null,null,null,null,null,null,null,null,null,null,null,null,null,null,null,null,null,null,null,null,null,null,null,null,null,null,null,null,null,null,null,null,null,null,null,"MODELO A - TEMPO - N.º DE HORAS DE TRABALHO"]
[null,{"$f":"IF($B$765=\"ocultar\",\"ocultar\",IF('SA - ATIVIDADES'!$G$96=TRUE,IF('SA - ATIVIDADES'!$H$96>='SA - SERVICOS BASE'!AH766,\"mostrar\",\"ocultar\"),\"ocultar\"))","v":"ocultar"},"Especialidade (a preencher)","MODELO A - TEMPO - N.º DE HORAS DE TRABALHO",null,null,0,0,{"$f":"G766*H766","v":0},null,null,null,null,null,0,{"$f":"$P$636*O766","v":0},null,null,null,null,null,null,0,{"$f":"$P$636*W766","v":0},null,null,0,0,{"$f":"AA766*AB766","v":0},null,{"$f":"BL766","v":0},null,null,1,null,null,null,null,null,null,null,null,null,null,null,null,null,null,null,null,null,null,null,null,null,null,null,null,null,{"$f":"IF(OR(AND(LEFT($D$636,8)=\"MODELO M\", LEFT(D766,8)=\"MODELO A\"), AND(LEFT($D$636,8)=\"MODELO A\", $F$636=\"Atribuir valor detalhado por Fase/Elemento\")), I766, 0)","v":0},{"$f":"IF(OR(AND(LEFT($D$636,8)=\"MODELO M\", LEFT(D766,8)=\"MODELO B\"), AND(LEFT($D$636,8)=\"MODELO B\", $K$636=\"Atribuir valor detalhado por Fase/Elemento\")), P766, 0)","v":0},{"$f":"IF(OR(AND(LEFT($D$636,8)=\"MODELO M\", LEFT(D766,8)=\"MODELO C\"), AND(LEFT($D$636,8)=\"MODELO C\", $R$636=\"Atribuir valor detalhado por Fase/Elemento\")), X766, 0)","v":0},{"$f":"IF(OR(AND(LEFT($D$636,8)=\"MODELO M\", LEFT(D766,8)=\"MODELO D\"), AND(LEFT($D$636,8)=\"MODELO D\", $Z$636=\"Atribuir valor detalhado por Fase/Elemento\")), AC766, 0)","v":0},{"$f":"SUM(BH766:BK766)","v":0},"MODELO A - TEMPO - N.º DE HORAS DE TRABALHO"]
[null,{"$f":"IF($B$765=\"ocultar\",\"ocultar\",IF('SA - ATIVIDADES'!$G$96=TRUE,IF('SA - ATIVIDADES'!$H$96>='SA - SERVICOS BASE'!AH767,\"mostrar\",\"ocultar\"),\"ocultar\"))","v":"ocultar"},"Especialidade (a preencher)","MODELO A - TEMPO - N.º DE HORAS DE TRABALHO",null,null,0,0,{"$f":"G767*H767","v":0},null,null,null,null,null,0,{"$f":"$P$636*O767","v":0},null,null,null,null,null,null,0,{"$f":"$P$636*W767","v":0},null,null,0,0,0,null,{"$f":"BL767","v":0},null,null,2,null,null,null,null,null,null,null,null,null,null,null,null,null,null,null,null,null,null,null,null,null,null,null,null,null,{"$f":"IF(OR(AND(LEFT($D$636,8)=\"MODELO M\", LEFT(D767,8)=\"MODELO A\"), AND(LEFT($D$636,8)=\"MODELO A\", $F$636=\"Atribuir valor detalhado por Fase/Elemento\")), I767, 0)","v":0},{"$f":"IF(OR(AND(LEFT($D$636,8)=\"MODELO M\", LEFT(D767,8)=\"MODELO B\"), AND(LEFT($D$636,8)=\"MODELO B\", $K$636=\"Atribuir valor detalhado por Fase/Elemento\")), P767, 0)","v":0},{"$f":"IF(OR(AND(LEFT($D$636,8)=\"MODELO M\", LEFT(D767,8)=\"MODELO C\"), AND(LEFT($D$636,8)=\"MODELO C\", $R$636=\"Atribuir valor detalhado por Fase/Elemento\")), X767, 0)","v":0},{"$f":"IF(OR(AND(LEFT($D$636,8)=\"MODELO M\", LEFT(D767,8)=\"MODELO D\"), AND(LEFT($D$636,8)=\"MODELO D\", $Z$636=\"Atribuir valor detalhado por Fase/Elemento\")), AC767, 0)","v":0},{"$f":"SUM(BH767:BK767)","v":0},"MODELO A - TEMPO - N.º DE HORAS DE TRABALHO"]
[null,{"$f":"IF($B$765=\"ocultar\",\"ocultar\",IF('SA - ATIVIDADES'!$G$96=TRUE,IF('SA - ATIVIDADES'!$H$96>='SA - SERVICOS BASE'!AH768,\"mostrar\",\"ocultar\"),\"ocultar\"))","v":"ocultar"},"Especialidade (a preencher)","MODELO A - TEMPO - N.º DE HORAS DE TRABALHO",null,null,0,0,{"$f":"G768*H768","v":0},null,null,null,null,null,0,0,null,null,null,null,null,null,0,0,null,null,0,0,0,null,{"$f":"BL768","v":0},null,null,3,null,null,null,null,null,null,null,null,null,null,null,null,null,null,null,null,null,null,null,null,null,null,null,null,null,{"$f":"IF(OR(AND(LEFT($D$636,8)=\"MODELO M\", LEFT(D768,8)=\"MODELO A\"), AND(LEFT($D$636,8)=\"MODELO A\", $F$636=\"Atribuir valor detalhado por Fase/Elemento\")), I768, 0)","v":0},{"$f":"IF(OR(AND(LEFT($D$636,8)=\"MODELO M\", LEFT(D768,8)=\"MODELO B\"), AND(LEFT($D$636,8)=\"MODELO B\", $K$636=\"Atribuir valor detalhado por Fase/Elemento\")), P768, 0)","v":0},{"$f":"IF(OR(AND(LEFT($D$636,8)=\"MODELO M\", LEFT(D768,8)=\"MODELO C\"), AND(LEFT($D$636,8)=\"MODELO C\", $R$636=\"Atribuir valor detalhado por Fase/Elemento\")), X768, 0)","v":0},{"$f":"IF(OR(AND(LEFT($D$636,8)=\"MODELO M\", LEFT(D768,8)=\"MODELO D\"), AND(LEFT($D$636,8)=\"MODELO D\", $Z$636=\"Atribuir valor detalhado por Fase/Elemento\")), AC768, 0)","v":0},{"$f":"SUM(BH768:BK768)","v":0},"MODELO A - TEMPO - N.º DE HORAS DE TRABALHO"]
[null,{"$f":"IF($B$765=\"ocultar\",\"ocultar\",IF('SA - ATIVIDADES'!$G$96=TRUE,IF('SA - ATIVIDADES'!$H$96>='SA - SERVICOS BASE'!AH769,\"mostrar\",\"ocultar\"),\"ocultar\"))","v":"ocultar"},"Especialidade (a preencher)","MODELO A - TEMPO - N.º DE HORAS DE TRABALHO",null,null,0,0,{"$f":"G769*H769","v":0},null,null,null,null,null,0,0,null,null,null,null,null,null,0,0,null,null,0,0,0,null,{"$f":"BL769","v":0},null,null,4,null,null,null,null,null,null,null,null,null,null,null,null,null,null,null,null,null,null,null,null,null,null,null,null,null,{"$f":"IF(OR(AND(LEFT($D$636,8)=\"MODELO M\", LEFT(D769,8)=\"MODELO A\"), AND(LEFT($D$636,8)=\"MODELO A\", $F$636=\"Atribuir valor detalhado por Fase/Elemento\")), I769, 0)","v":0},{"$f":"IF(OR(AND(LEFT($D$636,8)=\"MODELO M\", LEFT(D769,8)=\"MODELO B\"), AND(LEFT($D$636,8)=\"MODELO B\", $K$636=\"Atribuir valor detalhado por Fase/Elemento\")), P769, 0)","v":0},{"$f":"IF(OR(AND(LEFT($D$636,8)=\"MODELO M\", LEFT(D769,8)=\"MODELO C\"), AND(LEFT($D$636,8)=\"MODELO C\", $R$636=\"Atribuir valor detalhado por Fase/Elemento\")), X769, 0)","v":0},{"$f":"IF(OR(AND(LEFT($D$636,8)=\"MODELO M\", LEFT(D769,8)=\"MODELO D\"), AND(LEFT($D$636,8)=\"MODELO D\", $Z$636=\"Atribuir valor detalhado por Fase/Elemento\")), AC769, 0)","v":0},{"$f":"SUM(BH769:BK769)","v":0},"MODELO A - TEMPO - N.º DE HORAS DE TRABALHO"]
[null,{"$f":"IF($B$765=\"ocultar\",\"ocultar\",IF('SA - ATIVIDADES'!$G$96=TRUE,IF('SA - ATIVIDADES'!$H$96>='SA - SERVICOS BASE'!AH770,\"mostrar\",\"ocultar\"),\"ocultar\"))","v":"ocultar"},"Especialidade (a preencher)","MODELO A - TEMPO - N.º DE HORAS DE TRABALHO",null,null,0,0,{"$f":"G770*H770","v":0},null,null,null,null,null,0,0,null,null,null,null,null,null,0,0,null,null,0,0,0,null,{"$f":"BL770","v":0},null,null,5,null,null,null,null,null,null,null,null,null,null,null,null,null,null,null,null,null,null,null,null,null,null,null,null,null,{"$f":"IF(OR(AND(LEFT($D$636,8)=\"MODELO M\", LEFT(D770,8)=\"MODELO A\"), AND(LEFT($D$636,8)=\"MODELO A\", $F$636=\"Atribuir valor detalhado por Fase/Elemento\")), I770, 0)","v":0},{"$f":"IF(OR(AND(LEFT($D$636,8)=\"MODELO M\", LEFT(D770,8)=\"MODELO B\"), AND(LEFT($D$636,8)=\"MODELO B\", $K$636=\"Atribuir valor detalhado por Fase/Elemento\")), P770, 0)","v":0},{"$f":"IF(OR(AND(LEFT($D$636,8)=\"MODELO M\", LEFT(D770,8)=\"MODELO C\"), AND(LEFT($D$636,8)=\"MODELO C\", $R$636=\"Atribuir valor detalhado por Fase/Elemento\")), X770, 0)","v":0},{"$f":"IF(OR(AND(LEFT($D$636,8)=\"MODELO M\", LEFT(D770,8)=\"MODELO D\"), AND(LEFT($D$636,8)=\"MODELO D\", $Z$636=\"Atribuir valor detalhado por Fase/Elemento\")), AC770, 0)","v":0},{"$f":"SUM(BH770:BK770)","v":0},"MODELO A - TEMPO - N.º DE HORAS DE TRABALHO"]
[null,{"$f":"IF(B765=\"ocultar\",\"ocultar\",\"mostrar\")","v":"ocultar"},"SUB-TOTAL",null,null,null,{"$f":"SUBTOTAL(109,G766:G770)","v":0},null,{"$f":"SUBTOTAL(109,I766:I770)","v":0},null,null,null,null,null,{"$f":"SUBTOTAL(9,O766:O770)","v":0},{"$f":"SUBTOTAL(9,P766:P770)","v":0},null,null,null,null,null,null,{"$f":"SUBTOTAL(9,W766:W770)","v":0},{"$f":"SUBTOTAL(9,X766:X770)","v":0},null,null,null,null,{"$f":"SUBTOTAL(9,AC766:AC770)","v":0},null,{"$f":"SUBTOTAL(109,AE766:AE770)","v":0},null,null,null,null,null,null,null,null,null,null,null,null,null,null,null,null,null,null,null,null,null,null,null,null,null,null,null,null,null,null,null,null,null,"MODELO A - TEMPO - N.º DE HORAS DE TRABALHO"]
[null,{"$f":"IF($B$636=\"ocultar\",\"ocultar\",IF('SA - ATIVIDADES'!$G$77=\"Fase Única\",\"ocultar\",IF('SA - ATIVIDADES'!G97=TRUE,\"mostrar\",\"ocultar\")))","v":"ocultar"},"ESPECIALIDADE 20",null,null,null,null,null,null,null,null,null,null,null,null,null,null,null,null,null,null,null,null,null,null,null,null,null,null,null,null,null,null,null,null,null,null,null,null,null,null,null,null,null,null,null,null,null,null,null,null,null,null,null,null,null,null,null,null,null,null,null,null,null,"MODELO A - TEMPO - N.º DE HORAS DE TRABALHO"]
[null,{"$f":"IF($B$772=\"ocultar\",\"ocultar\",IF('SA - ATIVIDADES'!$G$97=TRUE,IF('SA - ATIVIDADES'!$H$97>='SA - SERVICOS BASE'!AH773,\"mostrar\",\"ocultar\"),\"ocultar\"))","v":"ocultar"},"Especialidade (a preencher)","MODELO A - TEMPO - N.º DE HORAS DE TRABALHO",null,null,0,0,{"$f":"G773*H773","v":0},null,null,null,null,null,0,{"$f":"$P$636*O773","v":0},null,null,null,null,null,null,0,{"$f":"$P$636*W773","v":0},null,null,0,0,{"$f":"AA773*AB773","v":0},null,{"$f":"BL773","v":0},null,null,1,null,null,null,null,null,null,null,null,null,null,null,null,null,null,null,null,null,null,null,null,null,null,null,null,null,{"$f":"IF(OR(AND(LEFT($D$636,8)=\"MODELO M\", LEFT(D773,8)=\"MODELO A\"), AND(LEFT($D$636,8)=\"MODELO A\", $F$636=\"Atribuir valor detalhado por Fase/Elemento\")), I773, 0)","v":0},{"$f":"IF(OR(AND(LEFT($D$636,8)=\"MODELO M\", LEFT(D773,8)=\"MODELO B\"), AND(LEFT($D$636,8)=\"MODELO B\", $K$636=\"Atribuir valor detalhado por Fase/Elemento\")), P773, 0)","v":0},{"$f":"IF(OR(AND(LEFT($D$636,8)=\"MODELO M\", LEFT(D773,8)=\"MODELO C\"), AND(LEFT($D$636,8)=\"MODELO C\", $R$636=\"Atribuir valor detalhado por Fase/Elemento\")), X773, 0)","v":0},{"$f":"IF(OR(AND(LEFT($D$636,8)=\"MODELO M\", LEFT(D773,8)=\"MODELO D\"), AND(LEFT($D$636,8)=\"MODELO D\", $Z$636=\"Atribuir valor detalhado por Fase/Elemento\")), AC773, 0)","v":0},{"$f":"SUM(BH773:BK773)","v":0},"MODELO A - TEMPO - N.º DE HORAS DE TRABALHO"]
[null,{"$f":"IF($B$772=\"ocultar\",\"ocultar\",IF('SA - ATIVIDADES'!$G$97=TRUE,IF('SA - ATIVIDADES'!$H$97>='SA - SERVICOS BASE'!AH774,\"mostrar\",\"ocultar\"),\"ocultar\"))","v":"ocultar"},"Especialidade (a preencher)","MODELO A - TEMPO - N.º DE HORAS DE TRABALHO",null,null,0,0,{"$f":"G774*H774","v":0},null,null,null,null,null,0,{"$f":"$P$636*O774","v":0},null,null,null,null,null,null,0,{"$f":"$P$636*W774","v":0},null,null,0,0,0,null,{"$f":"BL774","v":0},null,null,2,null,null,null,null,null,null,null,null,null,null,null,null,null,null,null,null,null,null,null,null,null,null,null,null,null,{"$f":"IF(OR(AND(LEFT($D$636,8)=\"MODELO M\", LEFT(D774,8)=\"MODELO A\"), AND(LEFT($D$636,8)=\"MODELO A\", $F$636=\"Atribuir valor detalhado por Fase/Elemento\")), I774, 0)","v":0},{"$f":"IF(OR(AND(LEFT($D$636,8)=\"MODELO M\", LEFT(D774,8)=\"MODELO B\"), AND(LEFT($D$636,8)=\"MODELO B\", $K$636=\"Atribuir valor detalhado por Fase/Elemento\")), P774, 0)","v":0},{"$f":"IF(OR(AND(LEFT($D$636,8)=\"MODELO M\", LEFT(D774,8)=\"MODELO C\"), AND(LEFT($D$636,8)=\"MODELO C\", $R$636=\"Atribuir valor detalhado por Fase/Elemento\")), X774, 0)","v":0},{"$f":"IF(OR(AND(LEFT($D$636,8)=\"MODELO M\", LEFT(D774,8)=\"MODELO D\"), AND(LEFT($D$636,8)=\"MODELO D\", $Z$636=\"Atribuir valor detalhado por Fase/Elemento\")), AC774, 0)","v":0},{"$f":"SUM(BH774:BK774)","v":0},"MODELO A - TEMPO - N.º DE HORAS DE TRABALHO"]
[null,{"$f":"IF($B$772=\"ocultar\",\"ocultar\",IF('SA - ATIVIDADES'!$G$97=TRUE,IF('SA - ATIVIDADES'!$H$97>='SA - SERVICOS BASE'!AH775,\"mostrar\",\"ocultar\"),\"ocultar\"))","v":"ocultar"},"Especialidade (a preencher)","MODELO A - TEMPO - N.º DE HORAS DE TRABALHO",null,null,0,0,{"$f":"G775*H775","v":0},null,null,null,null,null,0,0,null,null,null,null,null,null,0,0,null,null,0,0,0,null,{"$f":"BL775","v":0},null,null,3,null,null,null,null,null,null,null,null,null,null,null,null,null,null,null,null,null,null,null,null,null,null,null,null,null,{"$f":"IF(OR(AND(LEFT($D$636,8)=\"MODELO M\", LEFT(D775,8)=\"MODELO A\"), AND(LEFT($D$636,8)=\"MODELO A\", $F$636=\"Atribuir valor detalhado por Fase/Elemento\")), I775, 0)","v":0},{"$f":"IF(OR(AND(LEFT($D$636,8)=\"MODELO M\", LEFT(D775,8)=\"MODELO B\"), AND(LEFT($D$636,8)=\"MODELO B\", $K$636=\"Atribuir valor detalhado por Fase/Elemento\")), P775, 0)","v":0},{"$f":"IF(OR(AND(LEFT($D$636,8)=\"MODELO M\", LEFT(D775,8)=\"MODELO C\"), AND(LEFT($D$636,8)=\"MODELO C\", $R$636=\"Atribuir valor detalhado por Fase/Elemento\")), X775, 0)","v":0},{"$f":"IF(OR(AND(LEFT($D$636,8)=\"MODELO M\", LEFT(D775,8)=\"MODELO D\"), AND(LEFT($D$636,8)=\"MODELO D\", $Z$636=\"Atribuir valor detalhado por Fase/Elemento\")), AC775, 0)","v":0},{"$f":"SUM(BH775:BK775)","v":0},"MODELO A - TEMPO - N.º DE HORAS DE TRABALHO"]
[null,{"$f":"IF($B$772=\"ocultar\",\"ocultar\",IF('SA - ATIVIDADES'!$G$97=TRUE,IF('SA - ATIVIDADES'!$H$97>='SA - SERVICOS BASE'!AH776,\"mostrar\",\"ocultar\"),\"ocultar\"))","v":"ocultar"},"Especialidade (a preencher)","MODELO A - TEMPO - N.º DE HORAS DE TRABALHO",null,null,0,0,{"$f":"G776*H776","v":0},null,null,null,null,null,0,0,null,null,null,null,null,null,0,0,null,null,0,0,0,null,{"$f":"BL776","v":0},null,null,4,null,null,null,null,null,null,null,null,null,null,null,null,null,null,null,null,null,null,null,null,null,null,null,null,null,{"$f":"IF(OR(AND(LEFT($D$636,8)=\"MODELO M\", LEFT(D776,8)=\"MODELO A\"), AND(LEFT($D$636,8)=\"MODELO A\", $F$636=\"Atribuir valor detalhado por Fase/Elemento\")), I776, 0)","v":0},{"$f":"IF(OR(AND(LEFT($D$636,8)=\"MODELO M\", LEFT(D776,8)=\"MODELO B\"), AND(LEFT($D$636,8)=\"MODELO B\", $K$636=\"Atribuir valor detalhado por Fase/Elemento\")), P776, 0)","v":0},{"$f":"IF(OR(AND(LEFT($D$636,8)=\"MODELO M\", LEFT(D776,8)=\"MODELO C\"), AND(LEFT($D$636,8)=\"MODELO C\", $R$636=\"Atribuir valor detalhado por Fase/Elemento\")), X776, 0)","v":0},{"$f":"IF(OR(AND(LEFT($D$636,8)=\"MODELO M\", LEFT(D776,8)=\"MODELO D\"), AND(LEFT($D$636,8)=\"MODELO D\", $Z$636=\"Atribuir valor detalhado por Fase/Elemento\")), AC776, 0)","v":0},{"$f":"SUM(BH776:BK776)","v":0},"MODELO A - TEMPO - N.º DE HORAS DE TRABALHO"]
[null,{"$f":"IF($B$772=\"ocultar\",\"ocultar\",IF('SA - ATIVIDADES'!$G$97=TRUE,IF('SA - ATIVIDADES'!$H$97>='SA - SERVICOS BASE'!AH777,\"mostrar\",\"ocultar\"),\"ocultar\"))","v":"ocultar"},"Especialidade (a preencher)","MODELO A - TEMPO - N.º DE HORAS DE TRABALHO",null,null,0,0,{"$f":"G777*H777","v":0},null,null,null,null,null,0,0,null,null,null,null,null,null,0,0,null,null,0,0,0,null,{"$f":"BL777","v":0},null,null,5,null,null,null,null,null,null,null,null,null,null,null,null,null,null,null,null,null,null,null,null,null,null,null,null,null,{"$f":"IF(OR(AND(LEFT($D$636,8)=\"MODELO M\", LEFT(D777,8)=\"MODELO A\"), AND(LEFT($D$636,8)=\"MODELO A\", $F$636=\"Atribuir valor detalhado por Fase/Elemento\")), I777, 0)","v":0},{"$f":"IF(OR(AND(LEFT($D$636,8)=\"MODELO M\", LEFT(D777,8)=\"MODELO B\"), AND(LEFT($D$636,8)=\"MODELO B\", $K$636=\"Atribuir valor detalhado por Fase/Elemento\")), P777, 0)","v":0},{"$f":"IF(OR(AND(LEFT($D$636,8)=\"MODELO M\", LEFT(D777,8)=\"MODELO C\"), AND(LEFT($D$636,8)=\"MODELO C\", $R$636=\"Atribuir valor detalhado por Fase/Elemento\")), X777, 0)","v":0},{"$f":"IF(OR(AND(LEFT($D$636,8)=\"MODELO M\", LEFT(D777,8)=\"MODELO D\"), AND(LEFT($D$636,8)=\"MODELO D\", $Z$636=\"Atribuir valor detalhado por Fase/Elemento\")), AC777, 0)","v":0},{"$f":"SUM(BH777:BK777)","v":0},"MODELO A - TEMPO - N.º DE HORAS DE TRABALHO"]
[null,{"$f":"IF(B772=\"ocultar\",\"ocultar\",\"mostrar\")","v":"ocultar"},"SUB-TOTAL",null,null,null,{"$f":"SUBTOTAL(109,G773:G777)","v":0},null,{"$f":"SUBTOTAL(109,I773:I777)","v":0},null,null,null,null,null,{"$f":"SUBTOTAL(9,O773:O777)","v":0},{"$f":"SUBTOTAL(9,P773:P777)","v":0},null,null,null,null,null,null,{"$f":"SUBTOTAL(9,W773:W777)","v":0},{"$f":"SUBTOTAL(9,X773:X777)","v":0},null,null,null,null,{"$f":"SUBTOTAL(9,AC773:AC777)","v":0},null,{"$f":"SUBTOTAL(109,AE773:AE777)","v":0},null,null,null,null,null,null,null,null,null,null,null,null,null,null,null,null,null,null,null,null,null,null,null,null,null,null,null,null,null,null,null,null,null,"MODELO A - TEMPO - N.º DE HORAS DE TRABALHO"]
[null,{"$f":"IF($B$636=\"ocultar\",\"ocultar\",IF('SA - ATIVIDADES'!$G$77=\"Fase Única\",\"ocultar\",IF('SA - ATIVIDADES'!G98=TRUE,\"mostrar\",\"ocultar\")))","v":"ocultar"},"ESPECIALIDADE 21",null,null,null,null,null,null,null,null,null,null,null,null,null,null,null,null,null,null,null,null,null,null,null,null,null,null,null,null,null,null,null,null,null,null,null,null,null,null,null,null,null,null,null,null,null,null,null,null,null,null,null,null,null,null,null,null,null,null,null,null,null,"MODELO A - TEMPO - N.º DE HORAS DE TRABALHO"]
[null,{"$f":"IF($B$779=\"ocultar\",\"ocultar\",IF('SA - ATIVIDADES'!$G$98=TRUE,IF('SA - ATIVIDADES'!$H$98>='SA - SERVICOS BASE'!AH780,\"mostrar\",\"ocultar\"),\"ocultar\"))","v":"ocultar"},"Especialidade (a preencher)","MODELO A - TEMPO - N.º DE HORAS DE TRABALHO",null,null,0,0,{"$f":"G780*H780","v":0},null,null,null,null,null,0,{"$f":"$P$636*O780","v":0},null,null,null,null,null,null,0,{"$f":"$P$636*W780","v":0},null,null,0,0,{"$f":"AA780*AB780","v":0},null,{"$f":"BL780","v":0},null,null,1,null,null,null,null,null,null,null,null,null,null,null,null,null,null,null,null,null,null,null,null,null,null,null,null,null,{"$f":"IF(OR(AND(LEFT($D$636,8)=\"MODELO M\", LEFT(D780,8)=\"MODELO A\"), AND(LEFT($D$636,8)=\"MODELO A\", $F$636=\"Atribuir valor detalhado por Fase/Elemento\")), I780, 0)","v":0},{"$f":"IF(OR(AND(LEFT($D$636,8)=\"MODELO M\", LEFT(D780,8)=\"MODELO B\"), AND(LEFT($D$636,8)=\"MODELO B\", $K$636=\"Atribuir valor detalhado por Fase/Elemento\")), P780, 0)","v":0},{"$f":"IF(OR(AND(LEFT($D$636,8)=\"MODELO M\", LEFT(D780,8)=\"MODELO C\"), AND(LEFT($D$636,8)=\"MODELO C\", $R$636=\"Atribuir valor detalhado por Fase/Elemento\")), X780, 0)","v":0},{"$f":"IF(OR(AND(LEFT($D$636,8)=\"MODELO M\", LEFT(D780,8)=\"MODELO D\"), AND(LEFT($D$636,8)=\"MODELO D\", $Z$636=\"Atribuir valor detalhado por Fase/Elemento\")), AC780, 0)","v":0},{"$f":"SUM(BH780:BK780)","v":0},{"$f":"IF($AH780<>\"\",BM779,IF(LEFT($D780,6)=\"MODELO\",$D780,BM779))","v":"MODELO A - TEMPO - N.º DE HORAS DE TRABALHO"}]
[null,{"$f":"IF($B$779=\"ocultar\",\"ocultar\",IF('SA - ATIVIDADES'!$G$98=TRUE,IF('SA - ATIVIDADES'!$H$98>='SA - SERVICOS BASE'!AH781,\"mostrar\",\"ocultar\"),\"ocultar\"))","v":"ocultar"},"Especialidade (a preencher)","MODELO A - TEMPO - N.º DE HORAS DE TRABALHO",null,null,0,0,{"$f":"G781*H781","v":0},null,null,null,null,null,0,{"$f":"$P$636*O781","v":0},null,null,null,null,null,null,0,{"$f":"$P$636*W781","v":0},null,null,0,0,0,null,{"$f":"BL781","v":0},null,null,2,null,null,null,null,null,null,null,null,null,null,null,null,null,null,null,null,null,null,null,null,null,null,null,null,null,{"$f":"IF(OR(AND(LEFT($D$636,8)=\"MODELO M\", LEFT(D781,8)=\"MODELO A\"), AND(LEFT($D$636,8)=\"MODELO A\", $F$636=\"Atribuir valor detalhado por Fase/Elemento\")), I781, 0)","v":0},{"$f":"IF(OR(AND(LEFT($D$636,8)=\"MODELO M\", LEFT(D781,8)=\"MODELO B\"), AND(LEFT($D$636,8)=\"MODELO B\", $K$636=\"Atribuir valor detalhado por Fase/Elemento\")), P781, 0)","v":0},{"$f":"IF(OR(AND(LEFT($D$636,8)=\"MODELO M\", LEFT(D781,8)=\"MODELO C\"), AND(LEFT($D$636,8)=\"MODELO C\", $R$636=\"Atribuir valor detalhado por Fase/Elemento\")), X781, 0)","v":0},{"$f":"IF(OR(AND(LEFT($D$636,8)=\"MODELO M\", LEFT(D781,8)=\"MODELO D\"), AND(LEFT($D$636,8)=\"MODELO D\", $Z$636=\"Atribuir valor detalhado por Fase/Elemento\")), AC781, 0)","v":0},{"$f":"SUM(BH781:BK781)","v":0},"MODELO A - TEMPO - N.º DE HORAS DE TRABALHO"]
[null,{"$f":"IF($B$779=\"ocultar\",\"ocultar\",IF('SA - ATIVIDADES'!$G$98=TRUE,IF('SA - ATIVIDADES'!$H$98>='SA - SERVICOS BASE'!AH782,\"mostrar\",\"ocultar\"),\"ocultar\"))","v":"ocultar"},"Especialidade (a preencher)","MODELO A - TEMPO - N.º DE HORAS DE TRABALHO",null,null,0,0,{"$f":"G782*H782","v":0},null,null,null,null,null,0,0,null,null,null,null,null,null,0,0,null,null,0,0,0,null,{"$f":"BL782","v":0},null,null,3,null,null,null,null,null,null,null,null,null,null,null,null,null,null,null,null,null,null,null,null,null,null,null,null,null,{"$f":"IF(OR(AND(LEFT($D$636,8)=\"MODELO M\", LEFT(D782,8)=\"MODELO A\"), AND(LEFT($D$636,8)=\"MODELO A\", $F$636=\"Atribuir valor detalhado por Fase/Elemento\")), I782, 0)","v":0},{"$f":"IF(OR(AND(LEFT($D$636,8)=\"MODELO M\", LEFT(D782,8)=\"MODELO B\"), AND(LEFT($D$636,8)=\"MODELO B\", $K$636=\"Atribuir valor detalhado por Fase/Elemento\")), P782, 0)","v":0},{"$f":"IF(OR(AND(LEFT($D$636,8)=\"MODELO M\", LEFT(D782,8)=\"MODELO C\"), AND(LEFT($D$636,8)=\"MODELO C\", $R$636=\"Atribuir valor detalhado por Fase/Elemento\")), X782, 0)","v":0},{"$f":"IF(OR(AND(LEFT($D$636,8)=\"MODELO M\", LEFT(D782,8)=\"MODELO D\"), AND(LEFT($D$636,8)=\"MODELO D\", $Z$636=\"Atribuir valor detalhado por Fase/Elemento\")), AC782, 0)","v":0},{"$f":"SUM(BH782:BK782)","v":0},"MODELO A - TEMPO - N.º DE HORAS DE TRABALHO"]
[null,{"$f":"IF($B$779=\"ocultar\",\"ocultar\",IF('SA - ATIVIDADES'!$G$98=TRUE,IF('SA - ATIVIDADES'!$H$98>='SA - SERVICOS BASE'!AH783,\"mostrar\",\"ocultar\"),\"ocultar\"))","v":"ocultar"},"Especialidade (a preencher)","MODELO A - TEMPO - N.º DE HORAS DE TRABALHO",null,null,0,0,{"$f":"G783*H783","v":0},null,null,null,null,null,0,0,null,null,null,null,null,null,0,0,null,null,0,0,0,null,{"$f":"BL783","v":0},null,null,4,null,null,null,null,null,null,null,null,null,null,null,null,null,null,null,null,null,null,null,null,null,null,null,null,null,{"$f":"IF(OR(AND(LEFT($D$636,8)=\"MODELO M\", LEFT(D783,8)=\"MODELO A\"), AND(LEFT($D$636,8)=\"MODELO A\", $F$636=\"Atribuir valor detalhado por Fase/Elemento\")), I783, 0)","v":0},{"$f":"IF(OR(AND(LEFT($D$636,8)=\"MODELO M\", LEFT(D783,8)=\"MODELO B\"), AND(LEFT($D$636,8)=\"MODELO B\", $K$636=\"Atribuir valor detalhado por Fase/Elemento\")), P783, 0)","v":0},{"$f":"IF(OR(AND(LEFT($D$636,8)=\"MODELO M\", LEFT(D783,8)=\"MODELO C\"), AND(LEFT($D$636,8)=\"MODELO C\", $R$636=\"Atribuir valor detalhado por Fase/Elemento\")), X783, 0)","v":0},{"$f":"IF(OR(AND(LEFT($D$636,8)=\"MODELO M\", LEFT(D783,8)=\"MODELO D\"), AND(LEFT($D$636,8)=\"MODELO D\", $Z$636=\"Atribuir valor detalhado por Fase/Elemento\")), AC783, 0)","v":0},{"$f":"SUM(BH783:BK783)","v":0},"MODELO A - TEMPO - N.º DE HORAS DE TRABALHO"]
[null,{"$f":"IF($B$779=\"ocultar\",\"ocultar\",IF('SA - ATIVIDADES'!$G$98=TRUE,IF('SA - ATIVIDADES'!$H$98>='SA - SERVICOS BASE'!AH784,\"mostrar\",\"ocultar\"),\"ocultar\"))","v":"ocultar"},"Especialidade (a preencher)","MODELO A - TEMPO - N.º DE HORAS DE TRABALHO",null,null,0,0,{"$f":"G784*H784","v":0},null,null,null,null,null,0,0,null,null,null,null,null,null,0,0,null,null,0,0,0,null,{"$f":"BL784","v":0},null,null,5,null,null,null,null,null,null,null,null,null,null,null,null,null,null,null,null,null,null,null,null,null,null,null,null,null,{"$f":"IF(OR(AND(LEFT($D$636,8)=\"MODELO M\", LEFT(D784,8)=\"MODELO A\"), AND(LEFT($D$636,8)=\"MODELO A\", $F$636=\"Atribuir valor detalhado por Fase/Elemento\")), I784, 0)","v":0},{"$f":"IF(OR(AND(LEFT($D$636,8)=\"MODELO M\", LEFT(D784,8)=\"MODELO B\"), AND(LEFT($D$636,8)=\"MODELO B\", $K$636=\"Atribuir valor detalhado por Fase/Elemento\")), P784, 0)","v":0},{"$f":"IF(OR(AND(LEFT($D$636,8)=\"MODELO M\", LEFT(D784,8)=\"MODELO C\"), AND(LEFT($D$636,8)=\"MODELO C\", $R$636=\"Atribuir valor detalhado por Fase/Elemento\")), X784, 0)","v":0},{"$f":"IF(OR(AND(LEFT($D$636,8)=\"MODELO M\", LEFT(D784,8)=\"MODELO D\"), AND(LEFT($D$636,8)=\"MODELO D\", $Z$636=\"Atribuir valor detalhado por Fase/Elemento\")), AC784, 0)","v":0},{"$f":"SUM(BH784:BK784)","v":0},"MODELO A - TEMPO - N.º DE HORAS DE TRABALHO"]
[null,{"$f":"IF(B779=\"ocultar\",\"ocultar\",\"mostrar\")","v":"ocultar"},"SUB-TOTAL",null,null,null,{"$f":"SUBTOTAL(109,G780:G784)","v":0},null,{"$f":"SUBTOTAL(109,I780:I784)","v":0},null,null,null,null,null,{"$f":"SUBTOTAL(9,O780:O784)","v":0},{"$f":"SUBTOTAL(9,P780:P784)","v":0},null,null,null,null,null,null,{"$f":"SUBTOTAL(9,W780:W784)","v":0},{"$f":"SUBTOTAL(9,X780:X784)","v":0},null,null,null,null,{"$f":"SUBTOTAL(9,AC780:AC784)","v":0},null,{"$f":"SUBTOTAL(109,AE780:AE784)","v":0},null,null,null,null,null,null,null,null,null,null,null,null,null,null,null,null,null,null,null,null,null,null,null,null,null,null,null,null,null,null,null,null,null,"MODELO A - TEMPO - N.º DE HORAS DE TRABALHO"]
[null,{"$f":"IF($B$636=\"ocultar\",\"ocultar\",IF('SA - ATIVIDADES'!$G$77=\"Fase Única\",\"ocultar\",IF('SA - ATIVIDADES'!G99=TRUE,\"mostrar\",\"ocultar\")))","v":"ocultar"},"ESPECIALIDADE 22",null,null,null,null,null,null,null,null,null,null,null,null,null,null,null,null,null,null,null,null,null,null,null,null,null,null,null,null,null,null,null,null,null,null,null,null,null,null,null,null,null,null,null,null,null,null,null,null,null,null,null,null,null,null,null,null,null,null,null,null,null,"MODELO A - TEMPO - N.º DE HORAS DE TRABALHO"]
[null,{"$f":"IF($B$786=\"ocultar\",\"ocultar\",IF('SA - ATIVIDADES'!$G$99=TRUE,IF('SA - ATIVIDADES'!$H$99>='SA - SERVICOS BASE'!AH787,\"mostrar\",\"ocultar\"),\"ocultar\"))","v":"ocultar"},"Especialidade (a preencher)","MODELO A - TEMPO - N.º DE HORAS DE TRABALHO",null,null,0,0,{"$f":"G787*H787","v":0},null,null,null,null,null,0,{"$f":"$P$636*O787","v":0},null,null,null,null,null,null,0,{"$f":"$P$636*W787","v":0},null,null,0,0,{"$f":"AA787*AB787","v":0},null,{"$f":"BL787","v":0},null,null,1,null,null,null,null,null,null,null,null,null,null,null,null,null,null,null,null,null,null,null,null,null,null,null,null,null,{"$f":"IF(OR(AND(LEFT($D$636,8)=\"MODELO M\", LEFT(D787,8)=\"MODELO A\"), AND(LEFT($D$636,8)=\"MODELO A\", $F$636=\"Atribuir valor detalhado por Fase/Elemento\")), I787, 0)","v":0},{"$f":"IF(OR(AND(LEFT($D$636,8)=\"MODELO M\", LEFT(D787,8)=\"MODELO B\"), AND(LEFT($D$636,8)=\"MODELO B\", $K$636=\"Atribuir valor detalhado por Fase/Elemento\")), P787, 0)","v":0},{"$f":"IF(OR(AND(LEFT($D$636,8)=\"MODELO M\", LEFT(D787,8)=\"MODELO C\"), AND(LEFT($D$636,8)=\"MODELO C\", $R$636=\"Atribuir valor detalhado por Fase/Elemento\")), X787, 0)","v":0},{"$f":"IF(OR(AND(LEFT($D$636,8)=\"MODELO M\", LEFT(D787,8)=\"MODELO D\"), AND(LEFT($D$636,8)=\"MODELO D\", $Z$636=\"Atribuir valor detalhado por Fase/Elemento\")), AC787, 0)","v":0},{"$f":"SUM(BH787:BK787)","v":0},"MODELO A - TEMPO - N.º DE HORAS DE TRABALHO"]
[null,{"$f":"IF($B$786=\"ocultar\",\"ocultar\",IF('SA - ATIVIDADES'!$G$99=TRUE,IF('SA - ATIVIDADES'!$H$99>='SA - SERVICOS BASE'!AH788,\"mostrar\",\"ocultar\"),\"ocultar\"))","v":"ocultar"},"Especialidade (a preencher)","MODELO A - TEMPO - N.º DE HORAS DE TRABALHO",null,null,0,0,{"$f":"G788*H788","v":0},null,null,null,null,null,0,{"$f":"$P$636*O788","v":0},null,null,null,null,null,null,0,{"$f":"$P$636*W788","v":0},null,null,0,0,0,null,{"$f":"BL788","v":0},null,null,2,null,null,null,null,null,null,null,null,null,null,null,null,null,null,null,null,null,null,null,null,null,null,null,null,null,{"$f":"IF(OR(AND(LEFT($D$636,8)=\"MODELO M\", LEFT(D788,8)=\"MODELO A\"), AND(LEFT($D$636,8)=\"MODELO A\", $F$636=\"Atribuir valor detalhado por Fase/Elemento\")), I788, 0)","v":0},{"$f":"IF(OR(AND(LEFT($D$636,8)=\"MODELO M\", LEFT(D788,8)=\"MODELO B\"), AND(LEFT($D$636,8)=\"MODELO B\", $K$636=\"Atribuir valor detalhado por Fase/Elemento\")), P788, 0)","v":0},{"$f":"IF(OR(AND(LEFT($D$636,8)=\"MODELO M\", LEFT(D788,8)=\"MODELO C\"), AND(LEFT($D$636,8)=\"MODELO C\", $R$636=\"Atribuir valor detalhado por Fase/Elemento\")), X788, 0)","v":0},{"$f":"IF(OR(AND(LEFT($D$636,8)=\"MODELO M\", LEFT(D788,8)=\"MODELO D\"), AND(LEFT($D$636,8)=\"MODELO D\", $Z$636=\"Atribuir valor detalhado por Fase/Elemento\")), AC788, 0)","v":0},{"$f":"SUM(BH788:BK788)","v":0},"MODELO A - TEMPO - N.º DE HORAS DE TRABALHO"]
[null,{"$f":"IF($B$786=\"ocultar\",\"ocultar\",IF('SA - ATIVIDADES'!$G$99=TRUE,IF('SA - ATIVIDADES'!$H$99>='SA - SERVICOS BASE'!AH789,\"mostrar\",\"ocultar\"),\"ocultar\"))","v":"ocultar"},"Especialidade (a preencher)","MODELO A - TEMPO - N.º DE HORAS DE TRABALHO",null,null,0,0,{"$f":"G789*H789","v":0},null,null,null,null,null,0,0,null,null,null,null,null,null,0,0,null,null,0,0,0,null,{"$f":"BL789","v":0},null,null,3,null,null,null,null,null,null,null,null,null,null,null,null,null,null,null,null,null,null,null,null,null,null,null,null,null,{"$f":"IF(OR(AND(LEFT($D$636,8)=\"MODELO M\", LEFT(D789,8)=\"MODELO A\"), AND(LEFT($D$636,8)=\"MODELO A\", $F$636=\"Atribuir valor detalhado por Fase/Elemento\")), I789, 0)","v":0},{"$f":"IF(OR(AND(LEFT($D$636,8)=\"MODELO M\", LEFT(D789,8)=\"MODELO B\"), AND(LEFT($D$636,8)=\"MODELO B\", $K$636=\"Atribuir valor detalhado por Fase/Elemento\")), P789, 0)","v":0},{"$f":"IF(OR(AND(LEFT($D$636,8)=\"MODELO M\", LEFT(D789,8)=\"MODELO C\"), AND(LEFT($D$636,8)=\"MODELO C\", $R$636=\"Atribuir valor detalhado por Fase/Elemento\")), X789, 0)","v":0},{"$f":"IF(OR(AND(LEFT($D$636,8)=\"MODELO M\", LEFT(D789,8)=\"MODELO D\"), AND(LEFT($D$636,8)=\"MODELO D\", $Z$636=\"Atribuir valor detalhado por Fase/Elemento\")), AC789, 0)","v":0},{"$f":"SUM(BH789:BK789)","v":0},"MODELO A - TEMPO - N.º DE HORAS DE TRABALHO"]
[null,{"$f":"IF($B$786=\"ocultar\",\"ocultar\",IF('SA - ATIVIDADES'!$G$99=TRUE,IF('SA - ATIVIDADES'!$H$99>='SA - SERVICOS BASE'!AH790,\"mostrar\",\"ocultar\"),\"ocultar\"))","v":"ocultar"},"Especialidade (a preencher)","MODELO A - TEMPO - N.º DE HORAS DE TRABALHO",null,null,0,0,{"$f":"G790*H790","v":0},null,null,null,null,null,0,0,null,null,null,null,null,null,0,0,null,null,0,0,0,null,{"$f":"BL790","v":0},null,null,4,null,null,null,null,null,null,null,null,null,null,null,null,null,null,null,null,null,null,null,null,null,null,null,null,null,{"$f":"IF(OR(AND(LEFT($D$636,8)=\"MODELO M\", LEFT(D790,8)=\"MODELO A\"), AND(LEFT($D$636,8)=\"MODELO A\", $F$636=\"Atribuir valor detalhado por Fase/Elemento\")), I790, 0)","v":0},{"$f":"IF(OR(AND(LEFT($D$636,8)=\"MODELO M\", LEFT(D790,8)=\"MODELO B\"), AND(LEFT($D$636,8)=\"MODELO B\", $K$636=\"Atribuir valor detalhado por Fase/Elemento\")), P790, 0)","v":0},{"$f":"IF(OR(AND(LEFT($D$636,8)=\"MODELO M\", LEFT(D790,8)=\"MODELO C\"), AND(LEFT($D$636,8)=\"MODELO C\", $R$636=\"Atribuir valor detalhado por Fase/Elemento\")), X790, 0)","v":0},{"$f":"IF(OR(AND(LEFT($D$636,8)=\"MODELO M\", LEFT(D790,8)=\"MODELO D\"), AND(LEFT($D$636,8)=\"MODELO D\", $Z$636=\"Atribuir valor detalhado por Fase/Elemento\")), AC790, 0)","v":0},{"$f":"SUM(BH790:BK790)","v":0},"MODELO A - TEMPO - N.º DE HORAS DE TRABALHO"]
[null,{"$f":"IF($B$786=\"ocultar\",\"ocultar\",IF('SA - ATIVIDADES'!$G$99=TRUE,IF('SA - ATIVIDADES'!$H$99>='SA - SERVICOS BASE'!AH791,\"mostrar\",\"ocultar\"),\"ocultar\"))","v":"ocultar"},"Especialidade (a preencher)","MODELO A - TEMPO - N.º DE HORAS DE TRABALHO",null,null,0,0,{"$f":"G791*H791","v":0},null,null,null,null,null,0,0,null,null,null,null,null,null,0,0,null,null,0,0,0,null,{"$f":"BL791","v":0},null,null,5,null,null,null,null,null,null,null,null,null,null,null,null,null,null,null,null,null,null,null,null,null,null,null,null,null,{"$f":"IF(OR(AND(LEFT($D$636,8)=\"MODELO M\", LEFT(D791,8)=\"MODELO A\"), AND(LEFT($D$636,8)=\"MODELO A\", $F$636=\"Atribuir valor detalhado por Fase/Elemento\")), I791, 0)","v":0},{"$f":"IF(OR(AND(LEFT($D$636,8)=\"MODELO M\", LEFT(D791,8)=\"MODELO B\"), AND(LEFT($D$636,8)=\"MODELO B\", $K$636=\"Atribuir valor detalhado por Fase/Elemento\")), P791, 0)","v":0},{"$f":"IF(OR(AND(LEFT($D$636,8)=\"MODELO M\", LEFT(D791,8)=\"MODELO C\"), AND(LEFT($D$636,8)=\"MODELO C\", $R$636=\"Atribuir valor detalhado por Fase/Elemento\")), X791, 0)","v":0},{"$f":"IF(OR(AND(LEFT($D$636,8)=\"MODELO M\", LEFT(D791,8)=\"MODELO D\"), AND(LEFT($D$636,8)=\"MODELO D\", $Z$636=\"Atribuir valor detalhado por Fase/Elemento\")), AC791, 0)","v":0},{"$f":"SUM(BH791:BK791)","v":0},"MODELO A - TEMPO - N.º DE HORAS DE TRABALHO"]
[null,{"$f":"IF(B786=\"ocultar\",\"ocultar\",\"mostrar\")","v":"ocultar"},"SUB-TOTAL",null,null,null,{"$f":"SUBTOTAL(109,G787:G791)","v":0},null,{"$f":"SUBTOTAL(109,I787:I791)","v":0},null,null,null,null,null,{"$f":"SUBTOTAL(9,O787:O791)","v":0},{"$f":"SUBTOTAL(9,P787:P791)","v":0},null,null,null,null,null,null,{"$f":"SUBTOTAL(9,W787:W791)","v":0},{"$f":"SUBTOTAL(9,X787:X791)","v":0},null,null,null,null,{"$f":"SUBTOTAL(9,AC787:AC791)","v":0},null,{"$f":"SUBTOTAL(109,AE787:AE791)","v":0},null,null,null,null,null,null,null,null,null,null,null,null,null,null,null,null,null,null,null,null,null,null,null,null,null,null,null,null,null,null,null,null,null,"MODELO A - TEMPO - N.º DE HORAS DE TRABALHO"]
[null,{"$f":"IF($B$636=\"ocultar\",\"ocultar\",IF('SA - ATIVIDADES'!$G$77=\"Fase Única\",\"ocultar\",IF('SA - ATIVIDADES'!G100=TRUE,\"mostrar\",\"ocultar\")))","v":"ocultar"},"ESPECIALIDADE 23",null,null,null,null,null,null,null,null,null,null,null,null,null,null,null,null,null,null,null,null,null,null,null,null,null,null,null,null,null,null,null,null,null,null,null,null,null,null,null,null,null,null,null,null,null,null,null,null,null,null,null,null,null,null,null,null,null,null,null,null,null,"MODELO A - TEMPO - N.º DE HORAS DE TRABALHO"]
[null,{"$f":"IF($B$793=\"ocultar\",\"ocultar\",IF('SA - ATIVIDADES'!$G$100=TRUE,IF('SA - ATIVIDADES'!$H$100>='SA - SERVICOS BASE'!AH794,\"mostrar\",\"ocultar\"),\"ocultar\"))","v":"ocultar"},"Especialidade (a preencher)","MODELO A - TEMPO - N.º DE HORAS DE TRABALHO",null,null,0,0,{"$f":"G794*H794","v":0},null,null,null,null,null,0,{"$f":"$P$636*O794","v":0},null,null,null,null,null,null,0,{"$f":"$P$636*W794","v":0},null,null,0,0,{"$f":"AA794*AB794","v":0},null,{"$f":"BL794","v":0},null,null,1,null,null,null,null,null,null,null,null,null,null,null,null,null,null,null,null,null,null,null,null,null,null,null,null,null,{"$f":"IF(OR(AND(LEFT($D$636,8)=\"MODELO M\", LEFT(D794,8)=\"MODELO A\"), AND(LEFT($D$636,8)=\"MODELO A\", $F$636=\"Atribuir valor detalhado por Fase/Elemento\")), I794, 0)","v":0},{"$f":"IF(OR(AND(LEFT($D$636,8)=\"MODELO M\", LEFT(D794,8)=\"MODELO B\"), AND(LEFT($D$636,8)=\"MODELO B\", $K$636=\"Atribuir valor detalhado por Fase/Elemento\")), P794, 0)","v":0},{"$f":"IF(OR(AND(LEFT($D$636,8)=\"MODELO M\", LEFT(D794,8)=\"MODELO C\"), AND(LEFT($D$636,8)=\"MODELO C\", $R$636=\"Atribuir valor detalhado por Fase/Elemento\")), X794, 0)","v":0},{"$f":"IF(OR(AND(LEFT($D$636,8)=\"MODELO M\", LEFT(D794,8)=\"MODELO D\"), AND(LEFT($D$636,8)=\"MODELO D\", $Z$636=\"Atribuir valor detalhado por Fase/Elemento\")), AC794, 0)","v":0},{"$f":"SUM(BH794:BK794)","v":0},"MODELO A - TEMPO - N.º DE HORAS DE TRABALHO"]
[null,{"$f":"IF($B$793=\"ocultar\",\"ocultar\",IF('SA - ATIVIDADES'!$G$100=TRUE,IF('SA - ATIVIDADES'!$H$100>='SA - SERVICOS BASE'!AH795,\"mostrar\",\"ocultar\"),\"ocultar\"))","v":"ocultar"},"Especialidade (a preencher)","MODELO A - TEMPO - N.º DE HORAS DE TRABALHO",null,null,0,0,{"$f":"G795*H795","v":0},null,null,null,null,null,0,{"$f":"$P$636*O795","v":0},null,null,null,null,null,null,0,{"$f":"$P$636*W795","v":0},null,null,0,0,0,null,{"$f":"BL795","v":0},null,null,2,null,null,null,null,null,null,null,null,null,null,null,null,null,null,null,null,null,null,null,null,null,null,null,null,null,{"$f":"IF(OR(AND(LEFT($D$636,8)=\"MODELO M\", LEFT(D795,8)=\"MODELO A\"), AND(LEFT($D$636,8)=\"MODELO A\", $F$636=\"Atribuir valor detalhado por Fase/Elemento\")), I795, 0)","v":0},{"$f":"IF(OR(AND(LEFT($D$636,8)=\"MODELO M\", LEFT(D795,8)=\"MODELO B\"), AND(LEFT($D$636,8)=\"MODELO B\", $K$636=\"Atribuir valor detalhado por Fase/Elemento\")), P795, 0)","v":0},{"$f":"IF(OR(AND(LEFT($D$636,8)=\"MODELO M\", LEFT(D795,8)=\"MODELO C\"), AND(LEFT($D$636,8)=\"MODELO C\", $R$636=\"Atribuir valor detalhado por Fase/Elemento\")), X795, 0)","v":0},{"$f":"IF(OR(AND(LEFT($D$636,8)=\"MODELO M\", LEFT(D795,8)=\"MODELO D\"), AND(LEFT($D$636,8)=\"MODELO D\", $Z$636=\"Atribuir valor detalhado por Fase/Elemento\")), AC795, 0)","v":0},{"$f":"SUM(BH795:BK795)","v":0},"MODELO A - TEMPO - N.º DE HORAS DE TRABALHO"]
[null,{"$f":"IF($B$793=\"ocultar\",\"ocultar\",IF('SA - ATIVIDADES'!$G$100=TRUE,IF('SA - ATIVIDADES'!$H$100>='SA - SERVICOS BASE'!AH796,\"mostrar\",\"ocultar\"),\"ocultar\"))","v":"ocultar"},"Especialidade (a preencher)","MODELO A - TEMPO - N.º DE HORAS DE TRABALHO",null,null,0,0,{"$f":"G796*H796","v":0},null,null,null,null,null,0,0,null,null,null,null,null,null,0,0,null,null,0,0,0,null,{"$f":"BL796","v":0},null,null,3,null,null,null,null,null,null,null,null,null,null,null,null,null,null,null,null,null,null,null,null,null,null,null,null,null,{"$f":"IF(OR(AND(LEFT($D$636,8)=\"MODELO M\", LEFT(D796,8)=\"MODELO A\"), AND(LEFT($D$636,8)=\"MODELO A\", $F$636=\"Atribuir valor detalhado por Fase/Elemento\")), I796, 0)","v":0},{"$f":"IF(OR(AND(LEFT($D$636,8)=\"MODELO M\", LEFT(D796,8)=\"MODELO B\"), AND(LEFT($D$636,8)=\"MODELO B\", $K$636=\"Atribuir valor detalhado por Fase/Elemento\")), P796, 0)","v":0},{"$f":"IF(OR(AND(LEFT($D$636,8)=\"MODELO M\", LEFT(D796,8)=\"MODELO C\"), AND(LEFT($D$636,8)=\"MODELO C\", $R$636=\"Atribuir valor detalhado por Fase/Elemento\")), X796, 0)","v":0},{"$f":"IF(OR(AND(LEFT($D$636,8)=\"MODELO M\", LEFT(D796,8)=\"MODELO D\"), AND(LEFT($D$636,8)=\"MODELO D\", $Z$636=\"Atribuir valor detalhado por Fase/Elemento\")), AC796, 0)","v":0},{"$f":"SUM(BH796:BK796)","v":0},"MODELO A - TEMPO - N.º DE HORAS DE TRABALHO"]
[null,{"$f":"IF($B$793=\"ocultar\",\"ocultar\",IF('SA - ATIVIDADES'!$G$100=TRUE,IF('SA - ATIVIDADES'!$H$100>='SA - SERVICOS BASE'!AH797,\"mostrar\",\"ocultar\"),\"ocultar\"))","v":"ocultar"},"Especialidade (a preencher)","MODELO A - TEMPO - N.º DE HORAS DE TRABALHO",null,null,0,0,{"$f":"G797*H797","v":0},null,null,null,null,null,0,0,null,null,null,null,null,null,0,0,null,null,0,0,0,null,{"$f":"BL797","v":0},null,null,4,null,null,null,null,null,null,null,null,null,null,null,null,null,null,null,null,null,null,null,null,null,null,null,null,null,{"$f":"IF(OR(AND(LEFT($D$636,8)=\"MODELO M\", LEFT(D797,8)=\"MODELO A\"), AND(LEFT($D$636,8)=\"MODELO A\", $F$636=\"Atribuir valor detalhado por Fase/Elemento\")), I797, 0)","v":0},{"$f":"IF(OR(AND(LEFT($D$636,8)=\"MODELO M\", LEFT(D797,8)=\"MODELO B\"), AND(LEFT($D$636,8)=\"MODELO B\", $K$636=\"Atribuir valor detalhado por Fase/Elemento\")), P797, 0)","v":0},{"$f":"IF(OR(AND(LEFT($D$636,8)=\"MODELO M\", LEFT(D797,8)=\"MODELO C\"), AND(LEFT($D$636,8)=\"MODELO C\", $R$636=\"Atribuir valor detalhado por Fase/Elemento\")), X797, 0)","v":0},{"$f":"IF(OR(AND(LEFT($D$636,8)=\"MODELO M\", LEFT(D797,8)=\"MODELO D\"), AND(LEFT($D$636,8)=\"MODELO D\", $Z$636=\"Atribuir valor detalhado por Fase/Elemento\")), AC797, 0)","v":0},{"$f":"SUM(BH797:BK797)","v":0},"MODELO A - TEMPO - N.º DE HORAS DE TRABALHO"]
[null,{"$f":"IF($B$793=\"ocultar\",\"ocultar\",IF('SA - ATIVIDADES'!$G$100=TRUE,IF('SA - ATIVIDADES'!$H$100>='SA - SERVICOS BASE'!AH798,\"mostrar\",\"ocultar\"),\"ocultar\"))","v":"ocultar"},"Especialidade (a preencher)","MODELO A - TEMPO - N.º DE HORAS DE TRABALHO",null,null,0,0,{"$f":"G798*H798","v":0},null,null,null,null,null,0,0,null,null,null,null,null,null,0,0,null,null,0,0,0,null,{"$f":"BL798","v":0},null,null,5,null,null,null,null,null,null,null,null,null,null,null,null,null,null,null,null,null,null,null,null,null,null,null,null,null,{"$f":"IF(OR(AND(LEFT($D$636,8)=\"MODELO M\", LEFT(D798,8)=\"MODELO A\"), AND(LEFT($D$636,8)=\"MODELO A\", $F$636=\"Atribuir valor detalhado por Fase/Elemento\")), I798, 0)","v":0},{"$f":"IF(OR(AND(LEFT($D$636,8)=\"MODELO M\", LEFT(D798,8)=\"MODELO B\"), AND(LEFT($D$636,8)=\"MODELO B\", $K$636=\"Atribuir valor detalhado por Fase/Elemento\")), P798, 0)","v":0},{"$f":"IF(OR(AND(LEFT($D$636,8)=\"MODELO M\", LEFT(D798,8)=\"MODELO C\"), AND(LEFT($D$636,8)=\"MODELO C\", $R$636=\"Atribuir valor detalhado por Fase/Elemento\")), X798, 0)","v":0},{"$f":"IF(OR(AND(LEFT($D$636,8)=\"MODELO M\", LEFT(D798,8)=\"MODELO D\"), AND(LEFT($D$636,8)=\"MODELO D\", $Z$636=\"Atribuir valor detalhado por Fase/Elemento\")), AC798, 0)","v":0},{"$f":"SUM(BH798:BK798)","v":0},"MODELO A - TEMPO - N.º DE HORAS DE TRABALHO"]
[null,{"$f":"IF(B793=\"ocultar\",\"ocultar\",\"mostrar\")","v":"ocultar"},"SUB-TOTAL",null,null,null,{"$f":"SUBTOTAL(109,G794:G798)","v":0},null,{"$f":"SUBTOTAL(109,I794:I798)","v":0},null,null,null,null,null,{"$f":"SUBTOTAL(9,O794:O798)","v":0},{"$f":"SUBTOTAL(9,P794:P798)","v":0},null,null,null,null,null,null,{"$f":"SUBTOTAL(9,W794:W798)","v":0},{"$f":"SUBTOTAL(9,X794:X798)","v":0},null,null,null,null,{"$f":"SUBTOTAL(9,AC794:AC798)","v":0},null,{"$f":"SUBTOTAL(109,AE794:AE798)","v":0},null,null,null,null,null,null,null,null,null,null,null,null,null,null,null,null,null,null,null,null,null,null,null,null,null,null,null,null,null,null,null,null,null,"MODELO A - TEMPO - N.º DE HORAS DE TRABALHO"]
[null,{"$f":"IF($B$636=\"ocultar\",\"ocultar\",IF('SA - ATIVIDADES'!$G$77=\"Fase Única\",\"ocultar\",IF('SA - ATIVIDADES'!G101=TRUE,\"mostrar\",\"ocultar\")))","v":"ocultar"},"ESPECIALIDADE 24",null,null,null,null,null,null,null,null,null,null,null,null,null,null,null,null,null,null,null,null,null,null,null,null,null,null,null,null,null,null,null,null,null,null,null,null,null,null,null,null,null,null,null,null,null,null,null,null,null,null,null,null,null,null,null,null,null,null,null,null,null,"MODELO A - TEMPO - N.º DE HORAS DE TRABALHO"]
[null,{"$f":"IF($B$800=\"ocultar\",\"ocultar\",IF('SA - ATIVIDADES'!$G$101=TRUE,IF('SA - ATIVIDADES'!$H$101>='SA - SERVICOS BASE'!AH801,\"mostrar\",\"ocultar\"),\"ocultar\"))","v":"ocultar"},"Especialidade (a preencher)","MODELO A - TEMPO - N.º DE HORAS DE TRABALHO",null,null,0,0,{"$f":"G801*H801","v":0},null,null,null,null,null,0,{"$f":"$P$636*O801","v":0},null,null,null,null,null,null,0,{"$f":"$P$636*W801","v":0},null,null,0,0,{"$f":"AA801*AB801","v":0},null,{"$f":"BL801","v":0},null,null,1,null,null,null,null,null,null,null,null,null,null,null,null,null,null,null,null,null,null,null,null,null,null,null,null,null,{"$f":"IF(OR(AND(LEFT($D$636,8)=\"MODELO M\", LEFT(D801,8)=\"MODELO A\"), AND(LEFT($D$636,8)=\"MODELO A\", $F$636=\"Atribuir valor detalhado por Fase/Elemento\")), I801, 0)","v":0},{"$f":"IF(OR(AND(LEFT($D$636,8)=\"MODELO M\", LEFT(D801,8)=\"MODELO B\"), AND(LEFT($D$636,8)=\"MODELO B\", $K$636=\"Atribuir valor detalhado por Fase/Elemento\")), P801, 0)","v":0},{"$f":"IF(OR(AND(LEFT($D$636,8)=\"MODELO M\", LEFT(D801,8)=\"MODELO C\"), AND(LEFT($D$636,8)=\"MODELO C\", $R$636=\"Atribuir valor detalhado por Fase/Elemento\")), X801, 0)","v":0},{"$f":"IF(OR(AND(LEFT($D$636,8)=\"MODELO M\", LEFT(D801,8)=\"MODELO D\"), AND(LEFT($D$636,8)=\"MODELO D\", $Z$636=\"Atribuir valor detalhado por Fase/Elemento\")), AC801, 0)","v":0},{"$f":"SUM(BH801:BK801)","v":0},"MODELO A - TEMPO - N.º DE HORAS DE TRABALHO"]
[null,{"$f":"IF($B$800=\"ocultar\",\"ocultar\",IF('SA - ATIVIDADES'!$G$101=TRUE,IF('SA - ATIVIDADES'!$H$101>='SA - SERVICOS BASE'!AH802,\"mostrar\",\"ocultar\"),\"ocultar\"))","v":"ocultar"},"Especialidade (a preencher)","MODELO A - TEMPO - N.º DE HORAS DE TRABALHO",null,null,0,0,{"$f":"G802*H802","v":0},null,null,null,null,null,0,{"$f":"$P$636*O802","v":0},null,null,null,null,null,null,0,{"$f":"$P$636*W802","v":0},null,null,0,0,0,null,{"$f":"BL802","v":0},null,null,2,null,null,null,null,null,null,null,null,null,null,null,null,null,null,null,null,null,null,null,null,null,null,null,null,null,{"$f":"IF(OR(AND(LEFT($D$636,8)=\"MODELO M\", LEFT(D802,8)=\"MODELO A\"), AND(LEFT($D$636,8)=\"MODELO A\", $F$636=\"Atribuir valor detalhado por Fase/Elemento\")), I802, 0)","v":0},{"$f":"IF(OR(AND(LEFT($D$636,8)=\"MODELO M\", LEFT(D802,8)=\"MODELO B\"), AND(LEFT($D$636,8)=\"MODELO B\", $K$636=\"Atribuir valor detalhado por Fase/Elemento\")), P802, 0)","v":0},{"$f":"IF(OR(AND(LEFT($D$636,8)=\"MODELO M\", LEFT(D802,8)=\"MODELO C\"), AND(LEFT($D$636,8)=\"MODELO C\", $R$636=\"Atribuir valor detalhado por Fase/Elemento\")), X802, 0)","v":0},{"$f":"IF(OR(AND(LEFT($D$636,8)=\"MODELO M\", LEFT(D802,8)=\"MODELO D\"), AND(LEFT($D$636,8)=\"MODELO D\", $Z$636=\"Atribuir valor detalhado por Fase/Elemento\")), AC802, 0)","v":0},{"$f":"SUM(BH802:BK802)","v":0},"MODELO A - TEMPO - N.º DE HORAS DE TRABALHO"]
[null,{"$f":"IF($B$800=\"ocultar\",\"ocultar\",IF('SA - ATIVIDADES'!$G$101=TRUE,IF('SA - ATIVIDADES'!$H$101>='SA - SERVICOS BASE'!AH803,\"mostrar\",\"ocultar\"),\"ocultar\"))","v":"ocultar"},"Especialidade (a preencher)","MODELO A - TEMPO - N.º DE HORAS DE TRABALHO",null,null,0,0,{"$f":"G803*H803","v":0},null,null,null,null,null,0,0,null,null,null,null,null,null,0,0,null,null,0,0,0,null,{"$f":"BL803","v":0},null,null,3,null,null,null,null,null,null,null,null,null,null,null,null,null,null,null,null,null,null,null,null,null,null,null,null,null,{"$f":"IF(OR(AND(LEFT($D$636,8)=\"MODELO M\", LEFT(D803,8)=\"MODELO A\"), AND(LEFT($D$636,8)=\"MODELO A\", $F$636=\"Atribuir valor detalhado por Fase/Elemento\")), I803, 0)","v":0},{"$f":"IF(OR(AND(LEFT($D$636,8)=\"MODELO M\", LEFT(D803,8)=\"MODELO B\"), AND(LEFT($D$636,8)=\"MODELO B\", $K$636=\"Atribuir valor detalhado por Fase/Elemento\")), P803, 0)","v":0},{"$f":"IF(OR(AND(LEFT($D$636,8)=\"MODELO M\", LEFT(D803,8)=\"MODELO C\"), AND(LEFT($D$636,8)=\"MODELO C\", $R$636=\"Atribuir valor detalhado por Fase/Elemento\")), X803, 0)","v":0},{"$f":"IF(OR(AND(LEFT($D$636,8)=\"MODELO M\", LEFT(D803,8)=\"MODELO D\"), AND(LEFT($D$636,8)=\"MODELO D\", $Z$636=\"Atribuir valor detalhado por Fase/Elemento\")), AC803, 0)","v":0},{"$f":"SUM(BH803:BK803)","v":0},"MODELO A - TEMPO - N.º DE HORAS DE TRABALHO"]
[null,{"$f":"IF($B$800=\"ocultar\",\"ocultar\",IF('SA - ATIVIDADES'!$G$101=TRUE,IF('SA - ATIVIDADES'!$H$101>='SA - SERVICOS BASE'!AH804,\"mostrar\",\"ocultar\"),\"ocultar\"))","v":"ocultar"},"Especialidade (a preencher)","MODELO A - TEMPO - N.º DE HORAS DE TRABALHO",null,null,0,0,{"$f":"G804*H804","v":0},null,null,null,null,null,0,0,null,null,null,null,null,null,0,0,null,null,0,0,0,null,{"$f":"BL804","v":0},null,null,4,null,null,null,null,null,null,null,null,null,null,null,null,null,null,null,null,null,null,null,null,null,null,null,null,null,{"$f":"IF(OR(AND(LEFT($D$636,8)=\"MODELO M\", LEFT(D804,8)=\"MODELO A\"), AND(LEFT($D$636,8)=\"MODELO A\", $F$636=\"Atribuir valor detalhado por Fase/Elemento\")), I804, 0)","v":0},{"$f":"IF(OR(AND(LEFT($D$636,8)=\"MODELO M\", LEFT(D804,8)=\"MODELO B\"), AND(LEFT($D$636,8)=\"MODELO B\", $K$636=\"Atribuir valor detalhado por Fase/Elemento\")), P804, 0)","v":0},{"$f":"IF(OR(AND(LEFT($D$636,8)=\"MODELO M\", LEFT(D804,8)=\"MODELO C\"), AND(LEFT($D$636,8)=\"MODELO C\", $R$636=\"Atribuir valor detalhado por Fase/Elemento\")), X804, 0)","v":0},{"$f":"IF(OR(AND(LEFT($D$636,8)=\"MODELO M\", LEFT(D804,8)=\"MODELO D\"), AND(LEFT($D$636,8)=\"MODELO D\", $Z$636=\"Atribuir valor detalhado por Fase/Elemento\")), AC804, 0)","v":0},{"$f":"SUM(BH804:BK804)","v":0},"MODELO A - TEMPO - N.º DE HORAS DE TRABALHO"]
[null,{"$f":"IF($B$800=\"ocultar\",\"ocultar\",IF('SA - ATIVIDADES'!$G$101=TRUE,IF('SA - ATIVIDADES'!$H$101>='SA - SERVICOS BASE'!AH805,\"mostrar\",\"ocultar\"),\"ocultar\"))","v":"ocultar"},"Especialidade (a preencher)","MODELO A - TEMPO - N.º DE HORAS DE TRABALHO",null,null,0,0,{"$f":"G805*H805","v":0},null,null,null,null,null,0,0,null,null,null,null,null,null,0,0,null,null,0,0,0,null,{"$f":"BL805","v":0},null,null,5,null,null,null,null,null,null,null,null,null,null,null,null,null,null,null,null,null,null,null,null,null,null,null,null,null,{"$f":"IF(OR(AND(LEFT($D$636,8)=\"MODELO M\", LEFT(D805,8)=\"MODELO A\"), AND(LEFT($D$636,8)=\"MODELO A\", $F$636=\"Atribuir valor detalhado por Fase/Elemento\")), I805, 0)","v":0},{"$f":"IF(OR(AND(LEFT($D$636,8)=\"MODELO M\", LEFT(D805,8)=\"MODELO B\"), AND(LEFT($D$636,8)=\"MODELO B\", $K$636=\"Atribuir valor detalhado por Fase/Elemento\")), P805, 0)","v":0},{"$f":"IF(OR(AND(LEFT($D$636,8)=\"MODELO M\", LEFT(D805,8)=\"MODELO C\"), AND(LEFT($D$636,8)=\"MODELO C\", $R$636=\"Atribuir valor detalhado por Fase/Elemento\")), X805, 0)","v":0},{"$f":"IF(OR(AND(LEFT($D$636,8)=\"MODELO M\", LEFT(D805,8)=\"MODELO D\"), AND(LEFT($D$636,8)=\"MODELO D\", $Z$636=\"Atribuir valor detalhado por Fase/Elemento\")), AC805, 0)","v":0},{"$f":"SUM(BH805:BK805)","v":0},"MODELO A - TEMPO - N.º DE HORAS DE TRABALHO"]
[null,{"$f":"IF(B800=\"ocultar\",\"ocultar\",\"mostrar\")","v":"ocultar"},"SUB-TOTAL",null,null,null,{"$f":"SUBTOTAL(109,G801:G805)","v":0},null,{"$f":"SUBTOTAL(109,I801:I805)","v":0},null,null,null,null,null,{"$f":"SUBTOTAL(9,O801:O805)","v":0},{"$f":"SUBTOTAL(9,P801:P805)","v":0},null,null,null,null,null,null,{"$f":"SUBTOTAL(9,W801:W805)","v":0},{"$f":"SUBTOTAL(9,X801:X805)","v":0},null,null,null,null,{"$f":"SUBTOTAL(9,AC801:AC805)","v":0},null,{"$f":"SUBTOTAL(109,AE801:AE805)","v":0},null,null,null,null,null,null,null,null,null,null,null,null,null,null,null,null,null,null,null,null,null,null,null,null,null,null,null,null,null,null,null,null,null,"MODELO A - TEMPO - N.º DE HORAS DE TRABALHO"]
[null,{"$f":"IF($B$636=\"ocultar\",\"ocultar\",IF('SA - ATIVIDADES'!$G$77=\"Fase Única\",\"ocultar\",IF('SA - ATIVIDADES'!G102=TRUE,\"mostrar\",\"ocultar\")))","v":"ocultar"},"ESPECIALIDADE 25",null,null,null,null,null,null,null,null,null,null,null,null,null,null,null,null,null,null,null,null,null,null,null,null,null,null,null,null,null,null,null,null,null,null,null,null,null,null,null,null,null,null,null,null,null,null,null,null,null,null,null,null,null,null,null,null,null,null,null,null,null,"MODELO A - TEMPO - N.º DE HORAS DE TRABALHO"]
[null,{"$f":"IF($B$807=\"ocultar\",\"ocultar\",IF('SA - ATIVIDADES'!$G$102=TRUE,IF('SA - ATIVIDADES'!$H$102>='SA - SERVICOS BASE'!AH808,\"mostrar\",\"ocultar\"),\"ocultar\"))","v":"ocultar"},"Especialidade (a preencher)","MODELO A - TEMPO - N.º DE HORAS DE TRABALHO",null,null,0,0,{"$f":"G808*H808","v":0},null,null,null,null,null,0,{"$f":"$P$636*O808","v":0},null,null,null,null,null,null,0,{"$f":"$P$636*W808","v":0},null,null,0,0,{"$f":"AA808*AB808","v":0},null,{"$f":"BL808","v":0},null,null,1,null,null,null,null,null,null,null,null,null,null,null,null,null,null,null,null,null,null,null,null,null,null,null,null,null,{"$f":"IF(OR(AND(LEFT($D$636,8)=\"MODELO M\", LEFT(D808,8)=\"MODELO A\"), AND(LEFT($D$636,8)=\"MODELO A\", $F$636=\"Atribuir valor detalhado por Fase/Elemento\")), I808, 0)","v":0},{"$f":"IF(OR(AND(LEFT($D$636,8)=\"MODELO M\", LEFT(D808,8)=\"MODELO B\"), AND(LEFT($D$636,8)=\"MODELO B\", $K$636=\"Atribuir valor detalhado por Fase/Elemento\")), P808, 0)","v":0},{"$f":"IF(OR(AND(LEFT($D$636,8)=\"MODELO M\", LEFT(D808,8)=\"MODELO C\"), AND(LEFT($D$636,8)=\"MODELO C\", $R$636=\"Atribuir valor detalhado por Fase/Elemento\")), X808, 0)","v":0},{"$f":"IF(OR(AND(LEFT($D$636,8)=\"MODELO M\", LEFT(D808,8)=\"MODELO D\"), AND(LEFT($D$636,8)=\"MODELO D\", $Z$636=\"Atribuir valor detalhado por Fase/Elemento\")), AC808, 0)","v":0},{"$f":"SUM(BH808:BK808)","v":0},"MODELO A - TEMPO - N.º DE HORAS DE TRABALHO"]
[null,{"$f":"IF($B$807=\"ocultar\",\"ocultar\",IF('SA - ATIVIDADES'!$G$102=TRUE,IF('SA - ATIVIDADES'!$H$102>='SA - SERVICOS BASE'!AH809,\"mostrar\",\"ocultar\"),\"ocultar\"))","v":"ocultar"},"Especialidade (a preencher)","MODELO A - TEMPO - N.º DE HORAS DE TRABALHO",null,null,0,0,{"$f":"G809*H809","v":0},null,null,null,null,null,0,{"$f":"$P$636*O809","v":0},null,null,null,null,null,null,0,{"$f":"$P$636*W809","v":0},null,null,0,0,0,null,{"$f":"BL809","v":0},null,null,2,null,null,null,null,null,null,null,null,null,null,null,null,null,null,null,null,null,null,null,null,null,null,null,null,null,{"$f":"IF(OR(AND(LEFT($D$636,8)=\"MODELO M\", LEFT(D809,8)=\"MODELO A\"), AND(LEFT($D$636,8)=\"MODELO A\", $F$636=\"Atribuir valor detalhado por Fase/Elemento\")), I809, 0)","v":0},{"$f":"IF(OR(AND(LEFT($D$636,8)=\"MODELO M\", LEFT(D809,8)=\"MODELO B\"), AND(LEFT($D$636,8)=\"MODELO B\", $K$636=\"Atribuir valor detalhado por Fase/Elemento\")), P809, 0)","v":0},{"$f":"IF(OR(AND(LEFT($D$636,8)=\"MODELO M\", LEFT(D809,8)=\"MODELO C\"), AND(LEFT($D$636,8)=\"MODELO C\", $R$636=\"Atribuir valor detalhado por Fase/Elemento\")), X809, 0)","v":0},{"$f":"IF(OR(AND(LEFT($D$636,8)=\"MODELO M\", LEFT(D809,8)=\"MODELO D\"), AND(LEFT($D$636,8)=\"MODELO D\", $Z$636=\"Atribuir valor detalhado por Fase/Elemento\")), AC809, 0)","v":0},{"$f":"SUM(BH809:BK809)","v":0},"MODELO A - TEMPO - N.º DE HORAS DE TRABALHO"]
[null,{"$f":"IF($B$807=\"ocultar\",\"ocultar\",IF('SA - ATIVIDADES'!$G$102=TRUE,IF('SA - ATIVIDADES'!$H$102>='SA - SERVICOS BASE'!AH810,\"mostrar\",\"ocultar\"),\"ocultar\"))","v":"ocultar"},"Especialidade (a preencher)","MODELO A - TEMPO - N.º DE HORAS DE TRABALHO",null,null,0,0,{"$f":"G810*H810","v":0},null,null,null,null,null,0,0,null,null,null,null,null,null,0,0,null,null,0,0,0,null,{"$f":"BL810","v":0},null,null,3,null,null,null,null,null,null,null,null,null,null,null,null,null,null,null,null,null,null,null,null,null,null,null,null,null,{"$f":"IF(OR(AND(LEFT($D$636,8)=\"MODELO M\", LEFT(D810,8)=\"MODELO A\"), AND(LEFT($D$636,8)=\"MODELO A\", $F$636=\"Atribuir valor detalhado por Fase/Elemento\")), I810, 0)","v":0},{"$f":"IF(OR(AND(LEFT($D$636,8)=\"MODELO M\", LEFT(D810,8)=\"MODELO B\"), AND(LEFT($D$636,8)=\"MODELO B\", $K$636=\"Atribuir valor detalhado por Fase/Elemento\")), P810, 0)","v":0},{"$f":"IF(OR(AND(LEFT($D$636,8)=\"MODELO M\", LEFT(D810,8)=\"MODELO C\"), AND(LEFT($D$636,8)=\"MODELO C\", $R$636=\"Atribuir valor detalhado por Fase/Elemento\")), X810, 0)","v":0},{"$f":"IF(OR(AND(LEFT($D$636,8)=\"MODELO M\", LEFT(D810,8)=\"MODELO D\"), AND(LEFT($D$636,8)=\"MODELO D\", $Z$636=\"Atribuir valor detalhado por Fase/Elemento\")), AC810, 0)","v":0},{"$f":"SUM(BH810:BK810)","v":0},"MODELO A - TEMPO - N.º DE HORAS DE TRABALHO"]
[null,{"$f":"IF($B$807=\"ocultar\",\"ocultar\",IF('SA - ATIVIDADES'!$G$102=TRUE,IF('SA - ATIVIDADES'!$H$102>='SA - SERVICOS BASE'!AH811,\"mostrar\",\"ocultar\"),\"ocultar\"))","v":"ocultar"},"Especialidade (a preencher)","MODELO A - TEMPO - N.º DE HORAS DE TRABALHO",null,null,0,0,{"$f":"G811*H811","v":0},null,null,null,null,null,0,0,null,null,null,null,null,null,0,0,null,null,0,0,0,null,{"$f":"BL811","v":0},null,null,4,null,null,null,null,null,null,null,null,null,null,null,null,null,null,null,null,null,null,null,null,null,null,null,null,null,{"$f":"IF(OR(AND(LEFT($D$636,8)=\"MODELO M\", LEFT(D811,8)=\"MODELO A\"), AND(LEFT($D$636,8)=\"MODELO A\", $F$636=\"Atribuir valor detalhado por Fase/Elemento\")), I811, 0)","v":0},{"$f":"IF(OR(AND(LEFT($D$636,8)=\"MODELO M\", LEFT(D811,8)=\"MODELO B\"), AND(LEFT($D$636,8)=\"MODELO B\", $K$636=\"Atribuir valor detalhado por Fase/Elemento\")), P811, 0)","v":0},{"$f":"IF(OR(AND(LEFT($D$636,8)=\"MODELO M\", LEFT(D811,8)=\"MODELO C\"), AND(LEFT($D$636,8)=\"MODELO C\", $R$636=\"Atribuir valor detalhado por Fase/Elemento\")), X811, 0)","v":0},{"$f":"IF(OR(AND(LEFT($D$636,8)=\"MODELO M\", LEFT(D811,8)=\"MODELO D\"), AND(LEFT($D$636,8)=\"MODELO D\", $Z$636=\"Atribuir valor detalhado por Fase/Elemento\")), AC811, 0)","v":0},{"$f":"SUM(BH811:BK811)","v":0},"MODELO A - TEMPO - N.º DE HORAS DE TRABALHO"]
[null,{"$f":"IF($B$807=\"ocultar\",\"ocultar\",IF('SA - ATIVIDADES'!$G$102=TRUE,IF('SA - ATIVIDADES'!$H$102>='SA - SERVICOS BASE'!AH812,\"mostrar\",\"ocultar\"),\"ocultar\"))","v":"ocultar"},"Especialidade (a preencher)","MODELO A - TEMPO - N.º DE HORAS DE TRABALHO",null,null,0,0,{"$f":"G812*H812","v":0},null,null,null,null,null,0,0,null,null,null,null,null,null,0,0,null,null,0,0,0,null,{"$f":"BL812","v":0},null,null,5,null,null,null,null,null,null,null,null,null,null,null,null,null,null,null,null,null,null,null,null,null,null,null,null,null,{"$f":"IF(OR(AND(LEFT($D$636,8)=\"MODELO M\", LEFT(D812,8)=\"MODELO A\"), AND(LEFT($D$636,8)=\"MODELO A\", $F$636=\"Atribuir valor detalhado por Fase/Elemento\")), I812, 0)","v":0},{"$f":"IF(OR(AND(LEFT($D$636,8)=\"MODELO M\", LEFT(D812,8)=\"MODELO B\"), AND(LEFT($D$636,8)=\"MODELO B\", $K$636=\"Atribuir valor detalhado por Fase/Elemento\")), P812, 0)","v":0},{"$f":"IF(OR(AND(LEFT($D$636,8)=\"MODELO M\", LEFT(D812,8)=\"MODELO C\"), AND(LEFT($D$636,8)=\"MODELO C\", $R$636=\"Atribuir valor detalhado por Fase/Elemento\")), X812, 0)","v":0},{"$f":"IF(OR(AND(LEFT($D$636,8)=\"MODELO M\", LEFT(D812,8)=\"MODELO D\"), AND(LEFT($D$636,8)=\"MODELO D\", $Z$636=\"Atribuir valor detalhado por Fase/Elemento\")), AC812, 0)","v":0},{"$f":"SUM(BH812:BK812)","v":0},"MODELO A - TEMPO - N.º DE HORAS DE TRABALHO"]
[null,{"$f":"IF(B807=\"ocultar\",\"ocultar\",\"mostrar\")","v":"ocultar"},"SUB-TOTAL",null,null,null,{"$f":"SUBTOTAL(109,G808:G812)","v":0},null,{"$f":"SUBTOTAL(109,I808:I812)","v":0},null,null,null,null,null,{"$f":"SUBTOTAL(9,O808:O812)","v":0},{"$f":"SUBTOTAL(9,P808:P812)","v":0},null,null,null,null,null,null,{"$f":"SUBTOTAL(9,W808:W812)","v":0},{"$f":"SUBTOTAL(9,X808:X812)","v":0},null,null,null,null,{"$f":"SUBTOTAL(9,AC808:AC812)","v":0},null,{"$f":"SUBTOTAL(109,AE808:AE812)","v":0},null,null,null,null,null,null,null,null,null,null,null,null,null,null,null,null,null,null,null,null,null,null,null,null,null,null,null,null,null,null,null,null,null,"MODELO A - TEMPO - N.º DE HORAS DE TRABALHO"]
[null,{"$f":"IF($B$636=\"ocultar\",\"ocultar\",IF('SA - ATIVIDADES'!$G$77=\"Fase Única\",\"ocultar\",IF('SA - ATIVIDADES'!G103=TRUE,\"mostrar\",\"ocultar\")))","v":"ocultar"},"ESPECIALIDADE 26",null,null,null,null,null,null,null,null,null,null,null,null,null,null,null,null,null,null,null,null,null,null,null,null,null,null,null,null,null,null,null,null,null,null,null,null,null,null,null,null,null,null,null,null,null,null,null,null,null,null,null,null,null,null,null,null,null,null,null,null,null,"MODELO A - TEMPO - N.º DE HORAS DE TRABALHO"]
[null,{"$f":"IF($B$814=\"ocultar\",\"ocultar\",IF('SA - ATIVIDADES'!$G$103=TRUE,IF('SA - ATIVIDADES'!$H$103>='SA - SERVICOS BASE'!AH815,\"mostrar\",\"ocultar\"),\"ocultar\"))","v":"ocultar"},"Especialidade (a preencher)","MODELO A - TEMPO - N.º DE HORAS DE TRABALHO",null,null,0,0,{"$f":"G815*H815","v":0},null,null,null,null,null,0,{"$f":"$P$636*O815","v":0},null,null,null,null,null,null,0,{"$f":"$P$636*W815","v":0},null,null,0,0,{"$f":"AA815*AB815","v":0},null,{"$f":"BL815","v":0},null,null,1,null,null,null,null,null,null,null,null,null,null,null,null,null,null,null,null,null,null,null,null,null,null,null,null,null,{"$f":"IF(OR(AND(LEFT($D$636,8)=\"MODELO M\", LEFT(D815,8)=\"MODELO A\"), AND(LEFT($D$636,8)=\"MODELO A\", $F$636=\"Atribuir valor detalhado por Fase/Elemento\")), I815, 0)","v":0},{"$f":"IF(OR(AND(LEFT($D$636,8)=\"MODELO M\", LEFT(D815,8)=\"MODELO B\"), AND(LEFT($D$636,8)=\"MODELO B\", $K$636=\"Atribuir valor detalhado por Fase/Elemento\")), P815, 0)","v":0},{"$f":"IF(OR(AND(LEFT($D$636,8)=\"MODELO M\", LEFT(D815,8)=\"MODELO C\"), AND(LEFT($D$636,8)=\"MODELO C\", $R$636=\"Atribuir valor detalhado por Fase/Elemento\")), X815, 0)","v":0},{"$f":"IF(OR(AND(LEFT($D$636,8)=\"MODELO M\", LEFT(D815,8)=\"MODELO D\"), AND(LEFT($D$636,8)=\"MODELO D\", $Z$636=\"Atribuir valor detalhado por Fase/Elemento\")), AC815, 0)","v":0},{"$f":"SUM(BH815:BK815)","v":0},"MODELO A - TEMPO - N.º DE HORAS DE TRABALHO"]
[null,{"$f":"IF($B$814=\"ocultar\",\"ocultar\",IF('SA - ATIVIDADES'!$G$103=TRUE,IF('SA - ATIVIDADES'!$H$103>='SA - SERVICOS BASE'!AH816,\"mostrar\",\"ocultar\"),\"ocultar\"))","v":"ocultar"},"Especialidade (a preencher)","MODELO A - TEMPO - N.º DE HORAS DE TRABALHO",null,null,0,0,{"$f":"G816*H816","v":0},null,null,null,null,null,0,{"$f":"$P$636*O816","v":0},null,null,null,null,null,null,0,{"$f":"$P$636*W816","v":0},null,null,0,0,0,null,{"$f":"BL816","v":0},null,null,2,null,null,null,null,null,null,null,null,null,null,null,null,null,null,null,null,null,null,null,null,null,null,null,null,null,{"$f":"IF(OR(AND(LEFT($D$636,8)=\"MODELO M\", LEFT(D816,8)=\"MODELO A\"), AND(LEFT($D$636,8)=\"MODELO A\", $F$636=\"Atribuir valor detalhado por Fase/Elemento\")), I816, 0)","v":0},{"$f":"IF(OR(AND(LEFT($D$636,8)=\"MODELO M\", LEFT(D816,8)=\"MODELO B\"), AND(LEFT($D$636,8)=\"MODELO B\", $K$636=\"Atribuir valor detalhado por Fase/Elemento\")), P816, 0)","v":0},{"$f":"IF(OR(AND(LEFT($D$636,8)=\"MODELO M\", LEFT(D816,8)=\"MODELO C\"), AND(LEFT($D$636,8)=\"MODELO C\", $R$636=\"Atribuir valor detalhado por Fase/Elemento\")), X816, 0)","v":0},{"$f":"IF(OR(AND(LEFT($D$636,8)=\"MODELO M\", LEFT(D816,8)=\"MODELO D\"), AND(LEFT($D$636,8)=\"MODELO D\", $Z$636=\"Atribuir valor detalhado por Fase/Elemento\")), AC816, 0)","v":0},{"$f":"SUM(BH816:BK816)","v":0},"MODELO A - TEMPO - N.º DE HORAS DE TRABALHO"]
[null,{"$f":"IF($B$814=\"ocultar\",\"ocultar\",IF('SA - ATIVIDADES'!$G$103=TRUE,IF('SA - ATIVIDADES'!$H$103>='SA - SERVICOS BASE'!AH817,\"mostrar\",\"ocultar\"),\"ocultar\"))","v":"ocultar"},"Especialidade (a preencher)","MODELO A - TEMPO - N.º DE HORAS DE TRABALHO",null,null,0,0,{"$f":"G817*H817","v":0},null,null,null,null,null,0,0,null,null,null,null,null,null,0,0,null,null,0,0,0,null,{"$f":"BL817","v":0},null,null,3,null,null,null,null,null,null,null,null,null,null,null,null,null,null,null,null,null,null,null,null,null,null,null,null,null,{"$f":"IF(OR(AND(LEFT($D$636,8)=\"MODELO M\", LEFT(D817,8)=\"MODELO A\"), AND(LEFT($D$636,8)=\"MODELO A\", $F$636=\"Atribuir valor detalhado por Fase/Elemento\")), I817, 0)","v":0},{"$f":"IF(OR(AND(LEFT($D$636,8)=\"MODELO M\", LEFT(D817,8)=\"MODELO B\"), AND(LEFT($D$636,8)=\"MODELO B\", $K$636=\"Atribuir valor detalhado por Fase/Elemento\")), P817, 0)","v":0},{"$f":"IF(OR(AND(LEFT($D$636,8)=\"MODELO M\", LEFT(D817,8)=\"MODELO C\"), AND(LEFT($D$636,8)=\"MODELO C\", $R$636=\"Atribuir valor detalhado por Fase/Elemento\")), X817, 0)","v":0},{"$f":"IF(OR(AND(LEFT($D$636,8)=\"MODELO M\", LEFT(D817,8)=\"MODELO D\"), AND(LEFT($D$636,8)=\"MODELO D\", $Z$636=\"Atribuir valor detalhado por Fase/Elemento\")), AC817, 0)","v":0},{"$f":"SUM(BH817:BK817)","v":0},"MODELO A - TEMPO - N.º DE HORAS DE TRABALHO"]
[null,{"$f":"IF($B$814=\"ocultar\",\"ocultar\",IF('SA - ATIVIDADES'!$G$103=TRUE,IF('SA - ATIVIDADES'!$H$103>='SA - SERVICOS BASE'!AH818,\"mostrar\",\"ocultar\"),\"ocultar\"))","v":"ocultar"},"Especialidade (a preencher)","MODELO A - TEMPO - N.º DE HORAS DE TRABALHO",null,null,0,0,{"$f":"G818*H818","v":0},null,null,null,null,null,0,0,null,null,null,null,null,null,0,0,null,null,0,0,0,null,{"$f":"BL818","v":0},null,null,4,null,null,null,null,null,null,null,null,null,null,null,null,null,null,null,null,null,null,null,null,null,null,null,null,null,{"$f":"IF(OR(AND(LEFT($D$636,8)=\"MODELO M\", LEFT(D818,8)=\"MODELO A\"), AND(LEFT($D$636,8)=\"MODELO A\", $F$636=\"Atribuir valor detalhado por Fase/Elemento\")), I818, 0)","v":0},{"$f":"IF(OR(AND(LEFT($D$636,8)=\"MODELO M\", LEFT(D818,8)=\"MODELO B\"), AND(LEFT($D$636,8)=\"MODELO B\", $K$636=\"Atribuir valor detalhado por Fase/Elemento\")), P818, 0)","v":0},{"$f":"IF(OR(AND(LEFT($D$636,8)=\"MODELO M\", LEFT(D818,8)=\"MODELO C\"), AND(LEFT($D$636,8)=\"MODELO C\", $R$636=\"Atribuir valor detalhado por Fase/Elemento\")), X818, 0)","v":0},{"$f":"IF(OR(AND(LEFT($D$636,8)=\"MODELO M\", LEFT(D818,8)=\"MODELO D\"), AND(LEFT($D$636,8)=\"MODELO D\", $Z$636=\"Atribuir valor detalhado por Fase/Elemento\")), AC818, 0)","v":0},{"$f":"SUM(BH818:BK818)","v":0},"MODELO A - TEMPO - N.º DE HORAS DE TRABALHO"]
[null,{"$f":"IF($B$814=\"ocultar\",\"ocultar\",IF('SA - ATIVIDADES'!$G$103=TRUE,IF('SA - ATIVIDADES'!$H$103>='SA - SERVICOS BASE'!AH819,\"mostrar\",\"ocultar\"),\"ocultar\"))","v":"ocultar"},"Especialidade (a preencher)","MODELO A - TEMPO - N.º DE HORAS DE TRABALHO",null,null,0,0,{"$f":"G819*H819","v":0},null,null,null,null,null,0,0,null,null,null,null,null,null,0,0,null,null,0,0,0,null,{"$f":"BL819","v":0},null,null,5,null,null,null,null,null,null,null,null,null,null,null,null,null,null,null,null,null,null,null,null,null,null,null,null,null,{"$f":"IF(OR(AND(LEFT($D$636,8)=\"MODELO M\", LEFT(D819,8)=\"MODELO A\"), AND(LEFT($D$636,8)=\"MODELO A\", $F$636=\"Atribuir valor detalhado por Fase/Elemento\")), I819, 0)","v":0},{"$f":"IF(OR(AND(LEFT($D$636,8)=\"MODELO M\", LEFT(D819,8)=\"MODELO B\"), AND(LEFT($D$636,8)=\"MODELO B\", $K$636=\"Atribuir valor detalhado por Fase/Elemento\")), P819, 0)","v":0},{"$f":"IF(OR(AND(LEFT($D$636,8)=\"MODELO M\", LEFT(D819,8)=\"MODELO C\"), AND(LEFT($D$636,8)=\"MODELO C\", $R$636=\"Atribuir valor detalhado por Fase/Elemento\")), X819, 0)","v":0},{"$f":"IF(OR(AND(LEFT($D$636,8)=\"MODELO M\", LEFT(D819,8)=\"MODELO D\"), AND(LEFT($D$636,8)=\"MODELO D\", $Z$636=\"Atribuir valor detalhado por Fase/Elemento\")), AC819, 0)","v":0},{"$f":"SUM(BH819:BK819)","v":0},"MODELO A - TEMPO - N.º DE HORAS DE TRABALHO"]
[null,{"$f":"IF(B814=\"ocultar\",\"ocultar\",\"mostrar\")","v":"ocultar"},"SUB-TOTAL",null,null,null,{"$f":"SUBTOTAL(109,G815:G819)","v":0},null,{"$f":"SUBTOTAL(109,I815:I819)","v":0},null,null,null,null,null,{"$f":"SUBTOTAL(9,O815:O819)","v":0},{"$f":"SUBTOTAL(9,P815:P819)","v":0},null,null,null,null,null,null,{"$f":"SUBTOTAL(9,W815:W819)","v":0},{"$f":"SUBTOTAL(9,X815:X819)","v":0},null,null,null,null,{"$f":"SUBTOTAL(9,AC815:AC819)","v":0},null,{"$f":"SUBTOTAL(109,AE815:AE819)","v":0},null,null,null,null,null,null,null,null,null,null,null,null,null,null,null,null,null,null,null,null,null,null,null,null,null,null,null,null,null,null,null,null,null,"MODELO A - TEMPO - N.º DE HORAS DE TRABALHO"]
[null,{"$f":"IF($B$636=\"ocultar\",\"ocultar\",IF('SA - ATIVIDADES'!$G$77=\"Fase Única\",\"ocultar\",IF('SA - ATIVIDADES'!G104=TRUE,\"mostrar\",\"ocultar\")))","v":"ocultar"},"ESPECIALIDADE 27",null,null,null,null,null,null,null,null,null,null,null,null,null,null,null,null,null,null,null,null,null,null,null,null,null,null,null,null,null,null,null,null,null,null,null,null,null,null,null,null,null,null,null,null,null,null,null,null,null,null,null,null,null,null,null,null,null,null,null,null,null,"MODELO A - TEMPO - N.º DE HORAS DE TRABALHO"]
[null,{"$f":"IF($B$821=\"ocultar\",\"ocultar\",IF('SA - ATIVIDADES'!$G$104=TRUE,IF('SA - ATIVIDADES'!$H$104>='SA - SERVICOS BASE'!AH822,\"mostrar\",\"ocultar\"),\"ocultar\"))","v":"ocultar"},"Especialidade (a preencher)","MODELO A - TEMPO - N.º DE HORAS DE TRABALHO",null,null,0,0,{"$f":"G822*H822","v":0},null,null,null,null,null,0,{"$f":"$P$636*O822","v":0},null,null,null,null,null,null,0,{"$f":"$P$636*W822","v":0},null,null,0,0,{"$f":"AA822*AB822","v":0},null,{"$f":"BL822","v":0},null,null,1,null,null,null,null,null,null,null,null,null,null,null,null,null,null,null,null,null,null,null,null,null,null,null,null,null,{"$f":"IF(OR(AND(LEFT($D$636,8)=\"MODELO M\", LEFT(D822,8)=\"MODELO A\"), AND(LEFT($D$636,8)=\"MODELO A\", $F$636=\"Atribuir valor detalhado por Fase/Elemento\")), I822, 0)","v":0},{"$f":"IF(OR(AND(LEFT($D$636,8)=\"MODELO M\", LEFT(D822,8)=\"MODELO B\"), AND(LEFT($D$636,8)=\"MODELO B\", $K$636=\"Atribuir valor detalhado por Fase/Elemento\")), P822, 0)","v":0},{"$f":"IF(OR(AND(LEFT($D$636,8)=\"MODELO M\", LEFT(D822,8)=\"MODELO C\"), AND(LEFT($D$636,8)=\"MODELO C\", $R$636=\"Atribuir valor detalhado por Fase/Elemento\")), X822, 0)","v":0},{"$f":"IF(OR(AND(LEFT($D$636,8)=\"MODELO M\", LEFT(D822,8)=\"MODELO D\"), AND(LEFT($D$636,8)=\"MODELO D\", $Z$636=\"Atribuir valor detalhado por Fase/Elemento\")), AC822, 0)","v":0},{"$f":"SUM(BH822:BK822)","v":0},"MODELO A - TEMPO - N.º DE HORAS DE TRABALHO"]
[null,{"$f":"IF($B$821=\"ocultar\",\"ocultar\",IF('SA - ATIVIDADES'!$G$104=TRUE,IF('SA - ATIVIDADES'!$H$104>='SA - SERVICOS BASE'!AH823,\"mostrar\",\"ocultar\"),\"ocultar\"))","v":"ocultar"},"Especialidade (a preencher)","MODELO A - TEMPO - N.º DE HORAS DE TRABALHO",null,null,0,0,{"$f":"G823*H823","v":0},null,null,null,null,null,0,{"$f":"$P$636*O823","v":0},null,null,null,null,null,null,0,{"$f":"$P$636*W823","v":0},null,null,0,0,0,null,{"$f":"BL823","v":0},null,null,2,null,null,null,null,null,null,null,null,null,null,null,null,null,null,null,null,null,null,null,null,null,null,null,null,null,{"$f":"IF(OR(AND(LEFT($D$636,8)=\"MODELO M\", LEFT(D823,8)=\"MODELO A\"), AND(LEFT($D$636,8)=\"MODELO A\", $F$636=\"Atribuir valor detalhado por Fase/Elemento\")), I823, 0)","v":0},{"$f":"IF(OR(AND(LEFT($D$636,8)=\"MODELO M\", LEFT(D823,8)=\"MODELO B\"), AND(LEFT($D$636,8)=\"MODELO B\", $K$636=\"Atribuir valor detalhado por Fase/Elemento\")), P823, 0)","v":0},{"$f":"IF(OR(AND(LEFT($D$636,8)=\"MODELO M\", LEFT(D823,8)=\"MODELO C\"), AND(LEFT($D$636,8)=\"MODELO C\", $R$636=\"Atribuir valor detalhado por Fase/Elemento\")), X823, 0)","v":0},{"$f":"IF(OR(AND(LEFT($D$636,8)=\"MODELO M\", LEFT(D823,8)=\"MODELO D\"), AND(LEFT($D$636,8)=\"MODELO D\", $Z$636=\"Atribuir valor detalhado por Fase/Elemento\")), AC823, 0)","v":0},{"$f":"SUM(BH823:BK823)","v":0},"MODELO A - TEMPO - N.º DE HORAS DE TRABALHO"]
[null,{"$f":"IF($B$821=\"ocultar\",\"ocultar\",IF('SA - ATIVIDADES'!$G$104=TRUE,IF('SA - ATIVIDADES'!$H$104>='SA - SERVICOS BASE'!AH824,\"mostrar\",\"ocultar\"),\"ocultar\"))","v":"ocultar"},"Especialidade (a preencher)","MODELO A - TEMPO - N.º DE HORAS DE TRABALHO",null,null,0,0,{"$f":"G824*H824","v":0},null,null,null,null,null,0,0,null,null,null,null,null,null,0,0,null,null,0,0,0,null,{"$f":"BL824","v":0},null,null,3,null,null,null,null,null,null,null,null,null,null,null,null,null,null,null,null,null,null,null,null,null,null,null,null,null,{"$f":"IF(OR(AND(LEFT($D$636,8)=\"MODELO M\", LEFT(D824,8)=\"MODELO A\"), AND(LEFT($D$636,8)=\"MODELO A\", $F$636=\"Atribuir valor detalhado por Fase/Elemento\")), I824, 0)","v":0},{"$f":"IF(OR(AND(LEFT($D$636,8)=\"MODELO M\", LEFT(D824,8)=\"MODELO B\"), AND(LEFT($D$636,8)=\"MODELO B\", $K$636=\"Atribuir valor detalhado por Fase/Elemento\")), P824, 0)","v":0},{"$f":"IF(OR(AND(LEFT($D$636,8)=\"MODELO M\", LEFT(D824,8)=\"MODELO C\"), AND(LEFT($D$636,8)=\"MODELO C\", $R$636=\"Atribuir valor detalhado por Fase/Elemento\")), X824, 0)","v":0},{"$f":"IF(OR(AND(LEFT($D$636,8)=\"MODELO M\", LEFT(D824,8)=\"MODELO D\"), AND(LEFT($D$636,8)=\"MODELO D\", $Z$636=\"Atribuir valor detalhado por Fase/Elemento\")), AC824, 0)","v":0},{"$f":"SUM(BH824:BK824)","v":0},"MODELO A - TEMPO - N.º DE HORAS DE TRABALHO"]
[null,{"$f":"IF($B$821=\"ocultar\",\"ocultar\",IF('SA - ATIVIDADES'!$G$104=TRUE,IF('SA - ATIVIDADES'!$H$104>='SA - SERVICOS BASE'!AH825,\"mostrar\",\"ocultar\"),\"ocultar\"))","v":"ocultar"},"Especialidade (a preencher)","MODELO A - TEMPO - N.º DE HORAS DE TRABALHO",null,null,0,0,{"$f":"G825*H825","v":0},null,null,null,null,null,0,0,null,null,null,null,null,null,0,0,null,null,0,0,0,null,{"$f":"BL825","v":0},null,null,4,null,null,null,null,null,null,null,null,null,null,null,null,null,null,null,null,null,null,null,null,null,null,null,null,null,{"$f":"IF(OR(AND(LEFT($D$636,8)=\"MODELO M\", LEFT(D825,8)=\"MODELO A\"), AND(LEFT($D$636,8)=\"MODELO A\", $F$636=\"Atribuir valor detalhado por Fase/Elemento\")), I825, 0)","v":0},{"$f":"IF(OR(AND(LEFT($D$636,8)=\"MODELO M\", LEFT(D825,8)=\"MODELO B\"), AND(LEFT($D$636,8)=\"MODELO B\", $K$636=\"Atribuir valor detalhado por Fase/Elemento\")), P825, 0)","v":0},{"$f":"IF(OR(AND(LEFT($D$636,8)=\"MODELO M\", LEFT(D825,8)=\"MODELO C\"), AND(LEFT($D$636,8)=\"MODELO C\", $R$636=\"Atribuir valor detalhado por Fase/Elemento\")), X825, 0)","v":0},{"$f":"IF(OR(AND(LEFT($D$636,8)=\"MODELO M\", LEFT(D825,8)=\"MODELO D\"), AND(LEFT($D$636,8)=\"MODELO D\", $Z$636=\"Atribuir valor detalhado por Fase/Elemento\")), AC825, 0)","v":0},{"$f":"SUM(BH825:BK825)","v":0},"MODELO A - TEMPO - N.º DE HORAS DE TRABALHO"]
[null,{"$f":"IF($B$821=\"ocultar\",\"ocultar\",IF('SA - ATIVIDADES'!$G$104=TRUE,IF('SA - ATIVIDADES'!$H$104>='SA - SERVICOS BASE'!AH826,\"mostrar\",\"ocultar\"),\"ocultar\"))","v":"ocultar"},"Especialidade (a preencher)","MODELO A - TEMPO - N.º DE HORAS DE TRABALHO",null,null,0,0,{"$f":"G826*H826","v":0},null,null,null,null,null,0,0,null,null,null,null,null,null,0,0,null,null,0,0,0,null,{"$f":"BL826","v":0},null,null,5,null,null,null,null,null,null,null,null,null,null,null,null,null,null,null,null,null,null,null,null,null,null,null,null,null,{"$f":"IF(OR(AND(LEFT($D$636,8)=\"MODELO M\", LEFT(D826,8)=\"MODELO A\"), AND(LEFT($D$636,8)=\"MODELO A\", $F$636=\"Atribuir valor detalhado por Fase/Elemento\")), I826, 0)","v":0},{"$f":"IF(OR(AND(LEFT($D$636,8)=\"MODELO M\", LEFT(D826,8)=\"MODELO B\"), AND(LEFT($D$636,8)=\"MODELO B\", $K$636=\"Atribuir valor detalhado por Fase/Elemento\")), P826, 0)","v":0},{"$f":"IF(OR(AND(LEFT($D$636,8)=\"MODELO M\", LEFT(D826,8)=\"MODELO C\"), AND(LEFT($D$636,8)=\"MODELO C\", $R$636=\"Atribuir valor detalhado por Fase/Elemento\")), X826, 0)","v":0},{"$f":"IF(OR(AND(LEFT($D$636,8)=\"MODELO M\", LEFT(D826,8)=\"MODELO D\"), AND(LEFT($D$636,8)=\"MODELO D\", $Z$636=\"Atribuir valor detalhado por Fase/Elemento\")), AC826, 0)","v":0},{"$f":"SUM(BH826:BK826)","v":0},"MODELO A - TEMPO - N.º DE HORAS DE TRABALHO"]
[null,{"$f":"IF(B821=\"ocultar\",\"ocultar\",\"mostrar\")","v":"ocultar"},"SUB-TOTAL",null,null,null,{"$f":"SUBTOTAL(109,G822:G826)","v":0},null,{"$f":"SUBTOTAL(109,I822:I826)","v":0},null,null,null,null,null,{"$f":"SUBTOTAL(9,O822:O826)","v":0},{"$f":"SUBTOTAL(9,P822:P826)","v":0},null,null,null,null,null,null,{"$f":"SUBTOTAL(9,W822:W826)","v":0},{"$f":"SUBTOTAL(9,X822:X826)","v":0},null,null,null,null,{"$f":"SUBTOTAL(9,AC822:AC826)","v":0},null,{"$f":"SUBTOTAL(109,AE822:AE826)","v":0},null,null,null,null,null,null,null,null,null,null,null,null,null,null,null,null,null,null,null,null,null,null,null,null,null,null,null,null,null,null,null,null,null,"MODELO A - TEMPO - N.º DE HORAS DE TRABALHO"]
[null,{"$f":"IF($B$636=\"ocultar\",\"ocultar\",IF('SA - ATIVIDADES'!$G$77=\"Fase Única\",\"ocultar\",IF('SA - ATIVIDADES'!G105=TRUE,\"mostrar\",\"ocultar\")))","v":"ocultar"},"ESPECIALIDADE 28",null,null,null,null,null,null,null,null,null,null,null,null,null,null,null,null,null,null,null,null,null,null,null,null,null,null,null,null,null,null,null,null,null,null,null,null,null,null,null,null,null,null,null,null,null,null,null,null,null,null,null,null,null,null,null,null,null,null,null,null,null,"MODELO A - TEMPO - N.º DE HORAS DE TRABALHO"]
[null,{"$f":"IF($B$828=\"ocultar\",\"ocultar\",IF('SA - ATIVIDADES'!$G$105=TRUE,IF('SA - ATIVIDADES'!$H$105>='SA - SERVICOS BASE'!AH829,\"mostrar\",\"ocultar\"),\"ocultar\"))","v":"ocultar"},"Especialidade (a preencher)","MODELO A - TEMPO - N.º DE HORAS DE TRABALHO",null,null,0,0,{"$f":"G829*H829","v":0},null,null,null,null,null,0,{"$f":"$P$636*O829","v":0},null,null,null,null,null,null,0,{"$f":"$P$636*W829","v":0},null,null,0,0,{"$f":"AA829*AB829","v":0},null,{"$f":"BL829","v":0},null,null,1,null,null,null,null,null,null,null,null,null,null,null,null,null,null,null,null,null,null,null,null,null,null,null,null,null,{"$f":"IF(OR(AND(LEFT($D$636,8)=\"MODELO M\", LEFT(D829,8)=\"MODELO A\"), AND(LEFT($D$636,8)=\"MODELO A\", $F$636=\"Atribuir valor detalhado por Fase/Elemento\")), I829, 0)","v":0},{"$f":"IF(OR(AND(LEFT($D$636,8)=\"MODELO M\", LEFT(D829,8)=\"MODELO B\"), AND(LEFT($D$636,8)=\"MODELO B\", $K$636=\"Atribuir valor detalhado por Fase/Elemento\")), P829, 0)","v":0},{"$f":"IF(OR(AND(LEFT($D$636,8)=\"MODELO M\", LEFT(D829,8)=\"MODELO C\"), AND(LEFT($D$636,8)=\"MODELO C\", $R$636=\"Atribuir valor detalhado por Fase/Elemento\")), X829, 0)","v":0},{"$f":"IF(OR(AND(LEFT($D$636,8)=\"MODELO M\", LEFT(D829,8)=\"MODELO D\"), AND(LEFT($D$636,8)=\"MODELO D\", $Z$636=\"Atribuir valor detalhado por Fase/Elemento\")), AC829, 0)","v":0},{"$f":"SUM(BH829:BK829)","v":0},"MODELO A - TEMPO - N.º DE HORAS DE TRABALHO"]
[null,{"$f":"IF($B$828=\"ocultar\",\"ocultar\",IF('SA - ATIVIDADES'!$G$105=TRUE,IF('SA - ATIVIDADES'!$H$105>='SA - SERVICOS BASE'!AH830,\"mostrar\",\"ocultar\"),\"ocultar\"))","v":"ocultar"},"Especialidade (a preencher)","MODELO A - TEMPO - N.º DE HORAS DE TRABALHO",null,null,0,0,{"$f":"G830*H830","v":0},null,null,null,null,null,0,{"$f":"$P$636*O830","v":0},null,null,null,null,null,null,0,{"$f":"$P$636*W830","v":0},null,null,0,0,0,null,{"$f":"BL830","v":0},null,null,2,null,null,null,null,null,null,null,null,null,null,null,null,null,null,null,null,null,null,null,null,null,null,null,null,null,{"$f":"IF(OR(AND(LEFT($D$636,8)=\"MODELO M\", LEFT(D830,8)=\"MODELO A\"), AND(LEFT($D$636,8)=\"MODELO A\", $F$636=\"Atribuir valor detalhado por Fase/Elemento\")), I830, 0)","v":0},{"$f":"IF(OR(AND(LEFT($D$636,8)=\"MODELO M\", LEFT(D830,8)=\"MODELO B\"), AND(LEFT($D$636,8)=\"MODELO B\", $K$636=\"Atribuir valor detalhado por Fase/Elemento\")), P830, 0)","v":0},{"$f":"IF(OR(AND(LEFT($D$636,8)=\"MODELO M\", LEFT(D830,8)=\"MODELO C\"), AND(LEFT($D$636,8)=\"MODELO C\", $R$636=\"Atribuir valor detalhado por Fase/Elemento\")), X830, 0)","v":0},{"$f":"IF(OR(AND(LEFT($D$636,8)=\"MODELO M\", LEFT(D830,8)=\"MODELO D\"), AND(LEFT($D$636,8)=\"MODELO D\", $Z$636=\"Atribuir valor detalhado por Fase/Elemento\")), AC830, 0)","v":0},{"$f":"SUM(BH830:BK830)","v":0},"MODELO A - TEMPO - N.º DE HORAS DE TRABALHO"]
[null,{"$f":"IF($B$828=\"ocultar\",\"ocultar\",IF('SA - ATIVIDADES'!$G$105=TRUE,IF('SA - ATIVIDADES'!$H$105>='SA - SERVICOS BASE'!AH831,\"mostrar\",\"ocultar\"),\"ocultar\"))","v":"ocultar"},"Especialidade (a preencher)","MODELO A - TEMPO - N.º DE HORAS DE TRABALHO",null,null,0,0,{"$f":"G831*H831","v":0},null,null,null,null,null,0,0,null,null,null,null,null,null,0,0,null,null,0,0,0,null,{"$f":"BL831","v":0},null,null,3,null,null,null,null,null,null,null,null,null,null,null,null,null,null,null,null,null,null,null,null,null,null,null,null,null,{"$f":"IF(OR(AND(LEFT($D$636,8)=\"MODELO M\", LEFT(D831,8)=\"MODELO A\"), AND(LEFT($D$636,8)=\"MODELO A\", $F$636=\"Atribuir valor detalhado por Fase/Elemento\")), I831, 0)","v":0},{"$f":"IF(OR(AND(LEFT($D$636,8)=\"MODELO M\", LEFT(D831,8)=\"MODELO B\"), AND(LEFT($D$636,8)=\"MODELO B\", $K$636=\"Atribuir valor detalhado por Fase/Elemento\")), P831, 0)","v":0},{"$f":"IF(OR(AND(LEFT($D$636,8)=\"MODELO M\", LEFT(D831,8)=\"MODELO C\"), AND(LEFT($D$636,8)=\"MODELO C\", $R$636=\"Atribuir valor detalhado por Fase/Elemento\")), X831, 0)","v":0},{"$f":"IF(OR(AND(LEFT($D$636,8)=\"MODELO M\", LEFT(D831,8)=\"MODELO D\"), AND(LEFT($D$636,8)=\"MODELO D\", $Z$636=\"Atribuir valor detalhado por Fase/Elemento\")), AC831, 0)","v":0},{"$f":"SUM(BH831:BK831)","v":0},"MODELO A - TEMPO - N.º DE HORAS DE TRABALHO"]
[null,{"$f":"IF($B$828=\"ocultar\",\"ocultar\",IF('SA - ATIVIDADES'!$G$105=TRUE,IF('SA - ATIVIDADES'!$H$105>='SA - SERVICOS BASE'!AH832,\"mostrar\",\"ocultar\"),\"ocultar\"))","v":"ocultar"},"Especialidade (a preencher)","MODELO A - TEMPO - N.º DE HORAS DE TRABALHO",null,null,0,0,{"$f":"G832*H832","v":0},null,null,null,null,null,0,0,null,null,null,null,null,null,0,0,null,null,0,0,0,null,{"$f":"BL832","v":0},null,null,4,null,null,null,null,null,null,null,null,null,null,null,null,null,null,null,null,null,null,null,null,null,null,null,null,null,{"$f":"IF(OR(AND(LEFT($D$636,8)=\"MODELO M\", LEFT(D832,8)=\"MODELO A\"), AND(LEFT($D$636,8)=\"MODELO A\", $F$636=\"Atribuir valor detalhado por Fase/Elemento\")), I832, 0)","v":0},{"$f":"IF(OR(AND(LEFT($D$636,8)=\"MODELO M\", LEFT(D832,8)=\"MODELO B\"), AND(LEFT($D$636,8)=\"MODELO B\", $K$636=\"Atribuir valor detalhado por Fase/Elemento\")), P832, 0)","v":0},{"$f":"IF(OR(AND(LEFT($D$636,8)=\"MODELO M\", LEFT(D832,8)=\"MODELO C\"), AND(LEFT($D$636,8)=\"MODELO C\", $R$636=\"Atribuir valor detalhado por Fase/Elemento\")), X832, 0)","v":0},{"$f":"IF(OR(AND(LEFT($D$636,8)=\"MODELO M\", LEFT(D832,8)=\"MODELO D\"), AND(LEFT($D$636,8)=\"MODELO D\", $Z$636=\"Atribuir valor detalhado por Fase/Elemento\")), AC832, 0)","v":0},{"$f":"SUM(BH832:BK832)","v":0},"MODELO A - TEMPO - N.º DE HORAS DE TRABALHO"]
[null,{"$f":"IF($B$828=\"ocultar\",\"ocultar\",IF('SA - ATIVIDADES'!$G$105=TRUE,IF('SA - ATIVIDADES'!$H$105>='SA - SERVICOS BASE'!AH833,\"mostrar\",\"ocultar\"),\"ocultar\"))","v":"ocultar"},"Especialidade (a preencher)","MODELO A - TEMPO - N.º DE HORAS DE TRABALHO",null,null,0,0,{"$f":"G833*H833","v":0},null,null,null,null,null,0,0,null,null,null,null,null,null,0,0,null,null,0,0,0,null,{"$f":"BL833","v":0},null,null,5,null,null,null,null,null,null,null,null,null,null,null,null,null,null,null,null,null,null,null,null,null,null,null,null,null,{"$f":"IF(OR(AND(LEFT($D$636,8)=\"MODELO M\", LEFT(D833,8)=\"MODELO A\"), AND(LEFT($D$636,8)=\"MODELO A\", $F$636=\"Atribuir valor detalhado por Fase/Elemento\")), I833, 0)","v":0},{"$f":"IF(OR(AND(LEFT($D$636,8)=\"MODELO M\", LEFT(D833,8)=\"MODELO B\"), AND(LEFT($D$636,8)=\"MODELO B\", $K$636=\"Atribuir valor detalhado por Fase/Elemento\")), P833, 0)","v":0},{"$f":"IF(OR(AND(LEFT($D$636,8)=\"MODELO M\", LEFT(D833,8)=\"MODELO C\"), AND(LEFT($D$636,8)=\"MODELO C\", $R$636=\"Atribuir valor detalhado por Fase/Elemento\")), X833, 0)","v":0},{"$f":"IF(OR(AND(LEFT($D$636,8)=\"MODELO M\", LEFT(D833,8)=\"MODELO D\"), AND(LEFT($D$636,8)=\"MODELO D\", $Z$636=\"Atribuir valor detalhado por Fase/Elemento\")), AC833, 0)","v":0},{"$f":"SUM(BH833:BK833)","v":0},"MODELO A - TEMPO - N.º DE HORAS DE TRABALHO"]
[null,{"$f":"IF(B828=\"ocultar\",\"ocultar\",\"mostrar\")","v":"ocultar"},"SUB-TOTAL",null,null,null,{"$f":"SUBTOTAL(109,G829:G833)","v":0},null,{"$f":"SUBTOTAL(109,I829:I833)","v":0},null,null,null,null,null,{"$f":"SUBTOTAL(9,O829:O833)","v":0},{"$f":"SUBTOTAL(9,P829:P833)","v":0},null,null,null,null,null,null,{"$f":"SUBTOTAL(9,W829:W833)","v":0},{"$f":"SUBTOTAL(9,X829:X833)","v":0},null,null,null,null,{"$f":"SUBTOTAL(9,AC829:AC833)","v":0},null,{"$f":"SUBTOTAL(109,AE829:AE833)","v":0},null,null,null,null,null,null,null,null,null,null,null,null,null,null,null,null,null,null,null,null,null,null,null,null,null,null,null,null,null,null,null,null,null,"MODELO A - TEMPO - N.º DE HORAS DE TRABALHO"]
[null,{"$f":"IF($B$636=\"ocultar\",\"ocultar\",IF('SA - ATIVIDADES'!$G$77=\"Fase Única\",\"ocultar\",IF('SA - ATIVIDADES'!G106=TRUE,\"mostrar\",\"ocultar\")))","v":"ocultar"},"ESPECIALIDADE 29",null,null,null,null,null,null,null,null,null,null,null,null,null,null,null,null,null,null,null,null,null,null,null,null,null,null,null,null,null,null,null,null,null,null,null,null,null,null,null,null,null,null,null,null,null,null,null,null,null,null,null,null,null,null,null,null,null,null,null,null,null,"MODELO A - TEMPO - N.º DE HORAS DE TRABALHO"]
[null,{"$f":"IF($B$835=\"ocultar\",\"ocultar\",IF('SA - ATIVIDADES'!$G$106=TRUE,IF('SA - ATIVIDADES'!$H$106>='SA - SERVICOS BASE'!AH836,\"mostrar\",\"ocultar\"),\"ocultar\"))","v":"ocultar"},"Especialidade (a preencher)","MODELO A - TEMPO - N.º DE HORAS DE TRABALHO",null,null,0,0,{"$f":"G836*H836","v":0},null,null,null,null,null,0,{"$f":"$P$636*O836","v":0},null,null,null,null,null,null,0,{"$f":"$P$636*W836","v":0},null,null,0,0,{"$f":"AA836*AB836","v":0},null,{"$f":"BL836","v":0},null,null,1,null,null,null,null,null,null,null,null,null,null,null,null,null,null,null,null,null,null,null,null,null,null,null,null,null,{"$f":"IF(OR(AND(LEFT($D$636,8)=\"MODELO M\", LEFT(D836,8)=\"MODELO A\"), AND(LEFT($D$636,8)=\"MODELO A\", $F$636=\"Atribuir valor detalhado por Fase/Elemento\")), I836, 0)","v":0},{"$f":"IF(OR(AND(LEFT($D$636,8)=\"MODELO M\", LEFT(D836,8)=\"MODELO B\"), AND(LEFT($D$636,8)=\"MODELO B\", $K$636=\"Atribuir valor detalhado por Fase/Elemento\")), P836, 0)","v":0},{"$f":"IF(OR(AND(LEFT($D$636,8)=\"MODELO M\", LEFT(D836,8)=\"MODELO C\"), AND(LEFT($D$636,8)=\"MODELO C\", $R$636=\"Atribuir valor detalhado por Fase/Elemento\")), X836, 0)","v":0},{"$f":"IF(OR(AND(LEFT($D$636,8)=\"MODELO M\", LEFT(D836,8)=\"MODELO D\"), AND(LEFT($D$636,8)=\"MODELO D\", $Z$636=\"Atribuir valor detalhado por Fase/Elemento\")), AC836, 0)","v":0},{"$f":"SUM(BH836:BK836)","v":0},"MODELO A - TEMPO - N.º DE HORAS DE TRABALHO"]
[null,{"$f":"IF($B$835=\"ocultar\",\"ocultar\",IF('SA - ATIVIDADES'!$G$106=TRUE,IF('SA - ATIVIDADES'!$H$106>='SA - SERVICOS BASE'!AH837,\"mostrar\",\"ocultar\"),\"ocultar\"))","v":"ocultar"},"Especialidade (a preencher)","MODELO A - TEMPO - N.º DE HORAS DE TRABALHO",null,null,0,0,{"$f":"G837*H837","v":0},null,null,null,null,null,0,{"$f":"$P$636*O837","v":0},null,null,null,null,null,null,0,{"$f":"$P$636*W837","v":0},null,null,0,0,0,null,{"$f":"BL837","v":0},null,null,2,null,null,null,null,null,null,null,null,null,null,null,null,null,null,null,null,null,null,null,null,null,null,null,null,null,{"$f":"IF(OR(AND(LEFT($D$636,8)=\"MODELO M\", LEFT(D837,8)=\"MODELO A\"), AND(LEFT($D$636,8)=\"MODELO A\", $F$636=\"Atribuir valor detalhado por Fase/Elemento\")), I837, 0)","v":0},{"$f":"IF(OR(AND(LEFT($D$636,8)=\"MODELO M\", LEFT(D837,8)=\"MODELO B\"), AND(LEFT($D$636,8)=\"MODELO B\", $K$636=\"Atribuir valor detalhado por Fase/Elemento\")), P837, 0)","v":0},{"$f":"IF(OR(AND(LEFT($D$636,8)=\"MODELO M\", LEFT(D837,8)=\"MODELO C\"), AND(LEFT($D$636,8)=\"MODELO C\", $R$636=\"Atribuir valor detalhado por Fase/Elemento\")), X837, 0)","v":0},{"$f":"IF(OR(AND(LEFT($D$636,8)=\"MODELO M\", LEFT(D837,8)=\"MODELO D\"), AND(LEFT($D$636,8)=\"MODELO D\", $Z$636=\"Atribuir valor detalhado por Fase/Elemento\")), AC837, 0)","v":0},{"$f":"SUM(BH837:BK837)","v":0},"MODELO A - TEMPO - N.º DE HORAS DE TRABALHO"]
[null,{"$f":"IF($B$835=\"ocultar\",\"ocultar\",IF('SA - ATIVIDADES'!$G$106=TRUE,IF('SA - ATIVIDADES'!$H$106>='SA - SERVICOS BASE'!AH838,\"mostrar\",\"ocultar\"),\"ocultar\"))","v":"ocultar"},"Especialidade (a preencher)","MODELO A - TEMPO - N.º DE HORAS DE TRABALHO",null,null,0,0,{"$f":"G838*H838","v":0},null,null,null,null,null,0,0,null,null,null,null,null,null,0,0,null,null,0,0,0,null,{"$f":"BL838","v":0},null,null,3,null,null,null,null,null,null,null,null,null,null,null,null,null,null,null,null,null,null,null,null,null,null,null,null,null,{"$f":"IF(OR(AND(LEFT($D$636,8)=\"MODELO M\", LEFT(D838,8)=\"MODELO A\"), AND(LEFT($D$636,8)=\"MODELO A\", $F$636=\"Atribuir valor detalhado por Fase/Elemento\")), I838, 0)","v":0},{"$f":"IF(OR(AND(LEFT($D$636,8)=\"MODELO M\", LEFT(D838,8)=\"MODELO B\"), AND(LEFT($D$636,8)=\"MODELO B\", $K$636=\"Atribuir valor detalhado por Fase/Elemento\")), P838, 0)","v":0},{"$f":"IF(OR(AND(LEFT($D$636,8)=\"MODELO M\", LEFT(D838,8)=\"MODELO C\"), AND(LEFT($D$636,8)=\"MODELO C\", $R$636=\"Atribuir valor detalhado por Fase/Elemento\")), X838, 0)","v":0},{"$f":"IF(OR(AND(LEFT($D$636,8)=\"MODELO M\", LEFT(D838,8)=\"MODELO D\"), AND(LEFT($D$636,8)=\"MODELO D\", $Z$636=\"Atribuir valor detalhado por Fase/Elemento\")), AC838, 0)","v":0},{"$f":"SUM(BH838:BK838)","v":0},"MODELO A - TEMPO - N.º DE HORAS DE TRABALHO"]
[null,{"$f":"IF($B$835=\"ocultar\",\"ocultar\",IF('SA - ATIVIDADES'!$G$106=TRUE,IF('SA - ATIVIDADES'!$H$106>='SA - SERVICOS BASE'!AH839,\"mostrar\",\"ocultar\"),\"ocultar\"))","v":"ocultar"},"Especialidade (a preencher)","MODELO A - TEMPO - N.º DE HORAS DE TRABALHO",null,null,0,0,{"$f":"G839*H839","v":0},null,null,null,null,null,0,0,null,null,null,null,null,null,0,0,null,null,0,0,0,null,{"$f":"BL839","v":0},null,null,4,null,null,null,null,null,null,null,null,null,null,null,null,null,null,null,null,null,null,null,null,null,null,null,null,null,{"$f":"IF(OR(AND(LEFT($D$636,8)=\"MODELO M\", LEFT(D839,8)=\"MODELO A\"), AND(LEFT($D$636,8)=\"MODELO A\", $F$636=\"Atribuir valor detalhado por Fase/Elemento\")), I839, 0)","v":0},{"$f":"IF(OR(AND(LEFT($D$636,8)=\"MODELO M\", LEFT(D839,8)=\"MODELO B\"), AND(LEFT($D$636,8)=\"MODELO B\", $K$636=\"Atribuir valor detalhado por Fase/Elemento\")), P839, 0)","v":0},{"$f":"IF(OR(AND(LEFT($D$636,8)=\"MODELO M\", LEFT(D839,8)=\"MODELO C\"), AND(LEFT($D$636,8)=\"MODELO C\", $R$636=\"Atribuir valor detalhado por Fase/Elemento\")), X839, 0)","v":0},{"$f":"IF(OR(AND(LEFT($D$636,8)=\"MODELO M\", LEFT(D839,8)=\"MODELO D\"), AND(LEFT($D$636,8)=\"MODELO D\", $Z$636=\"Atribuir valor detalhado por Fase/Elemento\")), AC839, 0)","v":0},{"$f":"SUM(BH839:BK839)","v":0},"MODELO A - TEMPO - N.º DE HORAS DE TRABALHO"]
[null,{"$f":"IF($B$835=\"ocultar\",\"ocultar\",IF('SA - ATIVIDADES'!$G$106=TRUE,IF('SA - ATIVIDADES'!$H$106>='SA - SERVICOS BASE'!AH840,\"mostrar\",\"ocultar\"),\"ocultar\"))","v":"ocultar"},"Especialidade (a preencher)","MODELO A - TEMPO - N.º DE HORAS DE TRABALHO",null,null,0,0,{"$f":"G840*H840","v":0},null,null,null,null,null,0,0,null,null,null,null,null,null,0,0,null,null,0,0,0,null,{"$f":"BL840","v":0},null,null,5,null,null,null,null,null,null,null,null,null,null,null,null,null,null,null,null,null,null,null,null,null,null,null,null,null,{"$f":"IF(OR(AND(LEFT($D$636,8)=\"MODELO M\", LEFT(D840,8)=\"MODELO A\"), AND(LEFT($D$636,8)=\"MODELO A\", $F$636=\"Atribuir valor detalhado por Fase/Elemento\")), I840, 0)","v":0},{"$f":"IF(OR(AND(LEFT($D$636,8)=\"MODELO M\", LEFT(D840,8)=\"MODELO B\"), AND(LEFT($D$636,8)=\"MODELO B\", $K$636=\"Atribuir valor detalhado por Fase/Elemento\")), P840, 0)","v":0},{"$f":"IF(OR(AND(LEFT($D$636,8)=\"MODELO M\", LEFT(D840,8)=\"MODELO C\"), AND(LEFT($D$636,8)=\"MODELO C\", $R$636=\"Atribuir valor detalhado por Fase/Elemento\")), X840, 0)","v":0},{"$f":"IF(OR(AND(LEFT($D$636,8)=\"MODELO M\", LEFT(D840,8)=\"MODELO D\"), AND(LEFT($D$636,8)=\"MODELO D\", $Z$636=\"Atribuir valor detalhado por Fase/Elemento\")), AC840, 0)","v":0},{"$f":"SUM(BH840:BK840)","v":0},"MODELO A - TEMPO - N.º DE HORAS DE TRABALHO"]
[null,{"$f":"IF(B835=\"ocultar\",\"ocultar\",\"mostrar\")","v":"ocultar"},"SUB-TOTAL",null,null,null,{"$f":"SUBTOTAL(109,G836:G840)","v":0},null,{"$f":"SUBTOTAL(109,I836:I840)","v":0},null,null,null,null,null,{"$f":"SUBTOTAL(9,O836:O840)","v":0},{"$f":"SUBTOTAL(9,P836:P840)","v":0},null,null,null,null,null,null,{"$f":"SUBTOTAL(9,W836:W840)","v":0},{"$f":"SUBTOTAL(9,X836:X840)","v":0},null,null,null,null,{"$f":"SUBTOTAL(9,AC836:AC840)","v":0},null,{"$f":"SUBTOTAL(109,AE836:AE840)","v":0},null,null,null,null,null,null,null,null,null,null,null,null,null,null,null,null,null,null,null,null,null,null,null,null,null,null,null,null,null,null,null,null,null,"MODELO A - TEMPO - N.º DE HORAS DE TRABALHO"]
[null,{"$f":"IF($B$636=\"ocultar\",\"ocultar\",IF('SA - ATIVIDADES'!$G$77=\"Fase Única\",\"ocultar\",IF('SA - ATIVIDADES'!G107=TRUE,\"mostrar\",\"ocultar\")))","v":"ocultar"},"ESPECIALIDADE 30",null,null,null,null,null,null,null,null,null,null,null,null,null,null,null,null,null,null,null,null,null,null,null,null,null,null,null,null,null,null,null,null,null,null,null,null,null,null,null,null,null,null,null,null,null,null,null,null,null,null,null,null,null,null,null,null,null,null,null,null,null,"MODELO A - TEMPO - N.º DE HORAS DE TRABALHO"]
[null,{"$f":"IF($B$842=\"ocultar\",\"ocultar\",IF('SA - ATIVIDADES'!$G$107=TRUE,IF('SA - ATIVIDADES'!$H$107>='SA - SERVICOS BASE'!AH843,\"mostrar\",\"ocultar\"),\"ocultar\"))","v":"ocultar"},"Especialidade (a preencher)","MODELO A - TEMPO - N.º DE HORAS DE TRABALHO",null,null,0,0,{"$f":"G843*H843","v":0},null,null,null,null,null,0,{"$f":"$P$636*O843","v":0},null,null,null,null,null,null,0,{"$f":"$P$636*W843","v":0},null,null,0,0,{"$f":"AA843*AB843","v":0},null,{"$f":"BL843","v":0},null,null,1,null,null,null,null,null,null,null,null,null,null,null,null,null,null,null,null,null,null,null,null,null,null,null,null,null,{"$f":"IF(OR(AND(LEFT($D$636,8)=\"MODELO M\", LEFT(D843,8)=\"MODELO A\"), AND(LEFT($D$636,8)=\"MODELO A\", $F$636=\"Atribuir valor detalhado por Fase/Elemento\")), I843, 0)","v":0},{"$f":"IF(OR(AND(LEFT($D$636,8)=\"MODELO M\", LEFT(D843,8)=\"MODELO B\"), AND(LEFT($D$636,8)=\"MODELO B\", $K$636=\"Atribuir valor detalhado por Fase/Elemento\")), P843, 0)","v":0},{"$f":"IF(OR(AND(LEFT($D$636,8)=\"MODELO M\", LEFT(D843,8)=\"MODELO C\"), AND(LEFT($D$636,8)=\"MODELO C\", $R$636=\"Atribuir valor detalhado por Fase/Elemento\")), X843, 0)","v":0},{"$f":"IF(OR(AND(LEFT($D$636,8)=\"MODELO M\", LEFT(D843,8)=\"MODELO D\"), AND(LEFT($D$636,8)=\"MODELO D\", $Z$636=\"Atribuir valor detalhado por Fase/Elemento\")), AC843, 0)","v":0},{"$f":"SUM(BH843:BK843)","v":0},"MODELO A - TEMPO - N.º DE HORAS DE TRABALHO"]
[null,{"$f":"IF($B$842=\"ocultar\",\"ocultar\",IF('SA - ATIVIDADES'!$G$107=TRUE,IF('SA - ATIVIDADES'!$H$107>='SA - SERVICOS BASE'!AH844,\"mostrar\",\"ocultar\"),\"ocultar\"))","v":"ocultar"},"Especialidade (a preencher)","MODELO A - TEMPO - N.º DE HORAS DE TRABALHO",null,null,0,0,{"$f":"G844*H844","v":0},null,null,null,null,null,0,{"$f":"$P$636*O844","v":0},null,null,null,null,null,null,0,{"$f":"$P$636*W844","v":0},null,null,0,0,0,null,{"$f":"BL844","v":0},null,null,2,null,null,null,null,null,null,null,null,null,null,null,null,null,null,null,null,null,null,null,null,null,null,null,null,null,{"$f":"IF(OR(AND(LEFT($D$636,8)=\"MODELO M\", LEFT(D844,8)=\"MODELO A\"), AND(LEFT($D$636,8)=\"MODELO A\", $F$636=\"Atribuir valor detalhado por Fase/Elemento\")), I844, 0)","v":0},{"$f":"IF(OR(AND(LEFT($D$636,8)=\"MODELO M\", LEFT(D844,8)=\"MODELO B\"), AND(LEFT($D$636,8)=\"MODELO B\", $K$636=\"Atribuir valor detalhado por Fase/Elemento\")), P844, 0)","v":0},{"$f":"IF(OR(AND(LEFT($D$636,8)=\"MODELO M\", LEFT(D844,8)=\"MODELO C\"), AND(LEFT($D$636,8)=\"MODELO C\", $R$636=\"Atribuir valor detalhado por Fase/Elemento\")), X844, 0)","v":0},{"$f":"IF(OR(AND(LEFT($D$636,8)=\"MODELO M\", LEFT(D844,8)=\"MODELO D\"), AND(LEFT($D$636,8)=\"MODELO D\", $Z$636=\"Atribuir valor detalhado por Fase/Elemento\")), AC844, 0)","v":0},{"$f":"SUM(BH844:BK844)","v":0},{"$f":"IF($AH844<>\"\",BM843,IF(LEFT($D844,6)=\"MODELO\",$D844,BM843))","v":"MODELO A - TEMPO - N.º DE HORAS DE TRABALHO"}]
[null,{"$f":"IF($B$842=\"ocultar\",\"ocultar\",IF('SA - ATIVIDADES'!$G$107=TRUE,IF('SA - ATIVIDADES'!$H$107>='SA - SERVICOS BASE'!AH845,\"mostrar\",\"ocultar\"),\"ocultar\"))","v":"ocultar"},"Especialidade (a preencher)","MODELO A - TEMPO - N.º DE HORAS DE TRABALHO",null,null,0,0,{"$f":"G845*H845","v":0},null,null,null,null,null,0,0,null,null,null,null,null,null,0,0,null,null,0,0,0,null,{"$f":"BL845","v":0},null,null,3,null,null,null,null,null,null,null,null,null,null,null,null,null,null,null,null,null,null,null,null,null,null,null,null,null,{"$f":"IF(OR(AND(LEFT($D$636,8)=\"MODELO M\", LEFT(D845,8)=\"MODELO A\"), AND(LEFT($D$636,8)=\"MODELO A\", $F$636=\"Atribuir valor detalhado por Fase/Elemento\")), I845, 0)","v":0},{"$f":"IF(OR(AND(LEFT($D$636,8)=\"MODELO M\", LEFT(D845,8)=\"MODELO B\"), AND(LEFT($D$636,8)=\"MODELO B\", $K$636=\"Atribuir valor detalhado por Fase/Elemento\")), P845, 0)","v":0},{"$f":"IF(OR(AND(LEFT($D$636,8)=\"MODELO M\", LEFT(D845,8)=\"MODELO C\"), AND(LEFT($D$636,8)=\"MODELO C\", $R$636=\"Atribuir valor detalhado por Fase/Elemento\")), X845, 0)","v":0},{"$f":"IF(OR(AND(LEFT($D$636,8)=\"MODELO M\", LEFT(D845,8)=\"MODELO D\"), AND(LEFT($D$636,8)=\"MODELO D\", $Z$636=\"Atribuir valor detalhado por Fase/Elemento\")), AC845, 0)","v":0},{"$f":"SUM(BH845:BK845)","v":0},"MODELO A - TEMPO - N.º DE HORAS DE TRABALHO"]
[null,{"$f":"IF($B$842=\"ocultar\",\"ocultar\",IF('SA - ATIVIDADES'!$G$107=TRUE,IF('SA - ATIVIDADES'!$H$107>='SA - SERVICOS BASE'!AH846,\"mostrar\",\"ocultar\"),\"ocultar\"))","v":"ocultar"},"Especialidade (a preencher)","MODELO A - TEMPO - N.º DE HORAS DE TRABALHO",null,null,0,0,{"$f":"G846*H846","v":0},null,null,null,null,null,0,0,null,null,null,null,null,null,0,0,null,null,0,0,0,null,{"$f":"BL846","v":0},null,null,4,null,null,null,null,null,null,null,null,null,null,null,null,null,null,null,null,null,null,null,null,null,null,null,null,null,{"$f":"IF(OR(AND(LEFT($D$636,8)=\"MODELO M\", LEFT(D846,8)=\"MODELO A\"), AND(LEFT($D$636,8)=\"MODELO A\", $F$636=\"Atribuir valor detalhado por Fase/Elemento\")), I846, 0)","v":0},{"$f":"IF(OR(AND(LEFT($D$636,8)=\"MODELO M\", LEFT(D846,8)=\"MODELO B\"), AND(LEFT($D$636,8)=\"MODELO B\", $K$636=\"Atribuir valor detalhado por Fase/Elemento\")), P846, 0)","v":0},{"$f":"IF(OR(AND(LEFT($D$636,8)=\"MODELO M\", LEFT(D846,8)=\"MODELO C\"), AND(LEFT($D$636,8)=\"MODELO C\", $R$636=\"Atribuir valor detalhado por Fase/Elemento\")), X846, 0)","v":0},{"$f":"IF(OR(AND(LEFT($D$636,8)=\"MODELO M\", LEFT(D846,8)=\"MODELO D\"), AND(LEFT($D$636,8)=\"MODELO D\", $Z$636=\"Atribuir valor detalhado por Fase/Elemento\")), AC846, 0)","v":0},{"$f":"SUM(BH846:BK846)","v":0},"MODELO A - TEMPO - N.º DE HORAS DE TRABALHO"]
[null,{"$f":"IF($B$842=\"ocultar\",\"ocultar\",IF('SA - ATIVIDADES'!$G$107=TRUE,IF('SA - ATIVIDADES'!$H$107>='SA - SERVICOS BASE'!AH847,\"mostrar\",\"ocultar\"),\"ocultar\"))","v":"ocultar"},"Especialidade (a preencher)","MODELO A - TEMPO - N.º DE HORAS DE TRABALHO",null,null,0,0,{"$f":"G847*H847","v":0},null,null,null,null,null,0,0,null,null,null,null,null,null,0,0,null,null,0,0,0,null,{"$f":"BL847","v":0},null,null,5,null,null,null,null,null,null,null,null,null,null,null,null,null,null,null,null,null,null,null,null,null,null,null,null,null,{"$f":"IF(OR(AND(LEFT($D$636,8)=\"MODELO M\", LEFT(D847,8)=\"MODELO A\"), AND(LEFT($D$636,8)=\"MODELO A\", $F$636=\"Atribuir valor detalhado por Fase/Elemento\")), I847, 0)","v":0},{"$f":"IF(OR(AND(LEFT($D$636,8)=\"MODELO M\", LEFT(D847,8)=\"MODELO B\"), AND(LEFT($D$636,8)=\"MODELO B\", $K$636=\"Atribuir valor detalhado por Fase/Elemento\")), P847, 0)","v":0},{"$f":"IF(OR(AND(LEFT($D$636,8)=\"MODELO M\", LEFT(D847,8)=\"MODELO C\"), AND(LEFT($D$636,8)=\"MODELO C\", $R$636=\"Atribuir valor detalhado por Fase/Elemento\")), X847, 0)","v":0},{"$f":"IF(OR(AND(LEFT($D$636,8)=\"MODELO M\", LEFT(D847,8)=\"MODELO D\"), AND(LEFT($D$636,8)=\"MODELO D\", $Z$636=\"Atribuir valor detalhado por Fase/Elemento\")), AC847, 0)","v":0},{"$f":"SUM(BH847:BK847)","v":0},"MODELO A - TEMPO - N.º DE HORAS DE TRABALHO"]
[null,{"$f":"IF(B842=\"ocultar\",\"ocultar\",\"mostrar\")","v":"ocultar"},"SUB-TOTAL",null,null,null,{"$f":"SUBTOTAL(109,G843:G847)","v":0},null,{"$f":"SUBTOTAL(109,I843:I847)","v":0},null,null,null,null,null,{"$f":"SUBTOTAL(9,O843:O847)","v":0},{"$f":"SUBTOTAL(9,P843:P847)","v":0},null,null,null,null,null,null,{"$f":"SUBTOTAL(9,W843:W847)","v":0},{"$f":"SUBTOTAL(9,X843:X847)","v":0},null,null,null,null,{"$f":"SUBTOTAL(9,AC843:AC847)","v":0},null,{"$f":"SUBTOTAL(109,AE843:AE847)","v":0},null,null,null,null,null,null,null,null,null,null,null,null,null,null,null,null,null,null,null,null,null,null,null,null,null,null,null,null,null,null,null,null,null,"MODELO A - TEMPO - N.º DE HORAS DE TRABALHO"]
[null,{"$f":"IF($B$636=\"ocultar\",\"ocultar\",IF('SA - ATIVIDADES'!$G$77=\"Fase Única\",\"ocultar\",IF('SA - ATIVIDADES'!F77=TRUE,\"mostrar\",\"ocultar\")))","v":"ocultar"},"TOTAL ESPECIALIDADES",null,null,null,{"$f":"IF($F636=\"Atribuir valor global à atividade\",G636,SUBTOTAL(109,G639:G848))","v":0},null,{"$f":"IF($F636=\"Atribuir valor global à atividade\",I636,SUBTOTAL(109,I640:I848))","v":0},null,null,null,null,null,{"$f":"IF($K$636=\"Atribuir valor global à atividade\",1,SUBTOTAL(109,O640:O847))","v":1},{"$f":"IF($K636=\"Atribuir valor global à atividade\",P636,SUBTOTAL(109,P640:P848))","v":0},null,null,null,null,null,null,{"$f":"IF($R$636=\"Atribuir valor global à atividade\",1,SUBTOTAL(109,W640:W847))","v":1},{"$f":"IF($R636=\"Atribuir valor global à atividade\",X636,SUBTOTAL(109,X640:X848))","v":0},null,null,null,null,{"$f":"IF($Z$636=\"Atribuir valor global à atividade\",AC636,SUBTOTAL(109,AC640:AC848))","v":0},null,{"$f":"BL636","v":0},null,null,null,null,null,null,null,null,null,null,null,null,null,null,null,null,null,null,null,null,null,null,null,null,null,null,null,null,null,null,null,null,null,"MODELO A - TEMPO - N.º DE HORAS DE TRABALHO"]
[null,{"$f":"\"mostrar\"","v":"mostrar"},"TOTAL GERAL",null,null,null,{"$f":"SUM(G14,G102,G179,G244,G309,G374,G439,G504,G569,G634,G849)","v":0},null,{"$f":"SUM(I25,I102,I179,I244,I309,I374,I439,I504,I569,I634,I849)","v":0},null,null,null,null,null,null,{"$f":"SUM(P25,P102,P179,P244,P309,P374,P439,P504,P569,P634,P849)","v":0},null,null,null,null,null,null,null,{"$f":"SUM(X25,X102,X179,X244,X309,X374,X439,X504,X569,X634,X849)","v":0},null,null,null,null,{"$f":"SUM(AC25,AC102,AC179,AC244,AC309,AC374,AC439,AC504,AC569,AC634,AC849)","v":0},null,{"$f":"SUM(AE25,AE102,AE179,AE244,AE309,AE374,AE439,AE504,AE569,AE634,AE849)","v":0},null,null,null,null,null,null,null,null,null,null,null,null,null,null,null,null,null,null,null,null,null,null,null,null,null,null,null,null,null,null,null,null,null,"MODELO A - TEMPO - N.º DE HORAS DE TRABALHO"]
["ORDEM DOS ARQUITECTOS",null,null,null,null,null,null,null,null,null,null,null,null,null,null,null,null,null,null,null,null,null,null,null,null,null,null,null,null,null,"SIMULADOR"]

{"sheet":"Manual Operações_desatualizado","index":5,"n_rows":29,"n_cols":27,"rows_kept":29,"cut":false,"hidden":true,"merged":[[19,26,21,26],[18,9,18,14],[19,21,19,24],[20,21,20,24],[19,4,19,7],[20,4,20,7],[19,16,19,19],[20,16,20,19],[19,9,19,14],[20,9,20,14]]}
[]
[]
[]
[]
[]
[]
[]
[]
[]
[]
[]
[]
[]
[]
[]
[]
[]
[]
[null,null,null,null,null,null,null,null,null,{"$f":"'SIMULADOR A'!C10","v":0}]
[null,null,null,null,"MODELO A",null,null,null,null,"MODELO B",null,null,null,null,null,null,"MODELO C",null,null,null,null,"MODELO D",null,null,null,null,"TOTAL"]
[null,null,null,null,"Nº DE HORAS DE TRABALHO",null,null,null,null,"% DA ESTIMATIVA APLICAVEL",null,null,null,null,null,null,"AREA (M2)",null,null,null,null,"POR UNIDADE (S)"]
[null,null,null,null,"Unidade","Nº Horas","Valor/H","RESULTADO",null,"Unidade",null,null,"Base","% a Aplicar","RESULTADO",null,"Unidade","Nº de m2","Valor m2","RESULTADO",null,"Unidade","Base","Valor","RESULTADO"]
[]
["A1","PROJETO DE ARQUITETURA","MODELO MISTO - Selecionar Modelo por Linha de Sub-Atividade",null,"Detalhar",null,null,null,null,"Detalhar","Global",{"$f":"IF(K24=\"Global\",$J$19,\"\")","v":0},200000,0.05,{"$f":"IF(K24=\"Global\",L24*N24,$M$24*N24)","v":0},null,"N/A",null,null,null,null,"Detalhar"]
[null,null,null,null,"GLOBAL",null,null,null,null,"GLOBAL",null,{"$f":"L24","v":0},{"$f":"M24","v":200000},{"$f":"N24","v":0.05},{"$f":"O24","v":0},null,"GLOBAL",null,null,null,null,"GLOBAL"]
[null,null,null,null,"DETALHE",null,null,null,null,"DETALHE",null,{"$f":"L24","v":0},{"$f":"M24","v":200000},{"$f":"N24","v":0.05},{"$f":"O24","v":0},null,"DETALHE",null,null,null,null,"DETALHE"]
["A1 ","PROJETO DE ARQUITETURA - FASE DE PROGRAMA BASE",null,true,null,10,null,100,null,null,null,null,null,{"$f":"SUM(N28:N29)","v":0.89999999999999991},{"$f":"SUM(O28:O29)","v":22500}]
[null,"Sub-Fase 1 - Detalhe (defina a designação)","MODELO A - número de horas de trabalho (horas)",true,null,6,10,60,null,null,null,null,25000,0.6,{"$f":"M28*N28","v":15000}]
[null,"Sub-Fase 2 - Detalhe (defina a designação)","MODELO A - número de horas de trabalho (horas)",true,null,4,10,40,null,null,null,null,25000,0.3,{"$f":"M29*N29","v":7500}]

{"sheet":"Manual Operações_desatualizado2","index":6,"n_rows":29,"n_cols":27,"rows_kept":29,"cut":false,"hidden":true,"merged":[[18,9,18,14],[19,4,19,7],[19,9,19,14],[19,16,19,19],[19,21,19,24],[19,26,21,26],[20,4,20,7],[20,9,20,14],[20,16,20,19],[20,21,20,24]]}
[]
[]
[]
[]
[]
[]
[]
[]
[]
[]
[]
[]
[]
[]
[]
[]
[]
[]
[null,null,null,null,null,null,null,null,null,{"$f":"'SIMULADOR A'!C10","v":0}]
[null,null,null,null,"MODELO A",null,null,null,null,"MODELO B",null,null,null,null,null,null,"MODELO C",null,null,null,null,"MODELO D",null,null,null,null,"TOTAL"]
[null,null,null,null,"Nº DE HORAS DE TRABALHO",null,null,null,null,"% DA ESTIMATIVA APLICAVEL",null,null,null,null,null,null,"AREA (M2)",null,null,null,null,"UNIDADE GLOBAL (1,2,3,..N)"]
[null,null,null,null,"Unidade","Nº Horas","Valor/H","RESULTADO",null,"Unidade",null,null,"Base","% a Aplicar","RESULTADO",null,"Unidade","Nº de m2","Valor m2","RESULTADO",null,"Unidade","Base","Valor","RESULTADO"]
[]
["A1","PROJETO DE ARQUITETURA","MODELO MISTO - Selecionar Modelo por Linha de Sub-Atividade",null,"Detalhar",null,null,null,null,"Detalhar","Global",{"$f":"IF(K24=\"Global\",$J$19,\"\")","v":0},150000,0.15,{"$f":"IF(K24=\"Global\",L24*N24,$M$24*N24)","v":0},null,"N/A",null,null,null,null,"Detalhar"]
[null,null,null,null,"GLOBAL",null,null,null,null,"GLOBAL",null,{"$f":"L24","v":0},{"$f":"M24","v":150000},{"$f":"N24","v":0.15},{"$f":"O24","v":0},null,"GLOBAL",null,null,null,null,"GLOBAL"]
[null,null,null,null,"DETALHE",null,null,null,null,"DETALHE",null,{"$f":"L24","v":0},{"$f":"M24","v":150000},{"$f":"N24","v":0.15},{"$f":"O24","v":0},null,"DETALHE",null,null,null,null,"DETALHE"]
["A1 ","PROJETO DE ARQUITETURA - FASE DE PROGRAMA BASE",null,true,null,10,null,100,null,null,null,null,null,{"$f":"SUM(N28:N29)","v":1},{"$f":"SUM(O28:O29)","v":0}]
[null,"Sub-Fase 1 - Detalhe (defina a designação)","MODELO A - nº de horas de trabalho",true,null,6,10,60,null,null,null,null,{"$f":"O24","v":0},0.7,{"$f":"M28*N28","v":0}]
[null,"Sub-Fase 2 - Detalhe (defina a designação)","MODELO A - nº de horas de trabalho",true,null,4,10,40,null,null,null,null,{"$f":"O24","v":0},0.3,{"$f":"M29*N29","v":0}]

{"sheet":"SA - SERVICOS COMPLEMENTARES","index":7,"n_rows":415,"n_cols":65,"rows_kept":415,"cut":false,"hidden":false,"merged":[[4,62,7,62],[4,63,7,63],[5,5,5,8],[5,25,5,28],[4,25,4,28],[4,30,7,30],[4,33,7,33],[4,59,7,59],[4,60,7,60],[4,61,7,61],[4,17,4,22],[0,5,0,8],[0,10,0,15],[0,17,0,23],[0,25,0,28],[5,2,7,2],[4,5,4,8],[4,10,4,14]]}
[null,null,"SIMULADOR A | SERVIÇOS COMPLEMENTARES",null,null,"MODELO A | TEMPO - N.º DE HORAS DE TRABALHO",null,null,null,null,"MODELO B | PERCENTAGEM - DA ESTIMATIVA APLICÁVEL",null,null,null,null,null,null,"MODELO C | ÁREA - DE CONSTRUÇÃO EM M²",null,null,null,null,null,null,null,"MODELO D | UNIDADE - N.º DE UNIDADES A APLICAR"]
[]
[]
[]
[null,null,null,null,null,null,null,null,null,null,null,null,null,null,null,null,null,null,null,null,null,null,null,null,null,null,null,null,null,null,"TOTAL\n(info)",null,null,"CTRL Linhas a apresentar",null,null,null,null,null,null,null,null,null,null,null,null,null,null,null,null,null,null,null,null,null,null,null,null,null,"MODELO A","MODELO B","MODELO C","MODELO D","TOTAL"]
[null,null,"ATIVIDADES ESPECÍFICAS","MODELO DE CÁLCULO",null,null,null,null,null,null,null,null,null,null,"VG Obra",{"$f":"M9","v":0},null,null,null,null,null,null,"Valor/m² FIXO",0]
[]
[null,null,null,"SELECIONAR (info)",null,"ÂMBITO (info)","N.º HORAS","VALOR/HORA","RESULTADO",null,"ÂMBITO (info)","TIPO VALOR (info)","VG OBRA","VC OBRA","% A APLICAR (info)","RESULTADO (info)",null,"ÂMBITO (info)","TIPO VALOR (info)","VF m²","VC m²","N.º DE m²","% A APLICAR (info)","RESULTADO",null,"ÂMBITO (info)","N.º DE UNIDADES","VALOR/UNIDADE","RESULTADO"]
[null,null,null,null,null,null,null,null,null,null,null,null,{"$f":"'SIMULADOR A'!C10","v":0},null,null,null,null,null,null,{"$f":"X6","v":0}]
[]
[null,{"$f":"IF('SA - ATIVIDADES'!$F$111<>TRUE,\"ocultar\",\"mostrar\")","v":"ocultar"},"A12. PROJETO DE MOBILIÁRIO FIXO","MODELO A - TEMPO - N.º DE HORAS DE TRABALHO",null,"Atribuir valor global à atividade",0,0,{"$f":"IF($F$11=\"Atribuir valor global à atividade\",G11*H11,\"\")","v":0},null,"Atribuir valor global à atividade","Valor Global Obra (VG Obra)",{"$f":"IF(L11=\"Valor Global Obra (VG Obra)\",$M$9,\"\")","v":0},0,0,{"$f":"IF(L11=\"Valor Global Obra (VG Obra)\",M11*O11,N11*O11)","v":0},null,"Atribuir valor global à atividade","Valor/m2 fixo (VF m2)",{"$f":"IF(S11=\"Valor/m2 fixo (VF m2)\",$T$9,\"\")","v":0},0,0,null,{"$f":"IF(S11=\"Valor/m2 fixo (VF m2)\",T11*1*V11,U11*1*V11)","v":0},null,"Atribuir valor global à atividade",0,0,{"$f":"AA11*AB11","v":0},null,{"$f":"BL11","v":0},null,null,null,null,null,null,null,null,null,null,null,null,null,null,null,null,null,null,null,null,null,null,null,null,null,null,null,null,{"$f":"IF(LEFT($D$11,8)=\"MODELO A\",IF($F$11=\"Atribuir valor detalhado por Fase/Elemento\",SUBTOTAL(109,BH14:BH18),I11),IF(LEFT($D$11,8)=\"MODELO M\",SUBTOTAL(109,BH14:BH18),0))","v":0},{"$f":"IF(LEFT($D$11,8)=\"MODELO B\",IF($K$11=\"Atribuir valor detalhado por Fase/Elemento\",SUBTOTAL(109,BI14:BI18),P11),IF(LEFT($D$11,8)=\"MODELO M\",SUBTOTAL(109,BI14:BI18),0))","v":0},{"$f":"IF(LEFT($D$11,8)=\"MODELO C\",IF($R$11=\"Atribuir valor detalhado por Fase/Elemento\",SUBTOTAL(109,BJ14:BJ18),X11),IF(LEFT($D$11,8)=\"MODELO M\",SUBTOTAL(109,BJ14:BJ18),0))","v":0},{"$f":"IF(LEFT($D$11,8)=\"MODELO D\",IF($Z$11=\"Atribuir valor detalhado por Fase/Elemento\",SUBTOTAL(109,BK14:BK18),AC11),IF(LEFT($D$11,8)=\"MODELO M\",SUBTOTAL(109,BK14:BK18),0))","v":0},{"$f":"SUM(BH11:BK11)","v":0},{"$f":"IF($AH11<>\"\",BM10,IF(LEFT($D11,6)=\"MODELO\",$D11,BM10))","v":"MODELO A - TEMPO - N.º DE HORAS DE TRABALHO"}]
[null,{"$f":"IF($B$11=\"ocultar\",\"ocultar\",\"mostrar\")","v":"ocultar"},null,null,null,null,null,null,null,null,null,null,null,null,null,null,null,null,null,null,null,null,null,null,null,null,null,null,null,null,null,null,null,null,null,null,null,null,null,null,null,null,null,null,null,null,null,null,null,null,null,null,null,null,null,null,null,null,null,null,null,null,null,null,{"$f":"IF($AH12<>\"\",BM11,IF(LEFT($D12,6)=\"MODELO\",$D12,BM11))","v":"MODELO A - TEMPO - N.º DE HORAS DE TRABALHO"}]
[null,"ocultar",null,null,null,null,null,null,null,null,null,null,null,null,null,null,null,null,null,null,null,null,null,null,null,null,null,null,null,null,null,null,null,null,null,null,null,null,null,null,null,null,null,null,null,null,null,null,null,null,null,null,null,null,null,null,null,null,null,null,null,null,null,null,"MODELO A - TEMPO - N.º DE HORAS DE TRABALHO"]
[null,{"$f":"IF($B$11=\"ocultar\",\"ocultar\",IF('SA - ATIVIDADES'!$H$111>='SA - SERVICOS COMPLEMENTARES'!AH14,\"mostrar\",\"ocultar\"))","v":"ocultar"},"Designação (a preencher)","MODELO A - TEMPO - N.º DE HORAS DE TRABALHO",null,null,0,{"$f":"$H$11","v":0},{"$f":"G14*H14","v":0},null,null,null,null,null,0,{"$f":"$P$11*O14","v":0},null,null,null,null,null,null,0,{"$f":"$X$11*W14","v":0},null,null,0,0,{"$f":"AA14*AB14","v":0},null,{"$f":"BL14","v":0},null,null,1,null,null,null,null,null,null,null,null,null,null,null,null,null,null,null,null,null,null,null,null,null,null,null,null,null,{"$f":"IF(OR(AND(LEFT($D$11,8)=\"MODELO M\", LEFT(D14,8)=\"MODELO A\"), AND(LEFT($D$11,8)=\"MODELO A\", $F$11=\"Atribuir valor detalhado por Fase/Elemento\")), I14, 0)","v":0},{"$f":"IF(OR(AND(LEFT($D$11,8)=\"MODELO M\", LEFT(D14,8)=\"MODELO B\"), AND(LEFT($D$11,8)=\"MODELO B\", $K$11=\"Atribuir valor detalhado por Fase/Elemento\")), P14, 0)","v":0},{"$f":"IF(OR(AND(LEFT($D$11,8)=\"MODELO M\", LEFT(D14,8)=\"MODELO C\"), AND(LEFT($D$11,8)=\"MODELO C\", $R$11=\"Atribuir valor detalhado por Fase/Elemento\")), X14, 0)","v":0},{"$f":"IF(OR(AND(LEFT($D$11,8)=\"MODELO M\", LEFT(D14,8)=\"MODELO D\"), AND(LEFT($D$11,8)=\"MODELO D\", $Z$11=\"Atribuir valor detalhado por Fase/Elemento\")), AC14, 0)","v":0},{"$f":"SUM(BH14:BK14)","v":0},{"$f":"IF($AH14<>\"\",BM13,IF(LEFT($D14,6)=\"MODELO\",$D14,BM13))","v":"MODELO A - TEMPO - N.º DE HORAS DE TRABALHO"}]
[null,{"$f":"IF($B$11=\"ocultar\",\"ocultar\",IF('SA - ATIVIDADES'!$H$111>='SA - SERVICOS COMPLEMENTARES'!AH15,\"mostrar\",\"ocultar\"))","v":"ocultar"},"Designação (a preencher)","MODELO A - TEMPO - N.º DE HORAS DE TRABALHO",null,null,0,0,{"$f":"G15*H15","v":0},null,null,null,null,null,0,{"$f":"$P$11*O15","v":0},null,null,null,null,null,null,0,{"$f":"$X$11*W15","v":0},null,null,0,0,0,null,{"$f":"BL15","v":0},null,null,2,null,null,null,null,null,null,null,null,null,null,null,null,null,null,null,null,null,null,null,null,null,null,null,null,null,0,0,0,0,{"$f":"SUM(BH15:BK15)","v":0},"MODELO A - TEMPO - N.º DE HORAS DE TRABALHO"]
[null,{"$f":"IF($B$11=\"ocultar\",\"ocultar\",IF('SA - ATIVIDADES'!$H$111>='SA - SERVICOS COMPLEMENTARES'!AH16,\"mostrar\",\"ocultar\"))","v":"ocultar"},"Designação (a preencher)","MODELO A - TEMPO - N.º DE HORAS DE TRABALHO",null,null,0,0,0,null,null,null,null,null,0,{"$f":"$P$11*O16","v":0},null,null,null,null,null,null,0,0,null,null,0,0,0,null,0,null,null,3,null,null,null,null,null,null,null,null,null,null,null,null,null,null,null,null,null,null,null,null,null,null,null,null,null,0,0,0,0,0,"MODELO A - TEMPO - N.º DE HORAS DE TRABALHO"]
[null,{"$f":"IF($B$11=\"ocultar\",\"ocultar\",IF('SA - ATIVIDADES'!$H$111>='SA - SERVICOS COMPLEMENTARES'!AH17,\"mostrar\",\"ocultar\"))","v":"ocultar"},"Designação (a preencher)","MODELO A - TEMPO - N.º DE HORAS DE TRABALHO",null,null,0,0,0,null,null,null,null,null,0,{"$f":"$P$11*O17","v":0},null,null,null,null,null,null,0,0,null,null,0,0,0,null,0,null,null,4,null,null,null,null,null,null,null,null,null,null,null,null,null,null,null,null,null,null,null,null,null,null,null,null,null,0,0,0,0,0,"MODELO A - TEMPO - N.º DE HORAS DE TRABALHO"]
[null,{"$f":"IF($B$11=\"ocultar\",\"ocultar\",IF('SA - ATIVIDADES'!$H$111>='SA - SERVICOS COMPLEMENTARES'!AH18,\"mostrar\",\"ocultar\"))","v":"ocultar"},"Designação (a preencher)","MODELO A - TEMPO - N.º DE HORAS DE TRABALHO",null,null,0,0,0,null,null,null,null,null,0,{"$f":"$P$11*O18","v":0},null,null,null,null,null,null,0,0,null,null,0,0,0,null,0,null,null,5,null,null,null,null,null,null,null,null,null,null,null,null,null,null,null,null,null,null,null,null,null,null,null,null,null,0,0,0,0,0,"MODELO A - TEMPO - N.º DE HORAS DE TRABALHO"]
[null,{"$f":"IF($B$11=\"ocultar\",\"ocultar\",\"mostrar\")","v":"ocultar"},"TOTAL",null,null,null,{"$f":"IF($F$11=\"Atribuir valor global à atividade\",G11,SUBTOTAL(109,G14:G18))","v":0},null,{"$f":"IF($F$11=\"Atribuir valor global à atividade\",I11,SUBTOTAL(109,I14:I18))","v":0},null,null,null,null,null,{"$f":"IF($K$11=\"Atribuir valor global à atividade\",1,SUBTOTAL(109,O14:O18))","v":1},{"$f":"IF($K$11=\"Atribuir valor global à atividade\",P11,SUBTOTAL(109,P14:P18))","v":0},null,null,null,null,null,null,{"$f":"IF($R11=\"Atribuir valor global à atividade\",1,SUBTOTAL(109,W14:W18))","v":1},{"$f":"IF($R11=\"Atribuir valor global à atividade\",X11,SUBTOTAL(109,X14:X18))","v":0},null,null,null,null,{"$f":"IF($Z11=\"Atribuir valor global à atividade\",AC11,SUBTOTAL(109,AC14:AC18))","v":0},null,{"$f":"SUBTOTAL(109,AE14:AE18)","v":0},null,null,null,null,null,null,null,null,null,null,null,null,null,null,null,null,null,null,null,null,null,null,null,null,null,null,null,null,null,null,null,null,null,"MODELO A - TEMPO - N.º DE HORAS DE TRABALHO"]
[null,{"$f":"IF($B$11=\"ocultar\",\"ocultar\",\"mostrar\")","v":"ocultar"},null,null,null,null,null,null,null,null,null,null,null,null,null,null,null,null,null,null,null,null,null,null,null,null,null,null,null,null,null,null,null,null,null,null,null,null,null,null,null,null,null,null,null,null,null,null,null,null,null,null,null,null,null,null,null,null,null,null,null,null,null,null,"MODELO A - TEMPO - N.º DE HORAS DE TRABALHO"]
[null,{"$f":"IF('SA - ATIVIDADES'!$F$113<>TRUE,\"ocultar\",\"mostrar\")","v":"ocultar"},"A13. PROJETO DE ARQUITETURA DE CENA","MODELO A - TEMPO - N.º DE HORAS DE TRABALHO",null,"Atribuir valor global à atividade",0,0,{"$f":"IF($F$11=\"Atribuir valor global à atividade\",G21*H21,\"\")","v":0},null,"Atribuir valor global à atividade","Valor Global Obra (VG Obra)",{"$f":"IF(L21=\"Valor Global Obra (VG Obra)\",$M$9,\"\")","v":0},0,0,{"$f":"IF(L21=\"Valor Global Obra (VG Obra)\",M21*O21,N21*O21)","v":0},null,"Atribuir valor global à atividade","Valor/m2 fixo (VF m2)",{"$f":"IF(S21=\"Valor/m2 fixo (VF m2)\",$T$9,\"\")","v":0},0,0,null,{"$f":"IF(S21=\"Valor/m2 fixo (VF m2)\",T21*1*V21,U21*1*V21)","v":0},null,"Atribuir valor global à atividade",0,0,0,null,{"$f":"BL21","v":0},null,null,null,null,null,null,null,null,null,null,null,null,null,null,null,null,null,null,null,null,null,null,null,null,null,null,null,null,{"$f":"IF(LEFT($D$21,8)=\"MODELO A\",IF($F$21=\"Atribuir valor detalhado por Fase/Elemento\",SUBTOTAL(109,BH24:BH28),I21),IF(LEFT($D$21,8)=\"MODELO M\",SUBTOTAL(109,BH24:BH28),0))","v":0},{"$f":"IF(LEFT($D$21,8)=\"MODELO B\",IF($K$21=\"Atribuir valor detalhado por Fase/Elemento\",SUBTOTAL(109,BI24:BI28),P21),IF(LEFT($D$21,8)=\"MODELO M\",SUBTOTAL(109,BI24:BI28),0))","v":0},{"$f":"IF(LEFT($D$21,8)=\"MODELO C\",IF($R$21=\"Atribuir valor detalhado por Fase/Elemento\",SUBTOTAL(109,BJ24:BJ28),X21),IF(LEFT($D$21,8)=\"MODELO M\",SUBTOTAL(109,BJ24:BJ28),0))","v":0},{"$f":"IF(LEFT($D$21,8)=\"MODELO D\",IF($Z$21=\"Atribuir valor detalhado por Fase/Elemento\",SUBTOTAL(109,BK24:BK28),AC21),IF(LEFT($D$21,8)=\"MODELO M\",SUBTOTAL(109,BK24:BK28),0))","v":0},{"$f":"SUM(BH21:BK21)","v":0},{"$f":"IF($AH21<>\"\",BM20,IF(LEFT($D21,6)=\"MODELO\",$D21,BM20))","v":"MODELO A - TEMPO - N.º DE HORAS DE TRABALHO"}]
[null,{"$f":"IF($B$21=\"ocultar\",\"ocultar\",\"mostrar\")","v":"ocultar"},null,null,null,null,null,null,null,null,null,null,null,null,null,null,null,null,null,null,null,null,null,null,null,null,null,null,null,null,null,null,null,null,null,null,null,null,null,null,null,null,null,null,null,null,null,null,null,null,null,null,null,null,null,null,null,null,null,null,null,null,null,null,"MODELO A - TEMPO - N.º DE HORAS DE TRABALHO"]
[null,"ocultar",null,null,null,null,null,null,null,null,null,null,null,null,null,null,null,null,null,null,null,null,null,null,null,null,null,null,null,null,null,null,null,null,null,null,null,null,null,null,null,null,null,null,null,null,null,null,null,null,null,null,null,null,null,null,null,null,null,null,null,null,null,null,"MODELO A - TEMPO - N.º DE HORAS DE TRABALHO"]
[null,{"$f":"IF($B$21=\"ocultar\",\"ocultar\",IF('SA - ATIVIDADES'!$H$113>='SA - SERVICOS COMPLEMENTARES'!AH24,\"mostrar\",\"ocultar\"))","v":"ocultar"},"Designação (a preencher)","MODELO A - TEMPO - N.º DE HORAS DE TRABALHO",null,null,0,{"$f":"$H$21","v":0},{"$f":"G24*H24","v":0},null,null,null,null,null,0,{"$f":"$P$21*O24","v":0},null,null,null,null,null,null,0,{"$f":"$X$21*W24","v":0},null,null,0,0,{"$f":"AA24*AB24","v":0},null,{"$f":"BL24","v":0},null,null,1,null,null,null,null,null,null,null,null,null,null,null,null,null,null,null,null,null,null,null,null,null,null,null,null,null,{"$f":"IF(OR(AND(LEFT($D$21,8)=\"MODELO M\", LEFT(D24,8)=\"MODELO A\"), AND(LEFT($D$21,8)=\"MODELO A\", $F$21=\"Atribuir valor detalhado por Fase/Elemento\")), I24, 0)","v":0},{"$f":"IF(OR(AND(LEFT($D$21,8)=\"MODELO M\", LEFT(D24,8)=\"MODELO B\"), AND(LEFT($D$21,8)=\"MODELO B\", $K$21=\"Atribuir valor detalhado por Fase/Elemento\")), P24, 0)","v":0},{"$f":"IF(OR(AND(LEFT($D$21,8)=\"MODELO M\", LEFT(D24,8)=\"MODELO C\"), AND(LEFT($D$21,8)=\"MODELO C\", $R$21=\"Atribuir valor detalhado por Fase/Elemento\")), X24, 0)","v":0},{"$f":"IF(OR(AND(LEFT($D$21,8)=\"MODELO M\", LEFT(D24,8)=\"MODELO D\"), AND(LEFT($D$21,8)=\"MODELO D\", $Z$21=\"Atribuir valor detalhado por Fase/Elemento\")), AC24, 0)","v":0},{"$f":"SUM(BH24:BK24)","v":0},"MODELO A - TEMPO - N.º DE HORAS DE TRABALHO"]
[null,{"$f":"IF($B$21=\"ocultar\",\"ocultar\",IF('SA - ATIVIDADES'!$H$113>='SA - SERVICOS COMPLEMENTARES'!AH25,\"mostrar\",\"ocultar\"))","v":"ocultar"},"Designação (a preencher)","MODELO A - TEMPO - N.º DE HORAS DE TRABALHO",null,null,0,0,0,null,null,null,null,null,0,{"$f":"$P$21*O25","v":0},null,null,null,null,null,null,0,{"$f":"$X$21*W25","v":0},null,null,0,0,0,null,0,null,null,2,null,null,null,null,null,null,null,null,null,null,null,null,null,null,null,null,null,null,null,null,null,null,null,null,null,0,0,0,0,0,"MODELO A - TEMPO - N.º DE HORAS DE TRABALHO"]
[null,{"$f":"IF($B$21=\"ocultar\",\"ocultar\",IF('SA - ATIVIDADES'!$H$113>='SA - SERVICOS COMPLEMENTARES'!AH26,\"mostrar\",\"ocultar\"))","v":"ocultar"},"Designação (a preencher)","MODELO A - TEMPO - N.º DE HORAS DE TRABALHO",null,null,0,0,0,null,null,null,null,null,0,0,null,null,null,null,null,null,0,0,null,null,0,0,0,null,0,null,null,3,null,null,null,null,null,null,null,null,null,null,null,null,null,null,null,null,null,null,null,null,null,null,null,null,null,0,0,0,0,0,"MODELO A - TEMPO - N.º DE HORAS DE TRABALHO"]
[null,{"$f":"IF($B$21=\"ocultar\",\"ocultar\",IF('SA - ATIVIDADES'!$H$113>='SA - SERVICOS COMPLEMENTARES'!AH27,\"mostrar\",\"ocultar\"))","v":"ocultar"},"Designação (a preencher)","MODELO A - TEMPO - N.º DE HORAS DE TRABALHO",null,null,0,0,0,null,null,null,null,null,0,0,null,null,null,null,null,null,0,0,null,null,0,0,0,null,0,null,null,4,null,null,null,null,null,null,null,null,null,null,null,null,null,null,null,null,null,null,null,null,null,null,null,null,null,0,0,0,0,0,"MODELO A - TEMPO - N.º DE HORAS DE TRABALHO"]
[null,{"$f":"IF($B$21=\"ocultar\",\"ocultar\",IF('SA - ATIVIDADES'!$H$113>='SA - SERVICOS COMPLEMENTARES'!AH28,\"mostrar\",\"ocultar\"))","v":"ocultar"},"Designação (a preencher)","MODELO A - TEMPO - N.º DE HORAS DE TRABALHO",null,null,0,0,0,null,null,null,null,null,0,0,null,null,null,null,null,null,0,0,null,null,0,0,0,null,0,null,null,5,null,null,null,null,null,null,null,null,null,null,null,null,null,null,null,null,null,null,null,null,null,null,null,null,null,0,0,0,0,0,"MODELO A - TEMPO - N.º DE HORAS DE TRABALHO"]
[null,{"$f":"IF($B$21=\"ocultar\",\"ocultar\",\"mostrar\")","v":"ocultar"},"TOTAL",null,null,null,{"$f":"IF($F21=\"Atribuir valor global à atividade\",G21,SUBTOTAL(109,G24:G28))","v":0},null,{"$f":"IF($F21=\"Atribuir valor global à atividade\",I21,SUBTOTAL(109,I24:I28))","v":0},null,null,null,null,null,{"$f":"IF($K$21=\"Atribuir valor global à atividade\",1,SUBTOTAL(109,O24:O28))","v":1},{"$f":"IF($K$21=\"Atribuir valor global à atividade\",P21,SUBTOTAL(109,P24:P28))","v":0},null,null,null,null,null,null,{"$f":"IF($R21=\"Atribuir valor global à atividade\",1,SUBTOTAL(109,W24:W28))","v":1},{"$f":"IF($R21=\"Atribuir valor global à atividade\",X21,SUBTOTAL(109,X24:X28))","v":0},null,null,null,null,{"$f":"IF($Z21=\"Atribuir valor global à atividade\",AC21,SUBTOTAL(109,AC24:AC28))","v":0},null,{"$f":"SUBTOTAL(109,AE24:AE28)","v":0},null,null,null,null,null,null,null,null,null,null,null,null,null,null,null,null,null,null,null,null,null,null,null,null,null,null,null,null,null,null,null,null,null,"MODELO A - TEMPO - N.º DE HORAS DE TRABALHO"]
[null,{"$f":"IF($B$21=\"ocultar\",\"ocultar\",\"mostrar\")","v":"ocultar"},null,null,null,null,null,null,null,null,null,null,null,null,null,null,null,null,null,null,null,null,null,null,null,null,null,null,null,null,null,null,null,null,null,null,null,null,null,null,null,null,null,null,null,null,null,null,null,null,null,null,null,null,null,null,null,null,null,null,null,null,null,null,{"$f":"IF($AH30<>\"\",BM29,IF(LEFT($D30,6)=\"MODELO\",$D30,BM29))","v":"MODELO A - TEMPO - N.º DE HORAS DE TRABALHO"}]
[null,{"$f":"IF('SA - ATIVIDADES'!$F$115<>TRUE,\"ocultar\",\"mostrar\")","v":"ocultar"},"A15. PROJETO MUSEOGRÁFICO","MODELO A - TEMPO - N.º DE HORAS DE TRABALHO",null,"Atribuir valor global à atividade",0,0,{"$f":"IF($F$31=\"Atribuir valor global à atividade\",G31*H31,\"\")","v":0},null,"Atribuir valor global à atividade","Valor Global Obra (VG Obra)",{"$f":"IF(L31=\"Valor Global Obra (VG Obra)\",$M$9,\"\")","v":0},0,0,{"$f":"IF(L31=\"Valor Global Obra (VG Obra)\",M31*O31,N31*O31)","v":0},null,"Atribuir valor global à atividade","Valor/m2 fixo (VF m2)",{"$f":"IF(S31=\"Valor/m2 fixo (VF m2)\",$T$9,\"\")","v":0},0,0,null,{"$f":"IF(S31=\"Valor/m2 fixo (VF m2)\",T31*1*V31,U31*1*V31)","v":0},null,"Atribuir valor global à atividade",0,0,{"$f":"AA31*AB31","v":0},null,{"$f":"BL31","v":0},null,null,null,null,null,null,null,null,null,null,null,null,null,null,null,null,null,null,null,null,null,null,null,null,null,null,null,null,{"$f":"IF(LEFT($D$31,8)=\"MODELO A\",IF($F$31=\"Atribuir valor detalhado por Fase/Elemento\",SUBTOTAL(109,BH34:BH38),I31),IF(LEFT($D$31,8)=\"MODELO M\",SUBTOTAL(109,BH34:BH38),0))","v":0},{"$f":"IF(LEFT($D$31,8)=\"MODELO B\",IF($K$31=\"Atribuir valor detalhado por Fase/Elemento\",SUBTOTAL(109,BI34:BI38),P31),IF(LEFT($D$31,8)=\"MODELO M\",SUBTOTAL(109,BI34:BI38),0))","v":0},{"$f":"IF(LEFT($D$31,8)=\"MODELO C\",IF($R$31=\"Atribuir valor detalhado por Fase/Elemento\",SUBTOTAL(109,BJ34:BJ38),X31),IF(LEFT($D$31,8)=\"MODELO M\",SUBTOTAL(109,BJ34:BJ38),0))","v":0},{"$f":"IF(LEFT($D$31,8)=\"MODELO D\",IF($Z$31=\"Atribuir valor detalhado por Fase/Elemento\",SUBTOTAL(109,BK34:BK38),AC31),IF(LEFT($D$31,8)=\"MODELO M\",SUBTOTAL(109,BK34:BK38),0))","v":0},{"$f":"SUM(BH31:BK31)","v":0},{"$f":"IF($AH31<>\"\",BM30,IF(LEFT($D31,6)=\"MODELO\",$D31,BM30))","v":"MODELO A - TEMPO - N.º DE HORAS DE TRABALHO"}]
[null,{"$f":"IF($B$31=\"ocultar\",\"ocultar\",\"mostrar\")","v":"ocultar"},null,null,null,null,null,null,null,null,null,null,null,null,null,null,null,null,null,null,null,null,null,null,null,null,null,null,null,null,null,null,null,null,null,null,null,null,null,null,null,null,null,null,null,null,null,null,null,null,null,null,null,null,null,null,null,null,null,null,null,null,null,null,"MODELO A - TEMPO - N.º DE HORAS DE TRABALHO"]
[null,"ocultar",null,null,null,null,null,null,null,null,null,null,null,null,null,null,null,null,null,null,null,null,null,null,null,null,null,null,null,null,null,null,null,null,null,null,null,null,null,null,null,null,null,null,null,null,null,null,null,null,null,null,null,null,null,null,null,null,null,null,null,null,null,null,"MODELO A - TEMPO - N.º DE HORAS DE TRABALHO"]
[null,{"$f":"IF($B$31=\"ocultar\",\"ocultar\",IF('SA - ATIVIDADES'!$H$115>='SA - SERVICOS COMPLEMENTARES'!AH34,\"mostrar\",\"ocultar\"))","v":"ocultar"},"Designação (a preencher)","MODELO A - TEMPO - N.º DE HORAS DE TRABALHO",null,null,0,{"$f":"$H$31","v":0},{"$f":"G34*H34","v":0},null,null,null,null,null,0,{"$f":"$P$31*O34","v":0},null,null,null,null,null,null,0,{"$f":"$X$31*W34","v":0},null,null,0,0,{"$f":"AA34*AB34","v":0},null,{"$f":"BL34","v":0},null,null,1,null,null,null,null,null,null,null,null,null,null,null,null,null,null,null,null,null,null,null,null,null,null,null,null,null,{"$f":"IF(OR(AND(LEFT($D$31,8)=\"MODELO M\", LEFT(D34,8)=\"MODELO A\"), AND(LEFT($D$31,8)=\"MODELO A\", $F$31=\"Atribuir valor detalhado por Fase/Elemento\")), I34, 0)","v":0},{"$f":"IF(OR(AND(LEFT($D$31,8)=\"MODELO M\", LEFT(D34,8)=\"MODELO B\"), AND(LEFT($D$31,8)=\"MODELO B\", $K$31=\"Atribuir valor detalhado por Fase/Elemento\")), P34, 0)","v":0},{"$f":"IF(OR(AND(LEFT($D$31,8)=\"MODELO M\", LEFT(D34,8)=\"MODELO C\"), AND(LEFT($D$31,8)=\"MODELO C\", $R$31=\"Atribuir valor detalhado por Fase/Elemento\")), X34, 0)","v":0},{"$f":"IF(OR(AND(LEFT($D$31,8)=\"MODELO M\", LEFT(D34,8)=\"MODELO D\"), AND(LEFT($D$31,8)=\"MODELO D\", $Z$31=\"Atribuir valor detalhado por Fase/Elemento\")), AC34, 0)","v":0},{"$f":"SUM(BH34:BK34)","v":0},"MODELO A - TEMPO - N.º DE HORAS DE TRABALHO"]
[null,{"$f":"IF($B$31=\"ocultar\",\"ocultar\",IF('SA - ATIVIDADES'!$H$115>='SA - SERVICOS COMPLEMENTARES'!AH35,\"mostrar\",\"ocultar\"))","v":"ocultar"},"Designação (a preencher)","MODELO A - TEMPO - N.º DE HORAS DE TRABALHO",null,null,0,{"$f":"$H$31","v":0},0,null,null,null,null,null,0,{"$f":"$P$31*O35","v":0},null,null,null,null,null,null,0,{"$f":"$X$31*W35","v":0},null,null,0,0,{"$f":"AA35*AB35","v":0},null,0,null,null,2,null,null,null,null,null,null,null,null,null,null,null,null,null,null,null,null,null,null,null,null,null,null,null,null,null,{"$f":"IF(OR(AND(LEFT($D$31,8)=\"MODELO M\", LEFT(D35,8)=\"MODELO A\"), AND(LEFT($D$31,8)=\"MODELO A\", $F$31=\"Atribuir valor detalhado por Fase/Elemento\")), I35, 0)","v":0},{"$f":"IF(OR(AND(LEFT($D$31,8)=\"MODELO M\", LEFT(D35,8)=\"MODELO B\"), AND(LEFT($D$31,8)=\"MODELO B\", $K$31=\"Atribuir valor detalhado por Fase/Elemento\")), P35, 0)","v":0},{"$f":"IF(OR(AND(LEFT($D$31,8)=\"MODELO M\", LEFT(D35,8)=\"MODELO C\"), AND(LEFT($D$31,8)=\"MODELO C\", $R$31=\"Atribuir valor detalhado por Fase/Elemento\")), X35, 0)","v":0},{"$f":"IF(OR(AND(LEFT($D$31,8)=\"MODELO M\", LEFT(D35,8)=\"MODELO D\"), AND(LEFT($D$31,8)=\"MODELO D\", $Z$31=\"Atribuir valor detalhado por Fase/Elemento\")), AC35, 0)","v":0},0,"MODELO A - TEMPO - N.º DE HORAS DE TRABALHO"]
[null,{"$f":"IF($B$31=\"ocultar\",\"ocultar\",IF('SA - ATIVIDADES'!$H$115>='SA - SERVICOS COMPLEMENTARES'!AH36,\"mostrar\",\"ocultar\"))","v":"ocultar"},"Designação (a preencher)","MODELO A - TEMPO - N.º DE HORAS DE TRABALHO",null,null,0,{"$f":"$H$31","v":0},0,null,null,null,null,null,0,{"$f":"$P$31*O36","v":0},null,null,null,null,null,null,0,{"$f":"$X$31*W36","v":0},null,null,0,0,0,null,0,null,null,3,null,null,null,null,null,null,null,null,null,null,null,null,null,null,null,null,null,null,null,null,null,null,null,null,null,{"$f":"IF(OR(AND(LEFT($D$31,8)=\"MODELO M\", LEFT(D36,8)=\"MODELO A\"), AND(LEFT($D$31,8)=\"MODELO A\", $F$31=\"Atribuir valor detalhado por Fase/Elemento\")), I36, 0)","v":0},{"$f":"IF(OR(AND(LEFT($D$31,8)=\"MODELO M\", LEFT(D36,8)=\"MODELO B\"), AND(LEFT($D$31,8)=\"MODELO B\", $K$31=\"Atribuir valor detalhado por Fase/Elemento\")), P36, 0)","v":0},{"$f":"IF(OR(AND(LEFT($D$31,8)=\"MODELO M\", LEFT(D36,8)=\"MODELO C\"), AND(LEFT($D$31,8)=\"MODELO C\", $R$31=\"Atribuir valor detalhado por Fase/Elemento\")), X36, 0)","v":0},{"$f":"IF(OR(AND(LEFT($D$31,8)=\"MODELO M\", LEFT(D36,8)=\"MODELO D\"), AND(LEFT($D$31,8)=\"MODELO D\", $Z$31=\"Atribuir valor detalhado por Fase/Elemento\")), AC36, 0)","v":0},0,"MODELO A - TEMPO - N.º DE HORAS DE TRABALHO"]
[null,{"$f":"IF($B$31=\"ocultar\",\"ocultar\",IF('SA - ATIVIDADES'!$H$115>='SA - SERVICOS COMPLEMENTARES'!AH37,\"mostrar\",\"ocultar\"))","v":"ocultar"},"Designação (a preencher)","MODELO A - TEMPO - N.º DE HORAS DE TRABALHO",null,null,0,{"$f":"$H$31","v":0},0,null,null,null,null,null,0,{"$f":"$P$31*O37","v":0},null,null,null,null,null,null,0,{"$f":"$X$31*W37","v":0},null,null,0,0,0,null,0,null,null,4,null,null,null,null,null,null,null,null,null,null,null,null,null,null,null,null,null,null,null,null,null,null,null,null,null,{"$f":"IF(OR(AND(LEFT($D$31,8)=\"MODELO M\", LEFT(D37,8)=\"MODELO A\"), AND(LEFT($D$31,8)=\"MODELO A\", $F$31=\"Atribuir valor detalhado por Fase/Elemento\")), I37, 0)","v":0},{"$f":"IF(OR(AND(LEFT($D$31,8)=\"MODELO M\", LEFT(D37,8)=\"MODELO B\"), AND(LEFT($D$31,8)=\"MODELO B\", $K$31=\"Atribuir valor detalhado por Fase/Elemento\")), P37, 0)","v":0},{"$f":"IF(OR(AND(LEFT($D$31,8)=\"MODELO M\", LEFT(D37,8)=\"MODELO C\"), AND(LEFT($D$31,8)=\"MODELO C\", $R$31=\"Atribuir valor detalhado por Fase/Elemento\")), X37, 0)","v":0},{"$f":"IF(OR(AND(LEFT($D$31,8)=\"MODELO M\", LEFT(D37,8)=\"MODELO D\"), AND(LEFT($D$31,8)=\"MODELO D\", $Z$31=\"Atribuir valor detalhado por Fase/Elemento\")), AC37, 0)","v":0},0,"MODELO A - TEMPO - N.º DE HORAS DE TRABALHO"]
[null,{"$f":"IF($B$31=\"ocultar\",\"ocultar\",IF('SA - ATIVIDADES'!$H$115>='SA - SERVICOS COMPLEMENTARES'!AH38,\"mostrar\",\"ocultar\"))","v":"ocultar"},"Designação (a preencher)","MODELO A - TEMPO - N.º DE HORAS DE TRABALHO",null,null,0,{"$f":"$H$31","v":0},0,null,null,null,null,null,0,{"$f":"$P$31*O38","v":0},null,null,null,null,null,null,0,{"$f":"$X$31*W38","v":0},null,null,0,0,0,null,0,null,null,5,null,null,null,null,null,null,null,null,null,null,null,null,null,null,null,null,null,null,null,null,null,null,null,null,null,{"$f":"IF(OR(AND(LEFT($D$31,8)=\"MODELO M\", LEFT(D38,8)=\"MODELO A\"), AND(LEFT($D$31,8)=\"MODELO A\", $F$31=\"Atribuir valor detalhado por Fase/Elemento\")), I38, 0)","v":0},{"$f":"IF(OR(AND(LEFT($D$31,8)=\"MODELO M\", LEFT(D38,8)=\"MODELO B\"), AND(LEFT($D$31,8)=\"MODELO B\", $K$31=\"Atribuir valor detalhado por Fase/Elemento\")), P38, 0)","v":0},{"$f":"IF(OR(AND(LEFT($D$31,8)=\"MODELO M\", LEFT(D38,8)=\"MODELO C\"), AND(LEFT($D$31,8)=\"MODELO C\", $R$31=\"Atribuir valor detalhado por Fase/Elemento\")), X38, 0)","v":0},{"$f":"IF(OR(AND(LEFT($D$31,8)=\"MODELO M\", LEFT(D38,8)=\"MODELO D\"), AND(LEFT($D$31,8)=\"MODELO D\", $Z$31=\"Atribuir valor detalhado por Fase/Elemento\")), AC38, 0)","v":0},0,"MODELO A - TEMPO - N.º DE HORAS DE TRABALHO"]
[null,{"$f":"IF($B$31=\"ocultar\",\"ocultar\",\"mostrar\")","v":"ocultar"},"TOTAL",null,null,null,{"$f":"IF($F31=\"Atribuir valor global à atividade\",G31,SUBTOTAL(109,G34:G38))","v":0},null,{"$f":"IF($F31=\"Atribuir valor global à atividade\",I31,SUBTOTAL(109,I34:I38))","v":0},null,null,null,null,null,{"$f":"IF($K$31=\"Atribuir valor global à atividade\",1,SUBTOTAL(109,O34:O38))","v":1},{"$f":"IF($F31=\"Atribuir valor global à atividade\",P31,SUBTOTAL(109,P34:P38))","v":0},null,null,null,null,null,null,{"$f":"IF($R31=\"Atribuir valor global à atividade\",1,SUBTOTAL(109,W34:W38))","v":1},{"$f":"IF($R31=\"Atribuir valor global à atividade\",X31,SUBTOTAL(109,X34:X38))","v":0},null,null,null,null,{"$f":"IF($Z31=\"Atribuir valor global à atividade\",AC31,SUBTOTAL(109,AC34:AC38))","v":0},null,{"$f":"SUBTOTAL(109,AE34:AE38)","v":0},null,null,null,null,null,null,null,null,null,null,null,null,null,null,null,null,null,null,null,null,null,null,null,null,null,null,null,null,null,null,null,null,null,"MODELO A - TEMPO - N.º DE HORAS DE TRABALHO"]
[null,{"$f":"IF($B$31=\"ocultar\",\"ocultar\",\"mostrar\")","v":"ocultar"},null,null,null,null,null,null,null,null,null,null,null,null,null,null,null,null,null,null,null,null,null,null,null,null,null,null,null,null,null,null,null,null,null,null,null,null,null,null,null,null,null,null,null,null,null,null,null,null,null,null,null,null,null,null,null,null,null,null,null,null,null,null,{"$f":"IF($AH40<>\"\",BM39,IF(LEFT($D40,6)=\"MODELO\",$D40,BM39))","v":"MODELO A - TEMPO - N.º DE HORAS DE TRABALHO"}]
[null,{"$f":"IF('SA - ATIVIDADES'!$F$117<>TRUE,\"ocultar\",\"mostrar\")","v":"ocultar"},"A16. PROJETO DE SINALÉTICA DA EDIFICAÇÃO","MODELO A - TEMPO - N.º DE HORAS DE TRABALHO",null,"Atribuir valor global à atividade",0,0,{"$f":"IF($F$41=\"Atribuir valor global à atividade\",G41*H41,\"\")","v":0},null,"Atribuir valor global à atividade","Valor Global Obra (VG Obra)",{"$f":"IF(L41=\"Valor Global Obra (VG Obra)\",$M$9,\"\")","v":0},0,0,{"$f":"IF(L41=\"Valor Global Obra (VG Obra)\",M41*O41,N41*O41)","v":0},null,"Atribuir valor global à atividade","Valor/m2 fixo (VF m2)",{"$f":"IF(S41=\"Valor/m2 fixo (VF m2)\",$T$9,\"\")","v":0},0,0,null,{"$f":"IF(S41=\"Valor/m2 fixo (VF m2)\",T41*1*V41,U41*1*V41)","v":0},null,"Atribuir valor global à atividade",0,0,{"$f":"AA41*AB41","v":0},null,{"$f":"BL41","v":0},null,null,null,null,null,null,null,null,null,null,null,null,null,null,null,null,null,null,null,null,null,null,null,null,null,null,null,null,{"$f":"IF(LEFT($D$41,8)=\"MODELO A\",IF($F$41=\"Atribuir valor detalhado por Fase/Elemento\",SUBTOTAL(109,BH44:BH48),I41),IF(LEFT($D$41,8)=\"MODELO M\",SUBTOTAL(109,BH44:BH48),0))","v":0},{"$f":"IF(LEFT($D$41,8)=\"MODELO B\",IF($K$41=\"Atribuir valor detalhado por Fase/Elemento\",SUBTOTAL(109,BI44:BI48),P41),IF(LEFT($D$41,8)=\"MODELO M\",SUBTOTAL(109,BI44:BI48),0))","v":0},{"$f":"IF(LEFT($D$41,8)=\"MODELO C\",IF($R$41=\"Atribuir valor detalhado por Fase/Elemento\",SUBTOTAL(109,BJ44:BJ48),X41),IF(LEFT($D$41,8)=\"MODELO M\",SUBTOTAL(109,BJ44:BJ48),0))","v":0},{"$f":"IF(LEFT($D$41,8)=\"MODELO D\",IF($Z$41=\"Atribuir valor detalhado por Fase/Elemento\",SUBTOTAL(109,BK44:BK48),AC41),IF(LEFT($D$41,8)=\"MODELO M\",SUBTOTAL(109,BK44:BK48),0))","v":0},{"$f":"SUM(BH41:BK41)","v":0},{"$f":"IF($AH41<>\"\",BM40,IF(LEFT($D41,6)=\"MODELO\",$D41,BM40))","v":"MODELO A - TEMPO - N.º DE HORAS DE TRABALHO"}]
[null,{"$f":"IF($B$41=\"ocultar\",\"ocultar\",\"mostrar\")","v":"ocultar"},null,null,null,null,null,null,null,null,null,null,null,null,null,null,null,null,null,null,null,null,null,null,null,null,null,null,null,null,null,null,null,null,null,null,null,null,null,null,null,null,null,null,null,null,null,null,null,null,null,null,null,null,null,null,null,null,null,null,null,null,null,null,"MODELO A - TEMPO - N.º DE HORAS DE TRABALHO"]
[null,"ocultar",null,null,null,null,null,null,null,null,null,null,null,null,null,null,null,null,null,null,null,null,null,null,null,null,null,null,null,null,null,null,null,null,null,null,null,null,null,null,null,null,null,null,null,null,null,null,null,null,null,null,null,null,null,null,null,null,null,null,null,null,null,null,"MODELO A - TEMPO - N.º DE HORAS DE TRABALHO"]
[null,{"$f":"IF($B$41=\"ocultar\",\"ocultar\",IF('SA - ATIVIDADES'!$H$117>='SA - SERVICOS COMPLEMENTARES'!AH44,\"mostrar\",\"ocultar\"))","v":"ocultar"},"Designação (a preencher)","MODELO A - TEMPO - N.º DE HORAS DE TRABALHO",null,null,0,{"$f":"$H$41","v":0},{"$f":"G44*H44","v":0},null,null,null,null,null,0,{"$f":"$P$41*O44","v":0},null,null,null,null,null,null,0,{"$f":"$X$41*W44","v":0},null,null,0,0,{"$f":"AA44*AB44","v":0},null,{"$f":"BL44","v":0},null,null,1,null,null,null,null,null,null,null,null,null,null,null,null,null,null,null,null,null,null,null,null,null,null,null,null,null,{"$f":"IF(OR(AND(LEFT($D$41,8)=\"MODELO M\", LEFT(D44,8)=\"MODELO A\"), AND(LEFT($D$41,8)=\"MODELO A\", $F$41=\"Atribuir valor detalhado por Fase/Elemento\")), I44, 0)","v":0},{"$f":"IF(OR(AND(LEFT($D$41,8)=\"MODELO M\", LEFT(D44,8)=\"MODELO B\"), AND(LEFT($D$41,8)=\"MODELO B\", $K$41=\"Atribuir valor detalhado por Fase/Elemento\")), P44, 0)","v":0},{"$f":"IF(OR(AND(LEFT($D$41,8)=\"MODELO M\", LEFT(D44,8)=\"MODELO C\"), AND(LEFT($D$41,8)=\"MODELO C\", $R$41=\"Atribuir valor detalhado por Fase/Elemento\")), X44, 0)","v":0},{"$f":"IF(OR(AND(LEFT($D$41,8)=\"MODELO M\", LEFT(D44,8)=\"MODELO D\"), AND(LEFT($D$41,8)=\"MODELO D\", $Z$41=\"Atribuir valor detalhado por Fase/Elemento\")), AC44, 0)","v":0},{"$f":"SUM(BH44:BK44)","v":0},"MODELO A - TEMPO - N.º DE HORAS DE TRABALHO"]
[null,{"$f":"IF($B$41=\"ocultar\",\"ocultar\",IF('SA - ATIVIDADES'!$H$117>='SA - SERVICOS COMPLEMENTARES'!AH45,\"mostrar\",\"ocultar\"))","v":"ocultar"},"Designação (a preencher)","MODELO A - TEMPO - N.º DE HORAS DE TRABALHO",null,null,0,{"$f":"$H$41","v":0},0,null,null,null,null,null,0,{"$f":"$P$41*O45","v":0},null,null,null,null,null,null,0,{"$f":"$X$41*W45","v":0},null,null,0,0,{"$f":"AA45*AB45","v":0},null,0,null,null,2,null,null,null,null,null,null,null,null,null,null,null,null,null,null,null,null,null,null,null,null,null,null,null,null,null,{"$f":"IF(OR(AND(LEFT($D$41,8)=\"MODELO M\", LEFT(D45,8)=\"MODELO A\"), AND(LEFT($D$41,8)=\"MODELO A\", $F$41=\"Atribuir valor detalhado por Fase/Elemento\")), I45, 0)","v":0},{"$f":"IF(OR(AND(LEFT($D$41,8)=\"MODELO M\", LEFT(D45,8)=\"MODELO B\"), AND(LEFT($D$41,8)=\"MODELO B\", $K$41=\"Atribuir valor detalhado por Fase/Elemento\")), P45, 0)","v":0},{"$f":"IF(OR(AND(LEFT($D$41,8)=\"MODELO M\", LEFT(D45,8)=\"MODELO C\"), AND(LEFT($D$41,8)=\"MODELO C\", $R$41=\"Atribuir valor detalhado por Fase/Elemento\")), X45, 0)","v":0},{"$f":"IF(OR(AND(LEFT($D$41,8)=\"MODELO M\", LEFT(D45,8)=\"MODELO D\"), AND(LEFT($D$41,8)=\"MODELO D\", $Z$41=\"Atribuir valor detalhado por Fase/Elemento\")), AC45, 0)","v":0},0,"MODELO A - TEMPO - N.º DE HORAS DE TRABALHO"]
[null,{"$f":"IF($B$41=\"ocultar\",\"ocultar\",IF('SA - ATIVIDADES'!$H$117>='SA - SERVICOS COMPLEMENTARES'!AH46,\"mostrar\",\"ocultar\"))","v":"ocultar"},"Designação (a preencher)","MODELO A - TEMPO - N.º DE HORAS DE TRABALHO",null,null,0,{"$f":"$H$41","v":0},0,null,null,null,null,null,0,{"$f":"$P$41*O46","v":0},null,null,null,null,null,null,0,{"$f":"$X$41*W46","v":0},null,null,0,0,0,null,0,null,null,3,null,null,null,null,null,null,null,null,null,null,null,null,null,null,null,null,null,null,null,null,null,null,null,null,null,{"$f":"IF(OR(AND(LEFT($D$41,8)=\"MODELO M\", LEFT(D46,8)=\"MODELO A\"), AND(LEFT($D$41,8)=\"MODELO A\", $F$41=\"Atribuir valor detalhado por Fase/Elemento\")), I46, 0)","v":0},{"$f":"IF(OR(AND(LEFT($D$41,8)=\"MODELO M\", LEFT(D46,8)=\"MODELO B\"), AND(LEFT($D$41,8)=\"MODELO B\", $K$41=\"Atribuir valor detalhado por Fase/Elemento\")), P46, 0)","v":0},{"$f":"IF(OR(AND(LEFT($D$41,8)=\"MODELO M\", LEFT(D46,8)=\"MODELO C\"), AND(LEFT($D$41,8)=\"MODELO C\", $R$41=\"Atribuir valor detalhado por Fase/Elemento\")), X46, 0)","v":0},{"$f":"IF(OR(AND(LEFT($D$41,8)=\"MODELO M\", LEFT(D46,8)=\"MODELO D\"), AND(LEFT($D$41,8)=\"MODELO D\", $Z$41=\"Atribuir valor detalhado por Fase/Elemento\")), AC46, 0)","v":0},0,"MODELO A - TEMPO - N.º DE HORAS DE TRABALHO"]
[null,{"$f":"IF($B$41=\"ocultar\",\"ocultar\",IF('SA - ATIVIDADES'!$H$117>='SA - SERVICOS COMPLEMENTARES'!AH47,\"mostrar\",\"ocultar\"))","v":"ocultar"},"Designação (a preencher)","MODELO A - TEMPO - N.º DE HORAS DE TRABALHO",null,null,0,{"$f":"$H$41","v":0},0,null,null,null,null,null,0,{"$f":"$P$41*O47","v":0},null,null,null,null,null,null,0,{"$f":"$X$41*W47","v":0},null,null,0,0,0,null,0,null,null,4,null,null,null,null,null,null,null,null,null,null,null,null,null,null,null,null,null,null,null,null,null,null,null,null,null,{"$f":"IF(OR(AND(LEFT($D$41,8)=\"MODELO M\", LEFT(D47,8)=\"MODELO A\"), AND(LEFT($D$41,8)=\"MODELO A\", $F$41=\"Atribuir valor detalhado por Fase/Elemento\")), I47, 0)","v":0},{"$f":"IF(OR(AND(LEFT($D$41,8)=\"MODELO M\", LEFT(D47,8)=\"MODELO B\"), AND(LEFT($D$41,8)=\"MODELO B\", $K$41=\"Atribuir valor detalhado por Fase/Elemento\")), P47, 0)","v":0},{"$f":"IF(OR(AND(LEFT($D$41,8)=\"MODELO M\", LEFT(D47,8)=\"MODELO C\"), AND(LEFT($D$41,8)=\"MODELO C\", $R$41=\"Atribuir valor detalhado por Fase/Elemento\")), X47, 0)","v":0},{"$f":"IF(OR(AND(LEFT($D$41,8)=\"MODELO M\", LEFT(D47,8)=\"MODELO D\"), AND(LEFT($D$41,8)=\"MODELO D\", $Z$41=\"Atribuir valor detalhado por Fase/Elemento\")), AC47, 0)","v":0},0,"MODELO A - TEMPO - N.º DE HORAS DE TRABALHO"]
[null,{"$f":"IF($B$41=\"ocultar\",\"ocultar\",IF('SA - ATIVIDADES'!$H$117>='SA - SERVICOS COMPLEMENTARES'!AH48,\"mostrar\",\"ocultar\"))","v":"ocultar"},"Designação (a preencher)","MODELO A - TEMPO - N.º DE HORAS DE TRABALHO",null,null,0,{"$f":"$H$41","v":0},0,null,null,null,null,null,0,{"$f":"$P$41*O48","v":0},null,null,null,null,null,null,0,{"$f":"$X$41*W48","v":0},null,null,0,0,0,null,0,null,null,5,null,null,null,null,null,null,null,null,null,null,null,null,null,null,null,null,null,null,null,null,null,null,null,null,null,{"$f":"IF(OR(AND(LEFT($D$41,8)=\"MODELO M\", LEFT(D48,8)=\"MODELO A\"), AND(LEFT($D$41,8)=\"MODELO A\", $F$41=\"Atribuir valor detalhado por Fase/Elemento\")), I48, 0)","v":0},{"$f":"IF(OR(AND(LEFT($D$41,8)=\"MODELO M\", LEFT(D48,8)=\"MODELO B\"), AND(LEFT($D$41,8)=\"MODELO B\", $K$41=\"Atribuir valor detalhado por Fase/Elemento\")), P48, 0)","v":0},{"$f":"IF(OR(AND(LEFT($D$41,8)=\"MODELO M\", LEFT(D48,8)=\"MODELO C\"), AND(LEFT($D$41,8)=\"MODELO C\", $R$41=\"Atribuir valor detalhado por Fase/Elemento\")), X48, 0)","v":0},{"$f":"IF(OR(AND(LEFT($D$41,8)=\"MODELO M\", LEFT(D48,8)=\"MODELO D\"), AND(LEFT($D$41,8)=\"MODELO D\", $Z$41=\"Atribuir valor detalhado por Fase/Elemento\")), AC48, 0)","v":0},0,"MODELO A - TEMPO - N.º DE HORAS DE TRABALHO"]
[null,{"$f":"IF($B$41=\"ocultar\",\"ocultar\",\"mostrar\")","v":"ocultar"},"TOTAL",null,null,null,{"$f":"IF($F41=\"Atribuir valor global à atividade\",G41,SUBTOTAL(109,G44:G48))","v":0},null,{"$f":"IF($F41=\"Atribuir valor global à atividade\",I41,SUBTOTAL(109,I44:I48))","v":0},null,null,null,null,null,{"$f":"IF($K$41=\"Atribuir valor global à atividade\",1,SUBTOTAL(109,O44:O48))","v":1},{"$f":"IF($F41=\"Atribuir valor global à atividade\",P41,SUBTOTAL(109,P44:P48))","v":0},null,null,null,null,null,null,{"$f":"IF($R41=\"Atribuir valor global à atividade\",1,SUBTOTAL(109,W44:W48))","v":1},{"$f":"IF($R41=\"Atribuir valor global à atividade\",X41,SUBTOTAL(109,X44:X48))","v":0},null,null,null,null,{"$f":"IF($Z41=\"Atribuir valor global à atividade\",AC41,SUBTOTAL(109,AC44:AC48))","v":0},null,{"$f":"SUBTOTAL(109,AE44:AE48)","v":0},null,null,null,null,null,null,null,null,null,null,null,null,null,null,null,null,null,null,null,null,null,null,null,null,null,null,null,null,null,null,null,null,null,"MODELO A - TEMPO - N.º DE HORAS DE TRABALHO"]
[null,{"$f":"IF($B$41=\"ocultar\",\"ocultar\",\"mostrar\")","v":"ocultar"},null,null,null,null,null,null,null,null,null,null,null,null,null,null,null,null,null,null,null,null,null,null,null,null,null,null,null,null,null,null,null,null,null,null,null,null,null,null,null,null,null,null,null,null,null,null,null,null,null,null,null,null,null,null,null,null,null,null,null,null,null,null,{"$f":"IF($AH50<>\"\",BM49,IF(LEFT($D50,6)=\"MODELO\",$D50,BM49))","v":"MODELO A - TEMPO - N.º DE HORAS DE TRABALHO"}]
[null,{"$f":"IF('SA - ATIVIDADES'!$F$119<>TRUE,\"ocultar\",\"mostrar\")","v":"ocultar"},"A17. PROJETO DE SINALÉTICA DA VIA PÚBLICA","MODELO A - TEMPO - N.º DE HORAS DE TRABALHO",null,"Atribuir valor global à atividade",0,0,{"$f":"IF($F$51=\"Atribuir valor global à atividade\",G51*H51,\"\")","v":0},null,"Atribuir valor global à atividade","Valor Global Obra (VG Obra)",{"$f":"IF(L51=\"Valor Global Obra (VG Obra)\",$M$9,\"\")","v":0},0,0,{"$f":"IF(L51=\"Valor Global Obra (VG Obra)\",M51*O51,N51*O51)","v":0},null,"Atribuir valor global à atividade","Valor/m2 fixo (VF m2)",{"$f":"IF(S51=\"Valor/m2 fixo (VF m2)\",$T$9,\"\")","v":0},0,0,null,{"$f":"IF(S51=\"Valor/m2 fixo (VF m2)\",T51*1*V51,U51*1*V51)","v":0},null,"Atribuir valor global à atividade",0,0,{"$f":"AA51*AB51","v":0},null,{"$f":"BL51","v":0},null,null,null,null,null,null,null,null,null,null,null,null,null,null,null,null,null,null,null,null,null,null,null,null,null,null,null,null,{"$f":"IF(LEFT($D$51,8)=\"MODELO A\",IF($F$51=\"Atribuir valor detalhado por Fase/Elemento\",SUBTOTAL(109,BH54:BH58),I51),IF(LEFT($D$51,8)=\"MODELO M\",SUBTOTAL(109,BH54:BH58),0))","v":0},{"$f":"IF(LEFT($D$51,8)=\"MODELO B\",IF($K$51=\"Atribuir valor detalhado por Fase/Elemento\",SUBTOTAL(109,BI54:BI58),P51),IF(LEFT($D$51,8)=\"MODELO M\",SUBTOTAL(109,BI54:BI58),0))","v":0},{"$f":"IF(LEFT($D$51,8)=\"MODELO C\",IF($R$51=\"Atribuir valor detalhado por Fase/Elemento\",SUBTOTAL(109,BJ54:BJ58),X51),IF(LEFT($D$51,8)=\"MODELO M\",SUBTOTAL(109,BJ54:BJ58),0))","v":0},{"$f":"IF(LEFT($D$51,8)=\"MODELO D\",IF($Z$51=\"Atribuir valor detalhado por Fase/Elemento\",SUBTOTAL(109,BK54:BK58),AC51),IF(LEFT($D$51,8)=\"MODELO M\",SUBTOTAL(109,BK54:BK58),0))","v":0},{"$f":"SUM(BH51:BK51)","v":0},{"$f":"IF($AH51<>\"\",BM50,IF(LEFT($D51,6)=\"MODELO\",$D51,BM50))","v":"MODELO A - TEMPO - N.º DE HORAS DE TRABALHO"}]
[null,{"$f":"IF($B$51=\"ocultar\",\"ocultar\",\"mostrar\")","v":"ocultar"},null,null,null,null,null,null,null,null,null,null,null,null,null,null,null,null,null,null,null,null,null,null,null,null,null,null,null,null,null,null,null,null,null,null,null,null,null,null,null,null,null,null,null,null,null,null,null,null,null,null,null,null,null,null,null,null,null,null,null,null,null,null,"MODELO A - TEMPO - N.º DE HORAS DE TRABALHO"]
[null,"ocultar",null,null,null,null,null,null,null,null,null,null,null,null,null,null,null,null,null,null,null,null,null,null,null,null,null,null,null,null,null,null,null,null,null,null,null,null,null,null,null,null,null,null,null,null,null,null,null,null,null,null,null,null,null,null,null,null,null,null,null,null,null,null,"MODELO A - TEMPO - N.º DE HORAS DE TRABALHO"]
[null,{"$f":"IF($B$51=\"ocultar\",\"ocultar\",IF('SA - ATIVIDADES'!$H$119>='SA - SERVICOS COMPLEMENTARES'!AH54,\"mostrar\",\"ocultar\"))","v":"ocultar"},"Designação (a preencher)","MODELO A - TEMPO - N.º DE HORAS DE TRABALHO",null,null,0,{"$f":"$H$51","v":0},{"$f":"G54*H54","v":0},null,null,null,null,null,0,{"$f":"$P$51*O54","v":0},null,null,null,null,null,null,0,{"$f":"$X$51*W54","v":0},null,null,0,0,{"$f":"AA54*AB54","v":0},null,{"$f":"BL54","v":0},null,null,1,null,null,null,null,null,null,null,null,null,null,null,null,null,null,null,null,null,null,null,null,null,null,null,null,null,{"$f":"IF(OR(AND(LEFT($D$51,8)=\"MODELO M\", LEFT(D54,8)=\"MODELO A\"), AND(LEFT($D$51,8)=\"MODELO A\", $F$51=\"Atribuir valor detalhado por Fase/Elemento\")), I54, 0)","v":0},{"$f":"IF(OR(AND(LEFT($D$51,8)=\"MODELO M\", LEFT(D54,8)=\"MODELO B\"), AND(LEFT($D$51,8)=\"MODELO B\", $K$51=\"Atribuir valor detalhado por Fase/Elemento\")), P54, 0)","v":0},{"$f":"IF(OR(AND(LEFT($D$51,8)=\"MODELO M\", LEFT(D54,8)=\"MODELO C\"), AND(LEFT($D$51,8)=\"MODELO C\", $R$51=\"Atribuir valor detalhado por Fase/Elemento\")), X54, 0)","v":0},{"$f":"IF(OR(AND(LEFT($D$51,8)=\"MODELO M\", LEFT(D54,8)=\"MODELO D\"), AND(LEFT($D$51,8)=\"MODELO D\", $Z$51=\"Atribuir valor detalhado por Fase/Elemento\")), AC54, 0)","v":0},{"$f":"SUM(BH54:BK54)","v":0},"MODELO A - TEMPO - N.º DE HORAS DE TRABALHO"]
[null,{"$f":"IF($B$51=\"ocultar\",\"ocultar\",IF('SA - ATIVIDADES'!$H$119>='SA - SERVICOS COMPLEMENTARES'!AH55,\"mostrar\",\"ocultar\"))","v":"ocultar"},"Designação (a preencher)","MODELO A - TEMPO - N.º DE HORAS DE TRABALHO",null,null,0,0,0,null,null,null,null,null,0,{"$f":"$P$51*O55","v":0},null,null,null,null,null,null,0,{"$f":"$X$51*W55","v":0},null,null,0,0,0,null,0,null,null,2,null,null,null,null,null,null,null,null,null,null,null,null,null,null,null,null,null,null,null,null,null,null,null,null,null,0,0,0,0,0,"MODELO A - TEMPO - N.º DE HORAS DE TRABALHO"]
[null,{"$f":"IF($B$51=\"ocultar\",\"ocultar\",IF('SA - ATIVIDADES'!$H$119>='SA - SERVICOS COMPLEMENTARES'!AH56,\"mostrar\",\"ocultar\"))","v":"ocultar"},"Designação (a preencher)","MODELO A - TEMPO - N.º DE HORAS DE TRABALHO",null,null,0,0,0,null,null,null,null,null,0,0,null,null,null,null,null,null,0,0,null,null,0,0,0,null,0,null,null,3,null,null,null,null,null,null,null,null,null,null,null,null,null,null,null,null,null,null,null,null,null,null,null,null,null,0,0,0,0,0,"MODELO A - TEMPO - N.º DE HORAS DE TRABALHO"]
[null,{"$f":"IF($B$51=\"ocultar\",\"ocultar\",IF('SA - ATIVIDADES'!$H$119>='SA - SERVICOS COMPLEMENTARES'!AH57,\"mostrar\",\"ocultar\"))","v":"ocultar"},"Designação (a preencher)","MODELO A - TEMPO - N.º DE HORAS DE TRABALHO",null,null,0,0,0,null,null,null,null,null,0,0,null,null,null,null,null,null,0,0,null,null,0,0,0,null,0,null,null,4,null,null,null,null,null,null,null,null,null,null,null,null,null,null,null,null,null,null,null,null,null,null,null,null,null,0,0,0,0,0,"MODELO A - TEMPO - N.º DE HORAS DE TRABALHO"]
[null,{"$f":"IF($B$51=\"ocultar\",\"ocultar\",IF('SA - ATIVIDADES'!$H$119>='SA - SERVICOS COMPLEMENTARES'!AH58,\"mostrar\",\"ocultar\"))","v":"ocultar"},"Designação (a preencher)","MODELO A - TEMPO - N.º DE HORAS DE TRABALHO",null,null,0,0,0,null,null,null,null,null,0,0,null,null,null,null,null,null,0,0,null,null,0,0,0,null,0,null,null,5,null,null,null,null,null,null,null,null,null,null,null,null,null,null,null,null,null,null,null,null,null,null,null,null,null,0,0,0,0,0,"MODELO A - TEMPO - N.º DE HORAS DE TRABALHO"]
[null,{"$f":"IF($B$51=\"ocultar\",\"ocultar\",\"mostrar\")","v":"ocultar"},"TOTAL",null,null,null,{"$f":"IF($F51=\"Atribuir valor global à atividade\",G51,SUBTOTAL(109,G54:G58))","v":0},null,{"$f":"IF($F51=\"Atribuir valor global à atividade\",I51,SUBTOTAL(109,I54:I58))","v":0},null,null,null,null,null,{"$f":"IF($K$51=\"Atribuir valor global à atividade\",1,SUBTOTAL(109,O54:O58))","v":1},{"$f":"IF($F51=\"Atribuir valor global à atividade\",P51,SUBTOTAL(109,P54:P58))","v":0},null,null,null,null,null,null,{"$f":"IF($R51=\"Atribuir valor global à atividade\",1,SUBTOTAL(109,W54:W58))","v":1},{"$f":"IF($R51=\"Atribuir valor global à atividade\",X51,SUBTOTAL(109,X54:X58))","v":0},null,null,null,null,{"$f":"IF($Z51=\"Atribuir valor global à atividade\",AC51,SUBTOTAL(109,AC54:AC58))","v":0},null,{"$f":"SUBTOTAL(109,AE54:AE58)","v":0},null,null,null,null,null,null,null,null,null,null,null,null,null,null,null,null,null,null,null,null,null,null,null,null,null,null,null,null,null,null,null,null,null,"MODELO A - TEMPO - N.º DE HORAS DE TRABALHO"]
[null,{"$f":"IF($B$51=\"ocultar\",\"ocultar\",\"mostrar\")","v":"ocultar"},null,null,null,null,null,null,null,null,null,null,null,null,null,null,null,null,null,null,null,null,null,null,null,null,null,null,null,null,null,null,null,null,null,null,null,null,null,null,null,null,null,null,null,null,null,null,null,null,null,null,null,null,null,null,null,null,null,null,null,null,null,null,{"$f":"IF($AH60<>\"\",BM59,IF(LEFT($D60,6)=\"MODELO\",$D60,BM59))","v":"MODELO A - TEMPO - N.º DE HORAS DE TRABALHO"}]
[null,{"$f":"IF('SA - ATIVIDADES'!$F$121<>TRUE,\"ocultar\",\"mostrar\")","v":"ocultar"},"A18. PROJETO DE ESTALEIRO","MODELO D - UNIDADE - N.º DE UNIDADES A APLICAR",null,"Atribuir valor global à atividade",0,0,{"$f":"IF($F$61=\"Atribuir valor global à atividade\",G61*H61,\"\")","v":0},null,"Atribuir valor global à atividade","Valor Global Obra (VG Obra)",{"$f":"IF(L61=\"Valor Global Obra (VG Obra)\",$M$9,\"\")","v":0},0,0,{"$f":"IF(L61=\"Valor Global Obra (VG Obra)\",M61*O61,N61*O61)","v":0},null,"Atribuir valor global à atividade","Valor/m2 fixo (VF m2)",{"$f":"IF(S61=\"Valor/m2 fixo (VF m2)\",$T$9,\"\")","v":0},0,0,null,{"$f":"IF(S61=\"Valor/m2 fixo (VF m2)\",T61*1*V61,U61*1*V61)","v":0},null,"Atribuir valor global à atividade",0,0,{"$f":"AA61*AB61","v":0},null,{"$f":"BL61","v":0},null,null,null,null,null,null,null,null,null,null,null,null,null,null,null,null,null,null,null,null,null,null,null,null,null,null,null,null,{"$f":"IF(LEFT($D$61,8)=\"MODELO A\",IF($F$61=\"Atribuir valor detalhado por Fase/Elemento\",SUBTOTAL(109,BH65:BH111),I61),IF(LEFT($D$61,8)=\"MODELO M\",SUBTOTAL(109,BH65:BH111),0))","v":0},{"$f":"IF(LEFT($D$61,8)=\"MODELO B\",IF($K$61=\"Atribuir valor detalhado por Fase/Elemento\",SUBTOTAL(109,BI65:BI111),P61),IF(LEFT($D$61,8)=\"MODELO M\",SUBTOTAL(109,BI65:BI111),0))","v":0},{"$f":"IF(LEFT($D$61,8)=\"MODELO C\",IF($R$61=\"Atribuir valor detalhado por Fase/Elemento\",SUBTOTAL(109,BJ65:BJ111),X61),IF(LEFT($D$61,8)=\"MODELO M\",SUBTOTAL(109,BJ65:BJ111),0))","v":0},{"$f":"IF(LEFT($D$61,8)=\"MODELO D\",IF($Z$61=\"Atribuir valor detalhado por Fase/Elemento\",SUBTOTAL(109,BK65:BK111),AC61),IF(LEFT($D$61,8)=\"MODELO M\",SUBTOTAL(109,BK65:BK111),0))","v":0},{"$f":"SUM(BH61:BK61)","v":0},"MODELO D - UNIDADE - N.º DE UNIDADES A APLICAR"]
[null,{"$f":"IF($B$61=\"ocultar\",\"ocultar\",\"mostrar\")","v":"ocultar"},null,null,null,null,null,null,null,null,null,null,null,null,null,null,null,null,null,null,null,null,null,null,null,null,null,null,null,null,null,null,null,null,null,null,null,null,null,null,null,null,null,null,null,null,null,null,null,null,null,null,null,null,null,null,null,null,null,null,null,null,null,null,"MODELO D - UNIDADE - N.º DE UNIDADES A APLICAR"]
[null,"ocultar",null,null,null,null,null,null,null,null,null,null,null,null,null,null,null,null,null,null,null,null,null,null,null,null,null,null,null,null,null,null,null,null,null,null,null,null,null,null,null,null,null,null,null,null,null,null,null,null,null,null,null,null,null,null,null,null,null,null,null,null,null,null,"MODELO D - UNIDADE - N.º DE UNIDADES A APLICAR"]
[null,{"$f":"IF($B$61=\"ocultar\",\"ocultar\",IF('SA - ATIVIDADES'!$G$121=\"Fase Única\",\"ocultar\",IF('SA - ATIVIDADES'!G122=TRUE,\"mostrar\",\"ocultar\")))","v":"ocultar"},"PROJETO - FASE DE PROGRAMA BASE",null,null,null,null,null,null,null,null,null,null,null,null,null,null,null,null,null,null,null,null,null,null,null,null,null,null,null,null,null,null,null,null,null,null,null,null,null,null,null,null,null,null,null,null,null,null,null,null,null,null,null,null,null,null,null,null,null,null,null,null,null,"MODELO D - UNIDADE - N.º DE UNIDADES A APLICAR"]
[null,{"$f":"IF($B$64=\"ocultar\",\"ocultar\",IF('SA - ATIVIDADES'!$G$122=TRUE,IF('SA - ATIVIDADES'!$H$122>='SA - SERVICOS COMPLEMENTARES'!AH65,\"mostrar\",\"ocultar\"),\"ocultar\"))","v":"ocultar"},"Designação (a preencher)","MODELO A - TEMPO - N.º DE HORAS DE TRABALHO",null,null,0,{"$f":"$H$61","v":0},{"$f":"G65*H65","v":0},null,null,null,null,null,0,{"$f":"$P$61*O65","v":0},null,null,null,null,null,null,0,{"$f":"$X$61*W65","v":0},null,null,0,0,{"$f":"AA65*AB65","v":0},null,{"$f":"BL65","v":0},null,null,1,null,null,null,null,null,null,null,null,null,null,null,null,null,null,null,null,null,null,null,null,null,null,null,null,null,{"$f":"IF(OR(AND(LEFT($D$61,8)=\"MODELO M\", LEFT(D65,8)=\"MODELO A\"), AND(LEFT($D$61,8)=\"MODELO A\", $F$61=\"Atribuir valor detalhado por Fase/Elemento\")), I65, 0)","v":0},{"$f":"IF(OR(AND(LEFT($D$61,8)=\"MODELO M\", LEFT(D65,8)=\"MODELO B\"), AND(LEFT($D$61,8)=\"MODELO B\", $K$61=\"Atribuir valor detalhado por Fase/Elemento\")), P65, 0)","v":0},{"$f":"IF(OR(AND(LEFT($D$61,8)=\"MODELO M\", LEFT(D65,8)=\"MODELO C\"), AND(LEFT($D$61,8)=\"MODELO C\", $R$61=\"Atribuir valor detalhado por Fase/Elemento\")), X65, 0)","v":0},{"$f":"IF(OR(AND(LEFT($D$61,8)=\"MODELO M\", LEFT(D65,8)=\"MODELO D\"), AND(LEFT($D$61,8)=\"MODELO D\", $Z$61=\"Atribuir valor detalhado por Fase/Elemento\")), AC65, 0)","v":0},{"$f":"SUM(BH65:BK65)","v":0},"MODELO D - UNIDADE - N.º DE UNIDADES A APLICAR"]
[null,{"$f":"IF($B$64=\"ocultar\",\"ocultar\",IF('SA - ATIVIDADES'!$G$122=TRUE,IF('SA - ATIVIDADES'!$H$122>='SA - SERVICOS COMPLEMENTARES'!AH66,\"mostrar\",\"ocultar\"),\"ocultar\"))","v":"ocultar"},"Designação (a preencher)","MODELO A - TEMPO - N.º DE HORAS DE TRABALHO",null,null,0,0,0,null,null,null,null,null,0,{"$f":"$P$61*O66","v":0},null,null,null,null,null,null,0,{"$f":"$X$61*W66","v":0},null,null,0,0,0,null,0,null,null,2,null,null,null,null,null,null,null,null,null,null,null,null,null,null,null,null,null,null,null,null,null,null,null,null,null,0,0,0,0,0,"MODELO D - UNIDADE - N.º DE UNIDADES A APLICAR"]
[null,{"$f":"IF($B$64=\"ocultar\",\"ocultar\",IF('SA - ATIVIDADES'!$G$122=TRUE,IF('SA - ATIVIDADES'!$H$122>='SA - SERVICOS COMPLEMENTARES'!AH67,\"mostrar\",\"ocultar\"),\"ocultar\"))","v":"ocultar"},"Designação (a preencher)","MODELO A - TEMPO - N.º DE HORAS DE TRABALHO",null,null,0,0,0,null,null,null,null,null,0,0,null,null,null,null,null,null,0,0,null,null,0,0,0,null,0,null,null,3,null,null,null,null,null,null,null,null,null,null,null,null,null,null,null,null,null,null,null,null,null,null,null,null,null,0,0,0,0,0,"MODELO D - UNIDADE - N.º DE UNIDADES A APLICAR"]
[null,{"$f":"IF($B$64=\"ocultar\",\"ocultar\",IF('SA - ATIVIDADES'!$G$122=TRUE,IF('SA - ATIVIDADES'!$H$122>='SA - SERVICOS COMPLEMENTARES'!AH68,\"mostrar\",\"ocultar\"),\"ocultar\"))","v":"ocultar"},"Designação (a preencher)","MODELO A - TEMPO - N.º DE HORAS DE TRABALHO",null,null,0,0,0,null,null,null,null,null,0,0,null,null,null,null,null,null,0,0,null,null,0,0,0,null,0,null,null,4,null,null,null,null,null,null,null,null,null,null,null,null,null,null,null,null,null,null,null,null,null,null,null,null,null,0,0,0,0,0,"MODELO D - UNIDADE - N.º DE UNIDADES A APLICAR"]
[null,{"$f":"IF($B$64=\"ocultar\",\"ocultar\",IF('SA - ATIVIDADES'!$G$122=TRUE,IF('SA - ATIVIDADES'!$H$122>='SA - SERVICOS COMPLEMENTARES'!AH69,\"mostrar\",\"ocultar\"),\"ocultar\"))","v":"ocultar"},"Designação (a preencher)","MODELO A - TEMPO - N.º DE HORAS DE TRABALHO",null,null,0,0,0,null,null,null,null,null,0,0,null,null,null,null,null,null,0,0,null,null,0,0,0,null,0,null,null,5,null,null,null,null,null,null,null,null,null,null,null,null,null,null,null,null,null,null,null,null,null,null,null,null,null,0,0,0,0,0,"MODELO D - UNIDADE - N.º DE UNIDADES A APLICAR"]
[null,{"$f":"IF($B$64=\"ocultar\",\"ocultar\",IF('SA - ATIVIDADES'!$G$122=TRUE,IF('SA - ATIVIDADES'!$H$122>='SA - SERVICOS COMPLEMENTARES'!AH70,\"mostrar\",\"ocultar\"),\"ocultar\"))","v":"ocultar"},"Designação (a preencher)","MODELO A - TEMPO - N.º DE HORAS DE TRABALHO",null,null,0,0,0,null,null,null,null,null,0,0,null,null,null,null,null,null,0,0,null,null,0,0,0,null,0,null,null,6,null,null,null,null,null,null,null,null,null,null,null,null,null,null,null,null,null,null,null,null,null,null,null,null,null,0,0,0,0,0,"MODELO D - UNIDADE - N.º DE UNIDADES A APLICAR"]
[null,{"$f":"IF($B$64=\"ocultar\",\"ocultar\",IF('SA - ATIVIDADES'!$G$122=TRUE,IF('SA - ATIVIDADES'!$H$122>='SA - SERVICOS COMPLEMENTARES'!AH71,\"mostrar\",\"ocultar\"),\"ocultar\"))","v":"ocultar"},"Designação (a preencher)","MODELO A - TEMPO - N.º DE HORAS DE TRABALHO",null,null,0,0,0,null,null,null,null,null,0,0,null,null,null,null,null,null,0,0,null,null,0,0,0,null,0,null,null,7,null,null,null,null,null,null,null,null,null,null,null,null,null,null,null,null,null,null,null,null,null,null,null,null,null,0,0,0,0,0,"MODELO D - UNIDADE - N.º DE UNIDADES A APLICAR"]
[null,{"$f":"IF($B$64=\"ocultar\",\"ocultar\",IF('SA - ATIVIDADES'!$G$122=TRUE,IF('SA - ATIVIDADES'!$H$122>='SA - SERVICOS COMPLEMENTARES'!AH72,\"mostrar\",\"ocultar\"),\"ocultar\"))","v":"ocultar"},"Designação (a preencher)","MODELO A - TEMPO - N.º DE HORAS DE TRABALHO",null,null,0,0,0,null,null,null,null,null,0,0,null,null,null,null,null,null,0,0,null,null,0,0,0,null,0,null,null,8,null,null,null,null,null,null,null,null,null,null,null,null,null,null,null,null,null,null,null,null,null,null,null,null,null,0,0,0,0,0,"MODELO D - UNIDADE - N.º DE UNIDADES A APLICAR"]
[null,{"$f":"IF($B$64=\"ocultar\",\"ocultar\",IF('SA - ATIVIDADES'!$G$122=TRUE,IF('SA - ATIVIDADES'!$H$122>='SA - SERVICOS COMPLEMENTARES'!AH73,\"mostrar\",\"ocultar\"),\"ocultar\"))","v":"ocultar"},"Designação (a preencher)","MODELO A - TEMPO - N.º DE HORAS DE TRABALHO",null,null,0,0,0,null,null,null,null,null,0,0,null,null,null,null,null,null,0,0,null,null,0,0,0,null,0,null,null,9,null,null,null,null,null,null,null,null,null,null,null,null,null,null,null,null,null,null,null,null,null,null,null,null,null,0,0,0,0,0,"MODELO D - UNIDADE - N.º DE UNIDADES A APLICAR"]
[null,{"$f":"IF($B$64=\"ocultar\",\"ocultar\",IF('SA - ATIVIDADES'!$G$122=TRUE,IF('SA - ATIVIDADES'!$H$122>='SA - SERVICOS COMPLEMENTARES'!AH74,\"mostrar\",\"ocultar\"),\"ocultar\"))","v":"ocultar"},"Designação (a preencher)","MODELO A - TEMPO - N.º DE HORAS DE TRABALHO",null,null,0,0,0,null,null,null,null,null,0,0,null,null,null,null,null,null,0,0,null,null,0,0,0,null,0,null,null,10,null,null,null,null,null,null,null,null,null,null,null,null,null,null,null,null,null,null,null,null,null,null,null,null,null,0,0,0,0,0,"MODELO D - UNIDADE - N.º DE UNIDADES A APLICAR"]
[null,{"$f":"IF($B$65=\"ocultar\",\"ocultar\",\"mostrar\")","v":"ocultar"},"SUB-TOTAL",null,null,null,{"$f":"SUBTOTAL(109,G64:G74)","v":0},null,{"$f":"SUBTOTAL(109,I64:I74)","v":0},null,null,null,null,null,{"$f":"SUBTOTAL(9,O65:O74)","v":0},{"$f":"SUBTOTAL(9,P65:P74)","v":0},null,null,null,null,null,null,{"$f":"SUBTOTAL(9,W65:W74)","v":0},{"$f":"SUBTOTAL(9,X65:X74)","v":0},null,null,null,null,{"$f":"SUBTOTAL(109,AC65:AC74)","v":0},null,{"$f":"SUBTOTAL(109,AE65:AE74)","v":0},null,null,null,null,null,null,null,null,null,null,null,null,null,null,null,null,null,null,null,null,null,null,null,null,null,null,null,null,null,null,null,null,null,"MODELO D - UNIDADE - N.º DE UNIDADES A APLICAR"]
[null,{"$f":"IF($B$61=\"ocultar\",\"ocultar\",IF('SA - ATIVIDADES'!$G$121=\"Fase Única\",\"ocultar\",IF('SA - ATIVIDADES'!G123=TRUE,\"mostrar\",\"ocultar\")))","v":"ocultar"},"PROJETO - FASE DE ESTUDO PRÉVIO",null,null,null,null,null,null,null,null,null,null,null,null,null,null,null,null,null,null,null,null,null,null,null,null,null,null,null,null,null,null,null,null,null,null,null,null,null,null,null,null,null,null,null,null,null,null,null,null,null,null,null,null,null,null,null,null,null,null,null,null,null,"MODELO D - UNIDADE - N.º DE UNIDADES A APLICAR"]
[null,{"$f":"IF($B$76=\"ocultar\",\"ocultar\",IF('SA - ATIVIDADES'!$G$123=TRUE,IF('SA - ATIVIDADES'!$H$123>='SA - SERVICOS COMPLEMENTARES'!AH77,\"mostrar\",\"ocultar\"),\"ocultar\"))","v":"ocultar"},"Designação (a preencher)","MODELO A - TEMPO - N.º DE HORAS DE TRABALHO",null,null,0,{"$f":"$H$61","v":0},{"$f":"G77*H77","v":0},null,null,null,null,null,0,{"$f":"$P$61*O77","v":0},null,null,null,null,null,null,0,{"$f":"$X$61*W77","v":0},null,null,0,0,{"$f":"AA77*AB77","v":0},null,{"$f":"BL77","v":0},null,null,1,null,null,null,null,null,null,null,null,null,null,null,null,null,null,null,null,null,null,null,null,null,null,null,null,null,{"$f":"IF(OR(AND(LEFT($D$61,8)=\"MODELO M\", LEFT(D77,8)=\"MODELO A\"), AND(LEFT($D$61,8)=\"MODELO A\", $F$61=\"Atribuir valor detalhado por Fase/Elemento\")), I77, 0)","v":0},{"$f":"IF(OR(AND(LEFT($D$61,8)=\"MODELO M\", LEFT(D77,8)=\"MODELO B\"), AND(LEFT($D$61,8)=\"MODELO B\", $K$61=\"Atribuir valor detalhado por Fase/Elemento\")), P77, 0)","v":0},{"$f":"IF(OR(AND(LEFT($D$61,8)=\"MODELO M\", LEFT(D77,8)=\"MODELO C\"), AND(LEFT($D$61,8)=\"MODELO C\", $R$61=\"Atribuir valor detalhado por Fase/Elemento\")), X77, 0)","v":0},{"$f":"IF(OR(AND(LEFT($D$61,8)=\"MODELO M\", LEFT(D77,8)=\"MODELO D\"), AND(LEFT($D$61,8)=\"MODELO D\", $Z$61=\"Atribuir valor detalhado por Fase/Elemento\")), AC77, 0)","v":0},{"$f":"SUM(BH77:BK77)","v":0},"MODELO D - UNIDADE - N.º DE UNIDADES A APLICAR"]
[null,{"$f":"IF($B$76=\"ocultar\",\"ocultar\",IF('SA - ATIVIDADES'!$G$123=TRUE,IF('SA - ATIVIDADES'!$H$123>='SA - SERVICOS COMPLEMENTARES'!AH78,\"mostrar\",\"ocultar\"),\"ocultar\"))","v":"ocultar"},"Designação (a preencher)","MODELO A - TEMPO - N.º DE HORAS DE TRABALHO",null,null,0,0,0,null,null,null,null,null,0,{"$f":"$P$61*O78","v":0},null,null,null,null,null,null,0,{"$f":"$X$61*W78","v":0},null,null,0,0,0,null,0,null,null,2,null,null,null,null,null,null,null,null,null,null,null,null,null,null,null,null,null,null,null,null,null,null,null,null,null,0,0,0,0,0,"MODELO D - UNIDADE - N.º DE UNIDADES A APLICAR"]
[null,{"$f":"IF($B$76=\"ocultar\",\"ocultar\",IF('SA - ATIVIDADES'!$G$123=TRUE,IF('SA - ATIVIDADES'!$H$123>='SA - SERVICOS COMPLEMENTARES'!AH79,\"mostrar\",\"ocultar\"),\"ocultar\"))","v":"ocultar"},"Designação (a preencher)","MODELO A - TEMPO - N.º DE HORAS DE TRABALHO",null,null,0,0,0,null,null,null,null,null,0,0,null,null,null,null,null,null,0,0,null,null,0,0,0,null,0,null,null,3,null,null,null,null,null,null,null,null,null,null,null,null,null,null,null,null,null,null,null,null,null,null,null,null,null,0,0,0,0,0,"MODELO D - UNIDADE - N.º DE UNIDADES A APLICAR"]
[null,{"$f":"IF($B$76=\"ocultar\",\"ocultar\",IF('SA - ATIVIDADES'!$G$123=TRUE,IF('SA - ATIVIDADES'!$H$123>='SA - SERVICOS COMPLEMENTARES'!AH80,\"mostrar\",\"ocultar\"),\"ocultar\"))","v":"ocultar"},"Designação (a preencher)","MODELO A - TEMPO - N.º DE HORAS DE TRABALHO",null,null,0,0,0,null,null,null,null,null,0,0,null,null,null,null,null,null,0,0,null,null,0,0,0,null,0,null,null,4,null,null,null,null,null,null,null,null,null,null,null,null,null,null,null,null,null,null,null,null,null,null,null,null,null,0,0,0,0,0,"MODELO D - UNIDADE - N.º DE UNIDADES A APLICAR"]
[null,{"$f":"IF($B$76=\"ocultar\",\"ocultar\",IF('SA - ATIVIDADES'!$G$123=TRUE,IF('SA - ATIVIDADES'!$H$123>='SA - SERVICOS COMPLEMENTARES'!AH81,\"mostrar\",\"ocultar\"),\"ocultar\"))","v":"ocultar"},"Designação (a preencher)","MODELO A - TEMPO - N.º DE HORAS DE TRABALHO",null,null,0,0,0,null,null,null,null,null,0,0,null,null,null,null,null,null,0,0,null,null,0,0,0,null,0,null,null,5,null,null,null,null,null,null,null,null,null,null,null,null,null,null,null,null,null,null,null,null,null,null,null,null,null,0,0,0,0,0,"MODELO D - UNIDADE - N.º DE UNIDADES A APLICAR"]
[null,{"$f":"IF($B$76=\"ocultar\",\"ocultar\",IF('SA - ATIVIDADES'!$G$123=TRUE,IF('SA - ATIVIDADES'!$H$123>='SA - SERVICOS COMPLEMENTARES'!AH82,\"mostrar\",\"ocultar\"),\"ocultar\"))","v":"ocultar"},"Designação (a preencher)","MODELO A - TEMPO - N.º DE HORAS DE TRABALHO",null,null,0,0,0,null,null,null,null,null,0,0,null,null,null,null,null,null,0,0,null,null,0,0,0,null,0,null,null,6,null,null,null,null,null,null,null,null,null,null,null,null,null,null,null,null,null,null,null,null,null,null,null,null,null,0,0,0,0,0,"MODELO D - UNIDADE - N.º DE UNIDADES A APLICAR"]
[null,{"$f":"IF($B$76=\"ocultar\",\"ocultar\",IF('SA - ATIVIDADES'!$G$123=TRUE,IF('SA - ATIVIDADES'!$H$123>='SA - SERVICOS COMPLEMENTARES'!AH83,\"mostrar\",\"ocultar\"),\"ocultar\"))","v":"ocultar"},"Designação (a preencher)","MODELO A - TEMPO - N.º DE HORAS DE TRABALHO",null,null,0,0,0,null,null,null,null,null,0,0,null,null,null,null,null,null,0,0,null,null,0,0,0,null,0,null,null,7,null,null,null,null,null,null,null,null,null,null,null,null,null,null,null,null,null,null,null,null,null,null,null,null,null,0,0,0,0,0,"MODELO D - UNIDADE - N.º DE UNIDADES A APLICAR"]
[null,{"$f":"IF($B$76=\"ocultar\",\"ocultar\",IF('SA - ATIVIDADES'!$G$123=TRUE,IF('SA - ATIVIDADES'!$H$123>='SA - SERVICOS COMPLEMENTARES'!AH84,\"mostrar\",\"ocultar\"),\"ocultar\"))","v":"ocultar"},"Designação (a preencher)","MODELO A - TEMPO - N.º DE HORAS DE TRABALHO",null,null,0,0,0,null,null,null,null,null,0,0,null,null,null,null,null,null,0,0,null,null,0,0,0,null,0,null,null,8,null,null,null,null,null,null,null,null,null,null,null,null,null,null,null,null,null,null,null,null,null,null,null,null,null,0,0,0,0,0,"MODELO D - UNIDADE - N.º DE UNIDADES A APLICAR"]
[null,{"$f":"IF($B$76=\"ocultar\",\"ocultar\",IF('SA - ATIVIDADES'!$G$123=TRUE,IF('SA - ATIVIDADES'!$H$123>='SA - SERVICOS COMPLEMENTARES'!AH85,\"mostrar\",\"ocultar\"),\"ocultar\"))","v":"ocultar"},"Designação (a preencher)","MODELO A - TEMPO - N.º DE HORAS DE TRABALHO",null,null,0,0,0,null,null,null,null,null,0,0,null,null,null,null,null,null,0,0,null,null,0,0,0,null,0,null,null,9,null,null,null,null,null,null,null,null,null,null,null,null,null,null,null,null,null,null,null,null,null,null,null,null,null,0,0,0,0,0,"MODELO D - UNIDADE - N.º DE UNIDADES A APLICAR"]
[null,{"$f":"IF($B$76=\"ocultar\",\"ocultar\",IF('SA - ATIVIDADES'!$G$123=TRUE,IF('SA - ATIVIDADES'!$H$123>='SA - SERVICOS COMPLEMENTARES'!AH86,\"mostrar\",\"ocultar\"),\"ocultar\"))","v":"ocultar"},"Designação (a preencher)","MODELO A - TEMPO - N.º DE HORAS DE TRABALHO",null,null,0,0,0,null,null,null,null,null,0,0,null,null,null,null,null,null,0,0,null,null,0,0,0,null,0,null,null,10,null,null,null,null,null,null,null,null,null,null,null,null,null,null,null,null,null,null,null,null,null,null,null,null,null,0,0,0,0,0,"MODELO D - UNIDADE - N.º DE UNIDADES A APLICAR"]
[null,{"$f":"IF($B$77=\"ocultar\",\"ocultar\",\"mostrar\")","v":"ocultar"},"SUB-TOTAL",null,null,null,{"$f":"SUBTOTAL(109,G76:G86)","v":0},null,{"$f":"SUBTOTAL(109,I76:I86)","v":0},null,null,null,null,null,{"$f":"SUBTOTAL(9,O77:O86)","v":0},{"$f":"SUBTOTAL(9,P77:P86)","v":0},null,null,null,null,null,null,{"$f":"SUBTOTAL(9,W77:W86)","v":0},{"$f":"SUBTOTAL(9,X77:X86)","v":0},null,null,null,null,{"$f":"SUBTOTAL(109,AC77:AC86)","v":0},null,{"$f":"SUBTOTAL(109,AE77:AE86)","v":0},null,null,null,null,null,null,null,null,null,null,null,null,null,null,null,null,null,null,null,null,null,null,null,null,null,null,null,null,null,null,null,null,null,"MODELO D - UNIDADE - N.º DE UNIDADES A APLICAR"]
[null,{"$f":"IF($B$61=\"ocultar\",\"ocultar\",IF('SA - ATIVIDADES'!$G$121=\"Fase Única\",\"ocultar\",IF('SA - ATIVIDADES'!G124=TRUE,\"mostrar\",\"ocultar\")))","v":"ocultar"},"PROJETO - FASE DE ANTEPROJETO",null,null,null,null,null,null,null,null,null,null,null,null,null,null,null,null,null,null,null,null,null,null,null,null,null,null,null,null,null,null,null,null,null,null,null,null,null,null,null,null,null,null,null,null,null,null,null,null,null,null,null,null,null,null,null,null,null,null,null,null,null,"MODELO D - UNIDADE - N.º DE UNIDADES A APLICAR"]
[null,{"$f":"IF($B$88=\"ocultar\",\"ocultar\",IF('SA - ATIVIDADES'!$G$124=TRUE,IF('SA - ATIVIDADES'!$H$124>='SA - SERVICOS COMPLEMENTARES'!AH89,\"mostrar\",\"ocultar\"),\"ocultar\"))","v":"ocultar"},"Designação (a preencher)","MODELO A - TEMPO - N.º DE HORAS DE TRABALHO",null,null,0,{"$f":"$H$61","v":0},{"$f":"G89*H89","v":0},null,null,null,null,null,0,{"$f":"$P$61*O89","v":0},null,null,null,null,null,null,0,{"$f":"$X$61*W89","v":0},null,null,0,0,{"$f":"AA89*AB89","v":0},null,{"$f":"BL89","v":0},null,null,1,null,null,null,null,null,null,null,null,null,null,null,null,null,null,null,null,null,null,null,null,null,null,null,null,null,{"$f":"IF(OR(AND(LEFT($D$61,8)=\"MODELO M\", LEFT(D89,8)=\"MODELO A\"), AND(LEFT($D$61,8)=\"MODELO A\", $F$61=\"Atribuir valor detalhado por Fase/Elemento\")), I89, 0)","v":0},{"$f":"IF(OR(AND(LEFT($D$61,8)=\"MODELO M\", LEFT(D89,8)=\"MODELO B\"), AND(LEFT($D$61,8)=\"MODELO B\", $K$61=\"Atribuir valor detalhado por Fase/Elemento\")), P89, 0)","v":0},{"$f":"IF(OR(AND(LEFT($D$61,8)=\"MODELO M\", LEFT(D89,8)=\"MODELO C\"), AND(LEFT($D$61,8)=\"MODELO C\", $R$61=\"Atribuir valor detalhado por Fase/Elemento\")), X89, 0)","v":0},{"$f":"IF(OR(AND(LEFT($D$61,8)=\"MODELO M\", LEFT(D89,8)=\"MODELO D\"), AND(LEFT($D$61,8)=\"MODELO D\", $Z$61=\"Atribuir valor detalhado por Fase/Elemento\")), AC89, 0)","v":0},{"$f":"SUM(BH89:BK89)","v":0},"MODELO D - UNIDADE - N.º DE UNIDADES A APLICAR"]
[null,{"$f":"IF($B$88=\"ocultar\",\"ocultar\",IF('SA - ATIVIDADES'!$G$124=TRUE,IF('SA - ATIVIDADES'!$H$124>='SA - SERVICOS COMPLEMENTARES'!AH90,\"mostrar\",\"ocultar\"),\"ocultar\"))","v":"ocultar"},"Designação (a preencher)","MODELO A - TEMPO - N.º DE HORAS DE TRABALHO",null,null,0,0,0,null,null,null,null,null,0,{"$f":"$P$61*O90","v":0},null,null,null,null,null,null,0,{"$f":"$X$61*W90","v":0},null,null,0,0,0,null,0,null,null,2,null,null,null,null,null,null,null,null,null,null,null,null,null,null,null,null,null,null,null,null,null,null,null,null,null,0,0,0,0,0,"MODELO D - UNIDADE - N.º DE UNIDADES A APLICAR"]
[null,{"$f":"IF($B$88=\"ocultar\",\"ocultar\",IF('SA - ATIVIDADES'!$G$124=TRUE,IF('SA - ATIVIDADES'!$H$124>='SA - SERVICOS COMPLEMENTARES'!AH91,\"mostrar\",\"ocultar\"),\"ocultar\"))","v":"ocultar"},"Designação (a preencher)","MODELO A - TEMPO - N.º DE HORAS DE TRABALHO",null,null,0,0,0,null,null,null,null,null,0,0,null,null,null,null,null,null,0,0,null,null,0,0,0,null,0,null,null,3,null,null,null,null,null,null,null,null,null,null,null,null,null,null,null,null,null,null,null,null,null,null,null,null,null,0,0,0,0,0,"MODELO D - UNIDADE - N.º DE UNIDADES A APLICAR"]
[null,{"$f":"IF($B$88=\"ocultar\",\"ocultar\",IF('SA - ATIVIDADES'!$G$124=TRUE,IF('SA - ATIVIDADES'!$H$124>='SA - SERVICOS COMPLEMENTARES'!AH92,\"mostrar\",\"ocultar\"),\"ocultar\"))","v":"ocultar"},"Designação (a preencher)","MODELO A - TEMPO - N.º DE HORAS DE TRABALHO",null,null,0,0,0,null,null,null,null,null,0,0,null,null,null,null,null,null,0,0,null,null,0,0,0,null,0,null,null,4,null,null,null,null,null,null,null,null,null,null,null,null,null,null,null,null,null,null,null,null,null,null,null,null,null,0,0,0,0,0,"MODELO D - UNIDADE - N.º DE UNIDADES A APLICAR"]
[null,{"$f":"IF($B$88=\"ocultar\",\"ocultar\",IF('SA - ATIVIDADES'!$G$124=TRUE,IF('SA - ATIVIDADES'!$H$124>='SA - SERVICOS COMPLEMENTARES'!AH93,\"mostrar\",\"ocultar\"),\"ocultar\"))","v":"ocultar"},"Designação (a preencher)","MODELO A - TEMPO - N.º DE HORAS DE TRABALHO",null,null,0,0,0,null,null,null,null,null,0,0,null,null,null,null,null,null,0,0,null,null,0,0,0,null,0,null,null,5,null,null,null,null,null,null,null,null,null,null,null,null,null,null,null,null,null,null,null,null,null,null,null,null,null,0,0,0,0,0,"MODELO D - UNIDADE - N.º DE UNIDADES A APLICAR"]
[null,{"$f":"IF($B$88=\"ocultar\",\"ocultar\",IF('SA - ATIVIDADES'!$G$124=TRUE,IF('SA - ATIVIDADES'!$H$124>='SA - SERVICOS COMPLEMENTARES'!AH94,\"mostrar\",\"ocultar\"),\"ocultar\"))","v":"ocultar"},"Designação (a preencher)","MODELO A - TEMPO - N.º DE HORAS DE TRABALHO",null,null,0,0,0,null,null,null,null,null,0,0,null,null,null,null,null,null,0,0,null,null,0,0,0,null,0,null,null,6,null,null,null,null,null,null,null,null,null,null,null,null,null,null,null,null,null,null,null,null,null,null,null,null,null,0,0,0,0,0,"MODELO D - UNIDADE - N.º DE UNIDADES A APLICAR"]
[null,{"$f":"IF($B$88=\"ocultar\",\"ocultar\",IF('SA - ATIVIDADES'!$G$124=TRUE,IF('SA - ATIVIDADES'!$H$124>='SA - SERVICOS COMPLEMENTARES'!AH95,\"mostrar\",\"ocultar\"),\"ocultar\"))","v":"ocultar"},"Designação (a preencher)","MODELO A - TEMPO - N.º DE HORAS DE TRABALHO",null,null,0,0,0,null,null,null,null,null,0,0,null,null,null,null,null,null,0,0,null,null,0,0,0,null,0,null,null,7,null,null,null,null,null,null,null,null,null,null,null,null,null,null,null,null,null,null,null,null,null,null,null,null,null,0,0,0,0,0,"MODELO D - UNIDADE - N.º DE UNIDADES A APLICAR"]
[null,{"$f":"IF($B$88=\"ocultar\",\"ocultar\",IF('SA - ATIVIDADES'!$G$124=TRUE,IF('SA - ATIVIDADES'!$H$124>='SA - SERVICOS COMPLEMENTARES'!AH96,\"mostrar\",\"ocultar\"),\"ocultar\"))","v":"ocultar"},"Designação (a preencher)","MODELO A - TEMPO - N.º DE HORAS DE TRABALHO",null,null,0,0,0,null,null,null,null,null,0,0,null,null,null,null,null,null,0,0,null,null,0,0,0,null,0,null,null,8,null,null,null,null,null,null,null,null,null,null,null,null,null,null,null,null,null,null,null,null,null,null,null,null,null,0,0,0,0,0,"MODELO D - UNIDADE - N.º DE UNIDADES A APLICAR"]
[null,{"$f":"IF($B$88=\"ocultar\",\"ocultar\",IF('SA - ATIVIDADES'!$G$124=TRUE,IF('SA - ATIVIDADES'!$H$124>='SA - SERVICOS COMPLEMENTARES'!AH97,\"mostrar\",\"ocultar\"),\"ocultar\"))","v":"ocultar"},"Designação (a preencher)","MODELO A - TEMPO - N.º DE HORAS DE TRABALHO",null,null,0,0,0,null,null,null,null,null,0,0,null,null,null,null,null,null,0,0,null,null,0,0,0,null,0,null,null,9,null,null,null,null,null,null,null,null,null,null,null,null,null,null,null,null,null,null,null,null,null,null,null,null,null,0,0,0,0,0,"MODELO D - UNIDADE - N.º DE UNIDADES A APLICAR"]
[null,{"$f":"IF($B$88=\"ocultar\",\"ocultar\",IF('SA - ATIVIDADES'!$G$124=TRUE,IF('SA - ATIVIDADES'!$H$124>='SA - SERVICOS COMPLEMENTARES'!AH98,\"mostrar\",\"ocultar\"),\"ocultar\"))","v":"ocultar"},"Designação (a preencher)","MODELO A - TEMPO - N.º DE HORAS DE TRABALHO",null,null,0,0,0,null,null,null,null,null,0,0,null,null,null,null,null,null,0,0,null,null,0,0,0,null,0,null,null,10,null,null,null,null,null,null,null,null,null,null,null,null,null,null,null,null,null,null,null,null,null,null,null,null,null,0,0,0,0,0,"MODELO D - UNIDADE - N.º DE UNIDADES A APLICAR"]
[null,{"$f":"IF($B$89=\"ocultar\",\"ocultar\",\"mostrar\")","v":"ocultar"},"SUB-TOTAL",null,null,null,{"$f":"SUBTOTAL(109,G88:G98)","v":0},null,{"$f":"SUBTOTAL(109,I88:I98)","v":0},null,null,null,null,null,{"$f":"SUBTOTAL(9,O89:O98)","v":0},{"$f":"SUBTOTAL(9,P89:P98)","v":0},null,null,null,null,null,null,{"$f":"SUBTOTAL(9,W89:W98)","v":0},{"$f":"SUBTOTAL(9,X89:X98)","v":0},null,null,null,null,{"$f":"SUBTOTAL(109,AC89:AC98)","v":0},null,{"$f":"SUBTOTAL(109,AE89:AE98)","v":0},null,null,null,null,null,null,null,null,null,null,null,null,null,null,null,null,null,null,null,null,null,null,null,null,null,null,null,null,null,null,null,null,null,"MODELO D - UNIDADE - N.º DE UNIDADES A APLICAR"]
[null,{"$f":"IF($B$61=\"ocultar\",\"ocultar\",IF('SA - ATIVIDADES'!$G$121=\"Fase Única\",\"ocultar\",IF('SA - ATIVIDADES'!G125=TRUE,\"mostrar\",\"ocultar\")))","v":"ocultar"},"PROJETO  - FASE DE PROJETO DE EXECUÇÃO",null,null,null,null,null,null,null,null,null,null,null,null,null,null,null,null,null,null,null,null,null,null,null,null,null,null,null,null,null,null,null,null,null,null,null,null,null,null,null,null,null,null,null,null,null,null,null,null,null,null,null,null,null,null,null,null,null,null,null,null,null,"MODELO D - UNIDADE - N.º DE UNIDADES A APLICAR"]
[null,{"$f":"IF($B$100=\"ocultar\",\"ocultar\",IF('SA - ATIVIDADES'!$G$125=TRUE,IF('SA - ATIVIDADES'!$H$125>='SA - SERVICOS COMPLEMENTARES'!AH101,\"mostrar\",\"ocultar\"),\"ocultar\"))","v":"ocultar"},"Designação (a preencher)","MODELO A - TEMPO - N.º DE HORAS DE TRABALHO",null,null,0,{"$f":"$H$61","v":0},{"$f":"G101*H101","v":0},null,null,null,null,null,0,{"$f":"$P$61*O101","v":0},null,null,null,null,null,null,0,{"$f":"$X$61*W101","v":0},null,null,0,0,{"$f":"AA101*AB101","v":0},null,{"$f":"BL101","v":0},null,null,1,null,null,null,null,null,null,null,null,null,null,null,null,null,null,null,null,null,null,null,null,null,null,null,null,null,{"$f":"IF(OR(AND(LEFT($D$61,8)=\"MODELO M\", LEFT(D101,8)=\"MODELO A\"), AND(LEFT($D$61,8)=\"MODELO A\", $F$61=\"Atribuir valor detalhado por Fase/Elemento\")), I101, 0)","v":0},{"$f":"IF(OR(AND(LEFT($D$61,8)=\"MODELO M\", LEFT(D101,8)=\"MODELO B\"), AND(LEFT($D$61,8)=\"MODELO B\", $K$61=\"Atribuir valor detalhado por Fase/Elemento\")), P101, 0)","v":0},{"$f":"IF(OR(AND(LEFT($D$61,8)=\"MODELO M\", LEFT(D101,8)=\"MODELO C\"), AND(LEFT($D$61,8)=\"MODELO C\", $R$61=\"Atribuir valor detalhado por Fase/Elemento\")), X101, 0)","v":0},{"$f":"IF(OR(AND(LEFT($D$61,8)=\"MODELO M\", LEFT(D101,8)=\"MODELO D\"), AND(LEFT($D$61,8)=\"MODELO D\", $Z$61=\"Atribuir valor detalhado por Fase/Elemento\")), AC101, 0)","v":0},{"$f":"SUM(BH101:BK101)","v":0},"MODELO D - UNIDADE - N.º DE UNIDADES A APLICAR"]
[null,{"$f":"IF($B$100=\"ocultar\",\"ocultar\",IF('SA - ATIVIDADES'!$G$125=TRUE,IF('SA - ATIVIDADES'!$H$125>='SA - SERVICOS COMPLEMENTARES'!AH102,\"mostrar\",\"ocultar\"),\"ocultar\"))","v":"ocultar"},"Designação (a preencher)","MODELO A - TEMPO - N.º DE HORAS DE TRABALHO",null,null,0,0,0,null,null,null,null,null,0,{"$f":"$P$61*O102","v":0},null,null,null,null,null,null,0,{"$f":"$X$61*W102","v":0},null,null,0,0,0,null,0,null,null,2,null,null,null,null,null,null,null,null,null,null,null,null,null,null,null,null,null,null,null,null,null,null,null,null,null,0,0,0,0,0,"MODELO D - UNIDADE - N.º DE UNIDADES A APLICAR"]
[null,{"$f":"IF($B$100=\"ocultar\",\"ocultar\",IF('SA - ATIVIDADES'!$G$125=TRUE,IF('SA - ATIVIDADES'!$H$125>='SA - SERVICOS COMPLEMENTARES'!AH103,\"mostrar\",\"ocultar\"),\"ocultar\"))","v":"ocultar"},"Designação (a preencher)","MODELO A - TEMPO - N.º DE HORAS DE TRABALHO",null,null,0,0,0,null,null,null,null,null,0,0,null,null,null,null,null,null,0,0,null,null,0,0,0,null,0,null,null,3,null,null,null,null,null,null,null,null,null,null,null,null,null,null,null,null,null,null,null,null,null,null,null,null,null,0,0,0,0,0,"MODELO D - UNIDADE - N.º DE UNIDADES A APLICAR"]
[null,{"$f":"IF($B$100=\"ocultar\",\"ocultar\",IF('SA - ATIVIDADES'!$G$125=TRUE,IF('SA - ATIVIDADES'!$H$125>='SA - SERVICOS COMPLEMENTARES'!AH104,\"mostrar\",\"ocultar\"),\"ocultar\"))","v":"ocultar"},"Designação (a preencher)","MODELO A - TEMPO - N.º DE HORAS DE TRABALHO",null,null,0,0,0,null,null,null,null,null,0,0,null,null,null,null,null,null,0,0,null,null,0,0,0,null,0,null,null,4,null,null,null,null,null,null,null,null,null,null,null,null,null,null,null,null,null,null,null,null,null,null,null,null,null,0,0,0,0,0,"MODELO D - UNIDADE - N.º DE UNIDADES A APLICAR"]
[null,{"$f":"IF($B$100=\"ocultar\",\"ocultar\",IF('SA - ATIVIDADES'!$G$125=TRUE,IF('SA - ATIVIDADES'!$H$125>='SA - SERVICOS COMPLEMENTARES'!AH105,\"mostrar\",\"ocultar\"),\"ocultar\"))","v":"ocultar"},"Designação (a preencher)","MODELO A - TEMPO - N.º DE HORAS DE TRABALHO",null,null,0,0,0,null,null,null,null,null,0,0,null,null,null,null,null,null,0,0,null,null,0,0,0,null,0,null,null,5,null,null,null,null,null,null,null,null,null,null,null,null,null,null,null,null,null,null,null,null,null,null,null,null,null,0,0,0,0,0,"MODELO D - UNIDADE - N.º DE UNIDADES A APLICAR"]
[null,{"$f":"IF($B$100=\"ocultar\",\"ocultar\",IF('SA - ATIVIDADES'!$G$125=TRUE,IF('SA - ATIVIDADES'!$H$125>='SA - SERVICOS COMPLEMENTARES'!AH106,\"mostrar\",\"ocultar\"),\"ocultar\"))","v":"ocultar"},"Designação (a preencher)","MODELO A - TEMPO - N.º DE HORAS DE TRABALHO",null,null,0,0,0,null,null,null,null,null,0,0,null,null,null,null,null,null,0,0,null,null,0,0,0,null,0,null,null,6,null,null,null,null,null,null,null,null,null,null,null,null,null,null,null,null,null,null,null,null,null,null,null,null,null,0,0,0,0,0,"MODELO D - UNIDADE - N.º DE UNIDADES A APLICAR"]
[null,{"$f":"IF($B$100=\"ocultar\",\"ocultar\",IF('SA - ATIVIDADES'!$G$125=TRUE,IF('SA - ATIVIDADES'!$H$125>='SA - SERVICOS COMPLEMENTARES'!AH107,\"mostrar\",\"ocultar\"),\"ocultar\"))","v":"ocultar"},"Designação (a preencher)","MODELO A - TEMPO - N.º DE HORAS DE TRABALHO",null,null,0,0,0,null,null,null,null,null,0,0,null,null,null,null,null,null,0,0,null,null,0,0,0,null,0,null,null,7,null,null,null,null,null,null,null,null,null,null,null,null,null,null,null,null,null,null,null,null,null,null,null,null,null,0,0,0,0,0,"MODELO D - UNIDADE - N.º DE UNIDADES A APLICAR"]
[null,{"$f":"IF($B$100=\"ocultar\",\"ocultar\",IF('SA - ATIVIDADES'!$G$125=TRUE,IF('SA - ATIVIDADES'!$H$125>='SA - SERVICOS COMPLEMENTARES'!AH108,\"mostrar\",\"ocultar\"),\"ocultar\"))","v":"ocultar"},"Designação (a preencher)","MODELO A - TEMPO - N.º DE HORAS DE TRABALHO",null,null,0,0,0,null,null,null,null,null,0,0,null,null,null,null,null,null,0,0,null,null,0,0,0,null,0,null,null,8,null,null,null,null,null,null,null,null,null,null,null,null,null,null,null,null,null,null,null,null,null,null,null,null,null,0,0,0,0,0,"MODELO D - UNIDADE - N.º DE UNIDADES A APLICAR"]
[null,{"$f":"IF($B$100=\"ocultar\",\"ocultar\",IF('SA - ATIVIDADES'!$G$125=TRUE,IF('SA - ATIVIDADES'!$H$125>='SA - SERVICOS COMPLEMENTARES'!AH109,\"mostrar\",\"ocultar\"),\"ocultar\"))","v":"ocultar"},"Designação (a preencher)","MODELO A - TEMPO - N.º DE HORAS DE TRABALHO",null,null,0,0,0,null,null,null,null,null,0,0,null,null,null,null,null,null,0,0,null,null,0,0,0,null,0,null,null,9,null,null,null,null,null,null,null,null,null,null,null,null,null,null,null,null,null,null,null,null,null,null,null,null,null,0,0,0,0,0,"MODELO D - UNIDADE - N.º DE UNIDADES A APLICAR"]
[null,{"$f":"IF($B$100=\"ocultar\",\"ocultar\",IF('SA - ATIVIDADES'!$G$125=TRUE,IF('SA - ATIVIDADES'!$H$125>='SA - SERVICOS COMPLEMENTARES'!AH110,\"mostrar\",\"ocultar\"),\"ocultar\"))","v":"ocultar"},"Designação (a preencher)","MODELO A - TEMPO - N.º DE HORAS DE TRABALHO",null,null,0,0,0,null,null,null,null,null,0,0,null,null,null,null,null,null,0,0,null,null,0,0,0,null,0,null,null,10,null,null,null,null,null,null,null,null,null,null,null,null,null,null,null,null,null,null,null,null,null,null,null,null,null,0,0,0,0,0,"MODELO D - UNIDADE - N.º DE UNIDADES A APLICAR"]
[null,{"$f":"IF($B$101=\"ocultar\",\"ocultar\",\"mostrar\")","v":"ocultar"},"SUB-TOTAL",null,null,null,{"$f":"SUBTOTAL(109,G100:G110)","v":0},null,{"$f":"SUBTOTAL(109,I100:I110)","v":0},null,null,null,null,null,{"$f":"SUBTOTAL(9,O101:O110)","v":0},{"$f":"SUBTOTAL(9,P101:P110)","v":0},null,null,null,null,null,null,{"$f":"SUBTOTAL(9,W101:W110)","v":0},{"$f":"SUBTOTAL(9,X101:X110)","v":0},null,null,null,null,{"$f":"SUBTOTAL(109,AC101:AC110)","v":0},null,{"$f":"SUBTOTAL(109,AE101:AE110)","v":0},null,null,null,null,null,null,null,null,null,null,null,null,null,null,null,null,null,null,null,null,null,null,null,null,null,null,null,null,null,null,null,null,null,"MODELO D - UNIDADE - N.º DE UNIDADES A APLICAR"]
[null,{"$f":"IF($B$61=\"ocultar\",\"ocultar\",\"mostrar\")","v":"ocultar"},"TOTAL",null,null,null,{"$f":"IF($F61=\"Atribuir valor global à atividade\",G61,SUBTOTAL(109,G64:G111))","v":0},null,{"$f":"IF($F61=\"Atribuir valor global à atividade\",I61,SUBTOTAL(109,I64:I111))","v":0},null,null,null,null,null,{"$f":"IF($K$61=\"Atribuir valor global à atividade\",1,SUBTOTAL(109,O65:O111))","v":1},{"$f":"IF($F61=\"Atribuir valor global à atividade\",P61,SUBTOTAL(109,P65:P111))","v":0},null,null,null,null,null,null,{"$f":"IF($R61=\"Atribuir valor global à atividade\",1,SUBTOTAL(109,W65:W111))","v":1},{"$f":"IF($R61=\"Atribuir valor global à atividade\",X61,SUBTOTAL(109,X65:X111))","v":0},null,null,null,null,{"$f":"IF($Z61=\"Atribuir valor global à atividade\",AC61,SUBTOTAL(109,AC65:AC111))","v":0},null,{"$f":"BL61","v":0},null,null,null,null,null,null,null,null,null,null,null,null,null,null,null,null,null,null,null,null,null,null,null,null,null,null,null,null,null,null,null,null,null,"MODELO D - UNIDADE - N.º DE UNIDADES A APLICAR"]
[null,{"$f":"IF($B$61=\"ocultar\",\"ocultar\",\"mostrar\")","v":"ocultar"},null,null,null,null,null,null,null,null,null,null,null,null,null,null,null,null,null,null,null,null,null,null,null,null,null,null,null,null,null,null,null,null,null,null,null,null,null,null,null,null,null,null,null,null,null,null,null,null,null,null,null,null,null,null,null,null,null,null,null,null,null,null,"MODELO D - UNIDADE - N.º DE UNIDADES A APLICAR"]
[null,{"$f":"IF('SA - ATIVIDADES'!F128=TRUE,\"mostrar\",\"ocultar\")","v":"ocultar"},"B1. PROGRAMAS PRELIMINARES","MODELO A - TEMPO - N.º DE HORAS DE TRABALHO",null,"Atribuir valor global à atividade",0,0,{"$f":"IF($F$114=\"Atribuir valor global à atividade\",G114*H114,\"\")","v":0},null,"Atribuir valor global à atividade","Valor Global Obra (VG Obra)",{"$f":"IF(L114=\"Valor Global Obra (VG Obra)\",$M$9,\"\")","v":0},0,0,{"$f":"IF(L114=\"Valor Global Obra (VG Obra)\",M114*O114,N114*O114)","v":0},null,"Atribuir valor global à atividade","Valor/m2 fixo (VF m2)",{"$f":"IF(S114=\"Valor/m2 fixo (VF m2)\",$T$9,\"\")","v":0},0,0,null,{"$f":"IF(S114=\"Valor/m2 fixo (VF m2)\",T114*1*V114,U114*1*V114)","v":0},null,"Atribuir valor global à atividade",0,0,{"$f":"AA114*AB114","v":0},null,{"$f":"BL114","v":0},null,null,null,null,null,null,null,null,null,null,null,null,null,null,null,null,null,null,null,null,null,null,null,null,null,null,null,null,{"$f":"IF(LEFT($D$114,8)=\"MODELO A\",IF($F$114=\"Atribuir valor detalhado por Fase/Elemento\",SUBTOTAL(109,BH117:BH121),I114),IF(LEFT($D$114,8)=\"MODELO M\",SUBTOTAL(109,BH117:BH121),0))","v":0},{"$f":"IF(LEFT($D$114,8)=\"MODELO B\",IF($K$114=\"Atribuir valor detalhado por Fase/Elemento\",SUBTOTAL(109,BI117:BI121),P114),IF(LEFT($D$114,8)=\"MODELO M\",SUBTOTAL(109,BI117:BI121),0))","v":0},{"$f":"IF(LEFT($D$114,8)=\"MODELO C\",IF($R$114=\"Atribuir valor detalhado por Fase/Elemento\",SUBTOTAL(109,BJ117:BJ121),X114),IF(LEFT($D$114,8)=\"MODELO M\",SUBTOTAL(109,BJ117:BJ121),0))","v":0},{"$f":"IF(LEFT($D$114,8)=\"MODELO D\",IF($Z$114=\"Atribuir valor detalhado por Fase/Elemento\",SUBTOTAL(109,BK117:BK121),AC114),IF(LEFT($D$114,8)=\"MODELO M\",SUBTOTAL(109,BK117:BK121),0))","v":0},{"$f":"SUM(BH114:BK114)","v":0},"MODELO A - TEMPO - N.º DE HORAS DE TRABALHO"]
[null,{"$f":"IF($B$114=\"ocultar\",\"ocultar\",\"mostrar\")","v":"ocultar"},null,null,null,null,null,null,null,null,null,null,null,null,null,null,null,null,null,null,null,null,null,null,null,null,null,null,null,null,null,null,null,null,null,null,null,null,null,null,null,null,null,null,null,null,null,null,null,null,null,null,null,null,null,null,null,null,null,null,null,null,null,null,"MODELO A - TEMPO - N.º DE HORAS DE TRABALHO"]
[null,"ocultar",null,null,null,null,null,null,null,null,null,null,null,null,null,null,null,null,null,null,null,null,null,null,null,null,null,null,null,null,null,null,null,null,null,null,null,null,null,null,null,null,null,null,null,null,null,null,null,null,null,null,null,null,null,null,null,null,null,null,null,null,null,null,"MODELO A - TEMPO - N.º DE HORAS DE TRABALHO"]
[null,{"$f":"IF($B$114=\"ocultar\",\"ocultar\",IF('SA - ATIVIDADES'!$H$128>='SA - SERVICOS COMPLEMENTARES'!AH117,\"mostrar\",\"ocultar\"))","v":"ocultar"},"Designação (a preencher)","MODELO A - TEMPO - N.º DE HORAS DE TRABALHO",null,null,0,{"$f":"$H$114","v":0},{"$f":"G117*H117","v":0},null,null,null,null,null,0,{"$f":"$P$114*O117","v":0},null,null,null,null,null,null,0,{"$f":"$X$114*W117","v":0},null,null,0,0,{"$f":"AA117*AB117","v":0},null,{"$f":"BL117","v":0},null,null,1,null,null,null,null,null,null,null,null,null,null,null,null,null,null,null,null,null,null,null,null,null,null,null,null,null,{"$f":"IF(OR(AND(LEFT($D$114,8)=\"MODELO M\", LEFT(D117,8)=\"MODELO A\"), AND(LEFT($D$114,8)=\"MODELO A\", $F$114=\"Atribuir valor detalhado por Fase/Elemento\")), I117, 0)","v":0},{"$f":"IF(OR(AND(LEFT($D$114,8)=\"MODELO M\", LEFT(D117,8)=\"MODELO B\"), AND(LEFT($D$114,8)=\"MODELO B\", $K$114=\"Atribuir valor detalhado por Fase/Elemento\")), P117, 0)","v":0},{"$f":"IF(OR(AND(LEFT($D$114,8)=\"MODELO M\", LEFT(D117,8)=\"MODELO C\"), AND(LEFT($D$114,8)=\"MODELO C\", $R$114=\"Atribuir valor detalhado por Fase/Elemento\")), X117, 0)","v":0},{"$f":"IF(OR(AND(LEFT($D$114,8)=\"MODELO M\", LEFT(D117,8)=\"MODELO D\"), AND(LEFT($D$114,8)=\"MODELO D\", $Z$114=\"Atribuir valor detalhado por Fase/Elemento\")), AC117, 0)","v":0},{"$f":"SUM(BH117:BK117)","v":0},{"$f":"IF($AH117<>\"\",BM116,IF(LEFT($D117,6)=\"MODELO\",$D117,BM116))","v":"MODELO A - TEMPO - N.º DE HORAS DE TRABALHO"}]
[null,{"$f":"IF($B$114=\"ocultar\",\"ocultar\",IF('SA - ATIVIDADES'!$H$128>='SA - SERVICOS COMPLEMENTARES'!AH118,\"mostrar\",\"ocultar\"))","v":"ocultar"},"Designação (a preencher)","MODELO A - TEMPO - N.º DE HORAS DE TRABALHO",null,null,0,{"$f":"$H$114","v":0},{"$f":"G118*H118","v":0},null,null,null,null,null,0,{"$f":"$P$114*O118","v":0},null,null,null,null,null,null,0,{"$f":"$X$114*W118","v":0},null,null,0,0,0,null,{"$f":"BL118","v":0},null,null,2,null,null,null,null,null,null,null,null,null,null,null,null,null,null,null,null,null,null,null,null,null,null,null,null,null,{"$f":"IF(OR(AND(LEFT($D$114,8)=\"MODELO M\", LEFT(D118,8)=\"MODELO A\"), AND(LEFT($D$114,8)=\"MODELO A\", $F$114=\"Atribuir valor detalhado por Fase/Elemento\")), I118, 0)","v":0},{"$f":"IF(OR(AND(LEFT($D$114,8)=\"MODELO M\", LEFT(D118,8)=\"MODELO B\"), AND(LEFT($D$114,8)=\"MODELO B\", $K$114=\"Atribuir valor detalhado por Fase/Elemento\")), P118, 0)","v":0},{"$f":"IF(OR(AND(LEFT($D$114,8)=\"MODELO M\", LEFT(D118,8)=\"MODELO C\"), AND(LEFT($D$114,8)=\"MODELO C\", $R$114=\"Atribuir valor detalhado por Fase/Elemento\")), X118, 0)","v":0},{"$f":"IF(OR(AND(LEFT($D$114,8)=\"MODELO M\", LEFT(D118,8)=\"MODELO D\"), AND(LEFT($D$114,8)=\"MODELO D\", $Z$114=\"Atribuir valor detalhado por Fase/Elemento\")), AC118, 0)","v":0},{"$f":"SUM(BH118:BK118)","v":0},"MODELO A - TEMPO - N.º DE HORAS DE TRABALHO"]
[null,{"$f":"IF($B$114=\"ocultar\",\"ocultar\",IF('SA - ATIVIDADES'!$H$128>='SA - SERVICOS COMPLEMENTARES'!AH119,\"mostrar\",\"ocultar\"))","v":"ocultar"},"Designação (a preencher)","MODELO A - TEMPO - N.º DE HORAS DE TRABALHO",null,null,0,{"$f":"$H$114","v":0},{"$f":"G119*H119","v":0},null,null,null,null,null,0,0,null,null,null,null,null,null,0,0,null,null,0,0,0,null,{"$f":"BL119","v":0},null,null,3,null,null,null,null,null,null,null,null,null,null,null,null,null,null,null,null,null,null,null,null,null,null,null,null,null,{"$f":"IF(OR(AND(LEFT($D$114,8)=\"MODELO M\", LEFT(D119,8)=\"MODELO A\"), AND(LEFT($D$114,8)=\"MODELO A\", $F$114=\"Atribuir valor detalhado por Fase/Elemento\")), I119, 0)","v":0},{"$f":"IF(OR(AND(LEFT($D$114,8)=\"MODELO M\", LEFT(D119,8)=\"MODELO B\"), AND(LEFT($D$114,8)=\"MODELO B\", $K$114=\"Atribuir valor detalhado por Fase/Elemento\")), P119, 0)","v":0},{"$f":"IF(OR(AND(LEFT($D$114,8)=\"MODELO M\", LEFT(D119,8)=\"MODELO C\"), AND(LEFT($D$114,8)=\"MODELO C\", $R$114=\"Atribuir valor detalhado por Fase/Elemento\")), X119, 0)","v":0},{"$f":"IF(OR(AND(LEFT($D$114,8)=\"MODELO M\", LEFT(D119,8)=\"MODELO D\"), AND(LEFT($D$114,8)=\"MODELO D\", $Z$114=\"Atribuir valor detalhado por Fase/Elemento\")), AC119, 0)","v":0},{"$f":"SUM(BH119:BK119)","v":0},"MODELO A - TEMPO - N.º DE HORAS DE TRABALHO"]
[null,{"$f":"IF($B$114=\"ocultar\",\"ocultar\",IF('SA - ATIVIDADES'!$H$128>='SA - SERVICOS COMPLEMENTARES'!AH120,\"mostrar\",\"ocultar\"))","v":"ocultar"},"Designação (a preencher)","MODELO A - TEMPO - N.º DE HORAS DE TRABALHO",null,null,0,{"$f":"$H$114","v":0},{"$f":"G120*H120","v":0},null,null,null,null,null,0,0,null,null,null,null,null,null,0,0,null,null,0,0,0,null,{"$f":"BL120","v":0},null,null,4,null,null,null,null,null,null,null,null,null,null,null,null,null,null,null,null,null,null,null,null,null,null,null,null,null,{"$f":"IF(OR(AND(LEFT($D$114,8)=\"MODELO M\", LEFT(D120,8)=\"MODELO A\"), AND(LEFT($D$114,8)=\"MODELO A\", $F$114=\"Atribuir valor detalhado por Fase/Elemento\")), I120, 0)","v":0},{"$f":"IF(OR(AND(LEFT($D$114,8)=\"MODELO M\", LEFT(D120,8)=\"MODELO B\"), AND(LEFT($D$114,8)=\"MODELO B\", $K$114=\"Atribuir valor detalhado por Fase/Elemento\")), P120, 0)","v":0},{"$f":"IF(OR(AND(LEFT($D$114,8)=\"MODELO M\", LEFT(D120,8)=\"MODELO C\"), AND(LEFT($D$114,8)=\"MODELO C\", $R$114=\"Atribuir valor detalhado por Fase/Elemento\")), X120, 0)","v":0},{"$f":"IF(OR(AND(LEFT($D$114,8)=\"MODELO M\", LEFT(D120,8)=\"MODELO D\"), AND(LEFT($D$114,8)=\"MODELO D\", $Z$114=\"Atribuir valor detalhado por Fase/Elemento\")), AC120, 0)","v":0},{"$f":"SUM(BH120:BK120)","v":0},"MODELO A - TEMPO - N.º DE HORAS DE TRABALHO"]
[null,{"$f":"IF($B$114=\"ocultar\",\"ocultar\",IF('SA - ATIVIDADES'!$H$128>='SA - SERVICOS COMPLEMENTARES'!AH121,\"mostrar\",\"ocultar\"))","v":"ocultar"},"Designação (a preencher)","MODELO A - TEMPO - N.º DE HORAS DE TRABALHO",null,null,0,{"$f":"$H$114","v":0},{"$f":"G121*H121","v":0},null,null,null,null,null,0,0,null,null,null,null,null,null,0,0,null,null,0,0,0,null,{"$f":"BL121","v":0},null,null,5,null,null,null,null,null,null,null,null,null,null,null,null,null,null,null,null,null,null,null,null,null,null,null,null,null,{"$f":"IF(OR(AND(LEFT($D$114,8)=\"MODELO M\", LEFT(D121,8)=\"MODELO A\"), AND(LEFT($D$114,8)=\"MODELO A\", $F$114=\"Atribuir valor detalhado por Fase/Elemento\")), I121, 0)","v":0},{"$f":"IF(OR(AND(LEFT($D$114,8)=\"MODELO M\", LEFT(D121,8)=\"MODELO B\"), AND(LEFT($D$114,8)=\"MODELO B\", $K$114=\"Atribuir valor detalhado por Fase/Elemento\")), P121, 0)","v":0},{"$f":"IF(OR(AND(LEFT($D$114,8)=\"MODELO M\", LEFT(D121,8)=\"MODELO C\"), AND(LEFT($D$114,8)=\"MODELO C\", $R$114=\"Atribuir valor detalhado por Fase/Elemento\")), X121, 0)","v":0},{"$f":"IF(OR(AND(LEFT($D$114,8)=\"MODELO M\", LEFT(D121,8)=\"MODELO D\"), AND(LEFT($D$114,8)=\"MODELO D\", $Z$114=\"Atribuir valor detalhado por Fase/Elemento\")), AC121, 0)","v":0},{"$f":"SUM(BH121:BK121)","v":0},"MODELO A - TEMPO - N.º DE HORAS DE TRABALHO"]
[null,{"$f":"IF($B$114=\"ocultar\",\"ocultar\",\"mostrar\")","v":"ocultar"},"TOTAL",null,null,null,{"$f":"IF(F$114=\"Atribuir valor global à atividade\",G114,SUBTOTAL(109,G117:G121))","v":0},null,{"$f":"IF($F114=\"Atribuir valor global à atividade\",I114,SUBTOTAL(109,I117:I121))","v":0},null,null,null,null,null,{"$f":"IF($K114=\"Atribuir valor global à atividade\",1,SUBTOTAL(109,O117:O121))","v":1},{"$f":"IF($K114=\"Atribuir valor global à atividade\",P114,SUBTOTAL(109,P117:P121))","v":0},null,null,null,null,null,null,{"$f":"IF($R114=\"Atribuir valor global à atividade\",1,SUBTOTAL(109,W117:W121))","v":1},{"$f":"IF($R114=\"Atribuir valor global à atividade\",X114,SUBTOTAL(109,X117:X121))","v":0},null,null,null,null,{"$f":"IF($Z114=\"Atribuir valor global à atividade\",AC114,SUBTOTAL(109,AC117:AC121))","v":0},null,{"$f":"SUBTOTAL(109,AE117:AE121)","v":0},null,null,null,null,null,null,null,null,null,null,null,null,null,null,null,null,null,null,null,null,null,null,null,null,null,null,null,null,null,null,null,null,null,"MODELO A - TEMPO - N.º DE HORAS DE TRABALHO"]
[null,{"$f":"IF($B$114=\"ocultar\",\"ocultar\",\"mostrar\")","v":"ocultar"},null,null,null,null,null,null,null,null,null,null,null,null,null,null,null,null,null,null,null,null,null,null,null,null,null,null,null,null,null,null,null,null,null,null,null,null,null,null,null,null,null,null,null,null,null,null,null,null,null,null,null,null,null,null,null,null,null,null,null,null,null,null,"MODELO A - TEMPO - N.º DE HORAS DE TRABALHO"]
[null,{"$f":"IF('SA - ATIVIDADES'!F129=TRUE,\"mostrar\",\"ocultar\")","v":"ocultar"},"B2. ESBOÇO","MODELO A - TEMPO - N.º DE HORAS DE TRABALHO",null,"Atribuir valor global à atividade",0,0,{"$f":"IF(F124=\"Atribuir valor global à atividade\",G124*H124,\"\")","v":0},null,"Atribuir valor global à atividade","Valor Global Obra (VG Obra)",{"$f":"IF(L124=\"Valor Global Obra (VG Obra)\",$M$9,\"\")","v":0},0,0,{"$f":"IF(L124=\"Valor Global Obra (VG Obra)\",M124*O124,N124*O124)","v":0},null,"Atribuir valor global à atividade","Valor/m2 fixo (VF m2)",{"$f":"IF(S124=\"Valor/m2 fixo (VF m2)\",$T$9,\"\")","v":0},0,0,null,{"$f":"IF(S124=\"Valor/m2 fixo (VF m2)\",T124*1*V124,U124*1*V124)","v":0},null,"Atribuir valor global à atividade",0,0,{"$f":"AA124*AB124","v":0},null,{"$f":"BL124","v":0},null,null,null,null,null,null,null,null,null,null,null,null,null,null,null,null,null,null,null,null,null,null,null,null,null,null,null,null,{"$f":"IF(LEFT($D$124,8)=\"MODELO A\",IF($F$124=\"Atribuir valor detalhado por Fase/Elemento\",SUBTOTAL(109,BH127:BH131),I124),IF(LEFT($D$124,8)=\"MODELO M\",SUBTOTAL(109,BH127:BH131),0))","v":0},{"$f":"IF(LEFT($D$124,8)=\"MODELO B\",IF($K$124=\"Atribuir valor detalhado por Fase/Elemento\",SUBTOTAL(109,BI127:BI131),P124),IF(LEFT($D$124,8)=\"MODELO M\",SUBTOTAL(109,BI127:BI131),0))","v":0},{"$f":"IF(LEFT($D$124,8)=\"MODELO C\",IF($R$124=\"Atribuir valor detalhado por Fase/Elemento\",SUBTOTAL(109,BJ127:BJ131),X124),IF(LEFT($D$124,8)=\"MODELO M\",SUBTOTAL(109,BJ127:BJ131),0))","v":0},{"$f":"IF(LEFT($D$124,8)=\"MODELO D\",IF($Z$124=\"Atribuir valor detalhado por Fase/Elemento\",SUBTOTAL(109,BK127:BK131),AC124),IF(LEFT($D$124,8)=\"MODELO M\",SUBTOTAL(109,BK127:BK131),0))","v":0},{"$f":"SUM(BH124:BK124)","v":0},"MODELO A - TEMPO - N.º DE HORAS DE TRABALHO"]
[null,{"$f":"IF(B$124=\"ocultar\",\"ocultar\",\"mostrar\")","v":"ocultar"},null,null,null,null,null,null,null,null,null,null,null,null,null,null,null,null,null,null,null,null,null,null,null,null,null,null,null,null,null,null,null,null,null,null,null,null,null,null,null,null,null,null,null,null,null,null,null,null,null,null,null,null,null,null,null,null,null,null,null,null,null,null,"MODELO A - TEMPO - N.º DE HORAS DE TRABALHO"]
[null,"ocultar",null,null,null,null,null,null,null,null,null,null,null,null,null,null,null,null,null,null,null,null,null,null,null,null,null,null,null,null,null,null,null,null,null,null,null,null,null,null,null,null,null,null,null,null,null,null,null,null,null,null,null,null,null,null,null,null,null,null,null,null,null,null,"MODELO A - TEMPO - N.º DE HORAS DE TRABALHO"]
[null,{"$f":"IF($B$124=\"ocultar\",\"ocultar\",IF('SA - ATIVIDADES'!$H$129>='SA - SERVICOS COMPLEMENTARES'!AH127,\"mostrar\",\"ocultar\"))","v":"ocultar"},"Designação (a preencher)","MODELO A - TEMPO - N.º DE HORAS DE TRABALHO",null,null,0,{"$f":"$H$124","v":0},{"$f":"G127*H127","v":0},null,null,null,null,null,0,{"$f":"$P$124*O127","v":0},null,null,null,null,null,null,0,{"$f":"$X$124*W127","v":0},null,null,0,0,{"$f":"AA127*AB127","v":0},null,{"$f":"BL127","v":0},null,null,1,null,null,null,null,null,null,null,null,null,null,null,null,null,null,null,null,null,null,null,null,null,null,null,null,null,{"$f":"IF(OR(AND(LEFT($D$124,8)=\"MODELO M\", LEFT(D127,8)=\"MODELO A\"), AND(LEFT($D$124,8)=\"MODELO A\", $F$124=\"Atribuir valor detalhado por Fase/Elemento\")), I127, 0)","v":0},{"$f":"IF(OR(AND(LEFT($D$124,8)=\"MODELO M\", LEFT(D127,8)=\"MODELO B\"), AND(LEFT($D$124,8)=\"MODELO B\", $K$124=\"Atribuir valor detalhado por Fase/Elemento\")), P127, 0)","v":0},{"$f":"IF(OR(AND(LEFT($D$124,8)=\"MODELO M\", LEFT(D127,8)=\"MODELO C\"), AND(LEFT($D$124,8)=\"MODELO C\", $R$124=\"Atribuir valor detalhado por Fase/Elemento\")), X127, 0)","v":0},{"$f":"IF(OR(AND(LEFT($D$124,8)=\"MODELO M\", LEFT(D127,8)=\"MODELO D\"), AND(LEFT($D$124,8)=\"MODELO D\", $Z$124=\"Atribuir valor detalhado por Fase/Elemento\")), AC127, 0)","v":0},{"$f":"SUM(BH127:BK127)","v":0},"MODELO A - TEMPO - N.º DE HORAS DE TRABALHO"]
[null,{"$f":"IF($B$124=\"ocultar\",\"ocultar\",IF('SA - ATIVIDADES'!$H$129>='SA - SERVICOS COMPLEMENTARES'!AH128,\"mostrar\",\"ocultar\"))","v":"ocultar"},"Designação (a preencher)","MODELO A - TEMPO - N.º DE HORAS DE TRABALHO",null,null,0,{"$f":"$H$124","v":0},{"$f":"G128*H128","v":0},null,null,null,null,null,0,{"$f":"$P$124*O128","v":0},null,null,null,null,null,null,0,{"$f":"$X$124*W128","v":0},null,null,0,0,0,null,{"$f":"BL128","v":0},null,null,2,null,null,null,null,null,null,null,null,null,null,null,null,null,null,null,null,null,null,null,null,null,null,null,null,null,{"$f":"IF(OR(AND(LEFT($D$124,8)=\"MODELO M\", LEFT(D128,8)=\"MODELO A\"), AND(LEFT($D$124,8)=\"MODELO A\", $F$124=\"Atribuir valor detalhado por Fase/Elemento\")), I128, 0)","v":0},{"$f":"IF(OR(AND(LEFT($D$124,8)=\"MODELO M\", LEFT(D128,8)=\"MODELO B\"), AND(LEFT($D$124,8)=\"MODELO B\", $K$124=\"Atribuir valor detalhado por Fase/Elemento\")), P128, 0)","v":0},{"$f":"IF(OR(AND(LEFT($D$124,8)=\"MODELO M\", LEFT(D128,8)=\"MODELO C\"), AND(LEFT($D$124,8)=\"MODELO C\", $R$124=\"Atribuir valor detalhado por Fase/Elemento\")), X128, 0)","v":0},{"$f":"IF(OR(AND(LEFT($D$124,8)=\"MODELO M\", LEFT(D128,8)=\"MODELO D\"), AND(LEFT($D$124,8)=\"MODELO D\", $Z$124=\"Atribuir valor detalhado por Fase/Elemento\")), AC128, 0)","v":0},{"$f":"SUM(BH128:BK128)","v":0},"MODELO A - TEMPO - N.º DE HORAS DE TRABALHO"]
[null,{"$f":"IF($B$124=\"ocultar\",\"ocultar\",IF('SA - ATIVIDADES'!$H$129>='SA - SERVICOS COMPLEMENTARES'!AH129,\"mostrar\",\"ocultar\"))","v":"ocultar"},"Designação (a preencher)","MODELO A - TEMPO - N.º DE HORAS DE TRABALHO",null,null,0,{"$f":"$H$124","v":0},{"$f":"G129*H129","v":0},null,null,null,null,null,0,0,null,null,null,null,null,null,0,0,null,null,0,0,0,null,{"$f":"BL129","v":0},null,null,3,null,null,null,null,null,null,null,null,null,null,null,null,null,null,null,null,null,null,null,null,null,null,null,null,null,0,0,0,0,{"$f":"SUM(BH129:BK129)","v":0},"MODELO A - TEMPO - N.º DE HORAS DE TRABALHO"]
[null,{"$f":"IF($B$124=\"ocultar\",\"ocultar\",IF('SA - ATIVIDADES'!$H$129>='SA - SERVICOS COMPLEMENTARES'!AH130,\"mostrar\",\"ocultar\"))","v":"ocultar"},"Designação (a preencher)","MODELO A - TEMPO - N.º DE HORAS DE TRABALHO",null,null,0,{"$f":"$H$124","v":0},{"$f":"G130*H130","v":0},null,null,null,null,null,0,0,null,null,null,null,null,null,0,0,null,null,0,0,0,null,{"$f":"BL130","v":0},null,null,4,null,null,null,null,null,null,null,null,null,null,null,null,null,null,null,null,null,null,null,null,null,null,null,null,null,0,0,0,0,{"$f":"SUM(BH130:BK130)","v":0},"MODELO A - TEMPO - N.º DE HORAS DE TRABALHO"]
[null,{"$f":"IF($B$124=\"ocultar\",\"ocultar\",IF('SA - ATIVIDADES'!$H$129>='SA - SERVICOS COMPLEMENTARES'!AH131,\"mostrar\",\"ocultar\"))","v":"ocultar"},"Designação (a preencher)","MODELO A - TEMPO - N.º DE HORAS DE TRABALHO",null,null,0,{"$f":"$H$124","v":0},{"$f":"G131*H131","v":0},null,null,null,null,null,0,0,null,null,null,null,null,null,0,0,null,null,0,0,0,null,{"$f":"BL131","v":0},null,null,5,null,null,null,null,null,null,null,null,null,null,null,null,null,null,null,null,null,null,null,null,null,null,null,null,null,0,0,0,0,{"$f":"SUM(BH131:BK131)","v":0},"MODELO A - TEMPO - N.º DE HORAS DE TRABALHO"]
[null,{"$f":"IF($B$124=\"ocultar\",\"ocultar\",\"mostrar\")","v":"ocultar"},"TOTAL",null,null,null,{"$f":"IF($F124=\"Atribuir valor global à atividade\",G124,SUBTOTAL(109,G127:G131))","v":0},null,{"$f":"IF($F124=\"Atribuir valor global à atividade\",I124,SUBTOTAL(109,I127:I131))","v":0},null,null,null,null,null,{"$f":"IF($K124=\"Atribuir valor global à atividade\",1,SUBTOTAL(109,O127:O131))","v":1},{"$f":"IF($K124=\"Atribuir valor global à atividade\",P124,SUBTOTAL(109,P127:P131))","v":0},null,null,null,null,null,null,{"$f":"IF($R124=\"Atribuir valor global à atividade\",1,SUBTOTAL(109,W127:W131))","v":1},{"$f":"IF($R124=\"Atribuir valor global à atividade\",X124,SUBTOTAL(109,X127:X131))","v":0},null,null,null,null,{"$f":"IF($Z124=\"Atribuir valor global à atividade\",AC124,SUBTOTAL(109,AC127:AC131))","v":0},null,{"$f":"SUBTOTAL(109,AE127:AE131)","v":0},null,null,null,null,null,null,null,null,null,null,null,null,null,null,null,null,null,null,null,null,null,null,null,null,null,null,null,null,null,null,null,null,null,"MODELO A - TEMPO - N.º DE HORAS DE TRABALHO"]
[null,{"$f":"IF($B$124=\"ocultar\",\"ocultar\",\"mostrar\")","v":"ocultar"},null,null,null,null,null,null,null,null,null,null,null,null,null,null,null,null,null,null,null,null,null,null,null,null,null,null,null,null,null,null,null,null,null,null,null,null,null,null,null,null,null,null,null,null,null,null,null,null,null,null,null,null,null,null,null,null,null,null,null,null,null,null,"MODELO A - TEMPO - N.º DE HORAS DE TRABALHO"]
[null,{"$f":"IF('SA - ATIVIDADES'!F130=TRUE,\"mostrar\",\"ocultar\")","v":"ocultar"},"B3. LEVANTAMENTO ARQUITETÓNICO","MODELO A - TEMPO - N.º DE HORAS DE TRABALHO",null,"Atribuir valor global à atividade",0,0,{"$f":"IF($F$134=\"Atribuir valor global à atividade\",G134*H134,\"\")","v":0},null,"Atribuir valor global à atividade","Valor Global Obra (VG Obra)",{"$f":"IF(L134=\"Valor Global Obra (VG Obra)\",$M$9,\"\")","v":0},0,0,{"$f":"IF(L134=\"Valor Global Obra (VG Obra)\",M134*O134,N134*O134)","v":0},null,"Atribuir valor global à atividade","Valor/m2 fixo (VF m2)",{"$f":"IF(S134=\"Valor/m2 fixo (VF m2)\",$T$9,\"\")","v":0},0,0,null,{"$f":"IF(S134=\"Valor/m2 fixo (VF m2)\",T134*1*V134,U134*1*V134)","v":0},null,"Atribuir valor global à atividade",0,0,{"$f":"AA134*AB134","v":0},null,{"$f":"BL134","v":0},null,null,null,null,null,null,null,null,null,null,null,null,null,null,null,null,null,null,null,null,null,null,null,null,null,null,null,null,{"$f":"IF(LEFT($D$134,8)=\"MODELO A\",IF($F$134=\"Atribuir valor detalhado por Fase/Elemento\",SUBTOTAL(109,BH137:BH141),I134),IF(LEFT($D$134,8)=\"MODELO M\",SUBTOTAL(109,BH137:BH141),0))","v":0},{"$f":"IF(LEFT($D$134,8)=\"MODELO B\",IF($K$134=\"Atribuir valor detalhado por Fase/Elemento\",SUBTOTAL(109,BI137:BI141),P134),IF(LEFT($D$134,8)=\"MODELO M\",SUBTOTAL(109,BI137:BI141),0))","v":0},{"$f":"IF(LEFT($D$134,8)=\"MODELO C\",IF($R$134=\"Atribuir valor detalhado por Fase/Elemento\",SUBTOTAL(109,BJ137:BJ141),X134),IF(LEFT($D$134,8)=\"MODELO M\",SUBTOTAL(109,BJ137:BJ141),0))","v":0},{"$f":"IF(LEFT($D$134,8)=\"MODELO D\",IF($Z$134=\"Atribuir valor detalhado por Fase/Elemento\",SUBTOTAL(109,BK137:BK141),AC134),IF(LEFT($D$134,8)=\"MODELO M\",SUBTOTAL(109,BK137:BK141),0))","v":0},{"$f":"SUM(BH134:BK134)","v":0},"MODELO A - TEMPO - N.º DE HORAS DE TRABALHO"]
[null,{"$f":"IF($B$134=\"ocultar\",\"ocultar\",\"mostrar\")","v":"ocultar"},null,null,null,null,null,null,null,null,null,null,null,null,null,null,null,null,null,null,null,null,null,null,null,null,null,null,null,null,null,null,null,null,null,null,null,null,null,null,null,null,null,null,null,null,null,null,null,null,null,null,null,null,null,null,null,null,null,null,null,null,null,null,"MODELO A - TEMPO - N.º DE HORAS DE TRABALHO"]
[null,"ocultar",null,null,null,null,null,null,null,null,null,null,null,null,null,null,null,null,null,null,null,null,null,null,null,null,null,null,null,null,null,null,null,null,null,null,null,null,null,null,null,null,null,null,null,null,null,null,null,null,null,null,null,null,null,null,null,null,null,null,null,null,null,null,"MODELO A - TEMPO - N.º DE HORAS DE TRABALHO"]
[null,{"$f":"IF($B$134=\"ocultar\",\"ocultar\",IF('SA - ATIVIDADES'!$H$130>='SA - SERVICOS COMPLEMENTARES'!AH137,\"mostrar\",\"ocultar\"))","v":"ocultar"},"Designação (a preencher)","MODELO A - TEMPO - N.º DE HORAS DE TRABALHO",null,null,0,{"$f":"$H$134","v":0},{"$f":"G137*H137","v":0},null,null,null,null,null,0,{"$f":"$P$134*O137","v":0},null,null,null,null,null,null,0,{"$f":"$X$134*W137","v":0},null,null,0,0,0,null,{"$f":"BL137","v":0},null,null,1,null,null,null,null,null,null,null,null,null,null,null,null,null,null,null,null,null,null,null,null,null,null,null,null,null,{"$f":"IF(OR(AND(LEFT($D$134,8)=\"MODELO M\",LEFT(D137,8)=\"MODELO A\"),AND(LEFT($D$134,8)=\"MODELO A\",$F$134=\"Atribuir valor detalhado por Fase/Elemento\")),I137,0)","v":0},{"$f":"IF(OR(AND(LEFT($D$134,8)=\"MODELO M\",LEFT(D137,8)=\"MODELO B\"),AND(LEFT($D$134,8)=\"MODELO B\",$K$134=\"Atribuir valor detalhado por Fase/Elemento\")),P137,0)","v":0},{"$f":"IF(OR(AND(LEFT($D$134,8)=\"MODELO M\",LEFT(D137,8)=\"MODELO C\"),AND(LEFT($D$134,8)=\"MODELO C\",$R$134=\"Atribuir valor detalhado por Fase/Elemento\")),X137,0)","v":0},{"$f":"IF(OR(AND(LEFT($D$134,8)=\"MODELO M\",LEFT(D137,8)=\"MODELO D\"),AND(LEFT($D$134,8)=\"MODELO D\",$Z$134=\"Atribuir valor detalhado por Fase/Elemento\")),AC137,0)","v":0},{"$f":"SUM(BH137:BK137)","v":0},"MODELO A - TEMPO - N.º DE HORAS DE TRABALHO"]
[null,{"$f":"IF($B$134=\"ocultar\",\"ocultar\",IF('SA - ATIVIDADES'!$H$130>='SA - SERVICOS COMPLEMENTARES'!AH138,\"mostrar\",\"ocultar\"))","v":"ocultar"},"Designação (a preencher)","MODELO A - TEMPO - N.º DE HORAS DE TRABALHO",null,null,0,{"$f":"$H$134","v":0},{"$f":"G138*H138","v":0},null,null,null,null,null,0,{"$f":"$P$134*O138","v":0},null,null,null,null,null,null,0,{"$f":"$X$134*W138","v":0},null,null,0,0,0,null,{"$f":"BL138","v":0},null,null,2,null,null,null,null,null,null,null,null,null,null,null,null,null,null,null,null,null,null,null,null,null,null,null,null,null,{"$f":"IF(OR(AND(LEFT($D$134,8)=\"MODELO M\",LEFT(D138,8)=\"MODELO A\"),AND(LEFT($D$134,8)=\"MODELO A\",$F$134=\"Atribuir valor detalhado por Fase/Elemento\")),I138,0)","v":0},{"$f":"IF(OR(AND(LEFT($D$134,8)=\"MODELO M\",LEFT(D138,8)=\"MODELO B\"),AND(LEFT($D$134,8)=\"MODELO B\",$K$134=\"Atribuir valor detalhado por Fase/Elemento\")),P138,0)","v":0},{"$f":"IF(OR(AND(LEFT($D$134,8)=\"MODELO M\",LEFT(D138,8)=\"MODELO C\"),AND(LEFT($D$134,8)=\"MODELO C\",$R$134=\"Atribuir valor detalhado por Fase/Elemento\")),X138,0)","v":0},{"$f":"IF(OR(AND(LEFT($D$134,8)=\"MODELO M\",LEFT(D138,8)=\"MODELO D\"),AND(LEFT($D$134,8)=\"MODELO D\",$Z$134=\"Atribuir valor detalhado por Fase/Elemento\")),AC138,0)","v":0},{"$f":"SUM(BH138:BK138)","v":0},"MODELO A - TEMPO - N.º DE HORAS DE TRABALHO"]
[null,{"$f":"IF($B$134=\"ocultar\",\"ocultar\",IF('SA - ATIVIDADES'!$H$130>='SA - SERVICOS COMPLEMENTARES'!AH139,\"mostrar\",\"ocultar\"))","v":"ocultar"},"Designação (a preencher)","MODELO A - TEMPO - N.º DE HORAS DE TRABALHO",null,null,0,{"$f":"$H$134","v":0},{"$f":"G139*H139","v":0},null,null,null,null,null,0,0,null,null,null,null,null,null,0,0,null,null,0,0,0,null,{"$f":"BL139","v":0},null,null,3,null,null,null,null,null,null,null,null,null,null,null,null,null,null,null,null,null,null,null,null,null,null,null,null,null,{"$f":"IF(OR(AND(LEFT($D$134,8)=\"MODELO M\",LEFT(D139,8)=\"MODELO A\"),AND(LEFT($D$134,8)=\"MODELO A\",$F$134=\"Atribuir valor detalhado por Fase/Elemento\")),I139,0)","v":0},{"$f":"IF(OR(AND(LEFT($D$134,8)=\"MODELO M\",LEFT(D139,8)=\"MODELO B\"),AND(LEFT($D$134,8)=\"MODELO B\",$K$134=\"Atribuir valor detalhado por Fase/Elemento\")),P139,0)","v":0},{"$f":"IF(OR(AND(LEFT($D$134,8)=\"MODELO M\",LEFT(D139,8)=\"MODELO C\"),AND(LEFT($D$134,8)=\"MODELO C\",$R$134=\"Atribuir valor detalhado por Fase/Elemento\")),X139,0)","v":0},{"$f":"IF(OR(AND(LEFT($D$134,8)=\"MODELO M\",LEFT(D139,8)=\"MODELO D\"),AND(LEFT($D$134,8)=\"MODELO D\",$Z$134=\"Atribuir valor detalhado por Fase/Elemento\")),AC139,0)","v":0},{"$f":"SUM(BH139:BK139)","v":0},"MODELO A - TEMPO - N.º DE HORAS DE TRABALHO"]
[null,{"$f":"IF($B$134=\"ocultar\",\"ocultar\",IF('SA - ATIVIDADES'!$H$130>='SA - SERVICOS COMPLEMENTARES'!AH140,\"mostrar\",\"ocultar\"))","v":"ocultar"},"Designação (a preencher)","MODELO A - TEMPO - N.º DE HORAS DE TRABALHO",null,null,0,{"$f":"$H$134","v":0},{"$f":"G140*H140","v":0},null,null,null,null,null,0,0,null,null,null,null,null,null,0,0,null,null,0,0,0,null,{"$f":"BL140","v":0},null,null,4,null,null,null,null,null,null,null,null,null,null,null,null,null,null,null,null,null,null,null,null,null,null,null,null,null,{"$f":"IF(OR(AND(LEFT($D$134,8)=\"MODELO M\",LEFT(D140,8)=\"MODELO A\"),AND(LEFT($D$134,8)=\"MODELO A\",$F$134=\"Atribuir valor detalhado por Fase/Elemento\")),I140,0)","v":0},{"$f":"IF(OR(AND(LEFT($D$134,8)=\"MODELO M\",LEFT(D140,8)=\"MODELO B\"),AND(LEFT($D$134,8)=\"MODELO B\",$K$134=\"Atribuir valor detalhado por Fase/Elemento\")),P140,0)","v":0},{"$f":"IF(OR(AND(LEFT($D$134,8)=\"MODELO M\",LEFT(D140,8)=\"MODELO C\"),AND(LEFT($D$134,8)=\"MODELO C\",$R$134=\"Atribuir valor detalhado por Fase/Elemento\")),X140,0)","v":0},{"$f":"IF(OR(AND(LEFT($D$134,8)=\"MODELO M\",LEFT(D140,8)=\"MODELO D\"),AND(LEFT($D$134,8)=\"MODELO D\",$Z$134=\"Atribuir valor detalhado por Fase/Elemento\")),AC140,0)","v":0},{"$f":"SUM(BH140:BK140)","v":0},"MODELO A - TEMPO - N.º DE HORAS DE TRABALHO"]
[null,{"$f":"IF($B$134=\"ocultar\",\"ocultar\",IF('SA - ATIVIDADES'!$H$130>='SA - SERVICOS COMPLEMENTARES'!AH141,\"mostrar\",\"ocultar\"))","v":"ocultar"},"Designação (a preencher)","MODELO A - TEMPO - N.º DE HORAS DE TRABALHO",null,null,0,{"$f":"$H$134","v":0},{"$f":"G141*H141","v":0},null,null,null,null,null,0,0,null,null,null,null,null,null,0,0,null,null,0,0,0,null,{"$f":"BL141","v":0},null,null,5,null,null,null,null,null,null,null,null,null,null,null,null,null,null,null,null,null,null,null,null,null,null,null,null,null,{"$f":"IF(OR(AND(LEFT($D$134,8)=\"MODELO M\",LEFT(D141,8)=\"MODELO A\"),AND(LEFT($D$134,8)=\"MODELO A\",$F$134=\"Atribuir valor detalhado por Fase/Elemento\")),I141,0)","v":0},{"$f":"IF(OR(AND(LEFT($D$134,8)=\"MODELO M\",LEFT(D141,8)=\"MODELO B\"),AND(LEFT($D$134,8)=\"MODELO B\",$K$134=\"Atribuir valor detalhado por Fase/Elemento\")),P141,0)","v":0},{"$f":"IF(OR(AND(LEFT($D$134,8)=\"MODELO M\",LEFT(D141,8)=\"MODELO C\"),AND(LEFT($D$134,8)=\"MODELO C\",$R$134=\"Atribuir valor detalhado por Fase/Elemento\")),X141,0)","v":0},{"$f":"IF(OR(AND(LEFT($D$134,8)=\"MODELO M\",LEFT(D141,8)=\"MODELO D\"),AND(LEFT($D$134,8)=\"MODELO D\",$Z$134=\"Atribuir valor detalhado por Fase/Elemento\")),AC141,0)","v":0},{"$f":"SUM(BH141:BK141)","v":0},"MODELO A - TEMPO - N.º DE HORAS DE TRABALHO"]
[null,{"$f":"IF($B$134=\"ocultar\",\"ocultar\",\"mostrar\")","v":"ocultar"},"TOTAL",null,null,null,{"$f":"IF(F$134=\"Atribuir valor global à atividade\",G134,SUBTOTAL(109,G137:G141))","v":0},null,{"$f":"IF($F$134=\"Atribuir valor global à atividade\",I134,SUBTOTAL(109,I137:I141))","v":0},null,null,null,null,null,{"$f":"IF($K$134=\"Atribuir valor global à atividade\",1,SUBTOTAL(109,O137:O141))","v":1},{"$f":"IF($K$134=\"Atribuir valor global à atividade\",P134,SUBTOTAL(109,P137:P141))","v":0},null,null,null,null,null,null,{"$f":"IF($R$134=\"Atribuir valor global à atividade\",1,SUBTOTAL(109,W137:W141))","v":1},{"$f":"IF($R$134=\"Atribuir valor global à atividade\",X134,SUBTOTAL(109,X137:X141))","v":0},null,null,null,null,{"$f":"IF($Z$134=\"Atribuir valor global à atividade\",AC134,SUBTOTAL(109,AC137:AC141))","v":0},null,{"$f":"SUBTOTAL(109,AE137:AE141)","v":0},null,null,null,null,null,null,null,null,null,null,null,null,null,null,null,null,null,null,null,null,null,null,null,null,null,null,null,null,null,null,null,null,null,"MODELO A - TEMPO - N.º DE HORAS DE TRABALHO"]
[null,{"$f":"IF($B$134=\"ocultar\",\"ocultar\",\"mostrar\")","v":"ocultar"},null,null,null,null,null,null,null,null,null,null,null,null,null,null,null,null,null,null,null,null,null,null,null,null,null,null,null,null,null,null,null,null,null,null,null,null,null,null,null,null,null,null,null,null,null,null,null,null,null,null,null,null,null,null,null,null,null,null,null,null,null,null,"MODELO A - TEMPO - N.º DE HORAS DE TRABALHO"]
[null,{"$f":"IF('SA - ATIVIDADES'!F131=TRUE,\"mostrar\",\"ocultar\")","v":"ocultar"},"B4. LEVANTAMENTO TOPOGRÁFICO","MODELO A - TEMPO - N.º DE HORAS DE TRABALHO",null,"Atribuir valor global à atividade",0,0,{"$f":"IF($F$144=\"Atribuir valor global à atividade\",G144*H144,\"\")","v":0},null,"Atribuir valor global à atividade","Valor Global Obra (VG Obra)",{"$f":"IF(L144=\"Valor Global Obra (VG Obra)\",$M$9,\"\")","v":0},0,0,{"$f":"IF(L144=\"Valor Global Obra (VG Obra)\",M144*O144,N144*O144)","v":0},null,"Atribuir valor global à atividade","Valor/m2 fixo (VF m2)",{"$f":"IF(S144=\"Valor/m2 fixo (VF m2)\",$T$9,\"\")","v":0},0,0,null,{"$f":"IF(S144=\"Valor/m2 fixo (VF m2)\",T144*1*V144,U144*1*V144)","v":0},null,"Atribuir valor global à atividade",0,0,{"$f":"AA144*AB144","v":0},null,{"$f":"BL144","v":0},null,null,null,null,null,null,null,null,null,null,null,null,null,null,null,null,null,null,null,null,null,null,null,null,null,null,null,null,{"$f":"IF(LEFT($D$144,8)=\"MODELO A\",IF($F$144=\"Atribuir valor detalhado por Fase/Elemento\",SUBTOTAL(109,BH147:BH151),I144),IF(LEFT($D$144,8)=\"MODELO M\",SUBTOTAL(109,BH147:BH151),0))","v":0},{"$f":"IF(LEFT($D$144,8)=\"MODELO B\",IF($K$144=\"Atribuir valor detalhado por Fase/Elemento\",SUBTOTAL(109,BI147:BI151),P144),IF(LEFT($D$144,8)=\"MODELO M\",SUBTOTAL(109,BI147:BI151),0))","v":0},{"$f":"IF(LEFT($D$144,8)=\"MODELO C\",IF($R$144=\"Atribuir valor detalhado por Fase/Elemento\",SUBTOTAL(109,BJ147:BJ151),X144),IF(LEFT($D$144,8)=\"MODELO M\",SUBTOTAL(109,BJ147:BJ151),0))","v":0},{"$f":"IF(LEFT($D$144,8)=\"MODELO D\",IF($Z$144=\"Atribuir valor detalhado por Fase/Elemento\",SUBTOTAL(109,BK147:BK151),AC144),IF(LEFT($D$144,8)=\"MODELO M\",SUBTOTAL(109,BK147:BK151),0))","v":0},{"$f":"SUM(BH144:BK144)","v":0},"MODELO A - TEMPO - N.º DE HORAS DE TRABALHO"]
[null,{"$f":"IF($B$144=\"ocultar\",\"ocultar\",\"mostrar\")","v":"ocultar"},null,null,null,null,null,null,null,null,null,null,null,null,null,null,null,null,null,null,null,null,null,null,null,null,null,null,null,null,null,null,null,null,null,null,null,null,null,null,null,null,null,null,null,null,null,null,null,null,null,null,null,null,null,null,null,null,null,null,null,null,null,null,"MODELO A - TEMPO - N.º DE HORAS DE TRABALHO"]
[null,"ocultar",null,null,null,null,null,null,null,null,null,null,null,null,null,null,null,null,null,null,null,null,null,null,null,null,null,null,null,null,null,null,null,null,null,null,null,null,null,null,null,null,null,null,null,null,null,null,null,null,null,null,null,null,null,null,null,null,null,null,null,null,null,null,"MODELO A - TEMPO - N.º DE HORAS DE TRABALHO"]
[null,{"$f":"IF($B$144=\"ocultar\",\"ocultar\",IF('SA - ATIVIDADES'!$H$131>='SA - SERVICOS COMPLEMENTARES'!AH147,\"mostrar\",\"ocultar\"))","v":"ocultar"},"Designação (a preencher)","MODELO A - TEMPO - N.º DE HORAS DE TRABALHO",null,null,0,{"$f":"$H$144","v":0},{"$f":"G147*H147","v":0},null,null,null,null,null,0,{"$f":"$P$144*O147","v":0},null,null,null,null,null,null,0,{"$f":"$X$144*W147","v":0},null,null,0,0,{"$f":"AA147*AB147","v":0},null,{"$f":"BL147","v":0},null,null,1,null,null,null,null,null,null,null,null,null,null,null,null,null,null,null,null,null,null,null,null,null,null,null,null,null,{"$f":"IF(OR(AND(LEFT($D$144,8)=\"MODELO M\",LEFT(D147,8)=\"MODELO A\"),AND(LEFT($D$144,8)=\"MODELO A\",$F$144=\"Atribuir valor detalhado por Fase/Elemento\")),I147,0)","v":0},{"$f":"IF(OR(AND(LEFT($D$144,8)=\"MODELO M\",LEFT(D147,8)=\"MODELO B\"),AND(LEFT($D$144,8)=\"MODELO B\",$K$144=\"Atribuir valor detalhado por Fase/Elemento\")),P147,0)","v":0},{"$f":"IF(OR(AND(LEFT($D$144,8)=\"MODELO M\",LEFT(D147,8)=\"MODELO C\"),AND(LEFT($D$144,8)=\"MODELO C\",$R$144=\"Atribuir valor detalhado por Fase/Elemento\")),X147,0)","v":0},{"$f":"IF(OR(AND(LEFT($D$144,8)=\"MODELO M\",LEFT(D147,8)=\"MODELO D\"),AND(LEFT($D$144,8)=\"MODELO D\",$Z$144=\"Atribuir valor detalhado por Fase/Elemento\")),AC147,0)","v":0},{"$f":"SUM(BH147:BK147)","v":0},"MODELO A - TEMPO - N.º DE HORAS DE TRABALHO"]
[null,{"$f":"IF($B$144=\"ocultar\",\"ocultar\",IF('SA - ATIVIDADES'!$H$131>='SA - SERVICOS COMPLEMENTARES'!AH148,\"mostrar\",\"ocultar\"))","v":"ocultar"},"Designação (a preencher)","MODELO A - TEMPO - N.º DE HORAS DE TRABALHO",null,null,0,{"$f":"$H$144","v":0},{"$f":"G148*H148","v":0},null,null,null,null,null,0,{"$f":"$P$144*O148","v":0},null,null,null,null,null,null,0,{"$f":"$X$144*W148","v":0},null,null,0,0,0,null,{"$f":"BL148","v":0},null,null,2,null,null,null,null,null,null,null,null,null,null,null,null,null,null,null,null,null,null,null,null,null,null,null,null,null,{"$f":"IF(OR(AND(LEFT($D$144,8)=\"MODELO M\",LEFT(D148,8)=\"MODELO A\"),AND(LEFT($D$144,8)=\"MODELO A\",$F$144=\"Atribuir valor detalhado por Fase/Elemento\")),I148,0)","v":0},{"$f":"IF(OR(AND(LEFT($D$144,8)=\"MODELO M\",LEFT(D148,8)=\"MODELO B\"),AND(LEFT($D$144,8)=\"MODELO B\",$K$144=\"Atribuir valor detalhado por Fase/Elemento\")),P148,0)","v":0},{"$f":"IF(OR(AND(LEFT($D$144,8)=\"MODELO M\",LEFT(D148,8)=\"MODELO C\"),AND(LEFT($D$144,8)=\"MODELO C\",$R$144=\"Atribuir valor detalhado por Fase/Elemento\")),X148,0)","v":0},{"$f":"IF(OR(AND(LEFT($D$144,8)=\"MODELO M\",LEFT(D148,8)=\"MODELO D\"),AND(LEFT($D$144,8)=\"MODELO D\",$Z$144=\"Atribuir valor detalhado por Fase/Elemento\")),AC148,0)","v":0},{"$f":"SUM(BH148:BK148)","v":0},"MODELO A - TEMPO - N.º DE HORAS DE TRABALHO"]
[null,{"$f":"IF($B$144=\"ocultar\",\"ocultar\",IF('SA - ATIVIDADES'!$H$131>='SA - SERVICOS COMPLEMENTARES'!AH149,\"mostrar\",\"ocultar\"))","v":"ocultar"},"Designação (a preencher)","MODELO A - TEMPO - N.º DE HORAS DE TRABALHO",null,null,0,{"$f":"$H$144","v":0},{"$f":"G149*H149","v":0},null,null,null,null,null,0,0,null,null,null,null,null,null,0,0,null,null,0,0,0,null,{"$f":"BL149","v":0},null,null,3,null,null,null,null,null,null,null,null,null,null,null,null,null,null,null,null,null,null,null,null,null,null,null,null,null,{"$f":"IF(OR(AND(LEFT($D$144,8)=\"MODELO M\",LEFT(D149,8)=\"MODELO A\"),AND(LEFT($D$144,8)=\"MODELO A\",$F$144=\"Atribuir valor detalhado por Fase/Elemento\")),I149,0)","v":0},{"$f":"IF(OR(AND(LEFT($D$144,8)=\"MODELO M\",LEFT(D149,8)=\"MODELO B\"),AND(LEFT($D$144,8)=\"MODELO B\",$K$144=\"Atribuir valor detalhado por Fase/Elemento\")),P149,0)","v":0},{"$f":"IF(OR(AND(LEFT($D$144,8)=\"MODELO M\",LEFT(D149,8)=\"MODELO C\"),AND(LEFT($D$144,8)=\"MODELO C\",$R$144=\"Atribuir valor detalhado por Fase/Elemento\")),X149,0)","v":0},{"$f":"IF(OR(AND(LEFT($D$144,8)=\"MODELO M\",LEFT(D149,8)=\"MODELO D\"),AND(LEFT($D$144,8)=\"MODELO D\",$Z$144=\"Atribuir valor detalhado por Fase/Elemento\")),AC149,0)","v":0},{"$f":"SUM(BH149:BK149)","v":0},"MODELO A - TEMPO - N.º DE HORAS DE TRABALHO"]
[null,{"$f":"IF($B$144=\"ocultar\",\"ocultar\",IF('SA - ATIVIDADES'!$H$131>='SA - SERVICOS COMPLEMENTARES'!AH150,\"mostrar\",\"ocultar\"))","v":"ocultar"},"Designação (a preencher)","MODELO A - TEMPO - N.º DE HORAS DE TRABALHO",null,null,0,{"$f":"$H$144","v":0},{"$f":"G150*H150","v":0},null,null,null,null,null,0,0,null,null,null,null,null,null,0,0,null,null,0,0,0,null,{"$f":"BL150","v":0},null,null,4,null,null,null,null,null,null,null,null,null,null,null,null,null,null,null,null,null,null,null,null,null,null,null,null,null,{"$f":"IF(OR(AND(LEFT($D$144,8)=\"MODELO M\",LEFT(D150,8)=\"MODELO A\"),AND(LEFT($D$144,8)=\"MODELO A\",$F$144=\"Atribuir valor detalhado por Fase/Elemento\")),I150,0)","v":0},{"$f":"IF(OR(AND(LEFT($D$144,8)=\"MODELO M\",LEFT(D150,8)=\"MODELO B\"),AND(LEFT($D$144,8)=\"MODELO B\",$K$144=\"Atribuir valor detalhado por Fase/Elemento\")),P150,0)","v":0},{"$f":"IF(OR(AND(LEFT($D$144,8)=\"MODELO M\",LEFT(D150,8)=\"MODELO C\"),AND(LEFT($D$144,8)=\"MODELO C\",$R$144=\"Atribuir valor detalhado por Fase/Elemento\")),X150,0)","v":0},{"$f":"IF(OR(AND(LEFT($D$144,8)=\"MODELO M\",LEFT(D150,8)=\"MODELO D\"),AND(LEFT($D$144,8)=\"MODELO D\",$Z$144=\"Atribuir valor detalhado por Fase/Elemento\")),AC150,0)","v":0},{"$f":"SUM(BH150:BK150)","v":0},"MODELO A - TEMPO - N.º DE HORAS DE TRABALHO"]
[null,{"$f":"IF($B$144=\"ocultar\",\"ocultar\",IF('SA - ATIVIDADES'!$H$131>='SA - SERVICOS COMPLEMENTARES'!AH151,\"mostrar\",\"ocultar\"))","v":"ocultar"},"Designação (a preencher)","MODELO A - TEMPO - N.º DE HORAS DE TRABALHO",null,null,0,{"$f":"$H$144","v":0},{"$f":"G151*H151","v":0},null,null,null,null,null,0,0,null,null,null,null,null,null,0,0,null,null,0,0,0,null,{"$f":"BL151","v":0},null,null,5,null,null,null,null,null,null,null,null,null,null,null,null,null,null,null,null,null,null,null,null,null,null,null,null,null,{"$f":"IF(OR(AND(LEFT($D$144,8)=\"MODELO M\",LEFT(D151,8)=\"MODELO A\"),AND(LEFT($D$144,8)=\"MODELO A\",$F$144=\"Atribuir valor detalhado por Fase/Elemento\")),I151,0)","v":0},{"$f":"IF(OR(AND(LEFT($D$144,8)=\"MODELO M\",LEFT(D151,8)=\"MODELO B\"),AND(LEFT($D$144,8)=\"MODELO B\",$K$144=\"Atribuir valor detalhado por Fase/Elemento\")),P151,0)","v":0},{"$f":"IF(OR(AND(LEFT($D$144,8)=\"MODELO M\",LEFT(D151,8)=\"MODELO C\"),AND(LEFT($D$144,8)=\"MODELO C\",$R$144=\"Atribuir valor detalhado por Fase/Elemento\")),X151,0)","v":0},{"$f":"IF(OR(AND(LEFT($D$144,8)=\"MODELO M\",LEFT(D151,8)=\"MODELO D\"),AND(LEFT($D$144,8)=\"MODELO D\",$Z$144=\"Atribuir valor detalhado por Fase/Elemento\")),AC151,0)","v":0},{"$f":"SUM(BH151:BK151)","v":0},"MODELO A - TEMPO - N.º DE HORAS DE TRABALHO"]
[null,{"$f":"IF($B$144=\"ocultar\",\"ocultar\",\"mostrar\")","v":"ocultar"},"TOTAL",null,null,null,{"$f":"IF(F$144=\"Atribuir valor global à atividade\",G144,SUBTOTAL(109,G147:G151))","v":0},null,{"$f":"IF($F$144=\"Atribuir valor global à atividade\",I144,SUBTOTAL(109,I147:I151))","v":0},null,null,null,null,null,{"$f":"IF($K$144=\"Atribuir valor global à atividade\",1,SUBTOTAL(109,O147:O151))","v":1},{"$f":"IF($K$144=\"Atribuir valor global à atividade\",P144,SUBTOTAL(109,P147:P151))","v":0},null,null,null,null,null,null,{"$f":"IF($R$144=\"Atribuir valor global à atividade\",1,SUBTOTAL(109,W147:W151))","v":1},{"$f":"IF($R$144=\"Atribuir valor global à atividade\",X144,SUBTOTAL(109,X147:X151))","v":0},null,null,null,null,{"$f":"IF($Z$144=\"Atribuir valor global à atividade\",AC144,SUBTOTAL(109,AC147:AC151))","v":0},null,{"$f":"SUBTOTAL(109,AE147:AE151)","v":0},null,null,null,null,null,null,null,null,null,null,null,null,null,null,null,null,null,null,null,null,null,null,null,null,null,null,null,null,null,null,null,null,null,"MODELO A - TEMPO - N.º DE HORAS DE TRABALHO"]
[null,{"$f":"IF($B$144=\"ocultar\",\"ocultar\",\"mostrar\")","v":"ocultar"},null,null,null,null,null,null,null,null,null,null,null,null,null,null,null,null,null,null,null,null,null,null,null,null,null,null,null,null,null,null,null,null,null,null,null,null,null,null,null,null,null,null,null,null,null,null,null,null,null,null,null,null,null,null,null,null,null,null,null,null,null,null,"MODELO A - TEMPO - N.º DE HORAS DE TRABALHO"]
[null,{"$f":"IF('SA - ATIVIDADES'!F132=TRUE,\"mostrar\",\"ocultar\")","v":"ocultar"},"B5. LEVANTAMENTO DE PATOLOGIAS","MODELO A - TEMPO - N.º DE HORAS DE TRABALHO",null,"Atribuir valor global à atividade",0,0,{"$f":"IF($F$154=\"Atribuir valor global à atividade\",G154*H154,\"\")","v":0},null,"Atribuir valor global à atividade","Valor Global Obra (VG Obra)",{"$f":"IF(L154=\"Valor Global Obra (VG Obra)\",$M$9,\"\")","v":0},0,0,{"$f":"IF(L154=\"Valor Global Obra (VG Obra)\",M154*O154,N154*O154)","v":0},null,"Atribuir valor global à atividade","Valor/m2 fixo (VF m2)",{"$f":"IF(S154=\"Valor/m2 fixo (VF m2)\",$T$9,\"\")","v":0},0,0,null,{"$f":"IF(S154=\"Valor/m2 fixo (VF m2)\",T154*1*V154,U154*1*V154)","v":0},null,"Atribuir valor global à atividade",0,0,{"$f":"AA154*AB154","v":0},null,{"$f":"BL154","v":0},null,null,null,null,null,null,null,null,null,null,null,null,null,null,null,null,null,null,null,null,null,null,null,null,null,null,null,null,{"$f":"IF(LEFT($D$154,8)=\"MODELO A\",IF($F$154=\"Atribuir valor detalhado por Fase/Elemento\",SUBTOTAL(109,BH157:BH161),I154),IF(LEFT($D$154,8)=\"MODELO M\",SUBTOTAL(109,BH157:BH161),0))","v":0},{"$f":"IF(LEFT($D$154,8)=\"MODELO B\",IF($K$154=\"Atribuir valor detalhado por Fase/Elemento\",SUBTOTAL(109,BI157:BI161),P154),IF(LEFT($D$154,8)=\"MODELO M\",SUBTOTAL(109,BI157:BI161),0))","v":0},{"$f":"IF(LEFT($D$154,8)=\"MODELO C\",IF($R$154=\"Atribuir valor detalhado por Fase/Elemento\",SUBTOTAL(109,BJ157:BJ161),X154),IF(LEFT($D$154,8)=\"MODELO M\",SUBTOTAL(109,BJ157:BJ161),0))","v":0},{"$f":"IF(LEFT($D$154,8)=\"MODELO D\",IF($Z$154=\"Atribuir valor detalhado por Fase/Elemento\",SUBTOTAL(109,BK157:BK161),AC154),IF(LEFT($D$154,8)=\"MODELO M\",SUBTOTAL(109,BK157:BK161),0))","v":0},{"$f":"SUM(BH154:BK154)","v":0},"MODELO A - TEMPO - N.º DE HORAS DE TRABALHO"]
[null,{"$f":"IF($B$154=\"ocultar\",\"ocultar\",\"mostrar\")","v":"ocultar"},null,null,null,null,null,null,null,null,null,null,null,null,null,null,null,null,null,null,null,null,null,null,null,null,null,null,null,null,null,null,null,null,null,null,null,null,null,null,null,null,null,null,null,null,null,null,null,null,null,null,null,null,null,null,null,null,null,null,null,null,null,null,"MODELO A - TEMPO - N.º DE HORAS DE TRABALHO"]
[null,"ocultar",null,null,null,null,null,null,null,null,null,null,null,null,null,null,null,null,null,null,null,null,null,null,null,null,null,null,null,null,null,null,null,null,null,null,null,null,null,null,null,null,null,null,null,null,null,null,null,null,null,null,null,null,null,null,null,null,null,null,null,null,null,null,"MODELO A - TEMPO - N.º DE HORAS DE TRABALHO"]
[null,{"$f":"IF($B$154=\"ocultar\",\"ocultar\",IF('SA - ATIVIDADES'!$H$132>='SA - SERVICOS COMPLEMENTARES'!AH157,\"mostrar\",\"ocultar\"))","v":"ocultar"},"Designação (a preencher)","MODELO A - TEMPO - N.º DE HORAS DE TRABALHO",null,null,0,{"$f":"$H$154","v":0},{"$f":"G157*H157","v":0},null,null,null,null,null,0,{"$f":"$P$154*O157","v":0},null,null,null,null,null,null,0,{"$f":"$X$154*W157","v":0},null,null,0,0,0,null,{"$f":"BL157","v":0},null,null,1,null,null,null,null,null,null,null,null,null,null,null,null,null,null,null,null,null,null,null,null,null,null,null,null,null,{"$f":"IF(OR(AND(LEFT($D$154,8)=\"MODELO M\",LEFT(D157,8)=\"MODELO A\"),AND(LEFT($D$154,8)=\"MODELO A\",$F$154=\"Atribuir valor detalhado por Fase/Elemento\")),I157,0)","v":0},{"$f":"IF(OR(AND(LEFT($D$154,8)=\"MODELO M\",LEFT(D157,8)=\"MODELO B\"),AND(LEFT($D$154,8)=\"MODELO B\",$K$154=\"Atribuir valor detalhado por Fase/Elemento\")),P157,0)","v":0},{"$f":"IF(OR(AND(LEFT($D$154,8)=\"MODELO M\",LEFT(D157,8)=\"MODELO C\"),AND(LEFT($D$154,8)=\"MODELO C\",$R$154=\"Atribuir valor detalhado por Fase/Elemento\")),X157,0)","v":0},{"$f":"IF(OR(AND(LEFT($D$154,8)=\"MODELO M\",LEFT(D157,8)=\"MODELO D\"),AND(LEFT($D$154,8)=\"MODELO D\",$Z$154=\"Atribuir valor detalhado por Fase/Elemento\")),AC157,0)","v":0},{"$f":"SUM(BH157:BK157)","v":0},"MODELO A - TEMPO - N.º DE HORAS DE TRABALHO"]
[null,{"$f":"IF($B$154=\"ocultar\",\"ocultar\",IF('SA - ATIVIDADES'!$H$132>='SA - SERVICOS COMPLEMENTARES'!AH158,\"mostrar\",\"ocultar\"))","v":"ocultar"},"Designação (a preencher)","MODELO A - TEMPO - N.º DE HORAS DE TRABALHO",null,null,0,{"$f":"$H$154","v":0},{"$f":"G158*H158","v":0},null,null,null,null,null,0,{"$f":"$P$154*O158","v":0},null,null,null,null,null,null,0,{"$f":"$X$154*W158","v":0},null,null,0,0,0,null,{"$f":"BL158","v":0},null,null,2,null,null,null,null,null,null,null,null,null,null,null,null,null,null,null,null,null,null,null,null,null,null,null,null,null,{"$f":"IF(OR(AND(LEFT($D$154,8)=\"MODELO M\",LEFT(D158,8)=\"MODELO A\"),AND(LEFT($D$154,8)=\"MODELO A\",$F$154=\"Atribuir valor detalhado por Fase/Elemento\")),I158,0)","v":0},{"$f":"IF(OR(AND(LEFT($D$154,8)=\"MODELO M\",LEFT(D158,8)=\"MODELO B\"),AND(LEFT($D$154,8)=\"MODELO B\",$K$154=\"Atribuir valor detalhado por Fase/Elemento\")),P158,0)","v":0},{"$f":"IF(OR(AND(LEFT($D$154,8)=\"MODELO M\",LEFT(D158,8)=\"MODELO C\"),AND(LEFT($D$154,8)=\"MODELO C\",$R$154=\"Atribuir valor detalhado por Fase/Elemento\")),X158,0)","v":0},{"$f":"IF(OR(AND(LEFT($D$154,8)=\"MODELO M\",LEFT(D158,8)=\"MODELO D\"),AND(LEFT($D$154,8)=\"MODELO D\",$Z$154=\"Atribuir valor detalhado por Fase/Elemento\")),AC158,0)","v":0},{"$f":"SUM(BH158:BK158)","v":0},"MODELO A - TEMPO - N.º DE HORAS DE TRABALHO"]
[null,{"$f":"IF($B$154=\"ocultar\",\"ocultar\",IF('SA - ATIVIDADES'!$H$132>='SA - SERVICOS COMPLEMENTARES'!AH159,\"mostrar\",\"ocultar\"))","v":"ocultar"},"Designação (a preencher)","MODELO A - TEMPO - N.º DE HORAS DE TRABALHO",null,null,0,{"$f":"$H$154","v":0},{"$f":"G159*H159","v":0},null,null,null,null,null,0,0,null,null,null,null,null,null,0,0,null,null,0,0,0,null,{"$f":"BL159","v":0},null,null,3,null,null,null,null,null,null,null,null,null,null,null,null,null,null,null,null,null,null,null,null,null,null,null,null,null,{"$f":"IF(OR(AND(LEFT($D$154,8)=\"MODELO M\",LEFT(D159,8)=\"MODELO A\"),AND(LEFT($D$154,8)=\"MODELO A\",$F$154=\"Atribuir valor detalhado por Fase/Elemento\")),I159,0)","v":0},{"$f":"IF(OR(AND(LEFT($D$154,8)=\"MODELO M\",LEFT(D159,8)=\"MODELO B\"),AND(LEFT($D$154,8)=\"MODELO B\",$K$154=\"Atribuir valor detalhado por Fase/Elemento\")),P159,0)","v":0},{"$f":"IF(OR(AND(LEFT($D$154,8)=\"MODELO M\",LEFT(D159,8)=\"MODELO C\"),AND(LEFT($D$154,8)=\"MODELO C\",$R$154=\"Atribuir valor detalhado por Fase/Elemento\")),X159,0)","v":0},{"$f":"IF(OR(AND(LEFT($D$154,8)=\"MODELO M\",LEFT(D159,8)=\"MODELO D\"),AND(LEFT($D$154,8)=\"MODELO D\",$Z$154=\"Atribuir valor detalhado por Fase/Elemento\")),AC159,0)","v":0},{"$f":"SUM(BH159:BK159)","v":0},"MODELO A - TEMPO - N.º DE HORAS DE TRABALHO"]
[null,{"$f":"IF($B$154=\"ocultar\",\"ocultar\",IF('SA - ATIVIDADES'!$H$132>='SA - SERVICOS COMPLEMENTARES'!AH160,\"mostrar\",\"ocultar\"))","v":"ocultar"},"Designação (a preencher)","MODELO A - TEMPO - N.º DE HORAS DE TRABALHO",null,null,0,{"$f":"$H$154","v":0},{"$f":"G160*H160","v":0},null,null,null,null,null,0,0,null,null,null,null,null,null,0,0,null,null,0,0,0,null,{"$f":"BL160","v":0},null,null,4,null,null,null,null,null,null,null,null,null,null,null,null,null,null,null,null,null,null,null,null,null,null,null,null,null,{"$f":"IF(OR(AND(LEFT($D$154,8)=\"MODELO M\",LEFT(D160,8)=\"MODELO A\"),AND(LEFT($D$154,8)=\"MODELO A\",$F$154=\"Atribuir valor detalhado por Fase/Elemento\")),I160,0)","v":0},{"$f":"IF(OR(AND(LEFT($D$154,8)=\"MODELO M\",LEFT(D160,8)=\"MODELO B\"),AND(LEFT($D$154,8)=\"MODELO B\",$K$154=\"Atribuir valor detalhado por Fase/Elemento\")),P160,0)","v":0},{"$f":"IF(OR(AND(LEFT($D$154,8)=\"MODELO M\",LEFT(D160,8)=\"MODELO C\"),AND(LEFT($D$154,8)=\"MODELO C\",$R$154=\"Atribuir valor detalhado por Fase/Elemento\")),X160,0)","v":0},{"$f":"IF(OR(AND(LEFT($D$154,8)=\"MODELO M\",LEFT(D160,8)=\"MODELO D\"),AND(LEFT($D$154,8)=\"MODELO D\",$Z$154=\"Atribuir valor detalhado por Fase/Elemento\")),AC160,0)","v":0},{"$f":"SUM(BH160:BK160)","v":0},"MODELO A - TEMPO - N.º DE HORAS DE TRABALHO"]
[null,{"$f":"IF($B$154=\"ocultar\",\"ocultar\",IF('SA - ATIVIDADES'!$H$132>='SA - SERVICOS COMPLEMENTARES'!AH161,\"mostrar\",\"ocultar\"))","v":"ocultar"},"Designação (a preencher)","MODELO A - TEMPO - N.º DE HORAS DE TRABALHO",null,null,0,{"$f":"$H$154","v":0},{"$f":"G161*H161","v":0},null,null,null,null,null,0,0,null,null,null,null,null,null,0,0,null,null,0,0,0,null,{"$f":"BL161","v":0},null,null,5,null,null,null,null,null,null,null,null,null,null,null,null,null,null,null,null,null,null,null,null,null,null,null,null,null,{"$f":"IF(OR(AND(LEFT($D$154,8)=\"MODELO M\",LEFT(D161,8)=\"MODELO A\"),AND(LEFT($D$154,8)=\"MODELO A\",$F$154=\"Atribuir valor detalhado por Fase/Elemento\")),I161,0)","v":0},{"$f":"IF(OR(AND(LEFT($D$154,8)=\"MODELO M\",LEFT(D161,8)=\"MODELO B\"),AND(LEFT($D$154,8)=\"MODELO B\",$K$154=\"Atribuir valor detalhado por Fase/Elemento\")),P161,0)","v":0},{"$f":"IF(OR(AND(LEFT($D$154,8)=\"MODELO M\",LEFT(D161,8)=\"MODELO C\"),AND(LEFT($D$154,8)=\"MODELO C\",$R$154=\"Atribuir valor detalhado por Fase/Elemento\")),X161,0)","v":0},{"$f":"IF(OR(AND(LEFT($D$154,8)=\"MODELO M\",LEFT(D161,8)=\"MODELO D\"),AND(LEFT($D$154,8)=\"MODELO D\",$Z$154=\"Atribuir valor detalhado por Fase/Elemento\")),AC161,0)","v":0},{"$f":"SUM(BH161:BK161)","v":0},"MODELO A - TEMPO - N.º DE HORAS DE TRABALHO"]
[null,{"$f":"IF($B$154=\"ocultar\",\"ocultar\",\"mostrar\")","v":"ocultar"},"TOTAL",null,null,null,{"$f":"IF(F$154=\"Atribuir valor global à atividade\",G154,SUBTOTAL(109,G157:G161))","v":0},null,{"$f":"IF($F$154=\"Atribuir valor global à atividade\",I154,SUBTOTAL(109,I157:I161))","v":0},null,null,null,null,null,{"$f":"IF($K$154=\"Atribuir valor global à atividade\",1,SUBTOTAL(109,O157:O161))","v":1},{"$f":"IF($K$154=\"Atribuir valor global à atividade\",P154,SUBTOTAL(109,P157:P161))","v":0},null,null,null,null,null,null,{"$f":"IF($R$154=\"Atribuir valor global à atividade\",1,SUBTOTAL(109,W157:W161))","v":1},{"$f":"IF($R$154=\"Atribuir valor global à atividade\",X154,SUBTOTAL(109,X157:X161))","v":0},null,null,null,null,{"$f":"IF($Z$154=\"Atribuir valor global à atividade\",AC154,SUBTOTAL(109,AC157:AC161))","v":0},null,{"$f":"SUBTOTAL(109,AE157:AE161)","v":0},null,null,null,null,null,null,null,null,null,null,null,null,null,null,null,null,null,null,null,null,null,null,null,null,null,null,null,null,null,null,null,null,null,"MODELO A - TEMPO - N.º DE HORAS DE TRABALHO"]
[null,{"$f":"IF($B$154=\"ocultar\",\"ocultar\",\"mostrar\")","v":"ocultar"},null,null,null,null,null,null,null,null,null,null,null,null,null,null,null,null,null,null,null,null,null,null,null,null,null,null,null,null,null,null,null,null,null,null,null,null,null,null,null,null,null,null,null,null,null,null,null,null,null,null,null,null,null,null,null,null,null,null,null,null,null,null,"MODELO A - TEMPO - N.º DE HORAS DE TRABALHO"]
[null,{"$f":"IF('SA - ATIVIDADES'!F133=TRUE,\"mostrar\",\"ocultar\")","v":"ocultar"},"B6. ESTUDOS DE VIABILIDADE CONSTRUTIVA","MODELO A - TEMPO - N.º DE HORAS DE TRABALHO",null,"Atribuir valor global à atividade",0,0,{"$f":"IF($F$164=\"Atribuir valor global à atividade\",G164*H164,\"\")","v":0},null,"Atribuir valor global à atividade","Valor Global Obra (VG Obra)",{"$f":"IF(L164=\"Valor Global Obra (VG Obra)\",$M$9,\"\")","v":0},0,0,{"$f":"IF(L164=\"Valor Global Obra (VG Obra)\",M164*O164,N164*O164)","v":0},null,"Atribuir valor global à atividade","Valor/m2 fixo (VF m2)",{"$f":"IF(S164=\"Valor/m2 fixo (VF m2)\",$T$9,\"\")","v":0},0,0,null,{"$f":"IF(S164=\"Valor/m2 fixo (VF m2)\",T164*1*V164,U164*1*V164)","v":0},null,"Atribuir valor global à atividade",0,0,{"$f":"AA164*AB164","v":0},null,{"$f":"BL164","v":0},null,null,null,null,null,null,null,null,null,null,null,null,null,null,null,null,null,null,null,null,null,null,null,null,null,null,null,null,{"$f":"IF(LEFT($D$164,8)=\"MODELO A\",IF($F$164=\"Atribuir valor detalhado por Fase/Elemento\",SUBTOTAL(109,BH167:BH171),I164),IF(LEFT($D$164,8)=\"MODELO M\",SUBTOTAL(109,BH167:BH171),0))","v":0},{"$f":"IF(LEFT($D$164,8)=\"MODELO B\",IF($K$164=\"Atribuir valor detalhado por Fase/Elemento\",SUBTOTAL(109,BI167:BI171),P164),IF(LEFT($D$164,8)=\"MODELO M\",SUBTOTAL(109,BI167:BI171),0))","v":0},{"$f":"IF(LEFT($D$164,8)=\"MODELO C\",IF($R$164=\"Atribuir valor detalhado por Fase/Elemento\",SUBTOTAL(109,BJ167:BJ171),X164),IF(LEFT($D$164,8)=\"MODELO M\",SUBTOTAL(109,BJ167:BJ171),0))","v":0},{"$f":"IF(LEFT($D$164,8)=\"MODELO D\",IF($Z$164=\"Atribuir valor detalhado por Fase/Elemento\",SUBTOTAL(109,BK167:BK171),AC164),IF(LEFT($D$164,8)=\"MODELO M\",SUBTOTAL(109,BK167:BK171),0))","v":0},{"$f":"SUM(BH164:BK164)","v":0},"MODELO A - TEMPO - N.º DE HORAS DE TRABALHO"]
[null,{"$f":"IF($B$164=\"ocultar\",\"ocultar\",\"mostrar\")","v":"ocultar"},null,null,null,null,null,null,null,null,null,null,null,null,null,null,null,null,null,null,null,null,null,null,null,null,null,null,null,null,null,null,null,null,null,null,null,null,null,null,null,null,null,null,null,null,null,null,null,null,null,null,null,null,null,null,null,null,null,null,null,null,null,null,"MODELO A - TEMPO - N.º DE HORAS DE TRABALHO"]
[null,"ocultar",null,null,null,null,null,null,null,null,null,null,null,null,null,null,null,null,null,null,null,null,null,null,null,null,null,null,null,null,null,null,null,null,null,null,null,null,null,null,null,null,null,null,null,null,null,null,null,null,null,null,null,null,null,null,null,null,null,null,null,null,null,null,"MODELO A - TEMPO - N.º DE HORAS DE TRABALHO"]
[null,{"$f":"IF($B$164=\"ocultar\",\"ocultar\",IF('SA - ATIVIDADES'!$H$133>='SA - SERVICOS COMPLEMENTARES'!AH167,\"mostrar\",\"ocultar\"))","v":"ocultar"},"Designação (a preencher)","MODELO A - TEMPO - N.º DE HORAS DE TRABALHO",null,null,0,{"$f":"$H$164","v":0},{"$f":"G167*H167","v":0},null,null,null,null,null,0,{"$f":"$P$164*O167","v":0},null,null,null,null,null,null,0,{"$f":"$X$164*W167","v":0},null,null,0,0,{"$f":"AA167*AB167","v":0},null,{"$f":"BL167","v":0},null,null,1,null,null,null,null,null,null,null,null,null,null,null,null,null,null,null,null,null,null,null,null,null,null,null,null,null,{"$f":"IF(OR(AND(LEFT($D$164,8)=\"MODELO M\",LEFT(D167,8)=\"MODELO A\"),AND(LEFT($D$164,8)=\"MODELO A\",$F$164=\"Atribuir valor detalhado por Fase/Elemento\")),I167,0)","v":0},{"$f":"IF(OR(AND(LEFT($D$164,8)=\"MODELO M\",LEFT(D167,8)=\"MODELO B\"),AND(LEFT($D$164,8)=\"MODELO B\",$K$164=\"Atribuir valor detalhado por Fase/Elemento\")),P167,0)","v":0},{"$f":"IF(OR(AND(LEFT($D$164,8)=\"MODELO M\",LEFT(D167,8)=\"MODELO C\"),AND(LEFT($D$164,8)=\"MODELO C\",$R$164=\"Atribuir valor detalhado por Fase/Elemento\")),X167,0)","v":0},{"$f":"IF(OR(AND(LEFT($D$164,8)=\"MODELO M\",LEFT(D167,8)=\"MODELO D\"),AND(LEFT($D$164,8)=\"MODELO D\",$Z$164=\"Atribuir valor detalhado por Fase/Elemento\")),AC167,0)","v":0},{"$f":"SUM(BH167:BK167)","v":0},"MODELO A - TEMPO - N.º DE HORAS DE TRABALHO"]
[null,{"$f":"IF($B$164=\"ocultar\",\"ocultar\",IF('SA - ATIVIDADES'!$H$133>='SA - SERVICOS COMPLEMENTARES'!AH168,\"mostrar\",\"ocultar\"))","v":"ocultar"},"Designação (a preencher)","MODELO A - TEMPO - N.º DE HORAS DE TRABALHO",null,null,0,{"$f":"$H$164","v":0},{"$f":"G168*H168","v":0},null,null,null,null,null,0,{"$f":"$P$164*O168","v":0},null,null,null,null,null,null,0,{"$f":"$X$164*W168","v":0},null,null,0,0,0,null,{"$f":"BL168","v":0},null,null,2,null,null,null,null,null,null,null,null,null,null,null,null,null,null,null,null,null,null,null,null,null,null,null,null,null,{"$f":"IF(OR(AND(LEFT($D$164,8)=\"MODELO M\",LEFT(D168,8)=\"MODELO A\"),AND(LEFT($D$164,8)=\"MODELO A\",$F$164=\"Atribuir valor detalhado por Fase/Elemento\")),I168,0)","v":0},{"$f":"IF(OR(AND(LEFT($D$164,8)=\"MODELO M\",LEFT(D168,8)=\"MODELO B\"),AND(LEFT($D$164,8)=\"MODELO B\",$K$164=\"Atribuir valor detalhado por Fase/Elemento\")),P168,0)","v":0},{"$f":"IF(OR(AND(LEFT($D$164,8)=\"MODELO M\",LEFT(D168,8)=\"MODELO C\"),AND(LEFT($D$164,8)=\"MODELO C\",$R$164=\"Atribuir valor detalhado por Fase/Elemento\")),X168,0)","v":0},{"$f":"IF(OR(AND(LEFT($D$164,8)=\"MODELO M\",LEFT(D168,8)=\"MODELO D\"),AND(LEFT($D$164,8)=\"MODELO D\",$Z$164=\"Atribuir valor detalhado por Fase/Elemento\")),AC168,0)","v":0},{"$f":"SUM(BH168:BK168)","v":0},"MODELO A - TEMPO - N.º DE HORAS DE TRABALHO"]
[null,{"$f":"IF($B$164=\"ocultar\",\"ocultar\",IF('SA - ATIVIDADES'!$H$133>='SA - SERVICOS COMPLEMENTARES'!AH169,\"mostrar\",\"ocultar\"))","v":"ocultar"},"Designação (a preencher)","MODELO A - TEMPO - N.º DE HORAS DE TRABALHO",null,null,0,{"$f":"$H$164","v":0},{"$f":"G169*H169","v":0},null,null,null,null,null,0,0,null,null,null,null,null,null,0,0,null,null,0,0,0,null,{"$f":"BL169","v":0},null,null,3,null,null,null,null,null,null,null,null,null,null,null,null,null,null,null,null,null,null,null,null,null,null,null,null,null,{"$f":"IF(OR(AND(LEFT($D$164,8)=\"MODELO M\",LEFT(D169,8)=\"MODELO A\"),AND(LEFT($D$164,8)=\"MODELO A\",$F$164=\"Atribuir valor detalhado por Fase/Elemento\")),I169,0)","v":0},{"$f":"IF(OR(AND(LEFT($D$164,8)=\"MODELO M\",LEFT(D169,8)=\"MODELO B\"),AND(LEFT($D$164,8)=\"MODELO B\",$K$164=\"Atribuir valor detalhado por Fase/Elemento\")),P169,0)","v":0},{"$f":"IF(OR(AND(LEFT($D$164,8)=\"MODELO M\",LEFT(D169,8)=\"MODELO C\"),AND(LEFT($D$164,8)=\"MODELO C\",$R$164=\"Atribuir valor detalhado por Fase/Elemento\")),X169,0)","v":0},{"$f":"IF(OR(AND(LEFT($D$164,8)=\"MODELO M\",LEFT(D169,8)=\"MODELO D\"),AND(LEFT($D$164,8)=\"MODELO D\",$Z$164=\"Atribuir valor detalhado por Fase/Elemento\")),AC169,0)","v":0},{"$f":"SUM(BH169:BK169)","v":0},"MODELO A - TEMPO - N.º DE HORAS DE TRABALHO"]
[null,{"$f":"IF($B$164=\"ocultar\",\"ocultar\",IF('SA - ATIVIDADES'!$H$133>='SA - SERVICOS COMPLEMENTARES'!AH170,\"mostrar\",\"ocultar\"))","v":"ocultar"},"Designação (a preencher)","MODELO A - TEMPO - N.º DE HORAS DE TRABALHO",null,null,0,{"$f":"$H$164","v":0},{"$f":"G170*H170","v":0},null,null,null,null,null,0,0,null,null,null,null,null,null,0,0,null,null,0,0,0,null,{"$f":"BL170","v":0},null,null,4,null,null,null,null,null,null,null,null,null,null,null,null,null,null,null,null,null,null,null,null,null,null,null,null,null,{"$f":"IF(OR(AND(LEFT($D$164,8)=\"MODELO M\",LEFT(D170,8)=\"MODELO A\"),AND(LEFT($D$164,8)=\"MODELO A\",$F$164=\"Atribuir valor detalhado por Fase/Elemento\")),I170,0)","v":0},{"$f":"IF(OR(AND(LEFT($D$164,8)=\"MODELO M\",LEFT(D170,8)=\"MODELO B\"),AND(LEFT($D$164,8)=\"MODELO B\",$K$164=\"Atribuir valor detalhado por Fase/Elemento\")),P170,0)","v":0},{"$f":"IF(OR(AND(LEFT($D$164,8)=\"MODELO M\",LEFT(D170,8)=\"MODELO C\"),AND(LEFT($D$164,8)=\"MODELO C\",$R$164=\"Atribuir valor detalhado por Fase/Elemento\")),X170,0)","v":0},{"$f":"IF(OR(AND(LEFT($D$164,8)=\"MODELO M\",LEFT(D170,8)=\"MODELO D\"),AND(LEFT($D$164,8)=\"MODELO D\",$Z$164=\"Atribuir valor detalhado por Fase/Elemento\")),AC170,0)","v":0},{"$f":"SUM(BH170:BK170)","v":0},"MODELO A - TEMPO - N.º DE HORAS DE TRABALHO"]
[null,{"$f":"IF($B$164=\"ocultar\",\"ocultar\",IF('SA - ATIVIDADES'!$H$133>='SA - SERVICOS COMPLEMENTARES'!AH171,\"mostrar\",\"ocultar\"))","v":"ocultar"},"Designação (a preencher)","MODELO A - TEMPO - N.º DE HORAS DE TRABALHO",null,null,0,{"$f":"$H$164","v":0},{"$f":"G171*H171","v":0},null,null,null,null,null,0,0,null,null,null,null,null,null,0,0,null,null,0,0,0,null,{"$f":"BL171","v":0},null,null,5,null,null,null,null,null,null,null,null,null,null,null,null,null,null,null,null,null,null,null,null,null,null,null,null,null,{"$f":"IF(OR(AND(LEFT($D$164,8)=\"MODELO M\",LEFT(D171,8)=\"MODELO A\"),AND(LEFT($D$164,8)=\"MODELO A\",$F$164=\"Atribuir valor detalhado por Fase/Elemento\")),I171,0)","v":0},{"$f":"IF(OR(AND(LEFT($D$164,8)=\"MODELO M\",LEFT(D171,8)=\"MODELO B\"),AND(LEFT($D$164,8)=\"MODELO B\",$K$164=\"Atribuir valor detalhado por Fase/Elemento\")),P171,0)","v":0},{"$f":"IF(OR(AND(LEFT($D$164,8)=\"MODELO M\",LEFT(D171,8)=\"MODELO C\"),AND(LEFT($D$164,8)=\"MODELO C\",$R$164=\"Atribuir valor detalhado por Fase/Elemento\")),X171,0)","v":0},{"$f":"IF(OR(AND(LEFT($D$164,8)=\"MODELO M\",LEFT(D171,8)=\"MODELO D\"),AND(LEFT($D$164,8)=\"MODELO D\",$Z$164=\"Atribuir valor detalhado por Fase/Elemento\")),AC171,0)","v":0},{"$f":"SUM(BH171:BK171)","v":0},"MODELO A - TEMPO - N.º DE HORAS DE TRABALHO"]
[null,{"$f":"IF($B$164=\"ocultar\",\"ocultar\",\"mostrar\")","v":"ocultar"},"TOTAL",null,null,null,{"$f":"IF(F$164=\"Atribuir valor global à atividade\",G164,SUBTOTAL(109,G167:G171))","v":0},null,{"$f":"IF($F$164=\"Atribuir valor global à atividade\",I164,SUBTOTAL(109,I167:I171))","v":0},null,null,null,null,null,{"$f":"IF($K$164=\"Atribuir valor global à atividade\",1,SUBTOTAL(109,O167:O171))","v":1},{"$f":"IF($K$164=\"Atribuir valor global à atividade\",P164,SUBTOTAL(109,P167:P171))","v":0},null,null,null,null,null,null,{"$f":"IF($R$164=\"Atribuir valor global à atividade\",1,SUBTOTAL(109,W167:W171))","v":1},{"$f":"IF($R$164=\"Atribuir valor global à atividade\",X164,SUBTOTAL(109,X167:X171))","v":0},null,null,null,null,{"$f":"IF($Z$164=\"Atribuir valor global à atividade\",AC164,SUBTOTAL(109,AC167:AC171))","v":0},null,{"$f":"SUBTOTAL(109,AE167:AE171)","v":0},null,null,null,null,null,null,null,null,null,null,null,null,null,null,null,null,null,null,null,null,null,null,null,null,null,null,null,null,null,null,null,null,null,"MODELO A - TEMPO - N.º DE HORAS DE TRABALHO"]
[null,{"$f":"IF($B$164=\"ocultar\",\"ocultar\",\"mostrar\")","v":"ocultar"},null,null,null,null,null,null,null,null,null,null,null,null,null,null,null,null,null,null,null,null,null,null,null,null,null,null,null,null,null,null,null,null,null,null,null,null,null,null,null,null,null,null,null,null,null,null,null,null,null,null,null,null,null,null,null,null,null,null,null,null,null,null,"MODELO A - TEMPO - N.º DE HORAS DE TRABALHO"]
[null,{"$f":"IF('SA - ATIVIDADES'!F134=TRUE,\"mostrar\",\"ocultar\")","v":"ocultar"},"B7. CARTOGRAFIA TOPOGRÁFICA","MODELO A - TEMPO - N.º DE HORAS DE TRABALHO",null,"Atribuir valor global à atividade",0,0,{"$f":"IF($F$174=\"Atribuir valor global à atividade\",G174*H174,\"\")","v":0},null,"Atribuir valor global à atividade","Valor Global Obra (VG Obra)",{"$f":"IF(L174=\"Valor Global Obra (VG Obra)\",$M$9,\"\")","v":0},0,0,{"$f":"IF(L174=\"Valor Global Obra (VG Obra)\",M174*O174,N174*O174)","v":0},null,"Atribuir valor global à atividade","Valor/m2 fixo (VF m2)",{"$f":"IF(S174=\"Valor/m2 fixo (VF m2)\",$T$9,\"\")","v":0},0,0,null,{"$f":"IF(S174=\"Valor/m2 fixo (VF m2)\",T174*1*V174,U174*1*V174)","v":0},null,"Atribuir valor global à atividade",0,0,{"$f":"AA174*AB174","v":0},null,{"$f":"BL174","v":0},null,null,null,null,null,null,null,null,null,null,null,null,null,null,null,null,null,null,null,null,null,null,null,null,null,null,null,null,{"$f":"IF(LEFT($D$174,8)=\"MODELO A\",IF($F$174=\"Atribuir valor detalhado por Fase/Elemento\",SUBTOTAL(109,BH177:BH181),I174),IF(LEFT($D$174,8)=\"MODELO M\",SUBTOTAL(109,BH177:BH181),0))","v":0},{"$f":"IF(LEFT($D$174,8)=\"MODELO B\",IF($K$174=\"Atribuir valor detalhado por Fase/Elemento\",SUBTOTAL(109,BI177:BI181),P174),IF(LEFT($D$174,8)=\"MODELO M\",SUBTOTAL(109,BI177:BI181),0))","v":0},{"$f":"IF(LEFT($D$174,8)=\"MODELO C\",IF($R$174=\"Atribuir valor detalhado por Fase/Elemento\",SUBTOTAL(109,BJ177:BJ181),X174),IF(LEFT($D$174,8)=\"MODELO M\",SUBTOTAL(109,BJ177:BJ181),0))","v":0},{"$f":"IF(LEFT($D$174,8)=\"MODELO D\",IF($Z$174=\"Atribuir valor detalhado por Fase/Elemento\",SUBTOTAL(109,BK177:BK181),AC174),IF(LEFT($D$174,8)=\"MODELO M\",SUBTOTAL(109,BK177:BK181),0))","v":0},{"$f":"SUM(BH174:BK174)","v":0},"MODELO A - TEMPO - N.º DE HORAS DE TRABALHO"]
[null,{"$f":"IF($B$174=\"ocultar\",\"ocultar\",\"mostrar\")","v":"ocultar"},null,null,null,null,null,null,null,null,null,null,null,null,null,null,null,null,null,null,null,null,null,null,null,null,null,null,null,null,null,null,null,null,null,null,null,null,null,null,null,null,null,null,null,null,null,null,null,null,null,null,null,null,null,null,null,null,null,null,null,null,null,null,"MODELO A - TEMPO - N.º DE HORAS DE TRABALHO"]
[null,"ocultar",null,null,null,null,null,null,null,null,null,null,null,null,null,null,null,null,null,null,null,null,null,null,null,null,null,null,null,null,null,null,null,null,null,null,null,null,null,null,null,null,null,null,null,null,null,null,null,null,null,null,null,null,null,null,null,null,null,null,null,null,null,null,"MODELO A - TEMPO - N.º DE HORAS DE TRABALHO"]
[null,{"$f":"IF($B$174=\"ocultar\",\"ocultar\",IF('SA - ATIVIDADES'!$H$134>='SA - SERVICOS COMPLEMENTARES'!AH177,\"mostrar\",\"ocultar\"))","v":"ocultar"},"Designação (a preencher)","MODELO A - TEMPO - N.º DE HORAS DE TRABALHO",null,null,0,{"$f":"$H$174","v":0},{"$f":"G177*H177","v":0},null,null,null,null,null,0,{"$f":"$P$174*O177","v":0},null,null,null,null,null,null,0,{"$f":"$X$174*W177","v":0},null,null,0,0,{"$f":"AA177*AB177","v":0},null,{"$f":"BL177","v":0},null,null,1,null,null,null,null,null,null,null,null,null,null,null,null,null,null,null,null,null,null,null,null,null,null,null,null,null,{"$f":"IF(OR(AND(LEFT($D$174,8)=\"MODELO M\",LEFT(D177,8)=\"MODELO A\"),AND(LEFT($D$174,8)=\"MODELO A\",$F$174=\"Atribuir valor detalhado por Fase/Elemento\")),I177,0)","v":0},{"$f":"IF(OR(AND(LEFT($D$174,8)=\"MODELO M\",LEFT(D177,8)=\"MODELO B\"),AND(LEFT($D$174,8)=\"MODELO B\",$K$174=\"Atribuir valor detalhado por Fase/Elemento\")),P177,0)","v":0},{"$f":"IF(OR(AND(LEFT($D$174,8)=\"MODELO M\",LEFT(D177,8)=\"MODELO C\"),AND(LEFT($D$174,8)=\"MODELO C\",$R$174=\"Atribuir valor detalhado por Fase/Elemento\")),X177,0)","v":0},{"$f":"IF(OR(AND(LEFT($D$174,8)=\"MODELO M\",LEFT(D177,8)=\"MODELO D\"),AND(LEFT($D$174,8)=\"MODELO D\",$Z$174=\"Atribuir valor detalhado por Fase/Elemento\")),AC177,0)","v":0},{"$f":"SUM(BH177:BK177)","v":0},"MODELO A - TEMPO - N.º DE HORAS DE TRABALHO"]
[null,{"$f":"IF($B$174=\"ocultar\",\"ocultar\",IF('SA - ATIVIDADES'!$H$134>='SA - SERVICOS COMPLEMENTARES'!AH178,\"mostrar\",\"ocultar\"))","v":"ocultar"},"Designação (a preencher)","MODELO A - TEMPO - N.º DE HORAS DE TRABALHO",null,null,0,{"$f":"$H$174","v":0},{"$f":"G178*H178","v":0},null,null,null,null,null,0,{"$f":"$P$174*O178","v":0},null,null,null,null,null,null,0,{"$f":"$X$174*W178","v":0},null,null,0,0,0,null,{"$f":"BL178","v":0},null,null,2,null,null,null,null,null,null,null,null,null,null,null,null,null,null,null,null,null,null,null,null,null,null,null,null,null,{"$f":"IF(OR(AND(LEFT($D$174,8)=\"MODELO M\",LEFT(D178,8)=\"MODELO A\"),AND(LEFT($D$174,8)=\"MODELO A\",$F$174=\"Atribuir valor detalhado por Fase/Elemento\")),I178,0)","v":0},{"$f":"IF(OR(AND(LEFT($D$174,8)=\"MODELO M\",LEFT(D178,8)=\"MODELO B\"),AND(LEFT($D$174,8)=\"MODELO B\",$K$174=\"Atribuir valor detalhado por Fase/Elemento\")),P178,0)","v":0},{"$f":"IF(OR(AND(LEFT($D$174,8)=\"MODELO M\",LEFT(D178,8)=\"MODELO C\"),AND(LEFT($D$174,8)=\"MODELO C\",$R$174=\"Atribuir valor detalhado por Fase/Elemento\")),X178,0)","v":0},{"$f":"IF(OR(AND(LEFT($D$174,8)=\"MODELO M\",LEFT(D178,8)=\"MODELO D\"),AND(LEFT($D$174,8)=\"MODELO D\",$Z$174=\"Atribuir valor detalhado por Fase/Elemento\")),AC178,0)","v":0},{"$f":"SUM(BH178:BK178)","v":0},"MODELO A - TEMPO - N.º DE HORAS DE TRABALHO"]
[null,{"$f":"IF($B$174=\"ocultar\",\"ocultar\",IF('SA - ATIVIDADES'!$H$134>='SA - SERVICOS COMPLEMENTARES'!AH179,\"mostrar\",\"ocultar\"))","v":"ocultar"},"Designação (a preencher)","MODELO A - TEMPO - N.º DE HORAS DE TRABALHO",null,null,0,{"$f":"$H$174","v":0},{"$f":"G179*H179","v":0},null,null,null,null,null,0,0,null,null,null,null,null,null,0,0,null,null,0,0,0,null,{"$f":"BL179","v":0},null,null,3,null,null,null,null,null,null,null,null,null,null,null,null,null,null,null,null,null,null,null,null,null,null,null,null,null,{"$f":"IF(OR(AND(LEFT($D$174,8)=\"MODELO M\",LEFT(D179,8)=\"MODELO A\"),AND(LEFT($D$174,8)=\"MODELO A\",$F$174=\"Atribuir valor detalhado por Fase/Elemento\")),I179,0)","v":0},{"$f":"IF(OR(AND(LEFT($D$174,8)=\"MODELO M\",LEFT(D179,8)=\"MODELO B\"),AND(LEFT($D$174,8)=\"MODELO B\",$K$174=\"Atribuir valor detalhado por Fase/Elemento\")),P179,0)","v":0},{"$f":"IF(OR(AND(LEFT($D$174,8)=\"MODELO M\",LEFT(D179,8)=\"MODELO C\"),AND(LEFT($D$174,8)=\"MODELO C\",$R$174=\"Atribuir valor detalhado por Fase/Elemento\")),X179,0)","v":0},{"$f":"IF(OR(AND(LEFT($D$174,8)=\"MODELO M\",LEFT(D179,8)=\"MODELO D\"),AND(LEFT($D$174,8)=\"MODELO D\",$Z$174=\"Atribuir valor detalhado por Fase/Elemento\")),AC179,0)","v":0},{"$f":"SUM(BH179:BK179)","v":0},"MODELO A - TEMPO - N.º DE HORAS DE TRABALHO"]
[null,{"$f":"IF($B$174=\"ocultar\",\"ocultar\",IF('SA - ATIVIDADES'!$H$134>='SA - SERVICOS COMPLEMENTARES'!AH180,\"mostrar\",\"ocultar\"))","v":"ocultar"},"Designação (a preencher)","MODELO A - TEMPO - N.º DE HORAS DE TRABALHO",null,null,0,{"$f":"$H$174","v":0},{"$f":"G180*H180","v":0},null,null,null,null,null,0,0,null,null,null,null,null,null,0,0,null,null,0,0,0,null,{"$f":"BL180","v":0},null,null,4,null,null,null,null,null,null,null,null,null,null,null,null,null,null,null,null,null,null,null,null,null,null,null,null,null,{"$f":"IF(OR(AND(LEFT($D$174,8)=\"MODELO M\",LEFT(D180,8)=\"MODELO A\"),AND(LEFT($D$174,8)=\"MODELO A\",$F$174=\"Atribuir valor detalhado por Fase/Elemento\")),I180,0)","v":0},{"$f":"IF(OR(AND(LEFT($D$174,8)=\"MODELO M\",LEFT(D180,8)=\"MODELO B\"),AND(LEFT($D$174,8)=\"MODELO B\",$K$174=\"Atribuir valor detalhado por Fase/Elemento\")),P180,0)","v":0},{"$f":"IF(OR(AND(LEFT($D$174,8)=\"MODELO M\",LEFT(D180,8)=\"MODELO C\"),AND(LEFT($D$174,8)=\"MODELO C\",$R$174=\"Atribuir valor detalhado por Fase/Elemento\")),X180,0)","v":0},{"$f":"IF(OR(AND(LEFT($D$174,8)=\"MODELO M\",LEFT(D180,8)=\"MODELO D\"),AND(LEFT($D$174,8)=\"MODELO D\",$Z$174=\"Atribuir valor detalhado por Fase/Elemento\")),AC180,0)","v":0},{"$f":"SUM(BH180:BK180)","v":0},"MODELO A - TEMPO - N.º DE HORAS DE TRABALHO"]
[null,{"$f":"IF($B$174=\"ocultar\",\"ocultar\",IF('SA - ATIVIDADES'!$H$134>='SA - SERVICOS COMPLEMENTARES'!AH181,\"mostrar\",\"ocultar\"))","v":"ocultar"},"Designação (a preencher)","MODELO A - TEMPO - N.º DE HORAS DE TRABALHO",null,null,0,{"$f":"$H$174","v":0},{"$f":"G181*H181","v":0},null,null,null,null,null,0,0,null,null,null,null,null,null,0,0,null,null,0,0,0,null,{"$f":"BL181","v":0},null,null,5,null,null,null,null,null,null,null,null,null,null,null,null,null,null,null,null,null,null,null,null,null,null,null,null,null,{"$f":"IF(OR(AND(LEFT($D$174,8)=\"MODELO M\",LEFT(D181,8)=\"MODELO A\"),AND(LEFT($D$174,8)=\"MODELO A\",$F$174=\"Atribuir valor detalhado por Fase/Elemento\")),I181,0)","v":0},{"$f":"IF(OR(AND(LEFT($D$174,8)=\"MODELO M\",LEFT(D181,8)=\"MODELO B\"),AND(LEFT($D$174,8)=\"MODELO B\",$K$174=\"Atribuir valor detalhado por Fase/Elemento\")),P181,0)","v":0},{"$f":"IF(OR(AND(LEFT($D$174,8)=\"MODELO M\",LEFT(D181,8)=\"MODELO C\"),AND(LEFT($D$174,8)=\"MODELO C\",$R$174=\"Atribuir valor detalhado por Fase/Elemento\")),X181,0)","v":0},{"$f":"IF(OR(AND(LEFT($D$174,8)=\"MODELO M\",LEFT(D181,8)=\"MODELO D\"),AND(LEFT($D$174,8)=\"MODELO D\",$Z$174=\"Atribuir valor detalhado por Fase/Elemento\")),AC181,0)","v":0},{"$f":"SUM(BH181:BK181)","v":0},{"$f":"IF($AH181<>\"\",BM180,IF(LEFT($D181,6)=\"MODELO\",$D181,BM180))","v":"MODELO A - TEMPO - N.º DE HORAS DE TRABALHO"}]
[null,{"$f":"IF($B$174=\"ocultar\",\"ocultar\",\"mostrar\")","v":"ocultar"},"TOTAL",null,null,null,{"$f":"IF(F$174=\"Atribuir valor global à atividade\",G174,SUBTOTAL(109,G177:G181))","v":0},null,{"$f":"IF($F$174=\"Atribuir valor global à atividade\",I174,SUBTOTAL(109,I177:I181))","v":0},null,null,null,null,null,{"$f":"IF($K$174=\"Atribuir valor global à atividade\",1,SUBTOTAL(109,O177:O181))","v":1},{"$f":"IF($K$174=\"Atribuir valor global à atividade\",P174,SUBTOTAL(109,P177:P181))","v":0},null,null,null,null,null,null,{"$f":"IF($R$174=\"Atribuir valor global à atividade\",1,SUBTOTAL(109,W177:W181))","v":1},{"$f":"IF($R$174=\"Atribuir valor global à atividade\",X174,SUBTOTAL(109,X177:X181))","v":0},null,null,null,null,{"$f":"IF($Z$174=\"Atribuir valor global à atividade\",AC174,SUBTOTAL(109,AC177:AC181))","v":0},null,{"$f":"SUBTOTAL(109,AE177:AE181)","v":0},null,null,null,null,null,null,null,null,null,null,null,null,null,null,null,null,null,null,null,null,null,null,null,null,null,null,null,null,null,null,null,null,null,"MODELO A - TEMPO - N.º DE HORAS DE TRABALHO"]
[null,{"$f":"IF($B$174=\"ocultar\",\"ocultar\",\"mostrar\")","v":"ocultar"},null,null,null,null,null,null,null,null,null,null,null,null,null,null,null,null,null,null,null,null,null,null,null,null,null,null,null,null,null,null,null,null,null,null,null,null,null,null,null,null,null,null,null,null,null,null,null,null,null,null,null,null,null,null,null,null,null,null,null,null,null,null,"MODELO A - TEMPO - N.º DE HORAS DE TRABALHO"]
[null,{"$f":"IF('SA - ATIVIDADES'!F135=TRUE,\"mostrar\",\"ocultar\")","v":"ocultar"},"B8. PLANO DE ACESSIBILIDADES","MODELO A - TEMPO - N.º DE HORAS DE TRABALHO",null,"Atribuir valor global à atividade",0,0,{"$f":"IF($F$184=\"Atribuir valor global à atividade\",G184*H184,\"\")","v":0},null,"Atribuir valor global à atividade","Valor Global Obra (VG Obra)",{"$f":"IF(L184=\"Valor Global Obra (VG Obra)\",$M$9,\"\")","v":0},0,0,{"$f":"IF(L184=\"Valor Global Obra (VG Obra)\",M184*O184,N184*O184)","v":0},null,"Atribuir valor global à atividade","Valor/m2 fixo (VF m2)",{"$f":"IF(S184=\"Valor/m2 fixo (VF m2)\",$T$9,\"\")","v":0},0,0,null,{"$f":"IF(S184=\"Valor/m2 fixo (VF m2)\",T184*1*V184,U184*1*V184)","v":0},null,"Atribuir valor global à atividade",0,0,{"$f":"AA184*AB184","v":0},null,{"$f":"BL184","v":0},null,null,null,null,null,null,null,null,null,null,null,null,null,null,null,null,null,null,null,null,null,null,null,null,null,null,null,null,{"$f":"IF(LEFT($D$184,8)=\"MODELO A\",IF($F$184=\"Atribuir valor detalhado por Fase/Elemento\",SUBTOTAL(109,BH187:BH191),I184),IF(LEFT($D$184,8)=\"MODELO M\",SUBTOTAL(109,BH187:BH191),0))","v":0},{"$f":"IF(LEFT($D$184,8)=\"MODELO B\",IF($K$184=\"Atribuir valor detalhado por Fase/Elemento\",SUBTOTAL(109,BI187:BI191),P184),IF(LEFT($D$184,8)=\"MODELO M\",SUBTOTAL(109,BI187:BI191),0))","v":0},{"$f":"IF(LEFT($D$184,8)=\"MODELO C\",IF($R$184=\"Atribuir valor detalhado por Fase/Elemento\",SUBTOTAL(109,BJ187:BJ191),X184),IF(LEFT($D$184,8)=\"MODELO M\",SUBTOTAL(109,BJ187:BJ191),0))","v":0},{"$f":"IF(LEFT($D$184,8)=\"MODELO D\",IF($Z$184=\"Atribuir valor detalhado por Fase/Elemento\",SUBTOTAL(109,BK187:BK191),AC184),IF(LEFT($D$184,8)=\"MODELO M\",SUBTOTAL(109,BK187:BK191),0))","v":0},{"$f":"SUM(BH184:BK184)","v":0},"MODELO A - TEMPO - N.º DE HORAS DE TRABALHO"]
[null,{"$f":"IF($B$184=\"ocultar\",\"ocultar\",\"mostrar\")","v":"ocultar"},null,null,null,null,null,null,null,null,null,null,null,null,null,null,null,null,null,null,null,null,null,null,null,null,null,null,null,null,null,null,null,null,null,null,null,null,null,null,null,null,null,null,null,null,null,null,null,null,null,null,null,null,null,null,null,null,null,null,null,null,null,null,"MODELO A - TEMPO - N.º DE HORAS DE TRABALHO"]
[null,"ocultar",null,null,null,null,null,null,null,null,null,null,null,null,null,null,null,null,null,null,null,null,null,null,null,null,null,null,null,null,null,null,null,null,null,null,null,null,null,null,null,null,null,null,null,null,null,null,null,null,null,null,null,null,null,null,null,null,null,null,null,null,null,null,"MODELO A - TEMPO - N.º DE HORAS DE TRABALHO"]
[null,{"$f":"IF($B$184=\"ocultar\",\"ocultar\",IF('SA - ATIVIDADES'!$H$135>='SA - SERVICOS COMPLEMENTARES'!AH187,\"mostrar\",\"ocultar\"))","v":"ocultar"},"Designação (a preencher)","MODELO A - TEMPO - N.º DE HORAS DE TRABALHO",null,null,0,{"$f":"$H$184","v":0},{"$f":"G187*H187","v":0},null,null,null,null,null,0,{"$f":"$P$184*O187","v":0},null,null,null,null,null,null,0,{"$f":"$X$184*W187","v":0},null,null,0,0,{"$f":"AA187*AB187","v":0},null,{"$f":"BL187","v":0},null,null,1,null,null,null,null,null,null,null,null,null,null,null,null,null,null,null,null,null,null,null,null,null,null,null,null,null,{"$f":"IF(OR(AND(LEFT($D$184,8)=\"MODELO M\",LEFT(D187,8)=\"MODELO A\"),AND(LEFT($D$184,8)=\"MODELO A\",$F$184=\"Atribuir valor detalhado por Fase/Elemento\")),I187,0)","v":0},{"$f":"IF(OR(AND(LEFT($D$184,8)=\"MODELO M\",LEFT(D187,8)=\"MODELO B\"),AND(LEFT($D$184,8)=\"MODELO B\",$K$184=\"Atribuir valor detalhado por Fase/Elemento\")),P187,0)","v":0},{"$f":"IF(OR(AND(LEFT($D$184,8)=\"MODELO M\",LEFT(D187,8)=\"MODELO C\"),AND(LEFT($D$184,8)=\"MODELO C\",$R$184=\"Atribuir valor detalhado por Fase/Elemento\")),X187,0)","v":0},{"$f":"IF(OR(AND(LEFT($D$184,8)=\"MODELO M\",LEFT(D187,8)=\"MODELO D\"),AND(LEFT($D$184,8)=\"MODELO D\",$Z$184=\"Atribuir valor detalhado por Fase/Elemento\")),AC187,0)","v":0},{"$f":"SUM(BH187:BK187)","v":0},"MODELO A - TEMPO - N.º DE HORAS DE TRABALHO"]
[null,{"$f":"IF($B$184=\"ocultar\",\"ocultar\",IF('SA - ATIVIDADES'!$H$135>='SA - SERVICOS COMPLEMENTARES'!AH188,\"mostrar\",\"ocultar\"))","v":"ocultar"},"Designação (a preencher)","MODELO A - TEMPO - N.º DE HORAS DE TRABALHO",null,null,0,{"$f":"$H$184","v":0},{"$f":"G188*H188","v":0},null,null,null,null,null,0,{"$f":"$P$184*O188","v":0},null,null,null,null,null,null,0,{"$f":"$X$184*W188","v":0},null,null,0,0,{"$f":"AA188*AB188","v":0},null,{"$f":"BL188","v":0},null,null,2,null,null,null,null,null,null,null,null,null,null,null,null,null,null,null,null,null,null,null,null,null,null,null,null,null,{"$f":"IF(OR(AND(LEFT($D$184,8)=\"MODELO M\",LEFT(D188,8)=\"MODELO A\"),AND(LEFT($D$184,8)=\"MODELO A\",$F$184=\"Atribuir valor detalhado por Fase/Elemento\")),I188,0)","v":0},{"$f":"IF(OR(AND(LEFT($D$184,8)=\"MODELO M\",LEFT(D188,8)=\"MODELO B\"),AND(LEFT($D$184,8)=\"MODELO B\",$K$184=\"Atribuir valor detalhado por Fase/Elemento\")),P188,0)","v":0},{"$f":"IF(OR(AND(LEFT($D$184,8)=\"MODELO M\",LEFT(D188,8)=\"MODELO C\"),AND(LEFT($D$184,8)=\"MODELO C\",$R$184=\"Atribuir valor detalhado por Fase/Elemento\")),X188,0)","v":0},{"$f":"IF(OR(AND(LEFT($D$184,8)=\"MODELO M\",LEFT(D188,8)=\"MODELO D\"),AND(LEFT($D$184,8)=\"MODELO D\",$Z$184=\"Atribuir valor detalhado por Fase/Elemento\")),AC188,0)","v":0},{"$f":"SUM(BH188:BK188)","v":0},"MODELO A - TEMPO - N.º DE HORAS DE TRABALHO"]
[null,{"$f":"IF($B$184=\"ocultar\",\"ocultar\",IF('SA - ATIVIDADES'!$H$135>='SA - SERVICOS COMPLEMENTARES'!AH189,\"mostrar\",\"ocultar\"))","v":"ocultar"},"Designação (a preencher)","MODELO A - TEMPO - N.º DE HORAS DE TRABALHO",null,null,0,{"$f":"$H$184","v":0},{"$f":"G189*H189","v":0},null,null,null,null,null,0,0,null,null,null,null,null,null,0,0,null,null,0,0,{"$f":"AA189*AB189","v":0},null,{"$f":"BL189","v":0},null,null,3,null,null,null,null,null,null,null,null,null,null,null,null,null,null,null,null,null,null,null,null,null,null,null,null,null,{"$f":"IF(OR(AND(LEFT($D$184,8)=\"MODELO M\",LEFT(D189,8)=\"MODELO A\"),AND(LEFT($D$184,8)=\"MODELO A\",$F$184=\"Atribuir valor detalhado por Fase/Elemento\")),I189,0)","v":0},{"$f":"IF(OR(AND(LEFT($D$184,8)=\"MODELO M\",LEFT(D189,8)=\"MODELO B\"),AND(LEFT($D$184,8)=\"MODELO B\",$K$184=\"Atribuir valor detalhado por Fase/Elemento\")),P189,0)","v":0},{"$f":"IF(OR(AND(LEFT($D$184,8)=\"MODELO M\",LEFT(D189,8)=\"MODELO C\"),AND(LEFT($D$184,8)=\"MODELO C\",$R$184=\"Atribuir valor detalhado por Fase/Elemento\")),X189,0)","v":0},{"$f":"IF(OR(AND(LEFT($D$184,8)=\"MODELO M\",LEFT(D189,8)=\"MODELO D\"),AND(LEFT($D$184,8)=\"MODELO D\",$Z$184=\"Atribuir valor detalhado por Fase/Elemento\")),AC189,0)","v":0},{"$f":"SUM(BH189:BK189)","v":0},"MODELO A - TEMPO - N.º DE HORAS DE TRABALHO"]
[null,{"$f":"IF($B$184=\"ocultar\",\"ocultar\",IF('SA - ATIVIDADES'!$H$135>='SA - SERVICOS COMPLEMENTARES'!AH190,\"mostrar\",\"ocultar\"))","v":"ocultar"},"Designação (a preencher)","MODELO A - TEMPO - N.º DE HORAS DE TRABALHO",null,null,0,{"$f":"$H$184","v":0},{"$f":"G190*H190","v":0},null,null,null,null,null,0,0,null,null,null,null,null,null,0,0,null,null,0,0,{"$f":"AA190*AB190","v":0},null,{"$f":"BL190","v":0},null,null,4,null,null,null,null,null,null,null,null,null,null,null,null,null,null,null,null,null,null,null,null,null,null,null,null,null,{"$f":"IF(OR(AND(LEFT($D$184,8)=\"MODELO M\",LEFT(D190,8)=\"MODELO A\"),AND(LEFT($D$184,8)=\"MODELO A\",$F$184=\"Atribuir valor detalhado por Fase/Elemento\")),I190,0)","v":0},{"$f":"IF(OR(AND(LEFT($D$184,8)=\"MODELO M\",LEFT(D190,8)=\"MODELO B\"),AND(LEFT($D$184,8)=\"MODELO B\",$K$184=\"Atribuir valor detalhado por Fase/Elemento\")),P190,0)","v":0},{"$f":"IF(OR(AND(LEFT($D$184,8)=\"MODELO M\",LEFT(D190,8)=\"MODELO C\"),AND(LEFT($D$184,8)=\"MODELO C\",$R$184=\"Atribuir valor detalhado por Fase/Elemento\")),X190,0)","v":0},{"$f":"IF(OR(AND(LEFT($D$184,8)=\"MODELO M\",LEFT(D190,8)=\"MODELO D\"),AND(LEFT($D$184,8)=\"MODELO D\",$Z$184=\"Atribuir valor detalhado por Fase/Elemento\")),AC190,0)","v":0},{"$f":"SUM(BH190:BK190)","v":0},"MODELO A - TEMPO - N.º DE HORAS DE TRABALHO"]
[null,{"$f":"IF($B$184=\"ocultar\",\"ocultar\",IF('SA - ATIVIDADES'!$H$135>='SA - SERVICOS COMPLEMENTARES'!AH191,\"mostrar\",\"ocultar\"))","v":"ocultar"},"Designação (a preencher)","MODELO A - TEMPO - N.º DE HORAS DE TRABALHO",null,null,0,{"$f":"$H$184","v":0},{"$f":"G191*H191","v":0},null,null,null,null,null,0,0,null,null,null,null,null,null,0,0,null,null,0,0,{"$f":"AA191*AB191","v":0},null,{"$f":"BL191","v":0},null,null,5,null,null,null,null,null,null,null,null,null,null,null,null,null,null,null,null,null,null,null,null,null,null,null,null,null,{"$f":"IF(OR(AND(LEFT($D$184,8)=\"MODELO M\",LEFT(D191,8)=\"MODELO A\"),AND(LEFT($D$184,8)=\"MODELO A\",$F$184=\"Atribuir valor detalhado por Fase/Elemento\")),I191,0)","v":0},{"$f":"IF(OR(AND(LEFT($D$184,8)=\"MODELO M\",LEFT(D191,8)=\"MODELO B\"),AND(LEFT($D$184,8)=\"MODELO B\",$K$184=\"Atribuir valor detalhado por Fase/Elemento\")),P191,0)","v":0},{"$f":"IF(OR(AND(LEFT($D$184,8)=\"MODELO M\",LEFT(D191,8)=\"MODELO C\"),AND(LEFT($D$184,8)=\"MODELO C\",$R$184=\"Atribuir valor detalhado por Fase/Elemento\")),X191,0)","v":0},{"$f":"IF(OR(AND(LEFT($D$184,8)=\"MODELO M\",LEFT(D191,8)=\"MODELO D\"),AND(LEFT($D$184,8)=\"MODELO D\",$Z$184=\"Atribuir valor detalhado por Fase/Elemento\")),AC191,0)","v":0},{"$f":"SUM(BH191:BK191)","v":0},"MODELO A - TEMPO - N.º DE HORAS DE TRABALHO"]
[null,{"$f":"IF($B$184=\"ocultar\",\"ocultar\",\"mostrar\")","v":"ocultar"},"TOTAL",null,null,null,{"$f":"IF(F$184=\"Atribuir valor global à atividade\",G184,SUBTOTAL(109,G187:G191))","v":0},null,{"$f":"IF($F$184=\"Atribuir valor global à atividade\",I184,SUBTOTAL(109,I187:I191))","v":0},null,null,null,null,null,{"$f":"IF($K$184=\"Atribuir valor global à atividade\",1,SUBTOTAL(109,O187:O191))","v":1},{"$f":"IF($K$184=\"Atribuir valor global à atividade\",P184,SUBTOTAL(109,P187:P191))","v":0},null,null,null,null,null,null,{"$f":"IF($R$184=\"Atribuir valor global à atividade\",1,SUBTOTAL(109,W187:W191))","v":1},{"$f":"IF($R$184=\"Atribuir valor global à atividade\",X184,SUBTOTAL(109,X187:X191))","v":0},null,null,null,null,{"$f":"IF($Z$184=\"Atribuir valor global à atividade\",AC184,SUBTOTAL(109,AC187:AC191))","v":0},null,{"$f":"SUBTOTAL(109,AE187:AE191)","v":0},null,null,null,null,null,null,null,null,null,null,null,null,null,null,null,null,null,null,null,null,null,null,null,null,null,null,null,null,null,null,null,null,null,"MODELO A - TEMPO - N.º DE HORAS DE TRABALHO"]
[null,{"$f":"IF($B$184=\"ocultar\",\"ocultar\",\"mostrar\")","v":"ocultar"},null,null,null,null,null,null,null,null,null,null,null,null,null,null,null,null,null,null,null,null,null,null,null,null,null,null,null,null,null,null,null,null,null,null,null,null,null,null,null,null,null,null,null,null,null,null,null,null,null,null,null,null,null,null,null,null,null,null,null,null,null,null,"MODELO A - TEMPO - N.º DE HORAS DE TRABALHO"]
[null,{"$f":"IF('SA - ATIVIDADES'!F136=TRUE,\"mostrar\",\"ocultar\")","v":"ocultar"},"B9. PLANO DE SEGURANÇA E SAÚDE EM FASE DE PROJETO","MODELO A - TEMPO - N.º DE HORAS DE TRABALHO",null,"Atribuir valor global à atividade",0,0,{"$f":"IF($F$194=\"Atribuir valor global à atividade\",G194*H194,\"\")","v":0},null,"Atribuir valor global à atividade","Valor Global Obra (VG Obra)",{"$f":"IF(L194=\"Valor Global Obra (VG Obra)\",$M$9,\"\")","v":0},0,0,{"$f":"IF(L194=\"Valor Global Obra (VG Obra)\",M194*O194,N194*O194)","v":0},null,"Atribuir valor global à atividade","Valor/m2 fixo (VF m2)",{"$f":"IF(S194=\"Valor/m2 fixo (VF m2)\",$T$9,\"\")","v":0},0,0,null,{"$f":"IF(S194=\"Valor/m2 fixo (VF m2)\",T194*1*V194,U194*1*V194)","v":0},null,"Atribuir valor global à atividade",0,0,{"$f":"AA194*AB194","v":0},null,{"$f":"BL194","v":0},null,null,null,null,null,null,null,null,null,null,null,null,null,null,null,null,null,null,null,null,null,null,null,null,null,null,null,null,{"$f":"IF(LEFT($D$194,8)=\"MODELO A\",IF($F$194=\"Atribuir valor detalhado por Fase/Elemento\",SUBTOTAL(109,BH197:BH201),I194),IF(LEFT($D$194,8)=\"MODELO M\",SUBTOTAL(109,BH197:BH201),0))","v":0},{"$f":"IF(LEFT($D$194,8)=\"MODELO B\",IF($K$194=\"Atribuir valor detalhado por Fase/Elemento\",SUBTOTAL(109,BI197:BI201),P194),IF(LEFT($D$194,8)=\"MODELO M\",SUBTOTAL(109,BI197:BI201),0))","v":0},{"$f":"IF(LEFT($D$194,8)=\"MODELO C\",IF($R$194=\"Atribuir valor detalhado por Fase/Elemento\",SUBTOTAL(109,BJ197:BJ201),X194),IF(LEFT($D$194,8)=\"MODELO M\",SUBTOTAL(109,BJ197:BJ201),0))","v":0},{"$f":"IF(LEFT($D$194,8)=\"MODELO D\",IF($Z$194=\"Atribuir valor detalhado por Fase/Elemento\",SUBTOTAL(109,BK197:BK201),AC194),IF(LEFT($D$194,8)=\"MODELO M\",SUBTOTAL(109,BK197:BK201),0))","v":0},{"$f":"SUM(BH194:BK194)","v":0},"MODELO A - TEMPO - N.º DE HORAS DE TRABALHO"]
[null,{"$f":"IF($B$194=\"ocultar\",\"ocultar\",\"mostrar\")","v":"ocultar"},null,null,null,null,null,null,null,null,null,null,null,null,null,null,null,null,null,null,null,null,null,null,null,null,null,null,null,null,null,null,null,null,null,null,null,null,null,null,null,null,null,null,null,null,null,null,null,null,null,null,null,null,null,null,null,null,null,null,null,null,null,null,"MODELO A - TEMPO - N.º DE HORAS DE TRABALHO"]
[null,"ocultar",null,null,null,null,null,null,null,null,null,null,null,null,null,null,null,null,null,null,null,null,null,null,null,null,null,null,null,null,null,null,null,null,null,null,null,null,null,null,null,null,null,null,null,null,null,null,null,null,null,null,null,null,null,null,null,null,null,null,null,null,null,null,"MODELO A - TEMPO - N.º DE HORAS DE TRABALHO"]
[null,{"$f":"IF($B$194=\"ocultar\",\"ocultar\",IF('SA - ATIVIDADES'!$H$136>='SA - SERVICOS COMPLEMENTARES'!AH197,\"mostrar\",\"ocultar\"))","v":"ocultar"},"Designação (a preencher)","MODELO A - TEMPO - N.º DE HORAS DE TRABALHO",null,null,0,{"$f":"$H$194","v":0},{"$f":"G197*H197","v":0},null,null,null,null,null,0,{"$f":"$P$194*O197","v":0},null,null,null,null,null,null,0,{"$f":"$X$194*W197","v":0},null,null,0,0,{"$f":"AA197*AB197","v":0},null,{"$f":"BL197","v":0},null,null,1,null,null,null,null,null,null,null,null,null,null,null,null,null,null,null,null,null,null,null,null,null,null,null,null,null,{"$f":"IF(OR(AND(LEFT($D$194,8)=\"MODELO M\",LEFT(D197,8)=\"MODELO A\"),AND(LEFT($D$194,8)=\"MODELO A\",$F$194=\"Atribuir valor detalhado por Fase/Elemento\")),I197,0)","v":0},{"$f":"IF(OR(AND(LEFT($D$194,8)=\"MODELO M\",LEFT(D197,8)=\"MODELO B\"),AND(LEFT($D$194,8)=\"MODELO B\",$K$194=\"Atribuir valor detalhado por Fase/Elemento\")),P197,0)","v":0},{"$f":"IF(OR(AND(LEFT($D$194,8)=\"MODELO M\",LEFT(D197,8)=\"MODELO C\"),AND(LEFT($D$194,8)=\"MODELO C\",$R$194=\"Atribuir valor detalhado por Fase/Elemento\")),X197,0)","v":0},{"$f":"IF(OR(AND(LEFT($D$194,8)=\"MODELO M\",LEFT(D197,8)=\"MODELO D\"),AND(LEFT($D$194,8)=\"MODELO D\",$Z$194=\"Atribuir valor detalhado por Fase/Elemento\")),AC197,0)","v":0},{"$f":"SUM(BH197:BK197)","v":0},"MODELO A - TEMPO - N.º DE HORAS DE TRABALHO"]
[null,{"$f":"IF($B$194=\"ocultar\",\"ocultar\",IF('SA - ATIVIDADES'!$H$136>='SA - SERVICOS COMPLEMENTARES'!AH198,\"mostrar\",\"ocultar\"))","v":"ocultar"},"Designação (a preencher)","MODELO A - TEMPO - N.º DE HORAS DE TRABALHO",null,null,0,{"$f":"$H$194","v":0},{"$f":"G198*H198","v":0},null,null,null,null,null,0,{"$f":"$P$194*O198","v":0},null,null,null,null,null,null,0,{"$f":"$X$194*W198","v":0},null,null,0,0,{"$f":"AA198*AB198","v":0},null,{"$f":"BL198","v":0},null,null,2,null,null,null,null,null,null,null,null,null,null,null,null,null,null,null,null,null,null,null,null,null,null,null,null,null,{"$f":"IF(OR(AND(LEFT($D$194,8)=\"MODELO M\",LEFT(D198,8)=\"MODELO A\"),AND(LEFT($D$194,8)=\"MODELO A\",$F$194=\"Atribuir valor detalhado por Fase/Elemento\")),I198,0)","v":0},{"$f":"IF(OR(AND(LEFT($D$194,8)=\"MODELO M\",LEFT(D198,8)=\"MODELO B\"),AND(LEFT($D$194,8)=\"MODELO B\",$K$194=\"Atribuir valor detalhado por Fase/Elemento\")),P198,0)","v":0},{"$f":"IF(OR(AND(LEFT($D$194,8)=\"MODELO M\",LEFT(D198,8)=\"MODELO C\"),AND(LEFT($D$194,8)=\"MODELO C\",$R$194=\"Atribuir valor detalhado por Fase/Elemento\")),X198,0)","v":0},{"$f":"IF(OR(AND(LEFT($D$194,8)=\"MODELO M\",LEFT(D198,8)=\"MODELO D\"),AND(LEFT($D$194,8)=\"MODELO D\",$Z$194=\"Atribuir valor detalhado por Fase/Elemento\")),AC198,0)","v":0},{"$f":"SUM(BH198:BK198)","v":0},"MODELO A - TEMPO - N.º DE HORAS DE TRABALHO"]
[null,{"$f":"IF($B$194=\"ocultar\",\"ocultar\",IF('SA - ATIVIDADES'!$H$136>='SA - SERVICOS COMPLEMENTARES'!AH199,\"mostrar\",\"ocultar\"))","v":"ocultar"},"Designação (a preencher)","MODELO A - TEMPO - N.º DE HORAS DE TRABALHO",null,null,0,{"$f":"$H$194","v":0},{"$f":"G199*H199","v":0},null,null,null,null,null,0,0,null,null,null,null,null,null,0,0,null,null,0,0,{"$f":"AA199*AB199","v":0},null,{"$f":"BL199","v":0},null,null,3,null,null,null,null,null,null,null,null,null,null,null,null,null,null,null,null,null,null,null,null,null,null,null,null,null,{"$f":"IF(OR(AND(LEFT($D$194,8)=\"MODELO M\",LEFT(D199,8)=\"MODELO A\"),AND(LEFT($D$194,8)=\"MODELO A\",$F$194=\"Atribuir valor detalhado por Fase/Elemento\")),I199,0)","v":0},{"$f":"IF(OR(AND(LEFT($D$194,8)=\"MODELO M\",LEFT(D199,8)=\"MODELO B\"),AND(LEFT($D$194,8)=\"MODELO B\",$K$194=\"Atribuir valor detalhado por Fase/Elemento\")),P199,0)","v":0},{"$f":"IF(OR(AND(LEFT($D$194,8)=\"MODELO M\",LEFT(D199,8)=\"MODELO C\"),AND(LEFT($D$194,8)=\"MODELO C\",$R$194=\"Atribuir valor detalhado por Fase/Elemento\")),X199,0)","v":0},{"$f":"IF(OR(AND(LEFT($D$194,8)=\"MODELO M\",LEFT(D199,8)=\"MODELO D\"),AND(LEFT($D$194,8)=\"MODELO D\",$Z$194=\"Atribuir valor detalhado por Fase/Elemento\")),AC199,0)","v":0},{"$f":"SUM(BH199:BK199)","v":0},"MODELO A - TEMPO - N.º DE HORAS DE TRABALHO"]
[null,{"$f":"IF($B$194=\"ocultar\",\"ocultar\",IF('SA - ATIVIDADES'!$H$136>='SA - SERVICOS COMPLEMENTARES'!AH200,\"mostrar\",\"ocultar\"))","v":"ocultar"},"Designação (a preencher)","MODELO A - TEMPO - N.º DE HORAS DE TRABALHO",null,null,0,{"$f":"$H$194","v":0},{"$f":"G200*H200","v":0},null,null,null,null,null,0,0,null,null,null,null,null,null,0,0,null,null,0,0,{"$f":"AA200*AB200","v":0},null,{"$f":"BL200","v":0},null,null,4,null,null,null,null,null,null,null,null,null,null,null,null,null,null,null,null,null,null,null,null,null,null,null,null,null,{"$f":"IF(OR(AND(LEFT($D$194,8)=\"MODELO M\",LEFT(D200,8)=\"MODELO A\"),AND(LEFT($D$194,8)=\"MODELO A\",$F$194=\"Atribuir valor detalhado por Fase/Elemento\")),I200,0)","v":0},{"$f":"IF(OR(AND(LEFT($D$194,8)=\"MODELO M\",LEFT(D200,8)=\"MODELO B\"),AND(LEFT($D$194,8)=\"MODELO B\",$K$194=\"Atribuir valor detalhado por Fase/Elemento\")),P200,0)","v":0},{"$f":"IF(OR(AND(LEFT($D$194,8)=\"MODELO M\",LEFT(D200,8)=\"MODELO C\"),AND(LEFT($D$194,8)=\"MODELO C\",$R$194=\"Atribuir valor detalhado por Fase/Elemento\")),X200,0)","v":0},{"$f":"IF(OR(AND(LEFT($D$194,8)=\"MODELO M\",LEFT(D200,8)=\"MODELO D\"),AND(LEFT($D$194,8)=\"MODELO D\",$Z$194=\"Atribuir valor detalhado por Fase/Elemento\")),AC200,0)","v":0},{"$f":"SUM(BH200:BK200)","v":0},"MODELO A - TEMPO - N.º DE HORAS DE TRABALHO"]
[null,{"$f":"IF($B$194=\"ocultar\",\"ocultar\",IF('SA - ATIVIDADES'!$H$136>='SA - SERVICOS COMPLEMENTARES'!AH201,\"mostrar\",\"ocultar\"))","v":"ocultar"},"Designação (a preencher)","MODELO A - TEMPO - N.º DE HORAS DE TRABALHO",null,null,0,{"$f":"$H$194","v":0},{"$f":"G201*H201","v":0},null,null,null,null,null,0,0,null,null,null,null,null,null,0,0,null,null,0,0,{"$f":"AA201*AB201","v":0},null,{"$f":"BL201","v":0},null,null,5,null,null,null,null,null,null,null,null,null,null,null,null,null,null,null,null,null,null,null,null,null,null,null,null,null,{"$f":"IF(OR(AND(LEFT($D$194,8)=\"MODELO M\",LEFT(D201,8)=\"MODELO A\"),AND(LEFT($D$194,8)=\"MODELO A\",$F$194=\"Atribuir valor detalhado por Fase/Elemento\")),I201,0)","v":0},{"$f":"IF(OR(AND(LEFT($D$194,8)=\"MODELO M\",LEFT(D201,8)=\"MODELO B\"),AND(LEFT($D$194,8)=\"MODELO B\",$K$194=\"Atribuir valor detalhado por Fase/Elemento\")),P201,0)","v":0},{"$f":"IF(OR(AND(LEFT($D$194,8)=\"MODELO M\",LEFT(D201,8)=\"MODELO C\"),AND(LEFT($D$194,8)=\"MODELO C\",$R$194=\"Atribuir valor detalhado por Fase/Elemento\")),X201,0)","v":0},{"$f":"IF(OR(AND(LEFT($D$194,8)=\"MODELO M\",LEFT(D201,8)=\"MODELO D\"),AND(LEFT($D$194,8)=\"MODELO D\",$Z$194=\"Atribuir valor detalhado por Fase/Elemento\")),AC201,0)","v":0},{"$f":"SUM(BH201:BK201)","v":0},"MODELO A - TEMPO - N.º DE HORAS DE TRABALHO"]
[null,{"$f":"IF($B$194=\"ocultar\",\"ocultar\",\"mostrar\")","v":"ocultar"},"TOTAL",null,null,null,{"$f":"IF(F$194=\"Atribuir valor global à atividade\",G194,SUBTOTAL(109,G197:G201))","v":0},null,{"$f":"IF($F$194=\"Atribuir valor global à atividade\",I194,SUBTOTAL(109,I197:I201))","v":0},null,null,null,null,null,{"$f":"IF($K$194=\"Atribuir valor global à atividade\",1,SUBTOTAL(109,O197:O201))","v":1},{"$f":"IF($K$194=\"Atribuir valor global à atividade\",P194,SUBTOTAL(109,P197:P201))","v":0},null,null,null,null,null,null,{"$f":"IF($R$194=\"Atribuir valor global à atividade\",1,SUBTOTAL(109,W197:W201))","v":1},{"$f":"IF($R$194=\"Atribuir valor global à atividade\",X194,SUBTOTAL(109,X197:X201))","v":0},null,null,null,null,{"$f":"IF($Z$194=\"Atribuir valor global à atividade\",AC194,SUBTOTAL(109,AC197:AC201))","v":0},null,{"$f":"SUBTOTAL(109,AE197:AE201)","v":0},null,null,null,null,null,null,null,null,null,null,null,null,null,null,null,null,null,null,null,null,null,null,null,null,null,null,null,null,null,null,null,null,null,"MODELO A - TEMPO - N.º DE HORAS DE TRABALHO"]
[null,{"$f":"IF($B$194=\"ocultar\",\"ocultar\",\"mostrar\")","v":"ocultar"},null,null,null,null,null,null,null,null,null,null,null,null,null,null,null,null,null,null,null,null,null,null,null,null,null,null,null,null,null,null,null,null,null,null,null,null,null,null,null,null,null,null,null,null,null,null,null,null,null,null,null,null,null,null,null,null,null,null,null,null,null,null,"MODELO A - TEMPO - N.º DE HORAS DE TRABALHO"]
[null,{"$f":"IF('SA - ATIVIDADES'!F137=TRUE,\"mostrar\",\"ocultar\")","v":"ocultar"},"B10. PLANO DE PREVENÇÃO E GESTÃO DE RESÍDUOS DE CONSTRUÇÃO E DEMOLIÇÃO","MODELO A - TEMPO - N.º DE HORAS DE TRABALHO",null,"Atribuir valor global à atividade",0,0,{"$f":"IF($F$204=\"Atribuir valor global à atividade\",G204*H204,\"\")","v":0},null,"Atribuir valor global à atividade","Valor Global Obra (VG Obra)",{"$f":"IF(L204=\"Valor Global Obra (VG Obra)\",$M$9,\"\")","v":0},0,0,{"$f":"IF(L204=\"Valor Global Obra (VG Obra)\",M204*O204,N204*O204)","v":0},null,"Atribuir valor global à atividade","Valor/m2 fixo (VF m2)",{"$f":"IF(S204=\"Valor/m2 fixo (VF m2)\",$T$9,\"\")","v":0},0,0,null,{"$f":"IF(S204=\"Valor/m2 fixo (VF m2)\",T204*1*V204,U204*1*V204)","v":0},null,"Atribuir valor global à atividade",0,0,{"$f":"AA204*AB204","v":0},null,{"$f":"BL204","v":0},null,null,null,null,null,null,null,null,null,null,null,null,null,null,null,null,null,null,null,null,null,null,null,null,null,null,null,null,{"$f":"IF(LEFT($D$204,8)=\"MODELO A\",IF($F$204=\"Atribuir valor detalhado por Fase/Elemento\",SUBTOTAL(109,BH207:BH211),I204),IF(LEFT($D$204,8)=\"MODELO M\",SUBTOTAL(109,BH207:BH211),0))","v":0},{"$f":"IF(LEFT($D$204,8)=\"MODELO B\",IF($K$204=\"Atribuir valor detalhado por Fase/Elemento\",SUBTOTAL(109,BI207:BI211),P204),IF(LEFT($D$204,8)=\"MODELO M\",SUBTOTAL(109,BI207:BI211),0))","v":0},{"$f":"IF(LEFT($D$204,8)=\"MODELO C\",IF($R$204=\"Atribuir valor detalhado por Fase/Elemento\",SUBTOTAL(109,BJ207:BJ211),X204),IF(LEFT($D$204,8)=\"MODELO M\",SUBTOTAL(109,BJ207:BJ211),0))","v":0},{"$f":"IF(LEFT($D$204,8)=\"MODELO D\",IF($Z$204=\"Atribuir valor detalhado por Fase/Elemento\",SUBTOTAL(109,BK207:BK211),AC204),IF(LEFT($D$204,8)=\"MODELO M\",SUBTOTAL(109,BK207:BK211),0))","v":0},{"$f":"SUM(BH204:BK204)","v":0},"MODELO A - TEMPO - N.º DE HORAS DE TRABALHO"]
[null,{"$f":"IF($B$204=\"ocultar\",\"ocultar\",\"mostrar\")","v":"ocultar"},null,null,null,null,null,null,null,null,null,null,null,null,null,null,null,null,null,null,null,null,null,null,null,null,null,null,null,null,null,null,null,null,null,null,null,null,null,null,null,null,null,null,null,null,null,null,null,null,null,null,null,null,null,null,null,null,null,null,null,null,null,null,"MODELO A - TEMPO - N.º DE HORAS DE TRABALHO"]
[null,"ocultar",null,null,null,null,null,null,null,null,null,null,null,null,null,null,null,null,null,null,null,null,null,null,null,null,null,null,null,null,null,null,null,null,null,null,null,null,null,null,null,null,null,null,null,null,null,null,null,null,null,null,null,null,null,null,null,null,null,null,null,null,null,null,"MODELO A - TEMPO - N.º DE HORAS DE TRABALHO"]
[null,{"$f":"IF($B$204=\"ocultar\",\"ocultar\",IF('SA - ATIVIDADES'!$H$137>='SA - SERVICOS COMPLEMENTARES'!AH207,\"mostrar\",\"ocultar\"))","v":"ocultar"},"Designação (a preencher)","MODELO A - TEMPO - N.º DE HORAS DE TRABALHO",null,null,0,{"$f":"$H$204","v":0},{"$f":"G207*H207","v":0},null,null,null,null,null,0,{"$f":"$P$204*O207","v":0},null,null,null,null,null,null,0,{"$f":"$X$204*W207","v":0},null,null,0,0,{"$f":"AA207*AB207","v":0},null,{"$f":"BL207","v":0},null,null,1,null,null,null,null,null,null,null,null,null,null,null,null,null,null,null,null,null,null,null,null,null,null,null,null,null,{"$f":"IF(OR(AND(LEFT($D$204,8)=\"MODELO M\",LEFT(D207,8)=\"MODELO A\"),AND(LEFT($D$204,8)=\"MODELO A\",$F$204=\"Atribuir valor detalhado por Fase/Elemento\")),I207,0)","v":0},{"$f":"IF(OR(AND(LEFT($D$204,8)=\"MODELO M\",LEFT(D207,8)=\"MODELO B\"),AND(LEFT($D$204,8)=\"MODELO B\",$K$204=\"Atribuir valor detalhado por Fase/Elemento\")),P207,0)","v":0},{"$f":"IF(OR(AND(LEFT($D$204,8)=\"MODELO M\",LEFT(D207,8)=\"MODELO C\"),AND(LEFT($D$204,8)=\"MODELO C\",$R$204=\"Atribuir valor detalhado por Fase/Elemento\")),X207,0)","v":0},{"$f":"IF(OR(AND(LEFT($D$204,8)=\"MODELO M\",LEFT(D207,8)=\"MODELO D\"),AND(LEFT($D$204,8)=\"MODELO D\",$Z$204=\"Atribuir valor detalhado por Fase/Elemento\")),AC207,0)","v":0},{"$f":"SUM(BH207:BK207)","v":0},"MODELO A - TEMPO - N.º DE HORAS DE TRABALHO"]
[null,{"$f":"IF($B$204=\"ocultar\",\"ocultar\",IF('SA - ATIVIDADES'!$H$137>='SA - SERVICOS COMPLEMENTARES'!AH208,\"mostrar\",\"ocultar\"))","v":"ocultar"},"Designação (a preencher)","MODELO A - TEMPO - N.º DE HORAS DE TRABALHO",null,null,0,{"$f":"$H$204","v":0},{"$f":"G208*H208","v":0},null,null,null,null,null,0,{"$f":"$P$204*O208","v":0},null,null,null,null,null,null,0,{"$f":"$X$204*W208","v":0},null,null,0,0,{"$f":"AA208*AB208","v":0},null,{"$f":"BL208","v":0},null,null,2,null,null,null,null,null,null,null,null,null,null,null,null,null,null,null,null,null,null,null,null,null,null,null,null,null,{"$f":"IF(OR(AND(LEFT($D$204,8)=\"MODELO M\",LEFT(D208,8)=\"MODELO A\"),AND(LEFT($D$204,8)=\"MODELO A\",$F$204=\"Atribuir valor detalhado por Fase/Elemento\")),I208,0)","v":0},{"$f":"IF(OR(AND(LEFT($D$204,8)=\"MODELO M\",LEFT(D208,8)=\"MODELO B\"),AND(LEFT($D$204,8)=\"MODELO B\",$K$204=\"Atribuir valor detalhado por Fase/Elemento\")),P208,0)","v":0},{"$f":"IF(OR(AND(LEFT($D$204,8)=\"MODELO M\",LEFT(D208,8)=\"MODELO C\"),AND(LEFT($D$204,8)=\"MODELO C\",$R$204=\"Atribuir valor detalhado por Fase/Elemento\")),X208,0)","v":0},{"$f":"IF(OR(AND(LEFT($D$204,8)=\"MODELO M\",LEFT(D208,8)=\"MODELO D\"),AND(LEFT($D$204,8)=\"MODELO D\",$Z$204=\"Atribuir valor detalhado por Fase/Elemento\")),AC208,0)","v":0},{"$f":"SUM(BH208:BK208)","v":0},"MODELO A - TEMPO - N.º DE HORAS DE TRABALHO"]
[null,{"$f":"IF($B$204=\"ocultar\",\"ocultar\",IF('SA - ATIVIDADES'!$H$137>='SA - SERVICOS COMPLEMENTARES'!AH209,\"mostrar\",\"ocultar\"))","v":"ocultar"},"Designação (a preencher)","MODELO A - TEMPO - N.º DE HORAS DE TRABALHO",null,null,0,{"$f":"$H$204","v":0},{"$f":"G209*H209","v":0},null,null,null,null,null,0,0,null,null,null,null,null,null,0,{"$f":"$X$204*W209","v":0},null,null,0,0,{"$f":"AA209*AB209","v":0},null,{"$f":"BL209","v":0},null,null,3,null,null,null,null,null,null,null,null,null,null,null,null,null,null,null,null,null,null,null,null,null,null,null,null,null,{"$f":"IF(OR(AND(LEFT($D$204,8)=\"MODELO M\",LEFT(D209,8)=\"MODELO A\"),AND(LEFT($D$204,8)=\"MODELO A\",$F$204=\"Atribuir valor detalhado por Fase/Elemento\")),I209,0)","v":0},{"$f":"IF(OR(AND(LEFT($D$204,8)=\"MODELO M\",LEFT(D209,8)=\"MODELO B\"),AND(LEFT($D$204,8)=\"MODELO B\",$K$204=\"Atribuir valor detalhado por Fase/Elemento\")),P209,0)","v":0},{"$f":"IF(OR(AND(LEFT($D$204,8)=\"MODELO M\",LEFT(D209,8)=\"MODELO C\"),AND(LEFT($D$204,8)=\"MODELO C\",$R$204=\"Atribuir valor detalhado por Fase/Elemento\")),X209,0)","v":0},{"$f":"IF(OR(AND(LEFT($D$204,8)=\"MODELO M\",LEFT(D209,8)=\"MODELO D\"),AND(LEFT($D$204,8)=\"MODELO D\",$Z$204=\"Atribuir valor detalhado por Fase/Elemento\")),AC209,0)","v":0},{"$f":"SUM(BH209:BK209)","v":0},"MODELO A - TEMPO - N.º DE HORAS DE TRABALHO"]
[null,{"$f":"IF($B$204=\"ocultar\",\"ocultar\",IF('SA - ATIVIDADES'!$H$137>='SA - SERVICOS COMPLEMENTARES'!AH210,\"mostrar\",\"ocultar\"))","v":"ocultar"},"Designação (a preencher)","MODELO A - TEMPO - N.º DE HORAS DE TRABALHO",null,null,0,{"$f":"$H$204","v":0},{"$f":"G210*H210","v":0},null,null,null,null,null,0,0,null,null,null,null,null,null,0,{"$f":"$X$204*W210","v":0},null,null,0,0,{"$f":"AA210*AB210","v":0},null,{"$f":"BL210","v":0},null,null,4,null,null,null,null,null,null,null,null,null,null,null,null,null,null,null,null,null,null,null,null,null,null,null,null,null,{"$f":"IF(OR(AND(LEFT($D$204,8)=\"MODELO M\",LEFT(D210,8)=\"MODELO A\"),AND(LEFT($D$204,8)=\"MODELO A\",$F$204=\"Atribuir valor detalhado por Fase/Elemento\")),I210,0)","v":0},{"$f":"IF(OR(AND(LEFT($D$204,8)=\"MODELO M\",LEFT(D210,8)=\"MODELO B\"),AND(LEFT($D$204,8)=\"MODELO B\",$K$204=\"Atribuir valor detalhado por Fase/Elemento\")),P210,0)","v":0},{"$f":"IF(OR(AND(LEFT($D$204,8)=\"MODELO M\",LEFT(D210,8)=\"MODELO C\"),AND(LEFT($D$204,8)=\"MODELO C\",$R$204=\"Atribuir valor detalhado por Fase/Elemento\")),X210,0)","v":0},{"$f":"IF(OR(AND(LEFT($D$204,8)=\"MODELO M\",LEFT(D210,8)=\"MODELO D\"),AND(LEFT($D$204,8)=\"MODELO D\",$Z$204=\"Atribuir valor detalhado por Fase/Elemento\")),AC210,0)","v":0},{"$f":"SUM(BH210:BK210)","v":0},"MODELO A - TEMPO - N.º DE HORAS DE TRABALHO"]
[null,{"$f":"IF($B$204=\"ocultar\",\"ocultar\",IF('SA - ATIVIDADES'!$H$137>='SA - SERVICOS COMPLEMENTARES'!AH211,\"mostrar\",\"ocultar\"))","v":"ocultar"},"Designação (a preencher)","MODELO A - TEMPO - N.º DE HORAS DE TRABALHO",null,null,0,{"$f":"$H$204","v":0},{"$f":"G211*H211","v":0},null,null,null,null,null,0,0,null,null,null,null,null,null,0,{"$f":"$X$204*W211","v":0},null,null,0,0,{"$f":"AA211*AB211","v":0},null,{"$f":"BL211","v":0},null,null,5,null,null,null,null,null,null,null,null,null,null,null,null,null,null,null,null,null,null,null,null,null,null,null,null,null,{"$f":"IF(OR(AND(LEFT($D$204,8)=\"MODELO M\",LEFT(D211,8)=\"MODELO A\"),AND(LEFT($D$204,8)=\"MODELO A\",$F$204=\"Atribuir valor detalhado por Fase/Elemento\")),I211,0)","v":0},{"$f":"IF(OR(AND(LEFT($D$204,8)=\"MODELO M\",LEFT(D211,8)=\"MODELO B\"),AND(LEFT($D$204,8)=\"MODELO B\",$K$204=\"Atribuir valor detalhado por Fase/Elemento\")),P211,0)","v":0},{"$f":"IF(OR(AND(LEFT($D$204,8)=\"MODELO M\",LEFT(D211,8)=\"MODELO C\"),AND(LEFT($D$204,8)=\"MODELO C\",$R$204=\"Atribuir valor detalhado por Fase/Elemento\")),X211,0)","v":0},{"$f":"IF(OR(AND(LEFT($D$204,8)=\"MODELO M\",LEFT(D211,8)=\"MODELO D\"),AND(LEFT($D$204,8)=\"MODELO D\",$Z$204=\"Atribuir valor detalhado por Fase/Elemento\")),AC211,0)","v":0},{"$f":"SUM(BH211:BK211)","v":0},"MODELO A - TEMPO - N.º DE HORAS DE TRABALHO"]
[null,{"$f":"IF($B$204=\"ocultar\",\"ocultar\",\"mostrar\")","v":"ocultar"},"TOTAL",null,null,null,{"$f":"IF(F$204=\"Atribuir valor global à atividade\",G204,SUBTOTAL(109,G207:G211))","v":0},null,{"$f":"IF($F$204=\"Atribuir valor global à atividade\",I204,SUBTOTAL(109,I207:I211))","v":0},null,null,null,null,null,{"$f":"IF($K$204=\"Atribuir valor global à atividade\",1,SUBTOTAL(109,O207:O211))","v":1},{"$f":"IF($K$204=\"Atribuir valor global à atividade\",P204,SUBTOTAL(109,P207:P211))","v":0},null,null,null,null,null,null,{"$f":"IF($R$204=\"Atribuir valor global à atividade\",1,SUBTOTAL(109,W207:W211))","v":1},{"$f":"IF($R$204=\"Atribuir valor global à atividade\",X204,SUBTOTAL(109,X207:X211))","v":0},null,null,null,null,{"$f":"IF($Z$204=\"Atribuir valor global à atividade\",AC204,SUBTOTAL(109,AC207:AC211))","v":0},null,{"$f":"SUBTOTAL(109,AE207:AE211)","v":0},null,null,null,null,null,null,null,null,null,null,null,null,null,null,null,null,null,null,null,null,null,null,null,null,null,null,null,null,null,null,null,null,null,"MODELO A - TEMPO - N.º DE HORAS DE TRABALHO"]
[null,{"$f":"IF($B$204=\"ocultar\",\"ocultar\",\"mostrar\")","v":"ocultar"},null,null,null,null,null,null,null,null,null,null,null,null,null,null,null,null,null,null,null,null,null,null,null,null,null,null,null,null,null,null,null,null,null,null,null,null,null,null,null,null,null,null,null,null,null,null,null,null,null,null,null,null,null,null,null,null,null,null,null,null,null,null,"MODELO A - TEMPO - N.º DE HORAS DE TRABALHO"]
[null,{"$f":"IF('SA - ATIVIDADES'!F138=TRUE,\"mostrar\",\"ocultar\")","v":"ocultar"},"B11. RELATÓRIO PRÉVIO NO ÂMBITO DA INTERVENÇÃO SOBRE BENS CULTURAIS IMÓVEIS, CLASSIFICADOS, OU EM VIAS DE CLASSIFICAÇÃO, DE INTERESSE NACIONAL, DE INTERESSE PÚBLICO OU DE INTERESSE MUNICIPAL","MODELO A - TEMPO - N.º DE HORAS DE TRABALHO",null,"Atribuir valor global à atividade",0,0,{"$f":"IF($F$214=\"Atribuir valor global à atividade\",G214*H214,\"\")","v":0},null,"Atribuir valor global à atividade","Valor Global Obra (VG Obra)",{"$f":"IF(L214=\"Valor Global Obra (VG Obra)\",$M$9,\"\")","v":0},0,0,{"$f":"IF(L214=\"Valor Global Obra (VG Obra)\",M214*O214,N214*O214)","v":0},null,"Atribuir valor global à atividade","Valor/m2 fixo (VF m2)",{"$f":"IF(S214=\"Valor/m2 fixo (VF m2)\",$T$9,\"\")","v":0},0,0,null,{"$f":"IF(S214=\"Valor/m2 fixo (VF m2)\",T214*1*V214,U214*1*V214)","v":0},null,"Atribuir valor global à atividade",0,0,{"$f":"AA214*AB214","v":0},null,{"$f":"BL214","v":0},null,null,null,null,null,null,null,null,null,null,null,null,null,null,null,null,null,null,null,null,null,null,null,null,null,null,null,null,{"$f":"IF(LEFT($D$214,8)=\"MODELO A\",IF($F$214=\"Atribuir valor detalhado por Fase/Elemento\",SUBTOTAL(109,BH217:BH221),I214),IF(LEFT($D$214,8)=\"MODELO M\",SUBTOTAL(109,BH217:BH221),0))","v":0},{"$f":"IF(LEFT($D$214,8)=\"MODELO B\",IF($K$214=\"Atribuir valor detalhado por Fase/Elemento\",SUBTOTAL(109,BI217:BI221),P214),IF(LEFT($D$214,8)=\"MODELO M\",SUBTOTAL(109,BI217:BI221),0))","v":0},{"$f":"IF(LEFT($D$214,8)=\"MODELO C\",IF($R$214=\"Atribuir valor detalhado por Fase/Elemento\",SUBTOTAL(109,BJ217:BJ221),X214),IF(LEFT($D$214,8)=\"MODELO M\",SUBTOTAL(109,BJ217:BJ221),0))","v":0},{"$f":"IF(LEFT($D$214,8)=\"MODELO D\",IF($Z$214=\"Atribuir valor detalhado por Fase/Elemento\",SUBTOTAL(109,BK217:BK221),AC214),IF(LEFT($D$214,8)=\"MODELO M\",SUBTOTAL(109,BK217:BK221),0))","v":0},{"$f":"SUM(BH214:BK214)","v":0},"MODELO A - TEMPO - N.º DE HORAS DE TRABALHO"]
[null,{"$f":"IF($B$214=\"ocultar\",\"ocultar\",\"mostrar\")","v":"ocultar"},null,null,null,null,null,null,null,null,null,null,null,null,null,null,null,null,null,null,null,null,null,null,null,null,null,null,null,null,null,null,null,null,null,null,null,null,null,null,null,null,null,null,null,null,null,null,null,null,null,null,null,null,null,null,null,null,null,null,null,null,null,null,"MODELO A - TEMPO - N.º DE HORAS DE TRABALHO"]
[null,"ocultar",null,null,null,null,null,null,null,null,null,null,null,null,null,null,null,null,null,null,null,null,null,null,null,null,null,null,null,null,null,null,null,null,null,null,null,null,null,null,null,null,null,null,null,null,null,null,null,null,null,null,null,null,null,null,null,null,null,null,null,null,null,null,"MODELO A - TEMPO - N.º DE HORAS DE TRABALHO"]
[null,{"$f":"IF($B$214=\"ocultar\",\"ocultar\",IF('SA - ATIVIDADES'!$H$138>='SA - SERVICOS COMPLEMENTARES'!AH217,\"mostrar\",\"ocultar\"))","v":"ocultar"},"Designação (a preencher)","MODELO A - TEMPO - N.º DE HORAS DE TRABALHO",null,null,0,{"$f":"$H$214","v":0},{"$f":"G217*H217","v":0},null,null,null,null,null,0,{"$f":"$P$214*O217","v":0},null,null,null,null,null,null,0,{"$f":"$X$214*W217","v":0},null,null,0,0,{"$f":"AA217*AB217","v":0},null,{"$f":"BL217","v":0},null,null,1,null,null,null,null,null,null,null,null,null,null,null,null,null,null,null,null,null,null,null,null,null,null,null,null,null,{"$f":"IF(OR(AND(LEFT($D$214,8)=\"MODELO M\",LEFT(D217,8)=\"MODELO A\"),AND(LEFT($D$214,8)=\"MODELO A\",$F$214=\"Atribuir valor detalhado por Fase/Elemento\")),I217,0)","v":0},{"$f":"IF(OR(AND(LEFT($D$214,8)=\"MODELO M\",LEFT(D217,8)=\"MODELO B\"),AND(LEFT($D$214,8)=\"MODELO B\",$K$214=\"Atribuir valor detalhado por Fase/Elemento\")),P217,0)","v":0},{"$f":"IF(OR(AND(LEFT($D$214,8)=\"MODELO M\",LEFT(D217,8)=\"MODELO C\"),AND(LEFT($D$214,8)=\"MODELO C\",$R$214=\"Atribuir valor detalhado por Fase/Elemento\")),X217,0)","v":0},{"$f":"IF(OR(AND(LEFT($D$214,8)=\"MODELO M\",LEFT(D217,8)=\"MODELO D\"),AND(LEFT($D$214,8)=\"MODELO D\",$Z$214=\"Atribuir valor detalhado por Fase/Elemento\")),AC217,0)","v":0},{"$f":"SUM(BH217:BK217)","v":0},"MODELO A - TEMPO - N.º DE HORAS DE TRABALHO"]
[null,{"$f":"IF($B$214=\"ocultar\",\"ocultar\",IF('SA - ATIVIDADES'!$H$138>='SA - SERVICOS COMPLEMENTARES'!AH218,\"mostrar\",\"ocultar\"))","v":"ocultar"},"Designação (a preencher)","MODELO A - TEMPO - N.º DE HORAS DE TRABALHO",null,null,0,{"$f":"$H$214","v":0},{"$f":"G218*H218","v":0},null,null,null,null,null,0,{"$f":"$P$214*O218","v":0},null,null,null,null,null,null,0,{"$f":"$X$214*W218","v":0},null,null,0,0,{"$f":"AA218*AB218","v":0},null,{"$f":"BL218","v":0},null,null,2,null,null,null,null,null,null,null,null,null,null,null,null,null,null,null,null,null,null,null,null,null,null,null,null,null,{"$f":"IF(OR(AND(LEFT($D$214,8)=\"MODELO M\",LEFT(D218,8)=\"MODELO A\"),AND(LEFT($D$214,8)=\"MODELO A\",$F$214=\"Atribuir valor detalhado por Fase/Elemento\")),I218,0)","v":0},{"$f":"IF(OR(AND(LEFT($D$214,8)=\"MODELO M\",LEFT(D218,8)=\"MODELO B\"),AND(LEFT($D$214,8)=\"MODELO B\",$K$214=\"Atribuir valor detalhado por Fase/Elemento\")),P218,0)","v":0},{"$f":"IF(OR(AND(LEFT($D$214,8)=\"MODELO M\",LEFT(D218,8)=\"MODELO C\"),AND(LEFT($D$214,8)=\"MODELO C\",$R$214=\"Atribuir valor detalhado por Fase/Elemento\")),X218,0)","v":0},{"$f":"IF(OR(AND(LEFT($D$214,8)=\"MODELO M\",LEFT(D218,8)=\"MODELO D\"),AND(LEFT($D$214,8)=\"MODELO D\",$Z$214=\"Atribuir valor detalhado por Fase/Elemento\")),AC218,0)","v":0},{"$f":"SUM(BH218:BK218)","v":0},"MODELO A - TEMPO - N.º DE HORAS DE TRABALHO"]
[null,{"$f":"IF($B$214=\"ocultar\",\"ocultar\",IF('SA - ATIVIDADES'!$H$138>='SA - SERVICOS COMPLEMENTARES'!AH219,\"mostrar\",\"ocultar\"))","v":"ocultar"},"Designação (a preencher)","MODELO A - TEMPO - N.º DE HORAS DE TRABALHO",null,null,0,{"$f":"$H$214","v":0},{"$f":"G219*H219","v":0},null,null,null,null,null,0,0,null,null,null,null,null,null,0,{"$f":"$X$214*W219","v":0},null,null,0,0,{"$f":"AA219*AB219","v":0},null,{"$f":"BL219","v":0},null,null,3,null,null,null,null,null,null,null,null,null,null,null,null,null,null,null,null,null,null,null,null,null,null,null,null,null,{"$f":"IF(OR(AND(LEFT($D$214,8)=\"MODELO M\",LEFT(D219,8)=\"MODELO A\"),AND(LEFT($D$214,8)=\"MODELO A\",$F$214=\"Atribuir valor detalhado por Fase/Elemento\")),I219,0)","v":0},{"$f":"IF(OR(AND(LEFT($D$214,8)=\"MODELO M\",LEFT(D219,8)=\"MODELO B\"),AND(LEFT($D$214,8)=\"MODELO B\",$K$214=\"Atribuir valor detalhado por Fase/Elemento\")),P219,0)","v":0},{"$f":"IF(OR(AND(LEFT($D$214,8)=\"MODELO M\",LEFT(D219,8)=\"MODELO C\"),AND(LEFT($D$214,8)=\"MODELO C\",$R$214=\"Atribuir valor detalhado por Fase/Elemento\")),X219,0)","v":0},{"$f":"IF(OR(AND(LEFT($D$214,8)=\"MODELO M\",LEFT(D219,8)=\"MODELO D\"),AND(LEFT($D$214,8)=\"MODELO D\",$Z$214=\"Atribuir valor detalhado por Fase/Elemento\")),AC219,0)","v":0},{"$f":"SUM(BH219:BK219)","v":0},"MODELO A - TEMPO - N.º DE HORAS DE TRABALHO"]
[null,{"$f":"IF($B$214=\"ocultar\",\"ocultar\",IF('SA - ATIVIDADES'!$H$138>='SA - SERVICOS COMPLEMENTARES'!AH220,\"mostrar\",\"ocultar\"))","v":"ocultar"},"Designação (a preencher)","MODELO A - TEMPO - N.º DE HORAS DE TRABALHO",null,null,0,{"$f":"$H$214","v":0},{"$f":"G220*H220","v":0},null,null,null,null,null,0,0,null,null,null,null,null,null,0,{"$f":"$X$214*W220","v":0},null,null,0,0,{"$f":"AA220*AB220","v":0},null,{"$f":"BL220","v":0},null,null,4,null,null,null,null,null,null,null,null,null,null,null,null,null,null,null,null,null,null,null,null,null,null,null,null,null,{"$f":"IF(OR(AND(LEFT($D$214,8)=\"MODELO M\",LEFT(D220,8)=\"MODELO A\"),AND(LEFT($D$214,8)=\"MODELO A\",$F$214=\"Atribuir valor detalhado por Fase/Elemento\")),I220,0)","v":0},{"$f":"IF(OR(AND(LEFT($D$214,8)=\"MODELO M\",LEFT(D220,8)=\"MODELO B\"),AND(LEFT($D$214,8)=\"MODELO B\",$K$214=\"Atribuir valor detalhado por Fase/Elemento\")),P220,0)","v":0},{"$f":"IF(OR(AND(LEFT($D$214,8)=\"MODELO M\",LEFT(D220,8)=\"MODELO C\"),AND(LEFT($D$214,8)=\"MODELO C\",$R$214=\"Atribuir valor detalhado por Fase/Elemento\")),X220,0)","v":0},{"$f":"IF(OR(AND(LEFT($D$214,8)=\"MODELO M\",LEFT(D220,8)=\"MODELO D\"),AND(LEFT($D$214,8)=\"MODELO D\",$Z$214=\"Atribuir valor detalhado por Fase/Elemento\")),AC220,0)","v":0},{"$f":"SUM(BH220:BK220)","v":0},"MODELO A - TEMPO - N.º DE HORAS DE TRABALHO"]
[null,{"$f":"IF($B$214=\"ocultar\",\"ocultar\",IF('SA - ATIVIDADES'!$H$138>='SA - SERVICOS COMPLEMENTARES'!AH221,\"mostrar\",\"ocultar\"))","v":"ocultar"},"Designação (a preencher)","MODELO A - TEMPO - N.º DE HORAS DE TRABALHO",null,null,0,{"$f":"$H$214","v":0},{"$f":"G221*H221","v":0},null,null,null,null,null,0,0,null,null,null,null,null,null,0,{"$f":"$X$214*W221","v":0},null,null,0,0,{"$f":"AA221*AB221","v":0},null,{"$f":"BL221","v":0},null,null,5,null,null,null,null,null,null,null,null,null,null,null,null,null,null,null,null,null,null,null,null,null,null,null,null,null,{"$f":"IF(OR(AND(LEFT($D$214,8)=\"MODELO M\",LEFT(D221,8)=\"MODELO A\"),AND(LEFT($D$214,8)=\"MODELO A\",$F$214=\"Atribuir valor detalhado por Fase/Elemento\")),I221,0)","v":0},{"$f":"IF(OR(AND(LEFT($D$214,8)=\"MODELO M\",LEFT(D221,8)=\"MODELO B\"),AND(LEFT($D$214,8)=\"MODELO B\",$K$214=\"Atribuir valor detalhado por Fase/Elemento\")),P221,0)","v":0},{"$f":"IF(OR(AND(LEFT($D$214,8)=\"MODELO M\",LEFT(D221,8)=\"MODELO C\"),AND(LEFT($D$214,8)=\"MODELO C\",$R$214=\"Atribuir valor detalhado por Fase/Elemento\")),X221,0)","v":0},{"$f":"IF(OR(AND(LEFT($D$214,8)=\"MODELO M\",LEFT(D221,8)=\"MODELO D\"),AND(LEFT($D$214,8)=\"MODELO D\",$Z$214=\"Atribuir valor detalhado por Fase/Elemento\")),AC221,0)","v":0},{"$f":"SUM(BH221:BK221)","v":0},"MODELO A - TEMPO - N.º DE HORAS DE TRABALHO"]
[null,{"$f":"IF($B$214=\"ocultar\",\"ocultar\",\"mostrar\")","v":"ocultar"},"TOTAL",null,null,null,{"$f":"IF(F$214=\"Atribuir valor global à atividade\",G214,SUBTOTAL(109,G217:G221))","v":0},null,{"$f":"IF($F$214=\"Atribuir valor global à atividade\",I214,SUBTOTAL(109,I217:I221))","v":0},null,null,null,null,null,{"$f":"IF($K$214=\"Atribuir valor global à atividade\",1,SUBTOTAL(109,O217:O221))","v":1},{"$f":"IF($K$214=\"Atribuir valor global à atividade\",P214,SUBTOTAL(109,P217:P221))","v":0},null,null,null,null,null,null,{"$f":"IF($R$214=\"Atribuir valor global à atividade\",1,SUBTOTAL(109,W217:W221))","v":1},{"$f":"IF($R$214=\"Atribuir valor global à atividade\",X214,SUBTOTAL(109,X217:X221))","v":0},null,null,null,null,{"$f":"IF($Z$214=\"Atribuir valor global à atividade\",AC214,SUBTOTAL(109,AC217:AC221))","v":0},null,{"$f":"SUBTOTAL(109,AE217:AE221)","v":0},null,null,null,null,null,null,null,null,null,null,null,null,null,null,null,null,null,null,null,null,null,null,null,null,null,null,null,null,null,null,null,null,null,"MODELO A - TEMPO - N.º DE HORAS DE TRABALHO"]
[null,{"$f":"IF($B$214=\"ocultar\",\"ocultar\",\"mostrar\")","v":"ocultar"},null,null,null,null,null,null,null,null,null,null,null,null,null,null,null,null,null,null,null,null,null,null,null,null,null,null,null,null,null,null,null,null,null,null,null,null,null,null,null,null,null,null,null,null,null,null,null,null,null,null,null,null,null,null,null,null,null,null,null,null,null,null,"MODELO A - TEMPO - N.º DE HORAS DE TRABALHO"]
[null,{"$f":"IF('SA - ATIVIDADES'!F139=TRUE,\"mostrar\",\"ocultar\")","v":"ocultar"},"B12. RELATÓRIO INTERCALAR NO ÂMBITO DA INTERVENÇÃO SOBRE BENS CULTURAIS IMÓVEIS, CLASSIFICADOS, OU EM VIAS DE CLASSIFICAÇÃO, DE INTERESSE NACIONAL, DE INTERESSE PÚBLICO OU DE INTERESSE MUNICIPAL","MODELO A - TEMPO - N.º DE HORAS DE TRABALHO",null,"Atribuir valor global à atividade",0,0,{"$f":"IF($F$224=\"Atribuir valor global à atividade\",G224*H224,\"\")","v":0},null,"Atribuir valor global à atividade","Valor Global Obra (VG Obra)",{"$f":"IF(L224=\"Valor Global Obra (VG Obra)\",$M$9,\"\")","v":0},0,0,{"$f":"IF(L224=\"Valor Global Obra (VG Obra)\",M224*O224,N224*O224)","v":0},null,"Atribuir valor global à atividade","Valor/m2 fixo (VF m2)",{"$f":"IF(S224=\"Valor/m2 fixo (VF m2)\",$T$9,\"\")","v":0},0,0,null,{"$f":"IF(S224=\"Valor/m2 fixo (VF m2)\",T224*1*V224,U224*1*V224)","v":0},null,"Atribuir valor global à atividade",0,0,{"$f":"AA224*AB224","v":0},null,{"$f":"BL224","v":0},null,null,null,null,null,null,null,null,null,null,null,null,null,null,null,null,null,null,null,null,null,null,null,null,null,null,null,null,{"$f":"IF(LEFT($D$224,8)=\"MODELO A\",IF($F$224=\"Atribuir valor detalhado por Fase/Elemento\",SUBTOTAL(109,BH227:BH231),I224),IF(LEFT($D$224,8)=\"MODELO M\",SUBTOTAL(109,BH227:BH231),0))","v":0},{"$f":"IF(LEFT($D$224,8)=\"MODELO B\",IF($K$224=\"Atribuir valor detalhado por Fase/Elemento\",SUBTOTAL(109,BI227:BI231),P224),IF(LEFT($D$224,8)=\"MODELO M\",SUBTOTAL(109,BI227:BI231),0))","v":0},{"$f":"IF(LEFT($D$224,8)=\"MODELO C\",IF($R$224=\"Atribuir valor detalhado por Fase/Elemento\",SUBTOTAL(109,BJ227:BJ231),X224),IF(LEFT($D$224,8)=\"MODELO M\",SUBTOTAL(109,BJ227:BJ231),0))","v":0},{"$f":"IF(LEFT($D$224,8)=\"MODELO D\",IF($Z$224=\"Atribuir valor detalhado por Fase/Elemento\",SUBTOTAL(109,BK227:BK231),AC224),IF(LEFT($D$224,8)=\"MODELO M\",SUBTOTAL(109,BK227:BK231),0))","v":0},{"$f":"SUM(BH224:BK224)","v":0},"MODELO A - TEMPO - N.º DE HORAS DE TRABALHO"]
[null,{"$f":"IF($B$224=\"ocultar\",\"ocultar\",\"mostrar\")","v":"ocultar"},null,null,null,null,null,null,null,null,null,null,null,null,null,null,null,null,null,null,null,null,null,null,null,null,null,null,null,null,null,null,null,null,null,null,null,null,null,null,null,null,null,null,null,null,null,null,null,null,null,null,null,null,null,null,null,null,null,null,null,null,null,null,"MODELO A - TEMPO - N.º DE HORAS DE TRABALHO"]
[null,"ocultar",null,null,null,null,null,null,null,null,null,null,null,null,null,null,null,null,null,null,null,null,null,null,null,null,null,null,null,null,null,null,null,null,null,null,null,null,null,null,null,null,null,null,null,null,null,null,null,null,null,null,null,null,null,null,null,null,null,null,null,null,null,null,"MODELO A - TEMPO - N.º DE HORAS DE TRABALHO"]
[null,{"$f":"IF($B$224=\"ocultar\",\"ocultar\",IF('SA - ATIVIDADES'!$H$139>='SA - SERVICOS COMPLEMENTARES'!AH227,\"mostrar\",\"ocultar\"))","v":"ocultar"},"Designação (a preencher)","MODELO A - TEMPO - N.º DE HORAS DE TRABALHO",null,null,0,{"$f":"$H$224","v":0},{"$f":"G227*H227","v":0},null,null,null,null,null,0,{"$f":"$P$224*O227","v":0},null,null,null,null,null,null,0,{"$f":"$X$224*W227","v":0},null,null,0,0,{"$f":"AA227*AB227","v":0},null,{"$f":"BL227","v":0},null,null,1,null,null,null,null,null,null,null,null,null,null,null,null,null,null,null,null,null,null,null,null,null,null,null,null,null,{"$f":"IF(OR(AND(LEFT($D$224,8)=\"MODELO M\",LEFT(D227,8)=\"MODELO A\"),AND(LEFT($D$224,8)=\"MODELO A\",$F$224=\"Atribuir valor detalhado por Fase/Elemento\")),I227,0)","v":0},{"$f":"IF(OR(AND(LEFT($D$224,8)=\"MODELO M\",LEFT(D227,8)=\"MODELO B\"),AND(LEFT($D$224,8)=\"MODELO B\",$K$224=\"Atribuir valor detalhado por Fase/Elemento\")),P227,0)","v":0},{"$f":"IF(OR(AND(LEFT($D$224,8)=\"MODELO M\",LEFT(D227,8)=\"MODELO C\"),AND(LEFT($D$224,8)=\"MODELO C\",$R$224=\"Atribuir valor detalhado por Fase/Elemento\")),X227,0)","v":0},{"$f":"IF(OR(AND(LEFT($D$224,8)=\"MODELO M\",LEFT(D227,8)=\"MODELO D\"),AND(LEFT($D$224,8)=\"MODELO D\",$Z$224=\"Atribuir valor detalhado por Fase/Elemento\")),AC227,0)","v":0},{"$f":"SUM(BH227:BK227)","v":0},"MODELO A - TEMPO - N.º DE HORAS DE TRABALHO"]
[null,{"$f":"IF($B$224=\"ocultar\",\"ocultar\",IF('SA - ATIVIDADES'!$H$139>='SA - SERVICOS COMPLEMENTARES'!AH228,\"mostrar\",\"ocultar\"))","v":"ocultar"},"Designação (a preencher)","MODELO A - TEMPO - N.º DE HORAS DE TRABALHO",null,null,0,{"$f":"$H$224","v":0},{"$f":"G228*H228","v":0},null,null,null,null,null,0,{"$f":"$P$224*O228","v":0},null,null,null,null,null,null,0,{"$f":"$X$224*W228","v":0},null,null,0,0,{"$f":"AA228*AB228","v":0},null,{"$f":"BL228","v":0},null,null,2,null,null,null,null,null,null,null,null,null,null,null,null,null,null,null,null,null,null,null,null,null,null,null,null,null,{"$f":"IF(OR(AND(LEFT($D$224,8)=\"MODELO M\",LEFT(D228,8)=\"MODELO A\"),AND(LEFT($D$224,8)=\"MODELO A\",$F$224=\"Atribuir valor detalhado por Fase/Elemento\")),I228,0)","v":0},{"$f":"IF(OR(AND(LEFT($D$224,8)=\"MODELO M\",LEFT(D228,8)=\"MODELO B\"),AND(LEFT($D$224,8)=\"MODELO B\",$K$224=\"Atribuir valor detalhado por Fase/Elemento\")),P228,0)","v":0},{"$f":"IF(OR(AND(LEFT($D$224,8)=\"MODELO M\",LEFT(D228,8)=\"MODELO C\"),AND(LEFT($D$224,8)=\"MODELO C\",$R$224=\"Atribuir valor detalhado por Fase/Elemento\")),X228,0)","v":0},{"$f":"IF(OR(AND(LEFT($D$224,8)=\"MODELO M\",LEFT(D228,8)=\"MODELO D\"),AND(LEFT($D$224,8)=\"MODELO D\",$Z$224=\"Atribuir valor detalhado por Fase/Elemento\")),AC228,0)","v":0},{"$f":"SUM(BH228:BK228)","v":0},"MODELO A - TEMPO - N.º DE HORAS DE TRABALHO"]
[null,{"$f":"IF($B$224=\"ocultar\",\"ocultar\",IF('SA - ATIVIDADES'!$H$139>='SA - SERVICOS COMPLEMENTARES'!AH229,\"mostrar\",\"ocultar\"))","v":"ocultar"},"Designação (a preencher)","MODELO A - TEMPO - N.º DE HORAS DE TRABALHO",null,null,0,{"$f":"$H$224","v":0},{"$f":"G229*H229","v":0},null,null,null,null,null,0,0,null,null,null,null,null,null,0,{"$f":"$X$224*W229","v":0},null,null,0,0,{"$f":"AA229*AB229","v":0},null,{"$f":"BL229","v":0},null,null,3,null,null,null,null,null,null,null,null,null,null,null,null,null,null,null,null,null,null,null,null,null,null,null,null,null,{"$f":"IF(OR(AND(LEFT($D$224,8)=\"MODELO M\",LEFT(D229,8)=\"MODELO A\"),AND(LEFT($D$224,8)=\"MODELO A\",$F$224=\"Atribuir valor detalhado por Fase/Elemento\")),I229,0)","v":0},{"$f":"IF(OR(AND(LEFT($D$224,8)=\"MODELO M\",LEFT(D229,8)=\"MODELO B\"),AND(LEFT($D$224,8)=\"MODELO B\",$K$224=\"Atribuir valor detalhado por Fase/Elemento\")),P229,0)","v":0},{"$f":"IF(OR(AND(LEFT($D$224,8)=\"MODELO M\",LEFT(D229,8)=\"MODELO C\"),AND(LEFT($D$224,8)=\"MODELO C\",$R$224=\"Atribuir valor detalhado por Fase/Elemento\")),X229,0)","v":0},{"$f":"IF(OR(AND(LEFT($D$224,8)=\"MODELO M\",LEFT(D229,8)=\"MODELO D\"),AND(LEFT($D$224,8)=\"MODELO D\",$Z$224=\"Atribuir valor detalhado por Fase/Elemento\")),AC229,0)","v":0},{"$f":"SUM(BH229:BK229)","v":0},"MODELO A - TEMPO - N.º DE HORAS DE TRABALHO"]
[null,{"$f":"IF($B$224=\"ocultar\",\"ocultar\",IF('SA - ATIVIDADES'!$H$139>='SA - SERVICOS COMPLEMENTARES'!AH230,\"mostrar\",\"ocultar\"))","v":"ocultar"},"Designação (a preencher)","MODELO A - TEMPO - N.º DE HORAS DE TRABALHO",null,null,0,{"$f":"$H$224","v":0},{"$f":"G230*H230","v":0},null,null,null,null,null,0,0,null,null,null,null,null,null,0,{"$f":"$X$224*W230","v":0},null,null,0,0,{"$f":"AA230*AB230","v":0},null,{"$f":"BL230","v":0},null,null,4,null,null,null,null,null,null,null,null,null,null,null,null,null,null,null,null,null,null,null,null,null,null,null,null,null,{"$f":"IF(OR(AND(LEFT($D$224,8)=\"MODELO M\",LEFT(D230,8)=\"MODELO A\"),AND(LEFT($D$224,8)=\"MODELO A\",$F$224=\"Atribuir valor detalhado por Fase/Elemento\")),I230,0)","v":0},{"$f":"IF(OR(AND(LEFT($D$224,8)=\"MODELO M\",LEFT(D230,8)=\"MODELO B\"),AND(LEFT($D$224,8)=\"MODELO B\",$K$224=\"Atribuir valor detalhado por Fase/Elemento\")),P230,0)","v":0},{"$f":"IF(OR(AND(LEFT($D$224,8)=\"MODELO M\",LEFT(D230,8)=\"MODELO C\"),AND(LEFT($D$224,8)=\"MODELO C\",$R$224=\"Atribuir valor detalhado por Fase/Elemento\")),X230,0)","v":0},{"$f":"IF(OR(AND(LEFT($D$224,8)=\"MODELO M\",LEFT(D230,8)=\"MODELO D\"),AND(LEFT($D$224,8)=\"MODELO D\",$Z$224=\"Atribuir valor detalhado por Fase/Elemento\")),AC230,0)","v":0},{"$f":"SUM(BH230:BK230)","v":0},"MODELO A - TEMPO - N.º DE HORAS DE TRABALHO"]
[null,{"$f":"IF($B$224=\"ocultar\",\"ocultar\",IF('SA - ATIVIDADES'!$H$139>='SA - SERVICOS COMPLEMENTARES'!AH231,\"mostrar\",\"ocultar\"))","v":"ocultar"},"Designação (a preencher)","MODELO A - TEMPO - N.º DE HORAS DE TRABALHO",null,null,0,{"$f":"$H$224","v":0},{"$f":"G231*H231","v":0},null,null,null,null,null,0,0,null,null,null,null,null,null,0,{"$f":"$X$224*W231","v":0},null,null,0,0,{"$f":"AA231*AB231","v":0},null,{"$f":"BL231","v":0},null,null,5,null,null,null,null,null,null,null,null,null,null,null,null,null,null,null,null,null,null,null,null,null,null,null,null,null,{"$f":"IF(OR(AND(LEFT($D$224,8)=\"MODELO M\",LEFT(D231,8)=\"MODELO A\"),AND(LEFT($D$224,8)=\"MODELO A\",$F$224=\"Atribuir valor detalhado por Fase/Elemento\")),I231,0)","v":0},{"$f":"IF(OR(AND(LEFT($D$224,8)=\"MODELO M\",LEFT(D231,8)=\"MODELO B\"),AND(LEFT($D$224,8)=\"MODELO B\",$K$224=\"Atribuir valor detalhado por Fase/Elemento\")),P231,0)","v":0},{"$f":"IF(OR(AND(LEFT($D$224,8)=\"MODELO M\",LEFT(D231,8)=\"MODELO C\"),AND(LEFT($D$224,8)=\"MODELO C\",$R$224=\"Atribuir valor detalhado por Fase/Elemento\")),X231,0)","v":0},{"$f":"IF(OR(AND(LEFT($D$224,8)=\"MODELO M\",LEFT(D231,8)=\"MODELO D\"),AND(LEFT($D$224,8)=\"MODELO D\",$Z$224=\"Atribuir valor detalhado por Fase/Elemento\")),AC231,0)","v":0},{"$f":"SUM(BH231:BK231)","v":0},"MODELO A - TEMPO - N.º DE HORAS DE TRABALHO"]
[null,{"$f":"IF($B$224=\"ocultar\",\"ocultar\",\"mostrar\")","v":"ocultar"},"TOTAL",null,null,null,{"$f":"IF(F$224=\"Atribuir valor global à atividade\",G224,SUBTOTAL(109,G227:G231))","v":0},null,{"$f":"IF($F$224=\"Atribuir valor global à atividade\",I224,SUBTOTAL(109,I227:I231))","v":0},null,null,null,null,null,{"$f":"IF($K$224=\"Atribuir valor global à atividade\",1,SUBTOTAL(109,O227:O231))","v":1},{"$f":"IF($K$224=\"Atribuir valor global à atividade\",P224,SUBTOTAL(109,P227:P231))","v":0},null,null,null,null,null,null,{"$f":"IF($R$224=\"Atribuir valor global à atividade\",1,SUBTOTAL(109,W227:W231))","v":1},{"$f":"IF($R$224=\"Atribuir valor global à atividade\",X224,SUBTOTAL(109,X227:X231))","v":0},null,null,null,null,{"$f":"IF($Z$224=\"Atribuir valor global à atividade\",AC224,SUBTOTAL(109,AC227:AC231))","v":0},null,{"$f":"SUBTOTAL(109,AE227:AE231)","v":0},null,null,null,null,null,null,null,null,null,null,null,null,null,null,null,null,null,null,null,null,null,null,null,null,null,null,null,null,null,null,null,null,null,"MODELO A - TEMPO - N.º DE HORAS DE TRABALHO"]
[null,{"$f":"IF($B$224=\"ocultar\",\"ocultar\",\"mostrar\")","v":"ocultar"},null,null,null,null,null,null,null,null,null,null,null,null,null,null,null,null,null,null,null,null,null,null,null,null,null,null,null,null,null,null,null,null,null,null,null,null,null,null,null,null,null,null,null,null,null,null,null,null,null,null,null,null,null,null,null,null,null,null,null,null,null,null,"MODELO A - TEMPO - N.º DE HORAS DE TRABALHO"]
[null,{"$f":"IF('SA - ATIVIDADES'!F140=TRUE,\"mostrar\",\"ocultar\")","v":"ocultar"},"B13. RELATÓRIO FINAL NO ÂMBITO DA INTERVENÇÃO SOBRE BENS CULTURAIS IMÓVEIS, CLASSIFICADOS, OU EM VIAS DE CLASSIFICAÇÃO, DE INTERESSE NACIONAL, DE INTERESSE PÚBLICO OU DE INTERESSE MUNICIPAL","MODELO A - TEMPO - N.º DE HORAS DE TRABALHO",null,"Atribuir valor global à atividade",0,0,{"$f":"IF($F$234=\"Atribuir valor global à atividade\",G234*H234,\"\")","v":0},null,"Atribuir valor global à atividade","Valor Global Obra (VG Obra)",{"$f":"IF(L234=\"Valor Global Obra (VG Obra)\",$M$9,\"\")","v":0},0,0,{"$f":"IF(L234=\"Valor Global Obra (VG Obra)\",M234*O234,N234*O234)","v":0},null,"Atribuir valor global à atividade","Valor/m2 fixo (VF m2)",{"$f":"IF(S234=\"Valor/m2 fixo (VF m2)\",$T$9,\"\")","v":0},0,0,null,{"$f":"IF(S234=\"Valor/m2 fixo (VF m2)\",T234*1*V234,U234*1*V234)","v":0},null,"Atribuir valor global à atividade",0,0,{"$f":"AA234*AB234","v":0},null,{"$f":"BL234","v":0},null,null,null,null,null,null,null,null,null,null,null,null,null,null,null,null,null,null,null,null,null,null,null,null,null,null,null,null,{"$f":"IF(LEFT($D$234,8)=\"MODELO A\",IF($F$234=\"Atribuir valor detalhado por Fase/Elemento\",SUBTOTAL(109,BH237:BH241),I234),IF(LEFT($D$234,8)=\"MODELO M\",SUBTOTAL(109,BH237:BH241),0))","v":0},{"$f":"IF(LEFT($D$234,8)=\"MODELO B\",IF($K$234=\"Atribuir valor detalhado por Fase/Elemento\",SUBTOTAL(109,BI237:BI241),P234),IF(LEFT($D$234,8)=\"MODELO M\",SUBTOTAL(109,BI237:BI241),0))","v":0},{"$f":"IF(LEFT($D$234,8)=\"MODELO C\",IF($R$234=\"Atribuir valor detalhado por Fase/Elemento\",SUBTOTAL(109,BJ237:BJ241),X234),IF(LEFT($D$234,8)=\"MODELO M\",SUBTOTAL(109,BJ237:BJ241),0))","v":0},{"$f":"IF(LEFT($D$234,8)=\"MODELO D\",IF($Z$234=\"Atribuir valor detalhado por Fase/Elemento\",SUBTOTAL(109,BK237:BK241),AC234),IF(LEFT($D$234,8)=\"MODELO M\",SUBTOTAL(109,BK237:BK241),0))","v":0},{"$f":"SUM(BH234:BK234)","v":0},"MODELO A - TEMPO - N.º DE HORAS DE TRABALHO"]
[null,{"$f":"IF($B$234=\"ocultar\",\"ocultar\",\"mostrar\")","v":"ocultar"},null,null,null,null,null,null,null,null,null,null,null,null,null,null,null,null,null,null,null,null,null,null,null,null,null,null,null,null,null,null,null,null,null,null,null,null,null,null,null,null,null,null,null,null,null,null,null,null,null,null,null,null,null,null,null,null,null,null,null,null,null,null,"MODELO A - TEMPO - N.º DE HORAS DE TRABALHO"]
[null,"ocultar",null,null,null,null,null,null,null,null,null,null,null,null,null,null,null,null,null,null,null,null,null,null,null,null,null,null,null,null,null,null,null,null,null,null,null,null,null,null,null,null,null,null,null,null,null,null,null,null,null,null,null,null,null,null,null,null,null,null,null,null,null,null,"MODELO A - TEMPO - N.º DE HORAS DE TRABALHO"]
[null,{"$f":"IF($B$234=\"ocultar\",\"ocultar\",IF('SA - ATIVIDADES'!$H$140>='SA - SERVICOS COMPLEMENTARES'!AH237,\"mostrar\",\"ocultar\"))","v":"ocultar"},"Designação (a preencher)","MODELO A - TEMPO - N.º DE HORAS DE TRABALHO",null,null,0,{"$f":"$H$234","v":0},{"$f":"G237*H237","v":0},null,null,null,null,null,0,{"$f":"$P$234*O237","v":0},null,null,null,null,null,null,0,{"$f":"$X$234*W237","v":0},null,null,0,0,{"$f":"AA237*AB237","v":0},null,{"$f":"BL237","v":0},null,null,1,null,null,null,null,null,null,null,null,null,null,null,null,null,null,null,null,null,null,null,null,null,null,null,null,null,{"$f":"IF(OR(AND(LEFT($D$234,8)=\"MODELO M\",LEFT(D237,8)=\"MODELO A\"),AND(LEFT($D$234,8)=\"MODELO A\",$F$234=\"Atribuir valor detalhado por Fase/Elemento\")),I237,0)","v":0},{"$f":"IF(OR(AND(LEFT($D$234,8)=\"MODELO M\",LEFT(D237,8)=\"MODELO B\"),AND(LEFT($D$234,8)=\"MODELO B\",$K$234=\"Atribuir valor detalhado por Fase/Elemento\")),P237,0)","v":0},{"$f":"IF(OR(AND(LEFT($D$234,8)=\"MODELO M\",LEFT(D237,8)=\"MODELO C\"),AND(LEFT($D$234,8)=\"MODELO C\",$R$234=\"Atribuir valor detalhado por Fase/Elemento\")),X237,0)","v":0},{"$f":"IF(OR(AND(LEFT($D$234,8)=\"MODELO M\",LEFT(D237,8)=\"MODELO D\"),AND(LEFT($D$234,8)=\"MODELO D\",$Z$234=\"Atribuir valor detalhado por Fase/Elemento\")),AC237,0)","v":0},{"$f":"SUM(BH237:BK237)","v":0},"MODELO A - TEMPO - N.º DE HORAS DE TRABALHO"]
[null,{"$f":"IF($B$234=\"ocultar\",\"ocultar\",IF('SA - ATIVIDADES'!$H$140>='SA - SERVICOS COMPLEMENTARES'!AH238,\"mostrar\",\"ocultar\"))","v":"ocultar"},"Designação (a preencher)","MODELO A - TEMPO - N.º DE HORAS DE TRABALHO",null,null,0,{"$f":"$H$234","v":0},{"$f":"G238*H238","v":0},null,null,null,null,null,0,{"$f":"$P$234*O238","v":0},null,null,null,null,null,null,0,{"$f":"$X$234*W238","v":0},null,null,0,0,{"$f":"AA238*AB238","v":0},null,{"$f":"BL238","v":0},null,null,2,null,null,null,null,null,null,null,null,null,null,null,null,null,null,null,null,null,null,null,null,null,null,null,null,null,{"$f":"IF(OR(AND(LEFT($D$234,8)=\"MODELO M\",LEFT(D238,8)=\"MODELO A\"),AND(LEFT($D$234,8)=\"MODELO A\",$F$234=\"Atribuir valor detalhado por Fase/Elemento\")),I238,0)","v":0},{"$f":"IF(OR(AND(LEFT($D$234,8)=\"MODELO M\",LEFT(D238,8)=\"MODELO B\"),AND(LEFT($D$234,8)=\"MODELO B\",$K$234=\"Atribuir valor detalhado por Fase/Elemento\")),P238,0)","v":0},{"$f":"IF(OR(AND(LEFT($D$234,8)=\"MODELO M\",LEFT(D238,8)=\"MODELO C\"),AND(LEFT($D$234,8)=\"MODELO C\",$R$234=\"Atribuir valor detalhado por Fase/Elemento\")),X238,0)","v":0},{"$f":"IF(OR(AND(LEFT($D$234,8)=\"MODELO M\",LEFT(D238,8)=\"MODELO D\"),AND(LEFT($D$234,8)=\"MODELO D\",$Z$234=\"Atribuir valor detalhado por Fase/Elemento\")),AC238,0)","v":0},{"$f":"SUM(BH238:BK238)","v":0},"MODELO A - TEMPO - N.º DE HORAS DE TRABALHO"]
[null,{"$f":"IF($B$234=\"ocultar\",\"ocultar\",IF('SA - ATIVIDADES'!$H$140>='SA - SERVICOS COMPLEMENTARES'!AH239,\"mostrar\",\"ocultar\"))","v":"ocultar"},"Designação (a preencher)","MODELO A - TEMPO - N.º DE HORAS DE TRABALHO",null,null,0,{"$f":"$H$234","v":0},{"$f":"G239*H239","v":0},null,null,null,null,null,0,0,null,null,null,null,null,null,0,{"$f":"$X$234*W239","v":0},null,null,0,0,{"$f":"AA239*AB239","v":0},null,{"$f":"BL239","v":0},null,null,3,null,null,null,null,null,null,null,null,null,null,null,null,null,null,null,null,null,null,null,null,null,null,null,null,null,{"$f":"IF(OR(AND(LEFT($D$234,8)=\"MODELO M\",LEFT(D239,8)=\"MODELO A\"),AND(LEFT($D$234,8)=\"MODELO A\",$F$234=\"Atribuir valor detalhado por Fase/Elemento\")),I239,0)","v":0},{"$f":"IF(OR(AND(LEFT($D$234,8)=\"MODELO M\",LEFT(D239,8)=\"MODELO B\"),AND(LEFT($D$234,8)=\"MODELO B\",$K$234=\"Atribuir valor detalhado por Fase/Elemento\")),P239,0)","v":0},{"$f":"IF(OR(AND(LEFT($D$234,8)=\"MODELO M\",LEFT(D239,8)=\"MODELO C\"),AND(LEFT($D$234,8)=\"MODELO C\",$R$234=\"Atribuir valor detalhado por Fase/Elemento\")),X239,0)","v":0},{"$f":"IF(OR(AND(LEFT($D$234,8)=\"MODELO M\",LEFT(D239,8)=\"MODELO D\"),AND(LEFT($D$234,8)=\"MODELO D\",$Z$234=\"Atribuir valor detalhado por Fase/Elemento\")),AC239,0)","v":0},{"$f":"SUM(BH239:BK239)","v":0},"MODELO A - TEMPO - N.º DE HORAS DE TRABALHO"]
[null,{"$f":"IF($B$234=\"ocultar\",\"ocultar\",IF('SA - ATIVIDADES'!$H$140>='SA - SERVICOS COMPLEMENTARES'!AH240,\"mostrar\",\"ocultar\"))","v":"ocultar"},"Designação (a preencher)","MODELO A - TEMPO - N.º DE HORAS DE TRABALHO",null,null,0,{"$f":"$H$234","v":0},{"$f":"G240*H240","v":0},null,null,null,null,null,0,0,null,null,null,null,null,null,0,{"$f":"$X$234*W240","v":0},null,null,0,0,{"$f":"AA240*AB240","v":0},null,{"$f":"BL240","v":0},null,null,4,null,null,null,null,null,null,null,null,null,null,null,null,null,null,null,null,null,null,null,null,null,null,null,null,null,{"$f":"IF(OR(AND(LEFT($D$234,8)=\"MODELO M\",LEFT(D240,8)=\"MODELO A\"),AND(LEFT($D$234,8)=\"MODELO A\",$F$234=\"Atribuir valor detalhado por Fase/Elemento\")),I240,0)","v":0},{"$f":"IF(OR(AND(LEFT($D$234,8)=\"MODELO M\",LEFT(D240,8)=\"MODELO B\"),AND(LEFT($D$234,8)=\"MODELO B\",$K$234=\"Atribuir valor detalhado por Fase/Elemento\")),P240,0)","v":0},{"$f":"IF(OR(AND(LEFT($D$234,8)=\"MODELO M\",LEFT(D240,8)=\"MODELO C\"),AND(LEFT($D$234,8)=\"MODELO C\",$R$234=\"Atribuir valor detalhado por Fase/Elemento\")),X240,0)","v":0},{"$f":"IF(OR(AND(LEFT($D$234,8)=\"MODELO M\",LEFT(D240,8)=\"MODELO D\"),AND(LEFT($D$234,8)=\"MODELO D\",$Z$234=\"Atribuir valor detalhado por Fase/Elemento\")),AC240,0)","v":0},{"$f":"SUM(BH240:BK240)","v":0},"MODELO A - TEMPO - N.º DE HORAS DE TRABALHO"]
[null,{"$f":"IF($B$234=\"ocultar\",\"ocultar\",IF('SA - ATIVIDADES'!$H$140>='SA - SERVICOS COMPLEMENTARES'!AH241,\"mostrar\",\"ocultar\"))","v":"ocultar"},"Designação (a preencher)","MODELO A - TEMPO - N.º DE HORAS DE TRABALHO",null,null,0,{"$f":"$H$234","v":0},{"$f":"G241*H241","v":0},null,null,null,null,null,0,0,null,null,null,null,null,null,0,{"$f":"$X$234*W241","v":0},null,null,0,0,{"$f":"AA241*AB241","v":0},null,{"$f":"BL241","v":0},null,null,5,null,null,null,null,null,null,null,null,null,null,null,null,null,null,null,null,null,null,null,null,null,null,null,null,null,{"$f":"IF(OR(AND(LEFT($D$234,8)=\"MODELO M\",LEFT(D241,8)=\"MODELO A\"),AND(LEFT($D$234,8)=\"MODELO A\",$F$234=\"Atribuir valor detalhado por Fase/Elemento\")),I241,0)","v":0},{"$f":"IF(OR(AND(LEFT($D$234,8)=\"MODELO M\",LEFT(D241,8)=\"MODELO B\"),AND(LEFT($D$234,8)=\"MODELO B\",$K$234=\"Atribuir valor detalhado por Fase/Elemento\")),P241,0)","v":0},{"$f":"IF(OR(AND(LEFT($D$234,8)=\"MODELO M\",LEFT(D241,8)=\"MODELO C\"),AND(LEFT($D$234,8)=\"MODELO C\",$R$234=\"Atribuir valor detalhado por Fase/Elemento\")),X241,0)","v":0},{"$f":"IF(OR(AND(LEFT($D$234,8)=\"MODELO M\",LEFT(D241,8)=\"MODELO D\"),AND(LEFT($D$234,8)=\"MODELO D\",$Z$234=\"Atribuir valor detalhado por Fase/Elemento\")),AC241,0)","v":0},{"$f":"SUM(BH241:BK241)","v":0},"MODELO A - TEMPO - N.º DE HORAS DE TRABALHO"]
[null,{"$f":"IF($B$234=\"ocultar\",\"ocultar\",\"mostrar\")","v":"ocultar"},"TOTAL",null,null,null,{"$f":"IF(F$234=\"Atribuir valor global à atividade\",G234,SUBTOTAL(109,G237:G241))","v":0},null,{"$f":"IF($F$234=\"Atribuir valor global à atividade\",I234,SUBTOTAL(109,I237:I241))","v":0},null,null,null,null,null,{"$f":"IF($K$234=\"Atribuir valor global à atividade\",1,SUBTOTAL(109,O237:O241))","v":1},{"$f":"IF($K$234=\"Atribuir valor global à atividade\",P234,SUBTOTAL(109,P237:P241))","v":0},null,null,null,null,null,null,{"$f":"IF($R$234=\"Atribuir valor global à atividade\",1,SUBTOTAL(109,W237:W241))","v":1},{"$f":"IF($R$234=\"Atribuir valor global à atividade\",X234,SUBTOTAL(109,X237:X241))","v":0},null,null,null,null,{"$f":"IF($Z$234=\"Atribuir valor global à atividade\",AC234,SUBTOTAL(109,AC237:AC241))","v":0},null,{"$f":"SUBTOTAL(109,AE237:AE241)","v":0},null,null,null,null,null,null,null,null,null,null,null,null,null,null,null,null,null,null,null,null,null,null,null,null,null,null,null,null,null,null,null,null,null,"MODELO A - TEMPO - N.º DE HORAS DE TRABALHO"]
[null,{"$f":"IF($B$234=\"ocultar\",\"ocultar\",\"mostrar\")","v":"ocultar"},null,null,null,null,null,null,null,null,null,null,null,null,null,null,null,null,null,null,null,null,null,null,null,null,null,null,null,null,null,null,null,null,null,null,null,null,null,null,null,null,null,null,null,null,null,null,null,null,null,null,null,null,null,null,null,null,null,null,null,null,null,null,"MODELO A - TEMPO - N.º DE HORAS DE TRABALHO"]
[null,{"$f":"IF('SA - ATIVIDADES'!F141=TRUE,\"mostrar\",\"ocultar\")","v":"ocultar"},"B14. ESTUDO QUE ATESTE A CONFORMIDADE DA OPERAÇÃO URBANÍSTICA COM O DISPOSTO NO REGULAMENTO GERAL DO RUÍDO","MODELO A - TEMPO - N.º DE HORAS DE TRABALHO",null,"Atribuir valor global à atividade",0,0,{"$f":"IF($F$244=\"Atribuir valor global à atividade\",G244*H244,\"\")","v":0},null,"Atribuir valor global à atividade","Valor Global Obra (VG Obra)",{"$f":"IF(L244=\"Valor Global Obra (VG Obra)\",$M$9,\"\")","v":0},0,0,{"$f":"IF(L244=\"Valor Global Obra (VG Obra)\",M244*O244,N244*O244)","v":0},null,"Atribuir valor global à atividade","Valor/m2 fixo (VF m2)",{"$f":"IF(S244=\"Valor/m2 fixo (VF m2)\",$T$9,\"\")","v":0},0,0,null,{"$f":"IF(S244=\"Valor/m2 fixo (VF m2)\",T244*1*V244,U244*1*V244)","v":0},null,"Atribuir valor global à atividade",0,0,{"$f":"AA244*AB244","v":0},null,{"$f":"BL244","v":0},null,null,null,null,null,null,null,null,null,null,null,null,null,null,null,null,null,null,null,null,null,null,null,null,null,null,null,null,{"$f":"IF(LEFT($D$244,8)=\"MODELO A\",IF($F$244=\"Atribuir valor detalhado por Fase/Elemento\",SUBTOTAL(109,BH247:BH251),I244),IF(LEFT($D$244,8)=\"MODELO M\",SUBTOTAL(109,BH247:BH251),0))","v":0},{"$f":"IF(LEFT($D$244,8)=\"MODELO B\",IF($K$244=\"Atribuir valor detalhado por Fase/Elemento\",SUBTOTAL(109,BI247:BI251),P244),IF(LEFT($D$244,8)=\"MODELO M\",SUBTOTAL(109,BI247:BI251),0))","v":0},{"$f":"IF(LEFT($D$244,8)=\"MODELO C\",IF($R$244=\"Atribuir valor detalhado por Fase/Elemento\",SUBTOTAL(109,BJ247:BJ251),X244),IF(LEFT($D$244,8)=\"MODELO M\",SUBTOTAL(109,BJ247:BJ251),0))","v":0},{"$f":"IF(LEFT($D$244,8)=\"MODELO D\",IF($Z$244=\"Atribuir valor detalhado por Fase/Elemento\",SUBTOTAL(109,BK247:BK251),AC244),IF(LEFT($D$244,8)=\"MODELO M\",SUBTOTAL(109,BK247:BK251),0))","v":0},{"$f":"SUM(BH244:BK244)","v":0},"MODELO A - TEMPO - N.º DE HORAS DE TRABALHO"]
[null,{"$f":"IF($B$244=\"ocultar\",\"ocultar\",\"mostrar\")","v":"ocultar"},null,null,null,null,null,null,null,null,null,null,null,null,null,null,null,null,null,null,null,null,null,null,null,null,null,null,null,null,null,null,null,null,null,null,null,null,null,null,null,null,null,null,null,null,null,null,null,null,null,null,null,null,null,null,null,null,null,null,null,null,null,null,{"$f":"IF($AH245<>\"\",BM244,IF(LEFT($D245,6)=\"MODELO\",$D245,BM244))","v":"MODELO A - TEMPO - N.º DE HORAS DE TRABALHO"}]
[null,"ocultar",null,null,null,null,null,null,null,null,null,null,null,null,null,null,null,null,null,null,null,null,null,null,null,null,null,null,null,null,null,null,null,null,null,null,null,null,null,null,null,null,null,null,null,null,null,null,null,null,null,null,null,null,null,null,null,null,null,null,null,null,null,null,"MODELO A - TEMPO - N.º DE HORAS DE TRABALHO"]
[null,{"$f":"IF($B$244=\"ocultar\",\"ocultar\",IF('SA - ATIVIDADES'!$H$141>='SA - SERVICOS COMPLEMENTARES'!AH247,\"mostrar\",\"ocultar\"))","v":"ocultar"},"Designação (a preencher)","MODELO A - TEMPO - N.º DE HORAS DE TRABALHO",null,null,0,{"$f":"$H$244","v":0},{"$f":"G247*H247","v":0},null,null,null,null,null,0,{"$f":"$P$244*O247","v":0},null,null,null,null,null,null,0,{"$f":"$X$244*W247","v":0},null,null,0,0,{"$f":"AA247*AB247","v":0},null,{"$f":"BL247","v":0},null,null,1,null,null,null,null,null,null,null,null,null,null,null,null,null,null,null,null,null,null,null,null,null,null,null,null,null,{"$f":"IF(OR(AND(LEFT($D$244,8)=\"MODELO M\",LEFT(D247,8)=\"MODELO A\"),AND(LEFT($D$244,8)=\"MODELO A\",$F$244=\"Atribuir valor detalhado por Fase/Elemento\")),I247,0)","v":0},{"$f":"IF(OR(AND(LEFT($D$244,8)=\"MODELO M\",LEFT(D247,8)=\"MODELO B\"),AND(LEFT($D$244,8)=\"MODELO B\",$K$244=\"Atribuir valor detalhado por Fase/Elemento\")),P247,0)","v":0},{"$f":"IF(OR(AND(LEFT($D$244,8)=\"MODELO M\",LEFT(D247,8)=\"MODELO C\"),AND(LEFT($D$244,8)=\"MODELO C\",$R$244=\"Atribuir valor detalhado por Fase/Elemento\")),X247,0)","v":0},{"$f":"IF(OR(AND(LEFT($D$244,8)=\"MODELO M\",LEFT(D247,8)=\"MODELO D\"),AND(LEFT($D$244,8)=\"MODELO D\",$Z$244=\"Atribuir valor detalhado por Fase/Elemento\")),AC247,0)","v":0},{"$f":"SUM(BH247:BK247)","v":0},"MODELO A - TEMPO - N.º DE HORAS DE TRABALHO"]
[null,{"$f":"IF($B$244=\"ocultar\",\"ocultar\",IF('SA - ATIVIDADES'!$H$141>='SA - SERVICOS COMPLEMENTARES'!AH248,\"mostrar\",\"ocultar\"))","v":"ocultar"},"Designação (a preencher)","MODELO A - TEMPO - N.º DE HORAS DE TRABALHO",null,null,0,{"$f":"$H$244","v":0},{"$f":"G248*H248","v":0},null,null,null,null,null,0,{"$f":"$P$244*O248","v":0},null,null,null,null,null,null,0,{"$f":"$X$244*W248","v":0},null,null,0,0,{"$f":"AA248*AB248","v":0},null,{"$f":"BL248","v":0},null,null,2,null,null,null,null,null,null,null,null,null,null,null,null,null,null,null,null,null,null,null,null,null,null,null,null,null,{"$f":"IF(OR(AND(LEFT($D$244,8)=\"MODELO M\",LEFT(D248,8)=\"MODELO A\"),AND(LEFT($D$244,8)=\"MODELO A\",$F$244=\"Atribuir valor detalhado por Fase/Elemento\")),I248,0)","v":0},{"$f":"IF(OR(AND(LEFT($D$244,8)=\"MODELO M\",LEFT(D248,8)=\"MODELO B\"),AND(LEFT($D$244,8)=\"MODELO B\",$K$244=\"Atribuir valor detalhado por Fase/Elemento\")),P248,0)","v":0},{"$f":"IF(OR(AND(LEFT($D$244,8)=\"MODELO M\",LEFT(D248,8)=\"MODELO C\"),AND(LEFT($D$244,8)=\"MODELO C\",$R$244=\"Atribuir valor detalhado por Fase/Elemento\")),X248,0)","v":0},{"$f":"IF(OR(AND(LEFT($D$244,8)=\"MODELO M\",LEFT(D248,8)=\"MODELO D\"),AND(LEFT($D$244,8)=\"MODELO D\",$Z$244=\"Atribuir valor detalhado por Fase/Elemento\")),AC248,0)","v":0},{"$f":"SUM(BH248:BK248)","v":0},"MODELO A - TEMPO - N.º DE HORAS DE TRABALHO"]
[null,{"$f":"IF($B$244=\"ocultar\",\"ocultar\",IF('SA - ATIVIDADES'!$H$141>='SA - SERVICOS COMPLEMENTARES'!AH249,\"mostrar\",\"ocultar\"))","v":"ocultar"},"Designação (a preencher)","MODELO A - TEMPO - N.º DE HORAS DE TRABALHO",null,null,0,{"$f":"$H$244","v":0},{"$f":"G249*H249","v":0},null,null,null,null,null,0,0,null,null,null,null,null,null,0,{"$f":"$X$244*W249","v":0},null,null,0,0,{"$f":"AA249*AB249","v":0},null,{"$f":"BL249","v":0},null,null,3,null,null,null,null,null,null,null,null,null,null,null,null,null,null,null,null,null,null,null,null,null,null,null,null,null,{"$f":"IF(OR(AND(LEFT($D$244,8)=\"MODELO M\",LEFT(D249,8)=\"MODELO A\"),AND(LEFT($D$244,8)=\"MODELO A\",$F$244=\"Atribuir valor detalhado por Fase/Elemento\")),I249,0)","v":0},{"$f":"IF(OR(AND(LEFT($D$244,8)=\"MODELO M\",LEFT(D249,8)=\"MODELO B\"),AND(LEFT($D$244,8)=\"MODELO B\",$K$244=\"Atribuir valor detalhado por Fase/Elemento\")),P249,0)","v":0},{"$f":"IF(OR(AND(LEFT($D$244,8)=\"MODELO M\",LEFT(D249,8)=\"MODELO C\"),AND(LEFT($D$244,8)=\"MODELO C\",$R$244=\"Atribuir valor detalhado por Fase/Elemento\")),X249,0)","v":0},{"$f":"IF(OR(AND(LEFT($D$244,8)=\"MODELO M\",LEFT(D249,8)=\"MODELO D\"),AND(LEFT($D$244,8)=\"MODELO D\",$Z$244=\"Atribuir valor detalhado por Fase/Elemento\")),AC249,0)","v":0},{"$f":"SUM(BH249:BK249)","v":0},"MODELO A - TEMPO - N.º DE HORAS DE TRABALHO"]
[null,{"$f":"IF($B$244=\"ocultar\",\"ocultar\",IF('SA - ATIVIDADES'!$H$141>='SA - SERVICOS COMPLEMENTARES'!AH250,\"mostrar\",\"ocultar\"))","v":"ocultar"},"Designação (a preencher)","MODELO A - TEMPO - N.º DE HORAS DE TRABALHO",null,null,0,{"$f":"$H$244","v":0},{"$f":"G250*H250","v":0},null,null,null,null,null,0,0,null,null,null,null,null,null,0,{"$f":"$X$244*W250","v":0},null,null,0,0,{"$f":"AA250*AB250","v":0},null,{"$f":"BL250","v":0},null,null,4,null,null,null,null,null,null,null,null,null,null,null,null,null,null,null,null,null,null,null,null,null,null,null,null,null,{"$f":"IF(OR(AND(LEFT($D$244,8)=\"MODELO M\",LEFT(D250,8)=\"MODELO A\"),AND(LEFT($D$244,8)=\"MODELO A\",$F$244=\"Atribuir valor detalhado por Fase/Elemento\")),I250,0)","v":0},{"$f":"IF(OR(AND(LEFT($D$244,8)=\"MODELO M\",LEFT(D250,8)=\"MODELO B\"),AND(LEFT($D$244,8)=\"MODELO B\",$K$244=\"Atribuir valor detalhado por Fase/Elemento\")),P250,0)","v":0},{"$f":"IF(OR(AND(LEFT($D$244,8)=\"MODELO M\",LEFT(D250,8)=\"MODELO C\"),AND(LEFT($D$244,8)=\"MODELO C\",$R$244=\"Atribuir valor detalhado por Fase/Elemento\")),X250,0)","v":0},{"$f":"IF(OR(AND(LEFT($D$244,8)=\"MODELO M\",LEFT(D250,8)=\"MODELO D\"),AND(LEFT($D$244,8)=\"MODELO D\",$Z$244=\"Atribuir valor detalhado por Fase/Elemento\")),AC250,0)","v":0},{"$f":"SUM(BH250:BK250)","v":0},"MODELO A - TEMPO - N.º DE HORAS DE TRABALHO"]
[null,{"$f":"IF($B$244=\"ocultar\",\"ocultar\",IF('SA - ATIVIDADES'!$H$141>='SA - SERVICOS COMPLEMENTARES'!AH251,\"mostrar\",\"ocultar\"))","v":"ocultar"},"Designação (a preencher)","MODELO A - TEMPO - N.º DE HORAS DE TRABALHO",null,null,0,{"$f":"$H$244","v":0},{"$f":"G251*H251","v":0},null,null,null,null,null,0,0,null,null,null,null,null,null,0,{"$f":"$X$244*W251","v":0},null,null,0,0,{"$f":"AA251*AB251","v":0},null,{"$f":"BL251","v":0},null,null,5,null,null,null,null,null,null,null,null,null,null,null,null,null,null,null,null,null,null,null,null,null,null,null,null,null,{"$f":"IF(OR(AND(LEFT($D$244,8)=\"MODELO M\",LEFT(D251,8)=\"MODELO A\"),AND(LEFT($D$244,8)=\"MODELO A\",$F$244=\"Atribuir valor detalhado por Fase/Elemento\")),I251,0)","v":0},{"$f":"IF(OR(AND(LEFT($D$244,8)=\"MODELO M\",LEFT(D251,8)=\"MODELO B\"),AND(LEFT($D$244,8)=\"MODELO B\",$K$244=\"Atribuir valor detalhado por Fase/Elemento\")),P251,0)","v":0},{"$f":"IF(OR(AND(LEFT($D$244,8)=\"MODELO M\",LEFT(D251,8)=\"MODELO C\"),AND(LEFT($D$244,8)=\"MODELO C\",$R$244=\"Atribuir valor detalhado por Fase/Elemento\")),X251,0)","v":0},{"$f":"IF(OR(AND(LEFT($D$244,8)=\"MODELO M\",LEFT(D251,8)=\"MODELO D\"),AND(LEFT($D$244,8)=\"MODELO D\",$Z$244=\"Atribuir valor detalhado por Fase/Elemento\")),AC251,0)","v":0},{"$f":"SUM(BH251:BK251)","v":0},"MODELO A - TEMPO - N.º DE HORAS DE TRABALHO"]
[null,{"$f":"IF($B$244=\"ocultar\",\"ocultar\",\"mostrar\")","v":"ocultar"},"TOTAL",null,null,null,{"$f":"IF(F$244=\"Atribuir valor global à atividade\",G244,SUBTOTAL(109,G247:G251))","v":0},null,{"$f":"IF($F$244=\"Atribuir valor global à atividade\",I244,SUBTOTAL(109,I247:I251))","v":0},null,null,null,null,null,{"$f":"IF($K$244=\"Atribuir valor global à atividade\",1,SUBTOTAL(109,O247:O251))","v":1},{"$f":"IF($K$244=\"Atribuir valor global à atividade\",P244,SUBTOTAL(109,P247:P251))","v":0},null,null,null,null,null,null,{"$f":"IF($R$244=\"Atribuir valor global à atividade\",1,SUBTOTAL(109,W247:W251))","v":1},{"$f":"IF($R$244=\"Atribuir valor global à atividade\",X244,SUBTOTAL(109,X247:X251))","v":0},null,null,null,null,{"$f":"IF($Z$244=\"Atribuir valor global à atividade\",AC244,SUBTOTAL(109,AC247:AC251))","v":0},null,{"$f":"SUBTOTAL(109,AE247:AE251)","v":0},null,null,null,null,null,null,null,null,null,null,null,null,null,null,null,null,null,null,null,null,null,null,null,null,null,null,null,null,null,null,null,null,null,"MODELO A - TEMPO - N.º DE HORAS DE TRABALHO"]
[null,{"$f":"IF($B$244=\"ocultar\",\"ocultar\",\"mostrar\")","v":"ocultar"},null,null,null,null,null,null,null,null,null,null,null,null,null,null,null,null,null,null,null,null,null,null,null,null,null,null,null,null,null,null,null,null,null,null,null,null,null,null,null,null,null,null,null,null,null,null,null,null,null,null,null,null,null,null,null,null,null,null,null,null,null,null,"MODELO A - TEMPO - N.º DE HORAS DE TRABALHO"]
[null,{"$f":"IF('SA - ATIVIDADES'!F142=TRUE,\"mostrar\",\"ocultar\")","v":"ocultar"},"B15. PLANO DE GESTÃO AMBIENTAL E SUSTENTABILIDADE","MODELO A - TEMPO - N.º DE HORAS DE TRABALHO",null,"Atribuir valor global à atividade",0,0,{"$f":"IF($F$254=\"Atribuir valor global à atividade\",G254*H254,\"\")","v":0},null,"Atribuir valor global à atividade","Valor Global Obra (VG Obra)",{"$f":"IF(L254=\"Valor Global Obra (VG Obra)\",$M$9,\"\")","v":0},0,0,{"$f":"IF(L254=\"Valor Global Obra (VG Obra)\",M254*O254,N254*O254)","v":0},null,"Atribuir valor global à atividade","Valor/m2 fixo (VF m2)",{"$f":"IF(S254=\"Valor/m2 fixo (VF m2)\",$T$9,\"\")","v":0},0,0,null,{"$f":"IF(S254=\"Valor/m2 fixo (VF m2)\",T254*1*V254,U254*1*V254)","v":0},null,"Atribuir valor global à atividade",0,0,{"$f":"AA254*AB254","v":0},null,{"$f":"BL254","v":0},null,null,null,null,null,null,null,null,null,null,null,null,null,null,null,null,null,null,null,null,null,null,null,null,null,null,null,null,{"$f":"IF(LEFT($D$254,8)=\"MODELO A\",IF($F$254=\"Atribuir valor detalhado por Fase/Elemento\",SUBTOTAL(109,BH257:BH261),I254),IF(LEFT($D$254,8)=\"MODELO M\",SUBTOTAL(109,BH257:BH261),0))","v":0},{"$f":"IF(LEFT($D$254,8)=\"MODELO B\",IF($K$254=\"Atribuir valor detalhado por Fase/Elemento\",SUBTOTAL(109,BI257:BI261),P254),IF(LEFT($D$254,8)=\"MODELO M\",SUBTOTAL(109,BI257:BI261),0))","v":0},{"$f":"IF(LEFT($D$254,8)=\"MODELO C\",IF($R$254=\"Atribuir valor detalhado por Fase/Elemento\",SUBTOTAL(109,BJ257:BJ261),X254),IF(LEFT($D$254,8)=\"MODELO M\",SUBTOTAL(109,BJ257:BJ261),0))","v":0},{"$f":"IF(LEFT($D$254,8)=\"MODELO D\",IF($Z$254=\"Atribuir valor detalhado por Fase/Elemento\",SUBTOTAL(109,BK257:BK261),AC254),IF(LEFT($D$254,8)=\"MODELO M\",SUBTOTAL(109,BK257:BK261),0))","v":0},{"$f":"SUM(BH254:BK254)","v":0},"MODELO A - TEMPO - N.º DE HORAS DE TRABALHO"]
[null,{"$f":"IF($B$254=\"ocultar\",\"ocultar\",\"mostrar\")","v":"ocultar"},null,null,null,null,null,null,null,null,null,null,null,null,null,null,null,null,null,null,null,null,null,null,null,null,null,null,null,null,null,null,null,null,null,null,null,null,null,null,null,null,null,null,null,null,null,null,null,null,null,null,null,null,null,null,null,null,null,null,null,null,null,null,"MODELO A - TEMPO - N.º DE HORAS DE TRABALHO"]
[null,"ocultar",null,null,null,null,null,null,null,null,null,null,null,null,null,null,null,null,null,null,null,null,null,null,null,null,null,null,null,null,null,null,null,null,null,null,null,null,null,null,null,null,null,null,null,null,null,null,null,null,null,null,null,null,null,null,null,null,null,null,null,null,null,null,"MODELO A - TEMPO - N.º DE HORAS DE TRABALHO"]
[null,{"$f":"IF($B$254=\"ocultar\",\"ocultar\",IF('SA - ATIVIDADES'!$H$142>='SA - SERVICOS COMPLEMENTARES'!AH257,\"mostrar\",\"ocultar\"))","v":"ocultar"},"Designação (a preencher)","MODELO A - TEMPO - N.º DE HORAS DE TRABALHO",null,null,0,{"$f":"$H$254","v":0},{"$f":"G257*H257","v":0},null,null,null,null,null,0,{"$f":"$P$254*O257","v":0},null,null,null,null,null,null,0,{"$f":"$X$254*W257","v":0},null,null,0,0,{"$f":"AA257*AB257","v":0},null,{"$f":"BL257","v":0},null,null,1,null,null,null,null,null,null,null,null,null,null,null,null,null,null,null,null,null,null,null,null,null,null,null,null,null,{"$f":"IF(OR(AND(LEFT($D$254,8)=\"MODELO M\",LEFT(D257,8)=\"MODELO A\"),AND(LEFT($D$254,8)=\"MODELO A\",$F$254=\"Atribuir valor detalhado por Fase/Elemento\")),I257,0)","v":0},{"$f":"IF(OR(AND(LEFT($D$254,8)=\"MODELO M\",LEFT(D257,8)=\"MODELO B\"),AND(LEFT($D$254,8)=\"MODELO B\",$K$254=\"Atribuir valor detalhado por Fase/Elemento\")),P257,0)","v":0},{"$f":"IF(OR(AND(LEFT($D$254,8)=\"MODELO M\",LEFT(D257,8)=\"MODELO C\"),AND(LEFT($D$254,8)=\"MODELO C\",$R$254=\"Atribuir valor detalhado por Fase/Elemento\")),X257,0)","v":0},{"$f":"IF(OR(AND(LEFT($D$254,8)=\"MODELO M\",LEFT(D257,8)=\"MODELO D\"),AND(LEFT($D$254,8)=\"MODELO D\",$Z$254=\"Atribuir valor detalhado por Fase/Elemento\")),AC257,0)","v":0},{"$f":"SUM(BH257:BK257)","v":0},"MODELO A - TEMPO - N.º DE HORAS DE TRABALHO"]
[null,{"$f":"IF($B$254=\"ocultar\",\"ocultar\",IF('SA - ATIVIDADES'!$H$142>='SA - SERVICOS COMPLEMENTARES'!AH258,\"mostrar\",\"ocultar\"))","v":"ocultar"},"Designação (a preencher)","MODELO A - TEMPO - N.º DE HORAS DE TRABALHO",null,null,0,{"$f":"$H$254","v":0},{"$f":"G258*H258","v":0},null,null,null,null,null,0,{"$f":"$P$254*O258","v":0},null,null,null,null,null,null,0,{"$f":"$X$254*W258","v":0},null,null,0,0,{"$f":"AA258*AB258","v":0},null,{"$f":"BL258","v":0},null,null,2,null,null,null,null,null,null,null,null,null,null,null,null,null,null,null,null,null,null,null,null,null,null,null,null,null,{"$f":"IF(OR(AND(LEFT($D$254,8)=\"MODELO M\",LEFT(D258,8)=\"MODELO A\"),AND(LEFT($D$254,8)=\"MODELO A\",$F$254=\"Atribuir valor detalhado por Fase/Elemento\")),I258,0)","v":0},{"$f":"IF(OR(AND(LEFT($D$254,8)=\"MODELO M\",LEFT(D258,8)=\"MODELO B\"),AND(LEFT($D$254,8)=\"MODELO B\",$K$254=\"Atribuir valor detalhado por Fase/Elemento\")),P258,0)","v":0},{"$f":"IF(OR(AND(LEFT($D$254,8)=\"MODELO M\",LEFT(D258,8)=\"MODELO C\"),AND(LEFT($D$254,8)=\"MODELO C\",$R$254=\"Atribuir valor detalhado por Fase/Elemento\")),X258,0)","v":0},{"$f":"IF(OR(AND(LEFT($D$254,8)=\"MODELO M\",LEFT(D258,8)=\"MODELO D\"),AND(LEFT($D$254,8)=\"MODELO D\",$Z$254=\"Atribuir valor detalhado por Fase/Elemento\")),AC258,0)","v":0},{"$f":"SUM(BH258:BK258)","v":0},"MODELO A - TEMPO - N.º DE HORAS DE TRABALHO"]
[null,{"$f":"IF($B$254=\"ocultar\",\"ocultar\",IF('SA - ATIVIDADES'!$H$142>='SA - SERVICOS COMPLEMENTARES'!AH259,\"mostrar\",\"ocultar\"))","v":"ocultar"},"Designação (a preencher)","MODELO A - TEMPO - N.º DE HORAS DE TRABALHO",null,null,0,{"$f":"$H$254","v":0},{"$f":"G259*H259","v":0},null,null,null,null,null,0,0,null,null,null,null,null,null,0,{"$f":"$X$254*W259","v":0},null,null,0,0,{"$f":"AA259*AB259","v":0},null,{"$f":"BL259","v":0},null,null,3,null,null,null,null,null,null,null,null,null,null,null,null,null,null,null,null,null,null,null,null,null,null,null,null,null,{"$f":"IF(OR(AND(LEFT($D$254,8)=\"MODELO M\",LEFT(D259,8)=\"MODELO A\"),AND(LEFT($D$254,8)=\"MODELO A\",$F$254=\"Atribuir valor detalhado por Fase/Elemento\")),I259,0)","v":0},{"$f":"IF(OR(AND(LEFT($D$254,8)=\"MODELO M\",LEFT(D259,8)=\"MODELO B\"),AND(LEFT($D$254,8)=\"MODELO B\",$K$254=\"Atribuir valor detalhado por Fase/Elemento\")),P259,0)","v":0},{"$f":"IF(OR(AND(LEFT($D$254,8)=\"MODELO M\",LEFT(D259,8)=\"MODELO C\"),AND(LEFT($D$254,8)=\"MODELO C\",$R$254=\"Atribuir valor detalhado por Fase/Elemento\")),X259,0)","v":0},{"$f":"IF(OR(AND(LEFT($D$254,8)=\"MODELO M\",LEFT(D259,8)=\"MODELO D\"),AND(LEFT($D$254,8)=\"MODELO D\",$Z$254=\"Atribuir valor detalhado por Fase/Elemento\")),AC259,0)","v":0},{"$f":"SUM(BH259:BK259)","v":0},"MODELO A - TEMPO - N.º DE HORAS DE TRABALHO"]
[null,{"$f":"IF($B$254=\"ocultar\",\"ocultar\",IF('SA - ATIVIDADES'!$H$142>='SA - SERVICOS COMPLEMENTARES'!AH260,\"mostrar\",\"ocultar\"))","v":"ocultar"},"Designação (a preencher)","MODELO A - TEMPO - N.º DE HORAS DE TRABALHO",null,null,0,{"$f":"$H$254","v":0},{"$f":"G260*H260","v":0},null,null,null,null,null,0,0,null,null,null,null,null,null,0,{"$f":"$X$254*W260","v":0},null,null,0,0,{"$f":"AA260*AB260","v":0},null,{"$f":"BL260","v":0},null,null,4,null,null,null,null,null,null,null,null,null,null,null,null,null,null,null,null,null,null,null,null,null,null,null,null,null,{"$f":"IF(OR(AND(LEFT($D$254,8)=\"MODELO M\",LEFT(D260,8)=\"MODELO A\"),AND(LEFT($D$254,8)=\"MODELO A\",$F$254=\"Atribuir valor detalhado por Fase/Elemento\")),I260,0)","v":0},{"$f":"IF(OR(AND(LEFT($D$254,8)=\"MODELO M\",LEFT(D260,8)=\"MODELO B\"),AND(LEFT($D$254,8)=\"MODELO B\",$K$254=\"Atribuir valor detalhado por Fase/Elemento\")),P260,0)","v":0},{"$f":"IF(OR(AND(LEFT($D$254,8)=\"MODELO M\",LEFT(D260,8)=\"MODELO C\"),AND(LEFT($D$254,8)=\"MODELO C\",$R$254=\"Atribuir valor detalhado por Fase/Elemento\")),X260,0)","v":0},{"$f":"IF(OR(AND(LEFT($D$254,8)=\"MODELO M\",LEFT(D260,8)=\"MODELO D\"),AND(LEFT($D$254,8)=\"MODELO D\",$Z$254=\"Atribuir valor detalhado por Fase/Elemento\")),AC260,0)","v":0},{"$f":"SUM(BH260:BK260)","v":0},"MODELO A - TEMPO - N.º DE HORAS DE TRABALHO"]
[null,{"$f":"IF($B$254=\"ocultar\",\"ocultar\",IF('SA - ATIVIDADES'!$H$142>='SA - SERVICOS COMPLEMENTARES'!AH261,\"mostrar\",\"ocultar\"))","v":"ocultar"},"Designação (a preencher)","MODELO A - TEMPO - N.º DE HORAS DE TRABALHO",null,null,0,{"$f":"$H$254","v":0},{"$f":"G261*H261","v":0},null,null,null,null,null,0,0,null,null,null,null,null,null,0,{"$f":"$X$254*W261","v":0},null,null,0,0,{"$f":"AA261*AB261","v":0},null,{"$f":"BL261","v":0},null,null,5,null,null,null,null,null,null,null,null,null,null,null,null,null,null,null,null,null,null,null,null,null,null,null,null,null,{"$f":"IF(OR(AND(LEFT($D$254,8)=\"MODELO M\",LEFT(D261,8)=\"MODELO A\"),AND(LEFT($D$254,8)=\"MODELO A\",$F$254=\"Atribuir valor detalhado por Fase/Elemento\")),I261,0)","v":0},{"$f":"IF(OR(AND(LEFT($D$254,8)=\"MODELO M\",LEFT(D261,8)=\"MODELO B\"),AND(LEFT($D$254,8)=\"MODELO B\",$K$254=\"Atribuir valor detalhado por Fase/Elemento\")),P261,0)","v":0},{"$f":"IF(OR(AND(LEFT($D$254,8)=\"MODELO M\",LEFT(D261,8)=\"MODELO C\"),AND(LEFT($D$254,8)=\"MODELO C\",$R$254=\"Atribuir valor detalhado por Fase/Elemento\")),X261,0)","v":0},{"$f":"IF(OR(AND(LEFT($D$254,8)=\"MODELO M\",LEFT(D261,8)=\"MODELO D\"),AND(LEFT($D$254,8)=\"MODELO D\",$Z$254=\"Atribuir valor detalhado por Fase/Elemento\")),AC261,0)","v":0},{"$f":"SUM(BH261:BK261)","v":0},"MODELO A - TEMPO - N.º DE HORAS DE TRABALHO"]
[null,{"$f":"IF($B$254=\"ocultar\",\"ocultar\",\"mostrar\")","v":"ocultar"},"TOTAL",null,null,null,{"$f":"IF(F$254=\"Atribuir valor global à atividade\",G254,SUBTOTAL(109,G257:G261))","v":0},null,{"$f":"IF($F$254=\"Atribuir valor global à atividade\",I254,SUBTOTAL(109,I257:I261))","v":0},null,null,null,null,null,{"$f":"IF($K$254=\"Atribuir valor global à atividade\",1,SUBTOTAL(109,O257:O261))","v":1},{"$f":"IF($K$254=\"Atribuir valor global à atividade\",P254,SUBTOTAL(109,P257:P261))","v":0},null,null,null,null,null,null,{"$f":"IF($R$254=\"Atribuir valor global à atividade\",1,SUBTOTAL(109,W257:W261))","v":1},{"$f":"IF($R$254=\"Atribuir valor global à atividade\",X254,SUBTOTAL(109,X257:X261))","v":0},null,null,null,null,{"$f":"IF($Z$254=\"Atribuir valor global à atividade\",AC254,SUBTOTAL(109,AC257:AC261))","v":0},null,{"$f":"SUBTOTAL(109,AE257:AE261)","v":0},null,null,null,null,null,null,null,null,null,null,null,null,null,null,null,null,null,null,null,null,null,null,null,null,null,null,null,null,null,null,null,null,null,"MODELO A - TEMPO - N.º DE HORAS DE TRABALHO"]
[null,{"$f":"IF($B$254=\"ocultar\",\"ocultar\",\"mostrar\")","v":"ocultar"},null,null,null,null,null,null,null,null,null,null,null,null,null,null,null,null,null,null,null,null,null,null,null,null,null,null,null,null,null,null,null,null,null,null,null,null,null,null,null,null,null,null,null,null,null,null,null,null,null,null,null,null,null,null,null,null,null,null,null,null,null,null,"MODELO A - TEMPO - N.º DE HORAS DE TRABALHO"]
[null,{"$f":"IF('SA - ATIVIDADES'!F143=TRUE,\"mostrar\",\"ocultar\")","v":"ocultar"},"B16. ANÁLISE DE RISCO - NO ÂMBITO DO SISTEMA INTEGRADO DE FOGOS RURAIS","MODELO A - TEMPO - N.º DE HORAS DE TRABALHO",null,"Atribuir valor global à atividade",0,0,{"$f":"IF($F$264=\"Atribuir valor global à atividade\",G264*H264,\"\")","v":0},null,"Atribuir valor global à atividade","Valor Global Obra (VG Obra)",{"$f":"IF(L264=\"Valor Global Obra (VG Obra)\",$M$9,\"\")","v":0},0,0,{"$f":"IF(L264=\"Valor Global Obra (VG Obra)\",M264*O264,N264*O264)","v":0},null,"Atribuir valor global à atividade","Valor/m2 fixo (VF m2)",{"$f":"IF(S264=\"Valor/m2 fixo (VF m2)\",$T$9,\"\")","v":0},0,0,null,{"$f":"IF(S264=\"Valor/m2 fixo (VF m2)\",T264*1*V264,U264*1*V264)","v":0},null,"Atribuir valor global à atividade",0,0,{"$f":"AA264*AB264","v":0},null,{"$f":"BL264","v":0},null,null,null,null,null,null,null,null,null,null,null,null,null,null,null,null,null,null,null,null,null,null,null,null,null,null,null,null,{"$f":"IF(LEFT($D$264,8)=\"MODELO A\",IF($F$264=\"Atribuir valor detalhado por Fase/Elemento\",SUBTOTAL(109,BH267:BH271),I264),IF(LEFT($D$264,8)=\"MODELO M\",SUBTOTAL(109,BH267:BH271),0))","v":0},{"$f":"IF(LEFT($D$264,8)=\"MODELO B\",IF($K$264=\"Atribuir valor detalhado por Fase/Elemento\",SUBTOTAL(109,BI267:BI271),P264),IF(LEFT($D$264,8)=\"MODELO M\",SUBTOTAL(109,BI267:BI271),0))","v":0},{"$f":"IF(LEFT($D$264,8)=\"MODELO C\",IF($R$264=\"Atribuir valor detalhado por Fase/Elemento\",SUBTOTAL(109,BJ267:BJ271),X264),IF(LEFT($D$264,8)=\"MODELO M\",SUBTOTAL(109,BJ267:BJ271),0))","v":0},{"$f":"IF(LEFT($D$264,8)=\"MODELO D\",IF($Z$264=\"Atribuir valor detalhado por Fase/Elemento\",SUBTOTAL(109,BK267:BK271),AC264),IF(LEFT($D$264,8)=\"MODELO M\",SUBTOTAL(109,BK267:BK271),0))","v":0},{"$f":"SUM(BH264:BK264)","v":0},"MODELO A - TEMPO - N.º DE HORAS DE TRABALHO"]
[null,{"$f":"IF($B$264=\"ocultar\",\"ocultar\",\"mostrar\")","v":"ocultar"},null,null,null,null,null,null,null,null,null,null,null,null,null,null,null,null,null,null,null,null,null,null,null,null,null,null,null,null,null,null,null,null,null,null,null,null,null,null,null,null,null,null,null,null,null,null,null,null,null,null,null,null,null,null,null,null,null,null,null,null,null,null,"MODELO A - TEMPO - N.º DE HORAS DE TRABALHO"]
[null,"ocultar",null,null,null,null,null,null,null,null,null,null,null,null,null,null,null,null,null,null,null,null,null,null,null,null,null,null,null,null,null,null,null,null,null,null,null,null,null,null,null,null,null,null,null,null,null,null,null,null,null,null,null,null,null,null,null,null,null,null,null,null,null,null,"MODELO A - TEMPO - N.º DE HORAS DE TRABALHO"]
[null,{"$f":"IF($B$264=\"ocultar\",\"ocultar\",IF('SA - ATIVIDADES'!$H$143>='SA - SERVICOS COMPLEMENTARES'!AH267,\"mostrar\",\"ocultar\"))","v":"ocultar"},"Designação (a preencher)","MODELO A - TEMPO - N.º DE HORAS DE TRABALHO",null,null,0,{"$f":"$H$264","v":0},{"$f":"G267*H267","v":0},null,null,null,null,null,0,{"$f":"$P$264*O267","v":0},null,null,null,null,null,null,0,{"$f":"$X$264*W267","v":0},null,null,0,0,{"$f":"AA267*AB267","v":0},null,{"$f":"BL267","v":0},null,null,1,null,null,null,null,null,null,null,null,null,null,null,null,null,null,null,null,null,null,null,null,null,null,null,null,null,{"$f":"IF(OR(AND(LEFT($D$264,8)=\"MODELO M\",LEFT(D267,8)=\"MODELO A\"),AND(LEFT($D$264,8)=\"MODELO A\",$F$264=\"Atribuir valor detalhado por Fase/Elemento\")),I267,0)","v":0},{"$f":"IF(OR(AND(LEFT($D$264,8)=\"MODELO M\",LEFT(D267,8)=\"MODELO B\"),AND(LEFT($D$264,8)=\"MODELO B\",$K$264=\"Atribuir valor detalhado por Fase/Elemento\")),P267,0)","v":0},{"$f":"IF(OR(AND(LEFT($D$264,8)=\"MODELO M\",LEFT(D267,8)=\"MODELO C\"),AND(LEFT($D$264,8)=\"MODELO C\",$R$264=\"Atribuir valor detalhado por Fase/Elemento\")),X267,0)","v":0},{"$f":"IF(OR(AND(LEFT($D$264,8)=\"MODELO M\",LEFT(D267,8)=\"MODELO D\"),AND(LEFT($D$264,8)=\"MODELO D\",$Z$264=\"Atribuir valor detalhado por Fase/Elemento\")),AC267,0)","v":0},{"$f":"SUM(BH267:BK267)","v":0},"MODELO A - TEMPO - N.º DE HORAS DE TRABALHO"]
[null,{"$f":"IF($B$264=\"ocultar\",\"ocultar\",IF('SA - ATIVIDADES'!$H$143>='SA - SERVICOS COMPLEMENTARES'!AH268,\"mostrar\",\"ocultar\"))","v":"ocultar"},"Designação (a preencher)","MODELO A - TEMPO - N.º DE HORAS DE TRABALHO",null,null,0,{"$f":"$H$264","v":0},{"$f":"G268*H268","v":0},null,null,null,null,null,0,{"$f":"$P$264*O268","v":0},null,null,null,null,null,null,0,{"$f":"$X$264*W268","v":0},null,null,0,0,{"$f":"AA268*AB268","v":0},null,{"$f":"BL268","v":0},null,null,2,null,null,null,null,null,null,null,null,null,null,null,null,null,null,null,null,null,null,null,null,null,null,null,null,null,{"$f":"IF(OR(AND(LEFT($D$264,8)=\"MODELO M\",LEFT(D268,8)=\"MODELO A\"),AND(LEFT($D$264,8)=\"MODELO A\",$F$264=\"Atribuir valor detalhado por Fase/Elemento\")),I268,0)","v":0},{"$f":"IF(OR(AND(LEFT($D$264,8)=\"MODELO M\",LEFT(D268,8)=\"MODELO B\"),AND(LEFT($D$264,8)=\"MODELO B\",$K$264=\"Atribuir valor detalhado por Fase/Elemento\")),P268,0)","v":0},{"$f":"IF(OR(AND(LEFT($D$264,8)=\"MODELO M\",LEFT(D268,8)=\"MODELO C\"),AND(LEFT($D$264,8)=\"MODELO C\",$R$264=\"Atribuir valor detalhado por Fase/Elemento\")),X268,0)","v":0},{"$f":"IF(OR(AND(LEFT($D$264,8)=\"MODELO M\",LEFT(D268,8)=\"MODELO D\"),AND(LEFT($D$264,8)=\"MODELO D\",$Z$264=\"Atribuir valor detalhado por Fase/Elemento\")),AC268,0)","v":0},{"$f":"SUM(BH268:BK268)","v":0},"MODELO A - TEMPO - N.º DE HORAS DE TRABALHO"]
[null,{"$f":"IF($B$264=\"ocultar\",\"ocultar\",IF('SA - ATIVIDADES'!$H$143>='SA - SERVICOS COMPLEMENTARES'!AH269,\"mostrar\",\"ocultar\"))","v":"ocultar"},"Designação (a preencher)","MODELO A - TEMPO - N.º DE HORAS DE TRABALHO",null,null,0,{"$f":"$H$264","v":0},{"$f":"G269*H269","v":0},null,null,null,null,null,0,0,null,null,null,null,null,null,0,{"$f":"$X$264*W269","v":0},null,null,0,0,{"$f":"AA269*AB269","v":0},null,{"$f":"BL269","v":0},null,null,3,null,null,null,null,null,null,null,null,null,null,null,null,null,null,null,null,null,null,null,null,null,null,null,null,null,{"$f":"IF(OR(AND(LEFT($D$264,8)=\"MODELO M\",LEFT(D269,8)=\"MODELO A\"),AND(LEFT($D$264,8)=\"MODELO A\",$F$264=\"Atribuir valor detalhado por Fase/Elemento\")),I269,0)","v":0},{"$f":"IF(OR(AND(LEFT($D$264,8)=\"MODELO M\",LEFT(D269,8)=\"MODELO B\"),AND(LEFT($D$264,8)=\"MODELO B\",$K$264=\"Atribuir valor detalhado por Fase/Elemento\")),P269,0)","v":0},{"$f":"IF(OR(AND(LEFT($D$264,8)=\"MODELO M\",LEFT(D269,8)=\"MODELO C\"),AND(LEFT($D$264,8)=\"MODELO C\",$R$264=\"Atribuir valor detalhado por Fase/Elemento\")),X269,0)","v":0},{"$f":"IF(OR(AND(LEFT($D$264,8)=\"MODELO M\",LEFT(D269,8)=\"MODELO D\"),AND(LEFT($D$264,8)=\"MODELO D\",$Z$264=\"Atribuir valor detalhado por Fase/Elemento\")),AC269,0)","v":0},{"$f":"SUM(BH269:BK269)","v":0},"MODELO A - TEMPO - N.º DE HORAS DE TRABALHO"]
[null,{"$f":"IF($B$264=\"ocultar\",\"ocultar\",IF('SA - ATIVIDADES'!$H$143>='SA - SERVICOS COMPLEMENTARES'!AH270,\"mostrar\",\"ocultar\"))","v":"ocultar"},"Designação (a preencher)","MODELO A - TEMPO - N.º DE HORAS DE TRABALHO",null,null,0,{"$f":"$H$264","v":0},{"$f":"G270*H270","v":0},null,null,null,null,null,0,0,null,null,null,null,null,null,0,{"$f":"$X$264*W270","v":0},null,null,0,0,{"$f":"AA270*AB270","v":0},null,{"$f":"BL270","v":0},null,null,4,null,null,null,null,null,null,null,null,null,null,null,null,null,null,null,null,null,null,null,null,null,null,null,null,null,{"$f":"IF(OR(AND(LEFT($D$264,8)=\"MODELO M\",LEFT(D270,8)=\"MODELO A\"),AND(LEFT($D$264,8)=\"MODELO A\",$F$264=\"Atribuir valor detalhado por Fase/Elemento\")),I270,0)","v":0},{"$f":"IF(OR(AND(LEFT($D$264,8)=\"MODELO M\",LEFT(D270,8)=\"MODELO B\"),AND(LEFT($D$264,8)=\"MODELO B\",$K$264=\"Atribuir valor detalhado por Fase/Elemento\")),P270,0)","v":0},{"$f":"IF(OR(AND(LEFT($D$264,8)=\"MODELO M\",LEFT(D270,8)=\"MODELO C\"),AND(LEFT($D$264,8)=\"MODELO C\",$R$264=\"Atribuir valor detalhado por Fase/Elemento\")),X270,0)","v":0},{"$f":"IF(OR(AND(LEFT($D$264,8)=\"MODELO M\",LEFT(D270,8)=\"MODELO D\"),AND(LEFT($D$264,8)=\"MODELO D\",$Z$264=\"Atribuir valor detalhado por Fase/Elemento\")),AC270,0)","v":0},{"$f":"SUM(BH270:BK270)","v":0},"MODELO A - TEMPO - N.º DE HORAS DE TRABALHO"]
[null,{"$f":"IF($B$264=\"ocultar\",\"ocultar\",IF('SA - ATIVIDADES'!$H$143>='SA - SERVICOS COMPLEMENTARES'!AH271,\"mostrar\",\"ocultar\"))","v":"ocultar"},"Designação (a preencher)","MODELO A - TEMPO - N.º DE HORAS DE TRABALHO",null,null,0,{"$f":"$H$264","v":0},{"$f":"G271*H271","v":0},null,null,null,null,null,0,0,null,null,null,null,null,null,0,{"$f":"$X$264*W271","v":0},null,null,0,0,{"$f":"AA271*AB271","v":0},null,{"$f":"BL271","v":0},null,null,5,null,null,null,null,null,null,null,null,null,null,null,null,null,null,null,null,null,null,null,null,null,null,null,null,null,{"$f":"IF(OR(AND(LEFT($D$264,8)=\"MODELO M\",LEFT(D271,8)=\"MODELO A\"),AND(LEFT($D$264,8)=\"MODELO A\",$F$264=\"Atribuir valor detalhado por Fase/Elemento\")),I271,0)","v":0},{"$f":"IF(OR(AND(LEFT($D$264,8)=\"MODELO M\",LEFT(D271,8)=\"MODELO B\"),AND(LEFT($D$264,8)=\"MODELO B\",$K$264=\"Atribuir valor detalhado por Fase/Elemento\")),P271,0)","v":0},{"$f":"IF(OR(AND(LEFT($D$264,8)=\"MODELO M\",LEFT(D271,8)=\"MODELO C\"),AND(LEFT($D$264,8)=\"MODELO C\",$R$264=\"Atribuir valor detalhado por Fase/Elemento\")),X271,0)","v":0},{"$f":"IF(OR(AND(LEFT($D$264,8)=\"MODELO M\",LEFT(D271,8)=\"MODELO D\"),AND(LEFT($D$264,8)=\"MODELO D\",$Z$264=\"Atribuir valor detalhado por Fase/Elemento\")),AC271,0)","v":0},{"$f":"SUM(BH271:BK271)","v":0},"MODELO A - TEMPO - N.º DE HORAS DE TRABALHO"]
[null,{"$f":"IF($B$264=\"ocultar\",\"ocultar\",\"mostrar\")","v":"ocultar"},"TOTAL",null,null,null,{"$f":"IF(F$264=\"Atribuir valor global à atividade\",G264,SUBTOTAL(109,G267:G271))","v":0},null,{"$f":"IF($F$264=\"Atribuir valor global à atividade\",I264,SUBTOTAL(109,I267:I271))","v":0},null,null,null,null,null,{"$f":"IF($K$264=\"Atribuir valor global à atividade\",1,SUBTOTAL(109,O267:O271))","v":1},{"$f":"IF($K$264=\"Atribuir valor global à atividade\",P264,SUBTOTAL(109,P267:P271))","v":0},null,null,null,null,null,null,{"$f":"IF($R$264=\"Atribuir valor global à atividade\",1,SUBTOTAL(109,W267:W271))","v":1},{"$f":"IF($R$264=\"Atribuir valor global à atividade\",X264,SUBTOTAL(109,X267:X271))","v":0},null,null,null,null,{"$f":"IF($Z$264=\"Atribuir valor global à atividade\",AC264,SUBTOTAL(109,AC267:AC271))","v":0},null,{"$f":"SUBTOTAL(109,AE267:AE271)","v":0},null,null,null,null,null,null,null,null,null,null,null,null,null,null,null,null,null,null,null,null,null,null,null,null,null,null,null,null,null,null,null,null,null,"MODELO A - TEMPO - N.º DE HORAS DE TRABALHO"]
[null,{"$f":"IF($B$264=\"ocultar\",\"ocultar\",\"mostrar\")","v":"ocultar"},null,null,null,null,null,null,null,null,null,null,null,null,null,null,null,null,null,null,null,null,null,null,null,null,null,null,null,null,null,null,null,null,null,null,null,null,null,null,null,null,null,null,null,null,null,null,null,null,null,null,null,null,null,null,null,null,null,null,null,null,null,null,"MODELO A - TEMPO - N.º DE HORAS DE TRABALHO"]
[null,{"$f":"IF('SA - ATIVIDADES'!F144=TRUE,\"mostrar\",\"ocultar\")","v":"ocultar"},"B17. ESTUDOS DE TRÁFEGO","MODELO A - TEMPO - N.º DE HORAS DE TRABALHO",null,"Atribuir valor global à atividade",0,0,{"$f":"IF($F$274=\"Atribuir valor global à atividade\",G274*H274,\"\")","v":0},null,"Atribuir valor global à atividade","Valor Global Obra (VG Obra)",{"$f":"IF(L274=\"Valor Global Obra (VG Obra)\",$M$9,\"\")","v":0},0,0,{"$f":"IF(L274=\"Valor Global Obra (VG Obra)\",M274*O274,N274*O274)","v":0},null,"Atribuir valor global à atividade","Valor/m2 fixo (VF m2)",{"$f":"IF(S274=\"Valor/m2 fixo (VF m2)\",$T$9,\"\")","v":0},0,0,null,{"$f":"IF(S274=\"Valor/m2 fixo (VF m2)\",T274*1*V274,U274*1*V274)","v":0},null,"Atribuir valor global à atividade",0,0,{"$f":"AA274*AB274","v":0},null,{"$f":"BL274","v":0},null,null,null,null,null,null,null,null,null,null,null,null,null,null,null,null,null,null,null,null,null,null,null,null,null,null,null,null,{"$f":"IF(LEFT($D$274,8)=\"MODELO A\",IF($F$274=\"Atribuir valor detalhado por Fase/Elemento\",SUBTOTAL(109,BH277:BH281),I274),IF(LEFT($D$274,8)=\"MODELO M\",SUBTOTAL(109,BH277:BH281),0))","v":0},{"$f":"IF(LEFT($D$274,8)=\"MODELO B\",IF($K$274=\"Atribuir valor detalhado por Fase/Elemento\",SUBTOTAL(109,BI277:BI281),P274),IF(LEFT($D$274,8)=\"MODELO M\",SUBTOTAL(109,BI277:BI281),0))","v":0},{"$f":"IF(LEFT($D$274,8)=\"MODELO C\",IF($R$274=\"Atribuir valor detalhado por Fase/Elemento\",SUBTOTAL(109,BJ277:BJ281),X274),IF(LEFT($D$274,8)=\"MODELO M\",SUBTOTAL(109,BJ277:BJ281),0))","v":0},{"$f":"IF(LEFT($D$274,8)=\"MODELO D\",IF($Z$274=\"Atribuir valor detalhado por Fase/Elemento\",SUBTOTAL(109,BK277:BK281),AC274),IF(LEFT($D$274,8)=\"MODELO M\",SUBTOTAL(109,BK277:BK281),0))","v":0},{"$f":"SUM(BH274:BK274)","v":0},"MODELO A - TEMPO - N.º DE HORAS DE TRABALHO"]
[null,{"$f":"IF($B$274=\"ocultar\",\"ocultar\",\"mostrar\")","v":"ocultar"},null,null,null,null,null,null,null,null,null,null,null,null,null,null,null,null,null,null,null,null,null,null,null,null,null,null,null,null,null,null,null,null,null,null,null,null,null,null,null,null,null,null,null,null,null,null,null,null,null,null,null,null,null,null,null,null,null,null,null,null,null,null,"MODELO A - TEMPO - N.º DE HORAS DE TRABALHO"]
[null,"ocultar",null,null,null,null,null,null,null,null,null,null,null,null,null,null,null,null,null,null,null,null,null,null,null,null,null,null,null,null,null,null,null,null,null,null,null,null,null,null,null,null,null,null,null,null,null,null,null,null,null,null,null,null,null,null,null,null,null,null,null,null,null,null,"MODELO A - TEMPO - N.º DE HORAS DE TRABALHO"]
[null,{"$f":"IF($B$274=\"ocultar\",\"ocultar\",IF('SA - ATIVIDADES'!$H$144>='SA - SERVICOS COMPLEMENTARES'!AH277,\"mostrar\",\"ocultar\"))","v":"ocultar"},"Designação (a preencher)","MODELO A - TEMPO - N.º DE HORAS DE TRABALHO",null,null,0,{"$f":"$H$274","v":0},{"$f":"G277*H277","v":0},null,null,null,null,null,0,{"$f":"$P$274*O277","v":0},null,null,null,null,null,null,0,{"$f":"$X$274*W277","v":0},null,null,0,0,{"$f":"AA277*AB277","v":0},null,{"$f":"BL277","v":0},null,null,1,null,null,null,null,null,null,null,null,null,null,null,null,null,null,null,null,null,null,null,null,null,null,null,null,null,{"$f":"IF(OR(AND(LEFT($D$274,8)=\"MODELO M\",LEFT(D277,8)=\"MODELO A\"),AND(LEFT($D$274,8)=\"MODELO A\",$F$274=\"Atribuir valor detalhado por Fase/Elemento\")),I277,0)","v":0},{"$f":"IF(OR(AND(LEFT($D$274,8)=\"MODELO M\",LEFT(D277,8)=\"MODELO B\"),AND(LEFT($D$274,8)=\"MODELO B\",$K$274=\"Atribuir valor detalhado por Fase/Elemento\")),P277,0)","v":0},{"$f":"IF(OR(AND(LEFT($D$274,8)=\"MODELO M\",LEFT(D277,8)=\"MODELO C\"),AND(LEFT($D$274,8)=\"MODELO C\",$R$274=\"Atribuir valor detalhado por Fase/Elemento\")),X277,0)","v":0},{"$f":"IF(OR(AND(LEFT($D$274,8)=\"MODELO M\",LEFT(D277,8)=\"MODELO D\"),AND(LEFT($D$274,8)=\"MODELO D\",$Z$274=\"Atribuir valor detalhado por Fase/Elemento\")),AC277,0)","v":0},{"$f":"SUM(BH277:BK277)","v":0},"MODELO A - TEMPO - N.º DE HORAS DE TRABALHO"]
[null,{"$f":"IF($B$274=\"ocultar\",\"ocultar\",IF('SA - ATIVIDADES'!$H$144>='SA - SERVICOS COMPLEMENTARES'!AH278,\"mostrar\",\"ocultar\"))","v":"ocultar"},"Designação (a preencher)","MODELO A - TEMPO - N.º DE HORAS DE TRABALHO",null,null,0,{"$f":"$H$274","v":0},{"$f":"G278*H278","v":0},null,null,null,null,null,0,{"$f":"$P$274*O278","v":0},null,null,null,null,null,null,0,{"$f":"$X$274*W278","v":0},null,null,0,0,{"$f":"AA278*AB278","v":0},null,{"$f":"BL278","v":0},null,null,2,null,null,null,null,null,null,null,null,null,null,null,null,null,null,null,null,null,null,null,null,null,null,null,null,null,{"$f":"IF(OR(AND(LEFT($D$274,8)=\"MODELO M\",LEFT(D278,8)=\"MODELO A\"),AND(LEFT($D$274,8)=\"MODELO A\",$F$274=\"Atribuir valor detalhado por Fase/Elemento\")),I278,0)","v":0},{"$f":"IF(OR(AND(LEFT($D$274,8)=\"MODELO M\",LEFT(D278,8)=\"MODELO B\"),AND(LEFT($D$274,8)=\"MODELO B\",$K$274=\"Atribuir valor detalhado por Fase/Elemento\")),P278,0)","v":0},{"$f":"IF(OR(AND(LEFT($D$274,8)=\"MODELO M\",LEFT(D278,8)=\"MODELO C\"),AND(LEFT($D$274,8)=\"MODELO C\",$R$274=\"Atribuir valor detalhado por Fase/Elemento\")),X278,0)","v":0},{"$f":"IF(OR(AND(LEFT($D$274,8)=\"MODELO M\",LEFT(D278,8)=\"MODELO D\"),AND(LEFT($D$274,8)=\"MODELO D\",$Z$274=\"Atribuir valor detalhado por Fase/Elemento\")),AC278,0)","v":0},{"$f":"SUM(BH278:BK278)","v":0},"MODELO A - TEMPO - N.º DE HORAS DE TRABALHO"]
[null,{"$f":"IF($B$274=\"ocultar\",\"ocultar\",IF('SA - ATIVIDADES'!$H$144>='SA - SERVICOS COMPLEMENTARES'!AH279,\"mostrar\",\"ocultar\"))","v":"ocultar"},"Designação (a preencher)","MODELO A - TEMPO - N.º DE HORAS DE TRABALHO",null,null,0,{"$f":"$H$274","v":0},{"$f":"G279*H279","v":0},null,null,null,null,null,0,0,null,null,null,null,null,null,0,{"$f":"$X$274*W279","v":0},null,null,0,0,{"$f":"AA279*AB279","v":0},null,{"$f":"BL279","v":0},null,null,3,null,null,null,null,null,null,null,null,null,null,null,null,null,null,null,null,null,null,null,null,null,null,null,null,null,{"$f":"IF(OR(AND(LEFT($D$274,8)=\"MODELO M\",LEFT(D279,8)=\"MODELO A\"),AND(LEFT($D$274,8)=\"MODELO A\",$F$274=\"Atribuir valor detalhado por Fase/Elemento\")),I279,0)","v":0},{"$f":"IF(OR(AND(LEFT($D$274,8)=\"MODELO M\",LEFT(D279,8)=\"MODELO B\"),AND(LEFT($D$274,8)=\"MODELO B\",$K$274=\"Atribuir valor detalhado por Fase/Elemento\")),P279,0)","v":0},{"$f":"IF(OR(AND(LEFT($D$274,8)=\"MODELO M\",LEFT(D279,8)=\"MODELO C\"),AND(LEFT($D$274,8)=\"MODELO C\",$R$274=\"Atribuir valor detalhado por Fase/Elemento\")),X279,0)","v":0},{"$f":"IF(OR(AND(LEFT($D$274,8)=\"MODELO M\",LEFT(D279,8)=\"MODELO D\"),AND(LEFT($D$274,8)=\"MODELO D\",$Z$274=\"Atribuir valor detalhado por Fase/Elemento\")),AC279,0)","v":0},{"$f":"SUM(BH279:BK279)","v":0},"MODELO A - TEMPO - N.º DE HORAS DE TRABALHO"]
[null,{"$f":"IF($B$274=\"ocultar\",\"ocultar\",IF('SA - ATIVIDADES'!$H$144>='SA - SERVICOS COMPLEMENTARES'!AH280,\"mostrar\",\"ocultar\"))","v":"ocultar"},"Designação (a preencher)","MODELO A - TEMPO - N.º DE HORAS DE TRABALHO",null,null,0,{"$f":"$H$274","v":0},{"$f":"G280*H280","v":0},null,null,null,null,null,0,0,null,null,null,null,null,null,0,{"$f":"$X$274*W280","v":0},null,null,0,0,{"$f":"AA280*AB280","v":0},null,{"$f":"BL280","v":0},null,null,4,null,null,null,null,null,null,null,null,null,null,null,null,null,null,null,null,null,null,null,null,null,null,null,null,null,{"$f":"IF(OR(AND(LEFT($D$274,8)=\"MODELO M\",LEFT(D280,8)=\"MODELO A\"),AND(LEFT($D$274,8)=\"MODELO A\",$F$274=\"Atribuir valor detalhado por Fase/Elemento\")),I280,0)","v":0},{"$f":"IF(OR(AND(LEFT($D$274,8)=\"MODELO M\",LEFT(D280,8)=\"MODELO B\"),AND(LEFT($D$274,8)=\"MODELO B\",$K$274=\"Atribuir valor detalhado por Fase/Elemento\")),P280,0)","v":0},{"$f":"IF(OR(AND(LEFT($D$274,8)=\"MODELO M\",LEFT(D280,8)=\"MODELO C\"),AND(LEFT($D$274,8)=\"MODELO C\",$R$274=\"Atribuir valor detalhado por Fase/Elemento\")),X280,0)","v":0},{"$f":"IF(OR(AND(LEFT($D$274,8)=\"MODELO M\",LEFT(D280,8)=\"MODELO D\"),AND(LEFT($D$274,8)=\"MODELO D\",$Z$274=\"Atribuir valor detalhado por Fase/Elemento\")),AC280,0)","v":0},{"$f":"SUM(BH280:BK280)","v":0},"MODELO A - TEMPO - N.º DE HORAS DE TRABALHO"]
[null,{"$f":"IF($B$274=\"ocultar\",\"ocultar\",IF('SA - ATIVIDADES'!$H$144>='SA - SERVICOS COMPLEMENTARES'!AH281,\"mostrar\",\"ocultar\"))","v":"ocultar"},"Designação (a preencher)","MODELO A - TEMPO - N.º DE HORAS DE TRABALHO",null,null,0,{"$f":"$H$274","v":0},{"$f":"G281*H281","v":0},null,null,null,null,null,0,0,null,null,null,null,null,null,0,{"$f":"$X$274*W281","v":0},null,null,0,0,{"$f":"AA281*AB281","v":0},null,{"$f":"BL281","v":0},null,null,5,null,null,null,null,null,null,null,null,null,null,null,null,null,null,null,null,null,null,null,null,null,null,null,null,null,{"$f":"IF(OR(AND(LEFT($D$274,8)=\"MODELO M\",LEFT(D281,8)=\"MODELO A\"),AND(LEFT($D$274,8)=\"MODELO A\",$F$274=\"Atribuir valor detalhado por Fase/Elemento\")),I281,0)","v":0},{"$f":"IF(OR(AND(LEFT($D$274,8)=\"MODELO M\",LEFT(D281,8)=\"MODELO B\"),AND(LEFT($D$274,8)=\"MODELO B\",$K$274=\"Atribuir valor detalhado por Fase/Elemento\")),P281,0)","v":0},{"$f":"IF(OR(AND(LEFT($D$274,8)=\"MODELO M\",LEFT(D281,8)=\"MODELO C\"),AND(LEFT($D$274,8)=\"MODELO C\",$R$274=\"Atribuir valor detalhado por Fase/Elemento\")),X281,0)","v":0},{"$f":"IF(OR(AND(LEFT($D$274,8)=\"MODELO M\",LEFT(D281,8)=\"MODELO D\"),AND(LEFT($D$274,8)=\"MODELO D\",$Z$274=\"Atribuir valor detalhado por Fase/Elemento\")),AC281,0)","v":0},{"$f":"SUM(BH281:BK281)","v":0},"MODELO A - TEMPO - N.º DE HORAS DE TRABALHO"]
[null,{"$f":"IF($B$274=\"ocultar\",\"ocultar\",\"mostrar\")","v":"ocultar"},"TOTAL",null,null,null,{"$f":"IF(F$274=\"Atribuir valor global à atividade\",G274,SUBTOTAL(109,G277:G281))","v":0},null,{"$f":"IF($F$274=\"Atribuir valor global à atividade\",I274,SUBTOTAL(109,I277:I281))","v":0},null,null,null,null,null,{"$f":"IF($K$274=\"Atribuir valor global à atividade\",1,SUBTOTAL(109,O277:O281))","v":1},{"$f":"IF($K$274=\"Atribuir valor global à atividade\",P274,SUBTOTAL(109,P277:P281))","v":0},null,null,null,null,null,null,{"$f":"IF($R$274=\"Atribuir valor global à atividade\",1,SUBTOTAL(109,W277:W281))","v":1},{"$f":"IF($R$274=\"Atribuir valor global à atividade\",X274,SUBTOTAL(109,X277:X281))","v":0},null,null,null,null,{"$f":"IF($Z$274=\"Atribuir valor global à atividade\",AC274,SUBTOTAL(109,AC277:AC281))","v":0},null,{"$f":"SUBTOTAL(109,AE277:AE281)","v":0},null,null,null,null,null,null,null,null,null,null,null,null,null,null,null,null,null,null,null,null,null,null,null,null,null,null,null,null,null,null,null,null,null,"MODELO A - TEMPO - N.º DE HORAS DE TRABALHO"]
[null,{"$f":"IF($B$274=\"ocultar\",\"ocultar\",\"mostrar\")","v":"ocultar"},null,null,null,null,null,null,null,null,null,null,null,null,null,null,null,null,null,null,null,null,null,null,null,null,null,null,null,null,null,null,null,null,null,null,null,null,null,null,null,null,null,null,null,null,null,null,null,null,null,null,null,null,null,null,null,null,null,null,null,null,null,null,"MODELO A - TEMPO - N.º DE HORAS DE TRABALHO"]
[null,{"$f":"IF('SA - ATIVIDADES'!F145=TRUE,\"mostrar\",\"ocultar\")","v":"ocultar"},"B18. TELAS FINAIS","MODELO A - TEMPO - N.º DE HORAS DE TRABALHO",null,"Atribuir valor global à atividade",0,0,{"$f":"IF($F$284=\"Atribuir valor global à atividade\",G284*H284,\"\")","v":0},null,"Atribuir valor global à atividade","Valor Global Obra (VG Obra)",{"$f":"IF(L284=\"Valor Global Obra (VG Obra)\",$M$9,\"\")","v":0},0,0,{"$f":"IF(L284=\"Valor Global Obra (VG Obra)\",M284*O284,N284*O284)","v":0},null,"Atribuir valor global à atividade","Valor/m2 fixo (VF m2)",{"$f":"IF(S284=\"Valor/m2 fixo (VF m2)\",$T$9,\"\")","v":0},0,0,null,{"$f":"IF(S284=\"Valor/m2 fixo (VF m2)\",T284*1*V284,U284*1*V284)","v":0},null,"Atribuir valor global à atividade",0,0,{"$f":"AA284*AB284","v":0},null,{"$f":"BL284","v":0},null,null,null,null,null,null,null,null,null,null,null,null,null,null,null,null,null,null,null,null,null,null,null,null,null,null,null,null,{"$f":"IF(LEFT($D$284,8)=\"MODELO A\",IF($F$284=\"Atribuir valor detalhado por Fase/Elemento\",SUBTOTAL(109,BH287:BH291),I284),IF(LEFT($D$284,8)=\"MODELO M\",SUBTOTAL(109,BH287:BH291),0))","v":0},{"$f":"IF(LEFT($D$284,8)=\"MODELO B\",IF($K$284=\"Atribuir valor detalhado por Fase/Elemento\",SUBTOTAL(109,BI287:BI291),P284),IF(LEFT($D$284,8)=\"MODELO M\",SUBTOTAL(109,BI287:BI291),0))","v":0},{"$f":"IF(LEFT($D$284,8)=\"MODELO C\",IF($R$284=\"Atribuir valor detalhado por Fase/Elemento\",SUBTOTAL(109,BJ287:BJ291),X284),IF(LEFT($D$284,8)=\"MODELO M\",SUBTOTAL(109,BJ287:BJ291),0))","v":0},{"$f":"IF(LEFT($D$284,8)=\"MODELO D\",IF($Z$284=\"Atribuir valor detalhado por Fase/Elemento\",SUBTOTAL(109,BK287:BK291),AC284),IF(LEFT($D$284,8)=\"MODELO M\",SUBTOTAL(109,BK287:BK291),0))","v":0},{"$f":"SUM(BH284:BK284)","v":0},"MODELO A - TEMPO - N.º DE HORAS DE TRABALHO"]
[null,{"$f":"IF($B$284=\"ocultar\",\"ocultar\",\"mostrar\")","v":"ocultar"},null,null,null,null,null,null,null,null,null,null,null,null,null,null,null,null,null,null,null,null,null,null,null,null,null,null,null,null,null,null,null,null,null,null,null,null,null,null,null,null,null,null,null,null,null,null,null,null,null,null,null,null,null,null,null,null,null,null,null,null,null,null,"MODELO A - TEMPO - N.º DE HORAS DE TRABALHO"]
[null,"ocultar",null,null,null,null,null,null,null,null,null,null,null,null,null,null,null,null,null,null,null,null,null,null,null,null,null,null,null,null,null,null,null,null,null,null,null,null,null,null,null,null,null,null,null,null,null,null,null,null,null,null,null,null,null,null,null,null,null,null,null,null,null,null,"MODELO A - TEMPO - N.º DE HORAS DE TRABALHO"]
[null,{"$f":"IF($B$284=\"ocultar\",\"ocultar\",IF('SA - ATIVIDADES'!$H$145>='SA - SERVICOS COMPLEMENTARES'!AH287,\"mostrar\",\"ocultar\"))","v":"ocultar"},"Designação (a preencher)","MODELO A - TEMPO - N.º DE HORAS DE TRABALHO",null,null,0,{"$f":"$H$284","v":0},{"$f":"G287*H287","v":0},null,null,null,null,null,0,{"$f":"$P$284*O287","v":0},null,null,null,null,null,null,0,{"$f":"$X$284*W287","v":0},null,null,0,0,{"$f":"AA287*AB287","v":0},null,{"$f":"BL287","v":0},null,null,1,null,null,null,null,null,null,null,null,null,null,null,null,null,null,null,null,null,null,null,null,null,null,null,null,null,{"$f":"IF(OR(AND(LEFT($D$284,8)=\"MODELO M\",LEFT(D287,8)=\"MODELO A\"),AND(LEFT($D$284,8)=\"MODELO A\",$F$284=\"Atribuir valor detalhado por Fase/Elemento\")),I287,0)","v":0},{"$f":"IF(OR(AND(LEFT($D$284,8)=\"MODELO M\",LEFT(D287,8)=\"MODELO B\"),AND(LEFT($D$284,8)=\"MODELO B\",$K$284=\"Atribuir valor detalhado por Fase/Elemento\")),P287,0)","v":0},{"$f":"IF(OR(AND(LEFT($D$284,8)=\"MODELO M\",LEFT(D287,8)=\"MODELO C\"),AND(LEFT($D$284,8)=\"MODELO C\",$R$284=\"Atribuir valor detalhado por Fase/Elemento\")),X287,0)","v":0},{"$f":"IF(OR(AND(LEFT($D$284,8)=\"MODELO M\",LEFT(D287,8)=\"MODELO D\"),AND(LEFT($D$284,8)=\"MODELO D\",$Z$284=\"Atribuir valor detalhado por Fase/Elemento\")),AC287,0)","v":0},{"$f":"SUM(BH287:BK287)","v":0},"MODELO A - TEMPO - N.º DE HORAS DE TRABALHO"]
[null,{"$f":"IF($B$284=\"ocultar\",\"ocultar\",IF('SA - ATIVIDADES'!$H$145>='SA - SERVICOS COMPLEMENTARES'!AH288,\"mostrar\",\"ocultar\"))","v":"ocultar"},"Designação (a preencher)","MODELO A - TEMPO - N.º DE HORAS DE TRABALHO",null,null,0,{"$f":"$H$284","v":0},{"$f":"G288*H288","v":0},null,null,null,null,null,0,{"$f":"$P$284*O288","v":0},null,null,null,null,null,null,0,{"$f":"$X$284*W288","v":0},null,null,0,0,{"$f":"AA288*AB288","v":0},null,{"$f":"BL288","v":0},null,null,2,null,null,null,null,null,null,null,null,null,null,null,null,null,null,null,null,null,null,null,null,null,null,null,null,null,{"$f":"IF(OR(AND(LEFT($D$284,8)=\"MODELO M\",LEFT(D288,8)=\"MODELO A\"),AND(LEFT($D$284,8)=\"MODELO A\",$F$284=\"Atribuir valor detalhado por Fase/Elemento\")),I288,0)","v":0},{"$f":"IF(OR(AND(LEFT($D$284,8)=\"MODELO M\",LEFT(D288,8)=\"MODELO B\"),AND(LEFT($D$284,8)=\"MODELO B\",$K$284=\"Atribuir valor detalhado por Fase/Elemento\")),P288,0)","v":0},{"$f":"IF(OR(AND(LEFT($D$284,8)=\"MODELO M\",LEFT(D288,8)=\"MODELO C\"),AND(LEFT($D$284,8)=\"MODELO C\",$R$284=\"Atribuir valor detalhado por Fase/Elemento\")),X288,0)","v":0},{"$f":"IF(OR(AND(LEFT($D$284,8)=\"MODELO M\",LEFT(D288,8)=\"MODELO D\"),AND(LEFT($D$284,8)=\"MODELO D\",$Z$284=\"Atribuir valor detalhado por Fase/Elemento\")),AC288,0)","v":0},{"$f":"SUM(BH288:BK288)","v":0},"MODELO A - TEMPO - N.º DE HORAS DE TRABALHO"]
[null,{"$f":"IF($B$284=\"ocultar\",\"ocultar\",IF('SA - ATIVIDADES'!$H$145>='SA - SERVICOS COMPLEMENTARES'!AH289,\"mostrar\",\"ocultar\"))","v":"ocultar"},"Designação (a preencher)","MODELO A - TEMPO - N.º DE HORAS DE TRABALHO",null,null,0,{"$f":"$H$284","v":0},{"$f":"G289*H289","v":0},null,null,null,null,null,0,0,null,null,null,null,null,null,0,{"$f":"$X$284*W289","v":0},null,null,0,0,{"$f":"AA289*AB289","v":0},null,{"$f":"BL289","v":0},null,null,3,null,null,null,null,null,null,null,null,null,null,null,null,null,null,null,null,null,null,null,null,null,null,null,null,null,{"$f":"IF(OR(AND(LEFT($D$284,8)=\"MODELO M\",LEFT(D289,8)=\"MODELO A\"),AND(LEFT($D$284,8)=\"MODELO A\",$F$284=\"Atribuir valor detalhado por Fase/Elemento\")),I289,0)","v":0},{"$f":"IF(OR(AND(LEFT($D$284,8)=\"MODELO M\",LEFT(D289,8)=\"MODELO B\"),AND(LEFT($D$284,8)=\"MODELO B\",$K$284=\"Atribuir valor detalhado por Fase/Elemento\")),P289,0)","v":0},{"$f":"IF(OR(AND(LEFT($D$284,8)=\"MODELO M\",LEFT(D289,8)=\"MODELO C\"),AND(LEFT($D$284,8)=\"MODELO C\",$R$284=\"Atribuir valor detalhado por Fase/Elemento\")),X289,0)","v":0},{"$f":"IF(OR(AND(LEFT($D$284,8)=\"MODELO M\",LEFT(D289,8)=\"MODELO D\"),AND(LEFT($D$284,8)=\"MODELO D\",$Z$284=\"Atribuir valor detalhado por Fase/Elemento\")),AC289,0)","v":0},{"$f":"SUM(BH289:BK289)","v":0},"MODELO A - TEMPO - N.º DE HORAS DE TRABALHO"]
[null,{"$f":"IF($B$284=\"ocultar\",\"ocultar\",IF('SA - ATIVIDADES'!$H$145>='SA - SERVICOS COMPLEMENTARES'!AH290,\"mostrar\",\"ocultar\"))","v":"ocultar"},"Designação (a preencher)","MODELO A - TEMPO - N.º DE HORAS DE TRABALHO",null,null,0,{"$f":"$H$284","v":0},{"$f":"G290*H290","v":0},null,null,null,null,null,0,0,null,null,null,null,null,null,0,{"$f":"$X$284*W290","v":0},null,null,0,0,{"$f":"AA290*AB290","v":0},null,{"$f":"BL290","v":0},null,null,4,null,null,null,null,null,null,null,null,null,null,null,null,null,null,null,null,null,null,null,null,null,null,null,null,null,{"$f":"IF(OR(AND(LEFT($D$284,8)=\"MODELO M\",LEFT(D290,8)=\"MODELO A\"),AND(LEFT($D$284,8)=\"MODELO A\",$F$284=\"Atribuir valor detalhado por Fase/Elemento\")),I290,0)","v":0},{"$f":"IF(OR(AND(LEFT($D$284,8)=\"MODELO M\",LEFT(D290,8)=\"MODELO B\"),AND(LEFT($D$284,8)=\"MODELO B\",$K$284=\"Atribuir valor detalhado por Fase/Elemento\")),P290,0)","v":0},{"$f":"IF(OR(AND(LEFT($D$284,8)=\"MODELO M\",LEFT(D290,8)=\"MODELO C\"),AND(LEFT($D$284,8)=\"MODELO C\",$R$284=\"Atribuir valor detalhado por Fase/Elemento\")),X290,0)","v":0},{"$f":"IF(OR(AND(LEFT($D$284,8)=\"MODELO M\",LEFT(D290,8)=\"MODELO D\"),AND(LEFT($D$284,8)=\"MODELO D\",$Z$284=\"Atribuir valor detalhado por Fase/Elemento\")),AC290,0)","v":0},{"$f":"SUM(BH290:BK290)","v":0},"MODELO A - TEMPO - N.º DE HORAS DE TRABALHO"]
[null,{"$f":"IF($B$284=\"ocultar\",\"ocultar\",IF('SA - ATIVIDADES'!$H$145>='SA - SERVICOS COMPLEMENTARES'!AH291,\"mostrar\",\"ocultar\"))","v":"ocultar"},"Designação (a preencher)","MODELO A - TEMPO - N.º DE HORAS DE TRABALHO",null,null,0,{"$f":"$H$284","v":0},{"$f":"G291*H291","v":0},null,null,null,null,null,0,0,null,null,null,null,null,null,0,{"$f":"$X$284*W291","v":0},null,null,0,0,{"$f":"AA291*AB291","v":0},null,{"$f":"BL291","v":0},null,null,5,null,null,null,null,null,null,null,null,null,null,null,null,null,null,null,null,null,null,null,null,null,null,null,null,null,{"$f":"IF(OR(AND(LEFT($D$284,8)=\"MODELO M\",LEFT(D291,8)=\"MODELO A\"),AND(LEFT($D$284,8)=\"MODELO A\",$F$284=\"Atribuir valor detalhado por Fase/Elemento\")),I291,0)","v":0},{"$f":"IF(OR(AND(LEFT($D$284,8)=\"MODELO M\",LEFT(D291,8)=\"MODELO B\"),AND(LEFT($D$284,8)=\"MODELO B\",$K$284=\"Atribuir valor detalhado por Fase/Elemento\")),P291,0)","v":0},{"$f":"IF(OR(AND(LEFT($D$284,8)=\"MODELO M\",LEFT(D291,8)=\"MODELO C\"),AND(LEFT($D$284,8)=\"MODELO C\",$R$284=\"Atribuir valor detalhado por Fase/Elemento\")),X291,0)","v":0},{"$f":"IF(OR(AND(LEFT($D$284,8)=\"MODELO M\",LEFT(D291,8)=\"MODELO D\"),AND(LEFT($D$284,8)=\"MODELO D\",$Z$284=\"Atribuir valor detalhado por Fase/Elemento\")),AC291,0)","v":0},{"$f":"SUM(BH291:BK291)","v":0},"MODELO A - TEMPO - N.º DE HORAS DE TRABALHO"]
[null,{"$f":"IF($B$284=\"ocultar\",\"ocultar\",\"mostrar\")","v":"ocultar"},"TOTAL",null,null,null,{"$f":"IF(F$284=\"Atribuir valor global à atividade\",G284,SUBTOTAL(109,G287:G291))","v":0},null,{"$f":"IF($F$284=\"Atribuir valor global à atividade\",I284,SUBTOTAL(109,I287:I291))","v":0},null,null,null,null,null,{"$f":"IF($K$284=\"Atribuir valor global à atividade\",1,SUBTOTAL(109,O287:O291))","v":1},{"$f":"IF($K$284=\"Atribuir valor global à atividade\",P284,SUBTOTAL(109,P287:P291))","v":0},null,null,null,null,null,null,{"$f":"IF($R$284=\"Atribuir valor global à atividade\",1,SUBTOTAL(109,W287:W291))","v":1},{"$f":"IF($R$284=\"Atribuir valor global à atividade\",X284,SUBTOTAL(109,X287:X291))","v":0},null,null,null,null,{"$f":"IF($Z$284=\"Atribuir valor global à atividade\",AC284,SUBTOTAL(109,AC287:AC291))","v":0},null,{"$f":"SUBTOTAL(109,AE287:AE291)","v":0},null,null,null,null,null,null,null,null,null,null,null,null,null,null,null,null,null,null,null,null,null,null,null,null,null,null,null,null,null,null,null,null,null,"MODELO A - TEMPO - N.º DE HORAS DE TRABALHO"]
[null,{"$f":"IF($B$284=\"ocultar\",\"ocultar\",\"mostrar\")","v":"ocultar"},null,null,null,null,null,null,null,null,null,null,null,null,null,null,null,null,null,null,null,null,null,null,null,null,null,null,null,null,null,null,null,null,null,null,null,null,null,null,null,null,null,null,null,null,null,null,null,null,null,null,null,null,null,null,null,null,null,null,null,null,null,null,"MODELO A - TEMPO - N.º DE HORAS DE TRABALHO"]
[null,{"$f":"IF('SA - ATIVIDADES'!F146=TRUE,\"mostrar\",\"ocultar\")","v":"ocultar"},"B19. PLANO DE SEGURANÇA E SAÚDE EM FASE DE OBRA","MODELO A - TEMPO - N.º DE HORAS DE TRABALHO",null,"Atribuir valor global à atividade",0,0,{"$f":"IF($F$294=\"Atribuir valor global à atividade\",G294*H294,\"\")","v":0},null,"Atribuir valor global à atividade","Valor Global Obra (VG Obra)",{"$f":"IF(L294=\"Valor Global Obra (VG Obra)\",$M$9,\"\")","v":0},0,0,{"$f":"IF(L294=\"Valor Global Obra (VG Obra)\",M294*O294,N294*O294)","v":0},null,"Atribuir valor global à atividade","Valor/m2 fixo (VF m2)",{"$f":"IF(S294=\"Valor/m2 fixo (VF m2)\",$T$9,\"\")","v":0},0,0,null,{"$f":"IF(S294=\"Valor/m2 fixo (VF m2)\",T294*1*V294,U294*1*V294)","v":0},null,"Atribuir valor global à atividade",0,0,{"$f":"AA294*AB294","v":0},null,{"$f":"BL294","v":0},null,null,null,null,null,null,null,null,null,null,null,null,null,null,null,null,null,null,null,null,null,null,null,null,null,null,null,null,{"$f":"IF(LEFT($D$294,8)=\"MODELO A\",IF($F$294=\"Atribuir valor detalhado por Fase/Elemento\",SUBTOTAL(109,BH297:BH301),I294),IF(LEFT($D$294,8)=\"MODELO M\",SUBTOTAL(109,BH297:BH301),0))","v":0},{"$f":"IF(LEFT($D$294,8)=\"MODELO B\",IF($K$294=\"Atribuir valor detalhado por Fase/Elemento\",SUBTOTAL(109,BI297:BI301),P294),IF(LEFT($D$294,8)=\"MODELO M\",SUBTOTAL(109,BI297:BI301),0))","v":0},{"$f":"IF(LEFT($D$294,8)=\"MODELO C\",IF($R$294=\"Atribuir valor detalhado por Fase/Elemento\",SUBTOTAL(109,BJ297:BJ301),X294),IF(LEFT($D$294,8)=\"MODELO M\",SUBTOTAL(109,BJ297:BJ301),0))","v":0},{"$f":"IF(LEFT($D$294,8)=\"MODELO D\",IF($Z$294=\"Atribuir valor detalhado por Fase/Elemento\",SUBTOTAL(109,BK297:BK301),AC294),IF(LEFT($D$294,8)=\"MODELO M\",SUBTOTAL(109,BK297:BK301),0))","v":0},{"$f":"SUM(BH294:BK294)","v":0},"MODELO A - TEMPO - N.º DE HORAS DE TRABALHO"]
[null,{"$f":"IF($B$294=\"ocultar\",\"ocultar\",\"mostrar\")","v":"ocultar"},null,null,null,null,null,null,null,null,null,null,null,null,null,null,null,null,null,null,null,null,null,null,null,null,null,null,null,null,null,null,null,null,null,null,null,null,null,null,null,null,null,null,null,null,null,null,null,null,null,null,null,null,null,null,null,null,null,null,null,null,null,null,"MODELO A - TEMPO - N.º DE HORAS DE TRABALHO"]
[null,"ocultar",null,null,null,null,null,null,null,null,null,null,null,null,null,null,null,null,null,null,null,null,null,null,null,null,null,null,null,null,null,null,null,null,null,null,null,null,null,null,null,null,null,null,null,null,null,null,null,null,null,null,null,null,null,null,null,null,null,null,null,null,null,null,"MODELO A - TEMPO - N.º DE HORAS DE TRABALHO"]
[null,{"$f":"IF($B$294=\"ocultar\",\"ocultar\",IF('SA - ATIVIDADES'!$H$146>='SA - SERVICOS COMPLEMENTARES'!AH297,\"mostrar\",\"ocultar\"))","v":"ocultar"},"Designação (a preencher)","MODELO A - TEMPO - N.º DE HORAS DE TRABALHO",null,null,0,{"$f":"$H$294","v":0},{"$f":"G297*H297","v":0},null,null,null,null,null,0,{"$f":"$P$294*O297","v":0},null,null,null,null,null,null,0,{"$f":"$X$294*W297","v":0},null,null,0,0,{"$f":"AA297*AB297","v":0},null,{"$f":"BL297","v":0},null,null,1,null,null,null,null,null,null,null,null,null,null,null,null,null,null,null,null,null,null,null,null,null,null,null,null,null,{"$f":"IF(OR(AND(LEFT($D$294,8)=\"MODELO M\",LEFT(D297,8)=\"MODELO A\"),AND(LEFT($D$294,8)=\"MODELO A\",$F$294=\"Atribuir valor detalhado por Fase/Elemento\")),I297,0)","v":0},{"$f":"IF(OR(AND(LEFT($D$294,8)=\"MODELO M\",LEFT(D297,8)=\"MODELO B\"),AND(LEFT($D$294,8)=\"MODELO B\",$K$294=\"Atribuir valor detalhado por Fase/Elemento\")),P297,0)","v":0},{"$f":"IF(OR(AND(LEFT($D$294,8)=\"MODELO M\",LEFT(D297,8)=\"MODELO C\"),AND(LEFT($D$294,8)=\"MODELO C\",$R$294=\"Atribuir valor detalhado por Fase/Elemento\")),X297,0)","v":0},{"$f":"IF(OR(AND(LEFT($D$294,8)=\"MODELO M\",LEFT(D297,8)=\"MODELO D\"),AND(LEFT($D$294,8)=\"MODELO D\",$Z$294=\"Atribuir valor detalhado por Fase/Elemento\")),AC297,0)","v":0},{"$f":"SUM(BH297:BK297)","v":0},"MODELO A - TEMPO - N.º DE HORAS DE TRABALHO"]
[null,{"$f":"IF($B$294=\"ocultar\",\"ocultar\",IF('SA - ATIVIDADES'!$H$146>='SA - SERVICOS COMPLEMENTARES'!AH298,\"mostrar\",\"ocultar\"))","v":"ocultar"},"Designação (a preencher)","MODELO A - TEMPO - N.º DE HORAS DE TRABALHO",null,null,0,{"$f":"$H$294","v":0},{"$f":"G298*H298","v":0},null,null,null,null,null,0,{"$f":"$P$294*O298","v":0},null,null,null,null,null,null,0,{"$f":"$X$294*W298","v":0},null,null,0,0,{"$f":"AA298*AB298","v":0},null,{"$f":"BL298","v":0},null,null,2,null,null,null,null,null,null,null,null,null,null,null,null,null,null,null,null,null,null,null,null,null,null,null,null,null,{"$f":"IF(OR(AND(LEFT($D$294,8)=\"MODELO M\",LEFT(D298,8)=\"MODELO A\"),AND(LEFT($D$294,8)=\"MODELO A\",$F$294=\"Atribuir valor detalhado por Fase/Elemento\")),I298,0)","v":0},{"$f":"IF(OR(AND(LEFT($D$294,8)=\"MODELO M\",LEFT(D298,8)=\"MODELO B\"),AND(LEFT($D$294,8)=\"MODELO B\",$K$294=\"Atribuir valor detalhado por Fase/Elemento\")),P298,0)","v":0},{"$f":"IF(OR(AND(LEFT($D$294,8)=\"MODELO M\",LEFT(D298,8)=\"MODELO C\"),AND(LEFT($D$294,8)=\"MODELO C\",$R$294=\"Atribuir valor detalhado por Fase/Elemento\")),X298,0)","v":0},{"$f":"IF(OR(AND(LEFT($D$294,8)=\"MODELO M\",LEFT(D298,8)=\"MODELO D\"),AND(LEFT($D$294,8)=\"MODELO D\",$Z$294=\"Atribuir valor detalhado por Fase/Elemento\")),AC298,0)","v":0},{"$f":"SUM(BH298:BK298)","v":0},"MODELO A - TEMPO - N.º DE HORAS DE TRABALHO"]
[null,{"$f":"IF($B$294=\"ocultar\",\"ocultar\",IF('SA - ATIVIDADES'!$H$146>='SA - SERVICOS COMPLEMENTARES'!AH299,\"mostrar\",\"ocultar\"))","v":"ocultar"},"Designação (a preencher)","MODELO A - TEMPO - N.º DE HORAS DE TRABALHO",null,null,0,{"$f":"$H$294","v":0},{"$f":"G299*H299","v":0},null,null,null,null,null,0,0,null,null,null,null,null,null,0,{"$f":"$X$294*W299","v":0},null,null,0,0,{"$f":"AA299*AB299","v":0},null,{"$f":"BL299","v":0},null,null,3,null,null,null,null,null,null,null,null,null,null,null,null,null,null,null,null,null,null,null,null,null,null,null,null,null,{"$f":"IF(OR(AND(LEFT($D$294,8)=\"MODELO M\",LEFT(D299,8)=\"MODELO A\"),AND(LEFT($D$294,8)=\"MODELO A\",$F$294=\"Atribuir valor detalhado por Fase/Elemento\")),I299,0)","v":0},{"$f":"IF(OR(AND(LEFT($D$294,8)=\"MODELO M\",LEFT(D299,8)=\"MODELO B\"),AND(LEFT($D$294,8)=\"MODELO B\",$K$294=\"Atribuir valor detalhado por Fase/Elemento\")),P299,0)","v":0},{"$f":"IF(OR(AND(LEFT($D$294,8)=\"MODELO M\",LEFT(D299,8)=\"MODELO C\"),AND(LEFT($D$294,8)=\"MODELO C\",$R$294=\"Atribuir valor detalhado por Fase/Elemento\")),X299,0)","v":0},{"$f":"IF(OR(AND(LEFT($D$294,8)=\"MODELO M\",LEFT(D299,8)=\"MODELO D\"),AND(LEFT($D$294,8)=\"MODELO D\",$Z$294=\"Atribuir valor detalhado por Fase/Elemento\")),AC299,0)","v":0},{"$f":"SUM(BH299:BK299)","v":0},"MODELO A - TEMPO - N.º DE HORAS DE TRABALHO"]
[null,{"$f":"IF($B$294=\"ocultar\",\"ocultar\",IF('SA - ATIVIDADES'!$H$146>='SA - SERVICOS COMPLEMENTARES'!AH300,\"mostrar\",\"ocultar\"))","v":"ocultar"},"Designação (a preencher)","MODELO A - TEMPO - N.º DE HORAS DE TRABALHO",null,null,0,{"$f":"$H$294","v":0},{"$f":"G300*H300","v":0},null,null,null,null,null,0,0,null,null,null,null,null,null,0,{"$f":"$X$294*W300","v":0},null,null,0,0,{"$f":"AA300*AB300","v":0},null,{"$f":"BL300","v":0},null,null,4,null,null,null,null,null,null,null,null,null,null,null,null,null,null,null,null,null,null,null,null,null,null,null,null,null,{"$f":"IF(OR(AND(LEFT($D$294,8)=\"MODELO M\",LEFT(D300,8)=\"MODELO A\"),AND(LEFT($D$294,8)=\"MODELO A\",$F$294=\"Atribuir valor detalhado por Fase/Elemento\")),I300,0)","v":0},{"$f":"IF(OR(AND(LEFT($D$294,8)=\"MODELO M\",LEFT(D300,8)=\"MODELO B\"),AND(LEFT($D$294,8)=\"MODELO B\",$K$294=\"Atribuir valor detalhado por Fase/Elemento\")),P300,0)","v":0},{"$f":"IF(OR(AND(LEFT($D$294,8)=\"MODELO M\",LEFT(D300,8)=\"MODELO C\"),AND(LEFT($D$294,8)=\"MODELO C\",$R$294=\"Atribuir valor detalhado por Fase/Elemento\")),X300,0)","v":0},{"$f":"IF(OR(AND(LEFT($D$294,8)=\"MODELO M\",LEFT(D300,8)=\"MODELO D\"),AND(LEFT($D$294,8)=\"MODELO D\",$Z$294=\"Atribuir valor detalhado por Fase/Elemento\")),AC300,0)","v":0},{"$f":"SUM(BH300:BK300)","v":0},"MODELO A - TEMPO - N.º DE HORAS DE TRABALHO"]
[null,{"$f":"IF($B$294=\"ocultar\",\"ocultar\",IF('SA - ATIVIDADES'!$H$146>='SA - SERVICOS COMPLEMENTARES'!AH301,\"mostrar\",\"ocultar\"))","v":"ocultar"},"Designação (a preencher)","MODELO A - TEMPO - N.º DE HORAS DE TRABALHO",null,null,0,{"$f":"$H$294","v":0},{"$f":"G301*H301","v":0},null,null,null,null,null,0,0,null,null,null,null,null,null,0,{"$f":"$X$294*W301","v":0},null,null,0,0,{"$f":"AA301*AB301","v":0},null,{"$f":"BL301","v":0},null,null,5,null,null,null,null,null,null,null,null,null,null,null,null,null,null,null,null,null,null,null,null,null,null,null,null,null,{"$f":"IF(OR(AND(LEFT($D$294,8)=\"MODELO M\",LEFT(D301,8)=\"MODELO A\"),AND(LEFT($D$294,8)=\"MODELO A\",$F$294=\"Atribuir valor detalhado por Fase/Elemento\")),I301,0)","v":0},{"$f":"IF(OR(AND(LEFT($D$294,8)=\"MODELO M\",LEFT(D301,8)=\"MODELO B\"),AND(LEFT($D$294,8)=\"MODELO B\",$K$294=\"Atribuir valor detalhado por Fase/Elemento\")),P301,0)","v":0},{"$f":"IF(OR(AND(LEFT($D$294,8)=\"MODELO M\",LEFT(D301,8)=\"MODELO C\"),AND(LEFT($D$294,8)=\"MODELO C\",$R$294=\"Atribuir valor detalhado por Fase/Elemento\")),X301,0)","v":0},{"$f":"IF(OR(AND(LEFT($D$294,8)=\"MODELO M\",LEFT(D301,8)=\"MODELO D\"),AND(LEFT($D$294,8)=\"MODELO D\",$Z$294=\"Atribuir valor detalhado por Fase/Elemento\")),AC301,0)","v":0},{"$f":"SUM(BH301:BK301)","v":0},"MODELO A - TEMPO - N.º DE HORAS DE TRABALHO"]
[null,{"$f":"IF($B$294=\"ocultar\",\"ocultar\",\"mostrar\")","v":"ocultar"},"TOTAL",null,null,null,{"$f":"IF(F$294=\"Atribuir valor global à atividade\",G294,SUBTOTAL(109,G297:G301))","v":0},null,{"$f":"IF($F$294=\"Atribuir valor global à atividade\",I294,SUBTOTAL(109,I297:I301))","v":0},null,null,null,null,null,{"$f":"IF($K$294=\"Atribuir valor global à atividade\",1,SUBTOTAL(109,O297:O301))","v":1},{"$f":"IF($K$294=\"Atribuir valor global à atividade\",P294,SUBTOTAL(109,P297:P301))","v":0},null,null,null,null,null,null,{"$f":"IF($R$294=\"Atribuir valor global à atividade\",1,SUBTOTAL(109,W297:W301))","v":1},{"$f":"IF($R$294=\"Atribuir valor global à atividade\",X294,SUBTOTAL(109,X297:X301))","v":0},null,null,null,null,{"$f":"IF($Z$294=\"Atribuir valor global à atividade\",AC294,SUBTOTAL(109,AC297:AC301))","v":0},null,{"$f":"SUBTOTAL(109,AE297:AE301)","v":0},null,null,null,null,null,null,null,null,null,null,null,null,null,null,null,null,null,null,null,null,null,null,null,null,null,null,null,null,null,null,null,null,null,"MODELO A - TEMPO - N.º DE HORAS DE TRABALHO"]
[null,{"$f":"IF($B$294=\"ocultar\",\"ocultar\",\"mostrar\")","v":"ocultar"},null,null,null,null,null,null,null,null,null,null,null,null,null,null,null,null,null,null,null,null,null,null,null,null,null,null,null,null,null,null,null,null,null,null,null,null,null,null,null,null,null,null,null,null,null,null,null,null,null,null,null,null,null,null,null,null,null,null,null,null,null,null,"MODELO A - TEMPO - N.º DE HORAS DE TRABALHO"]
[null,{"$f":"IF('SA - ATIVIDADES'!F147=TRUE,\"mostrar\",\"ocultar\")","v":"ocultar"},"B20. COMPILAÇÃO TÉCNICA DA OBRA","MODELO A - TEMPO - N.º DE HORAS DE TRABALHO",null,"Atribuir valor global à atividade",0,0,{"$f":"IF($F$304=\"Atribuir valor global à atividade\",G304*H304,\"\")","v":0},null,"Atribuir valor global à atividade","Valor Global Obra (VG Obra)",{"$f":"IF(L304=\"Valor Global Obra (VG Obra)\",$M$9,\"\")","v":0},0,0,{"$f":"IF(L304=\"Valor Global Obra (VG Obra)\",M304*O304,N304*O304)","v":0},null,"Atribuir valor global à atividade","Valor/m2 fixo (VF m2)",{"$f":"IF(S304=\"Valor/m2 fixo (VF m2)\",$T$9,\"\")","v":0},0,0,null,{"$f":"IF(S304=\"Valor/m2 fixo (VF m2)\",T304*1*V304,U304*1*V304)","v":0},null,"Atribuir valor global à atividade",0,0,{"$f":"AA304*AB304","v":0},null,{"$f":"BL304","v":0},null,null,null,null,null,null,null,null,null,null,null,null,null,null,null,null,null,null,null,null,null,null,null,null,null,null,null,null,{"$f":"IF(LEFT($D$304,8)=\"MODELO A\",IF($F$304=\"Atribuir valor detalhado por Fase/Elemento\",SUBTOTAL(109,BH307:BH311),I304),IF(LEFT($D$304,8)=\"MODELO M\",SUBTOTAL(109,BH307:BH311),0))","v":0},{"$f":"IF(LEFT($D$304,8)=\"MODELO B\",IF($K$304=\"Atribuir valor detalhado por Fase/Elemento\",SUBTOTAL(109,BI307:BI311),P304),IF(LEFT($D$304,8)=\"MODELO M\",SUBTOTAL(109,BI307:BI311),0))","v":0},{"$f":"IF(LEFT($D$304,8)=\"MODELO C\",IF($R$304=\"Atribuir valor detalhado por Fase/Elemento\",SUBTOTAL(109,BJ307:BJ311),X304),IF(LEFT($D$304,8)=\"MODELO M\",SUBTOTAL(109,BJ307:BJ311),0))","v":0},{"$f":"IF(LEFT($D$304,8)=\"MODELO D\",IF($Z$304=\"Atribuir valor detalhado por Fase/Elemento\",SUBTOTAL(109,BK307:BK311),AC304),IF(LEFT($D$304,8)=\"MODELO M\",SUBTOTAL(109,BK307:BK311),0))","v":0},{"$f":"SUM(BH304:BK304)","v":0},"MODELO A - TEMPO - N.º DE HORAS DE TRABALHO"]
[null,{"$f":"IF($B$304=\"ocultar\",\"ocultar\",\"mostrar\")","v":"ocultar"},null,null,null,null,null,null,null,null,null,null,null,null,null,null,null,null,null,null,null,null,null,null,null,null,null,null,null,null,null,null,null,null,null,null,null,null,null,null,null,null,null,null,null,null,null,null,null,null,null,null,null,null,null,null,null,null,null,null,null,null,null,null,"MODELO A - TEMPO - N.º DE HORAS DE TRABALHO"]
[null,"ocultar",null,null,null,null,null,null,null,null,null,null,null,null,null,null,null,null,null,null,null,null,null,null,null,null,null,null,null,null,null,null,null,null,null,null,null,null,null,null,null,null,null,null,null,null,null,null,null,null,null,null,null,null,null,null,null,null,null,null,null,null,null,null,"MODELO A - TEMPO - N.º DE HORAS DE TRABALHO"]
[null,{"$f":"IF($B$304=\"ocultar\",\"ocultar\",IF('SA - ATIVIDADES'!$H$147>='SA - SERVICOS COMPLEMENTARES'!AH307,\"mostrar\",\"ocultar\"))","v":"ocultar"},"Designação (a preencher)","MODELO A - TEMPO - N.º DE HORAS DE TRABALHO",null,null,0,{"$f":"$H$304","v":0},{"$f":"G307*H307","v":0},null,null,null,null,null,0,{"$f":"$P$304*O307","v":0},null,null,null,null,null,null,0,{"$f":"$X$304*W307","v":0},null,null,0,0,{"$f":"AA307*AB307","v":0},null,{"$f":"BL307","v":0},null,null,1,null,null,null,null,null,null,null,null,null,null,null,null,null,null,null,null,null,null,null,null,null,null,null,null,null,{"$f":"IF(OR(AND(LEFT($D$304,8)=\"MODELO M\",LEFT(D307,8)=\"MODELO A\"),AND(LEFT($D$304,8)=\"MODELO A\",$F$304=\"Atribuir valor detalhado por Fase/Elemento\")),I307,0)","v":0},{"$f":"IF(OR(AND(LEFT($D$304,8)=\"MODELO M\",LEFT(D307,8)=\"MODELO B\"),AND(LEFT($D$304,8)=\"MODELO B\",$K$304=\"Atribuir valor detalhado por Fase/Elemento\")),P307,0)","v":0},{"$f":"IF(OR(AND(LEFT($D$304,8)=\"MODELO M\",LEFT(D307,8)=\"MODELO C\"),AND(LEFT($D$304,8)=\"MODELO C\",$R$304=\"Atribuir valor detalhado por Fase/Elemento\")),X307,0)","v":0},{"$f":"IF(OR(AND(LEFT($D$304,8)=\"MODELO M\",LEFT(D307,8)=\"MODELO D\"),AND(LEFT($D$304,8)=\"MODELO D\",$Z$304=\"Atribuir valor detalhado por Fase/Elemento\")),AC307,0)","v":0},{"$f":"SUM(BH307:BK307)","v":0},"MODELO A - TEMPO - N.º DE HORAS DE TRABALHO"]
[null,{"$f":"IF($B$304=\"ocultar\",\"ocultar\",IF('SA - ATIVIDADES'!$H$147>='SA - SERVICOS COMPLEMENTARES'!AH308,\"mostrar\",\"ocultar\"))","v":"ocultar"},"Designação (a preencher)","MODELO A - TEMPO - N.º DE HORAS DE TRABALHO",null,null,0,{"$f":"$H$304","v":0},{"$f":"G308*H308","v":0},null,null,null,null,null,0,{"$f":"$P$304*O308","v":0},null,null,null,null,null,null,0,{"$f":"$X$304*W308","v":0},null,null,0,0,{"$f":"AA308*AB308","v":0},null,{"$f":"BL308","v":0},null,null,2,null,null,null,null,null,null,null,null,null,null,null,null,null,null,null,null,null,null,null,null,null,null,null,null,null,{"$f":"IF(OR(AND(LEFT($D$304,8)=\"MODELO M\",LEFT(D308,8)=\"MODELO A\"),AND(LEFT($D$304,8)=\"MODELO A\",$F$304=\"Atribuir valor detalhado por Fase/Elemento\")),I308,0)","v":0},{"$f":"IF(OR(AND(LEFT($D$304,8)=\"MODELO M\",LEFT(D308,8)=\"MODELO B\"),AND(LEFT($D$304,8)=\"MODELO B\",$K$304=\"Atribuir valor detalhado por Fase/Elemento\")),P308,0)","v":0},{"$f":"IF(OR(AND(LEFT($D$304,8)=\"MODELO M\",LEFT(D308,8)=\"MODELO C\"),AND(LEFT($D$304,8)=\"MODELO C\",$R$304=\"Atribuir valor detalhado por Fase/Elemento\")),X308,0)","v":0},{"$f":"IF(OR(AND(LEFT($D$304,8)=\"MODELO M\",LEFT(D308,8)=\"MODELO D\"),AND(LEFT($D$304,8)=\"MODELO D\",$Z$304=\"Atribuir valor detalhado por Fase/Elemento\")),AC308,0)","v":0},{"$f":"SUM(BH308:BK308)","v":0},"MODELO A - TEMPO - N.º DE HORAS DE TRABALHO"]
[null,{"$f":"IF($B$304=\"ocultar\",\"ocultar\",IF('SA - ATIVIDADES'!$H$147>='SA - SERVICOS COMPLEMENTARES'!AH309,\"mostrar\",\"ocultar\"))","v":"ocultar"},"Designação (a preencher)","MODELO A - TEMPO - N.º DE HORAS DE TRABALHO",null,null,0,{"$f":"$H$304","v":0},{"$f":"G309*H309","v":0},null,null,null,null,null,0,0,null,null,null,null,null,null,0,{"$f":"$X$304*W309","v":0},null,null,0,0,{"$f":"AA309*AB309","v":0},null,{"$f":"BL309","v":0},null,null,3,null,null,null,null,null,null,null,null,null,null,null,null,null,null,null,null,null,null,null,null,null,null,null,null,null,{"$f":"IF(OR(AND(LEFT($D$304,8)=\"MODELO M\",LEFT(D309,8)=\"MODELO A\"),AND(LEFT($D$304,8)=\"MODELO A\",$F$304=\"Atribuir valor detalhado por Fase/Elemento\")),I309,0)","v":0},{"$f":"IF(OR(AND(LEFT($D$304,8)=\"MODELO M\",LEFT(D309,8)=\"MODELO B\"),AND(LEFT($D$304,8)=\"MODELO B\",$K$304=\"Atribuir valor detalhado por Fase/Elemento\")),P309,0)","v":0},{"$f":"IF(OR(AND(LEFT($D$304,8)=\"MODELO M\",LEFT(D309,8)=\"MODELO C\"),AND(LEFT($D$304,8)=\"MODELO C\",$R$304=\"Atribuir valor detalhado por Fase/Elemento\")),X309,0)","v":0},{"$f":"IF(OR(AND(LEFT($D$304,8)=\"MODELO M\",LEFT(D309,8)=\"MODELO D\"),AND(LEFT($D$304,8)=\"MODELO D\",$Z$304=\"Atribuir valor detalhado por Fase/Elemento\")),AC309,0)","v":0},{"$f":"SUM(BH309:BK309)","v":0},{"$f":"IF($AH309<>\"\",BM308,IF(LEFT($D309,6)=\"MODELO\",$D309,BM308))","v":"MODELO A - TEMPO - N.º DE HORAS DE TRABALHO"}]
[null,{"$f":"IF($B$304=\"ocultar\",\"ocultar\",IF('SA - ATIVIDADES'!$H$147>='SA - SERVICOS COMPLEMENTARES'!AH310,\"mostrar\",\"ocultar\"))","v":"ocultar"},"Designação (a preencher)","MODELO A - TEMPO - N.º DE HORAS DE TRABALHO",null,null,0,{"$f":"$H$304","v":0},{"$f":"G310*H310","v":0},null,null,null,null,null,0,0,null,null,null,null,null,null,0,{"$f":"$X$304*W310","v":0},null,null,0,0,{"$f":"AA310*AB310","v":0},null,{"$f":"BL310","v":0},null,null,4,null,null,null,null,null,null,null,null,null,null,null,null,null,null,null,null,null,null,null,null,null,null,null,null,null,{"$f":"IF(OR(AND(LEFT($D$304,8)=\"MODELO M\",LEFT(D310,8)=\"MODELO A\"),AND(LEFT($D$304,8)=\"MODELO A\",$F$304=\"Atribuir valor detalhado por Fase/Elemento\")),I310,0)","v":0},{"$f":"IF(OR(AND(LEFT($D$304,8)=\"MODELO M\",LEFT(D310,8)=\"MODELO B\"),AND(LEFT($D$304,8)=\"MODELO B\",$K$304=\"Atribuir valor detalhado por Fase/Elemento\")),P310,0)","v":0},{"$f":"IF(OR(AND(LEFT($D$304,8)=\"MODELO M\",LEFT(D310,8)=\"MODELO C\"),AND(LEFT($D$304,8)=\"MODELO C\",$R$304=\"Atribuir valor detalhado por Fase/Elemento\")),X310,0)","v":0},{"$f":"IF(OR(AND(LEFT($D$304,8)=\"MODELO M\",LEFT(D310,8)=\"MODELO D\"),AND(LEFT($D$304,8)=\"MODELO D\",$Z$304=\"Atribuir valor detalhado por Fase/Elemento\")),AC310,0)","v":0},{"$f":"SUM(BH310:BK310)","v":0},"MODELO A - TEMPO - N.º DE HORAS DE TRABALHO"]
[null,{"$f":"IF($B$304=\"ocultar\",\"ocultar\",IF('SA - ATIVIDADES'!$H$147>='SA - SERVICOS COMPLEMENTARES'!AH311,\"mostrar\",\"ocultar\"))","v":"ocultar"},"Designação (a preencher)","MODELO A - TEMPO - N.º DE HORAS DE TRABALHO",null,null,0,{"$f":"$H$304","v":0},{"$f":"G311*H311","v":0},null,null,null,null,null,0,0,null,null,null,null,null,null,0,{"$f":"$X$304*W311","v":0},null,null,0,0,{"$f":"AA311*AB311","v":0},null,{"$f":"BL311","v":0},null,null,5,null,null,null,null,null,null,null,null,null,null,null,null,null,null,null,null,null,null,null,null,null,null,null,null,null,{"$f":"IF(OR(AND(LEFT($D$304,8)=\"MODELO M\",LEFT(D311,8)=\"MODELO A\"),AND(LEFT($D$304,8)=\"MODELO A\",$F$304=\"Atribuir valor detalhado por Fase/Elemento\")),I311,0)","v":0},{"$f":"IF(OR(AND(LEFT($D$304,8)=\"MODELO M\",LEFT(D311,8)=\"MODELO B\"),AND(LEFT($D$304,8)=\"MODELO B\",$K$304=\"Atribuir valor detalhado por Fase/Elemento\")),P311,0)","v":0},{"$f":"IF(OR(AND(LEFT($D$304,8)=\"MODELO M\",LEFT(D311,8)=\"MODELO C\"),AND(LEFT($D$304,8)=\"MODELO C\",$R$304=\"Atribuir valor detalhado por Fase/Elemento\")),X311,0)","v":0},{"$f":"IF(OR(AND(LEFT($D$304,8)=\"MODELO M\",LEFT(D311,8)=\"MODELO D\"),AND(LEFT($D$304,8)=\"MODELO D\",$Z$304=\"Atribuir valor detalhado por Fase/Elemento\")),AC311,0)","v":0},{"$f":"SUM(BH311:BK311)","v":0},"MODELO A - TEMPO - N.º DE HORAS DE TRABALHO"]
[null,{"$f":"IF($B$304=\"ocultar\",\"ocultar\",\"mostrar\")","v":"ocultar"},"TOTAL",null,null,null,{"$f":"IF(F$304=\"Atribuir valor global à atividade\",G304,SUBTOTAL(109,G307:G311))","v":0},null,{"$f":"IF($F$304=\"Atribuir valor global à atividade\",I304,SUBTOTAL(109,I307:I311))","v":0},null,null,null,null,null,{"$f":"IF($K$304=\"Atribuir valor global à atividade\",1,SUBTOTAL(109,O307:O311))","v":1},{"$f":"IF($K$304=\"Atribuir valor global à atividade\",P304,SUBTOTAL(109,P307:P311))","v":0},null,null,null,null,null,null,{"$f":"IF($R$304=\"Atribuir valor global à atividade\",1,SUBTOTAL(109,W307:W311))","v":1},{"$f":"IF($R$304=\"Atribuir valor global à atividade\",X304,SUBTOTAL(109,X307:X311))","v":0},null,null,null,null,{"$f":"IF($Z$304=\"Atribuir valor global à atividade\",AC304,SUBTOTAL(109,AC307:AC311))","v":0},null,{"$f":"SUBTOTAL(109,AE307:AE311)","v":0},null,null,null,null,null,null,null,null,null,null,null,null,null,null,null,null,null,null,null,null,null,null,null,null,null,null,null,null,null,null,null,null,null,"MODELO A - TEMPO - N.º DE HORAS DE TRABALHO"]
[null,{"$f":"IF($B$304=\"ocultar\",\"ocultar\",\"mostrar\")","v":"ocultar"},null,null,null,null,null,null,null,null,null,null,null,null,null,null,null,null,null,null,null,null,null,null,null,null,null,null,null,null,null,null,null,null,null,null,null,null,null,null,null,null,null,null,null,null,null,null,null,null,null,null,null,null,null,null,null,null,null,null,null,null,null,null,"MODELO A - TEMPO - N.º DE HORAS DE TRABALHO"]
[null,{"$f":"IF('SA - ATIVIDADES'!F148=TRUE,\"mostrar\",\"ocultar\")","v":"ocultar"},"B21. PLANOS DE MONITORIZAÇÃO E MANUTENÇÃO","MODELO A - TEMPO - N.º DE HORAS DE TRABALHO",null,"Atribuir valor global à atividade",0,0,{"$f":"IF($F$314=\"Atribuir valor global à atividade\",G314*H314,\"\")","v":0},null,"Atribuir valor global à atividade","Valor Global Obra (VG Obra)",{"$f":"IF(L314=\"Valor Global Obra (VG Obra)\",$M$9,\"\")","v":0},0,0,{"$f":"IF(L314=\"Valor Global Obra (VG Obra)\",M314*O314,N314*O314)","v":0},null,"Atribuir valor global à atividade","Valor/m2 fixo (VF m2)",{"$f":"IF(S314=\"Valor/m2 fixo (VF m2)\",$T$9,\"\")","v":0},0,0,null,{"$f":"IF(S314=\"Valor/m2 fixo (VF m2)\",T314*1*V314,U314*1*V314)","v":0},null,"Atribuir valor global à atividade",0,0,{"$f":"AA314*AB314","v":0},null,{"$f":"BL314","v":0},null,null,null,null,null,null,null,null,null,null,null,null,null,null,null,null,null,null,null,null,null,null,null,null,null,null,null,null,{"$f":"IF(LEFT($D$314,8)=\"MODELO A\",IF($F$314=\"Atribuir valor detalhado por Fase/Elemento\",SUBTOTAL(109,BH317:BH321),I314),IF(LEFT($D$314,8)=\"MODELO M\",SUBTOTAL(109,BH317:BH321),0))","v":0},{"$f":"IF(LEFT($D$314,8)=\"MODELO B\",IF($K$314=\"Atribuir valor detalhado por Fase/Elemento\",SUBTOTAL(109,BI317:BI321),P314),IF(LEFT($D$314,8)=\"MODELO M\",SUBTOTAL(109,BI317:BI321),0))","v":0},{"$f":"IF(LEFT($D$314,8)=\"MODELO C\",IF($R$314=\"Atribuir valor detalhado por Fase/Elemento\",SUBTOTAL(109,BJ317:BJ321),X314),IF(LEFT($D$314,8)=\"MODELO M\",SUBTOTAL(109,BJ317:BJ321),0))","v":0},{"$f":"IF(LEFT($D$314,8)=\"MODELO D\",IF($Z$314=\"Atribuir valor detalhado por Fase/Elemento\",SUBTOTAL(109,BK317:BK321),AC314),IF(LEFT($D$314,8)=\"MODELO M\",SUBTOTAL(109,BK317:BK321),0))","v":0},{"$f":"SUM(BH314:BK314)","v":0},"MODELO A - TEMPO - N.º DE HORAS DE TRABALHO"]
[null,{"$f":"IF($B$314=\"ocultar\",\"ocultar\",\"mostrar\")","v":"ocultar"},null,null,null,null,null,null,null,null,null,null,null,null,null,null,null,null,null,null,null,null,null,null,null,null,null,null,null,null,null,null,null,null,null,null,null,null,null,null,null,null,null,null,null,null,null,null,null,null,null,null,null,null,null,null,null,null,null,null,null,null,null,null,"MODELO A - TEMPO - N.º DE HORAS DE TRABALHO"]
[null,"ocultar",null,null,null,null,null,null,null,null,null,null,null,null,null,null,null,null,null,null,null,null,null,null,null,null,null,null,null,null,null,null,null,null,null,null,null,null,null,null,null,null,null,null,null,null,null,null,null,null,null,null,null,null,null,null,null,null,null,null,null,null,null,null,"MODELO A - TEMPO - N.º DE HORAS DE TRABALHO"]
[null,{"$f":"IF($B$314=\"ocultar\",\"ocultar\",IF('SA - ATIVIDADES'!$H$148>='SA - SERVICOS COMPLEMENTARES'!AH317,\"mostrar\",\"ocultar\"))","v":"ocultar"},"Designação (a preencher)","MODELO A - TEMPO - N.º DE HORAS DE TRABALHO",null,null,0,{"$f":"$H$314","v":0},{"$f":"G317*H317","v":0},null,null,null,null,null,0,{"$f":"$P$314*O317","v":0},null,null,null,null,null,null,0,{"$f":"$X$314*W317","v":0},null,null,0,0,{"$f":"AA317*AB317","v":0},null,{"$f":"BL317","v":0},null,null,1,null,null,null,null,null,null,null,null,null,null,null,null,null,null,null,null,null,null,null,null,null,null,null,null,null,{"$f":"IF(OR(AND(LEFT($D$314,8)=\"MODELO M\",LEFT(D317,8)=\"MODELO A\"),AND(LEFT($D$314,8)=\"MODELO A\",$F$314=\"Atribuir valor detalhado por Fase/Elemento\")),I317,0)","v":0},{"$f":"IF(OR(AND(LEFT($D$314,8)=\"MODELO M\",LEFT(D317,8)=\"MODELO B\"),AND(LEFT($D$314,8)=\"MODELO B\",$K$314=\"Atribuir valor detalhado por Fase/Elemento\")),P317,0)","v":0},{"$f":"IF(OR(AND(LEFT($D$314,8)=\"MODELO M\",LEFT(D317,8)=\"MODELO C\"),AND(LEFT($D$314,8)=\"MODELO C\",$R$314=\"Atribuir valor detalhado por Fase/Elemento\")),X317,0)","v":0},{"$f":"IF(OR(AND(LEFT($D$314,8)=\"MODELO M\",LEFT(D317,8)=\"MODELO D\"),AND(LEFT($D$314,8)=\"MODELO D\",$Z$314=\"Atribuir valor detalhado por Fase/Elemento\")),AC317,0)","v":0},{"$f":"SUM(BH317:BK317)","v":0},"MODELO A - TEMPO - N.º DE HORAS DE TRABALHO"]
[null,{"$f":"IF($B$314=\"ocultar\",\"ocultar\",IF('SA - ATIVIDADES'!$H$148>='SA - SERVICOS COMPLEMENTARES'!AH318,\"mostrar\",\"ocultar\"))","v":"ocultar"},"Designação (a preencher)","MODELO A - TEMPO - N.º DE HORAS DE TRABALHO",null,null,0,{"$f":"$H$314","v":0},{"$f":"G318*H318","v":0},null,null,null,null,null,0,{"$f":"$P$314*O318","v":0},null,null,null,null,null,null,0,{"$f":"$X$314*W318","v":0},null,null,0,0,{"$f":"AA318*AB318","v":0},null,{"$f":"BL318","v":0},null,null,2,null,null,null,null,null,null,null,null,null,null,null,null,null,null,null,null,null,null,null,null,null,null,null,null,null,{"$f":"IF(OR(AND(LEFT($D$314,8)=\"MODELO M\",LEFT(D318,8)=\"MODELO A\"),AND(LEFT($D$314,8)=\"MODELO A\",$F$314=\"Atribuir valor detalhado por Fase/Elemento\")),I318,0)","v":0},{"$f":"IF(OR(AND(LEFT($D$314,8)=\"MODELO M\",LEFT(D318,8)=\"MODELO B\"),AND(LEFT($D$314,8)=\"MODELO B\",$K$314=\"Atribuir valor detalhado por Fase/Elemento\")),P318,0)","v":0},{"$f":"IF(OR(AND(LEFT($D$314,8)=\"MODELO M\",LEFT(D318,8)=\"MODELO C\"),AND(LEFT($D$314,8)=\"MODELO C\",$R$314=\"Atribuir valor detalhado por Fase/Elemento\")),X318,0)","v":0},{"$f":"IF(OR(AND(LEFT($D$314,8)=\"MODELO M\",LEFT(D318,8)=\"MODELO D\"),AND(LEFT($D$314,8)=\"MODELO D\",$Z$314=\"Atribuir valor detalhado por Fase/Elemento\")),AC318,0)","v":0},{"$f":"SUM(BH318:BK318)","v":0},"MODELO A - TEMPO - N.º DE HORAS DE TRABALHO"]
[null,{"$f":"IF($B$314=\"ocultar\",\"ocultar\",IF('SA - ATIVIDADES'!$H$148>='SA - SERVICOS COMPLEMENTARES'!AH319,\"mostrar\",\"ocultar\"))","v":"ocultar"},"Designação (a preencher)","MODELO A - TEMPO - N.º DE HORAS DE TRABALHO",null,null,0,{"$f":"$H$314","v":0},{"$f":"G319*H319","v":0},null,null,null,null,null,0,0,null,null,null,null,null,null,0,{"$f":"$X$314*W319","v":0},null,null,0,0,{"$f":"AA319*AB319","v":0},null,{"$f":"BL319","v":0},null,null,3,null,null,null,null,null,null,null,null,null,null,null,null,null,null,null,null,null,null,null,null,null,null,null,null,null,{"$f":"IF(OR(AND(LEFT($D$314,8)=\"MODELO M\",LEFT(D319,8)=\"MODELO A\"),AND(LEFT($D$314,8)=\"MODELO A\",$F$314=\"Atribuir valor detalhado por Fase/Elemento\")),I319,0)","v":0},{"$f":"IF(OR(AND(LEFT($D$314,8)=\"MODELO M\",LEFT(D319,8)=\"MODELO B\"),AND(LEFT($D$314,8)=\"MODELO B\",$K$314=\"Atribuir valor detalhado por Fase/Elemento\")),P319,0)","v":0},{"$f":"IF(OR(AND(LEFT($D$314,8)=\"MODELO M\",LEFT(D319,8)=\"MODELO C\"),AND(LEFT($D$314,8)=\"MODELO C\",$R$314=\"Atribuir valor detalhado por Fase/Elemento\")),X319,0)","v":0},{"$f":"IF(OR(AND(LEFT($D$314,8)=\"MODELO M\",LEFT(D319,8)=\"MODELO D\"),AND(LEFT($D$314,8)=\"MODELO D\",$Z$314=\"Atribuir valor detalhado por Fase/Elemento\")),AC319,0)","v":0},{"$f":"SUM(BH319:BK319)","v":0},"MODELO A - TEMPO - N.º DE HORAS DE TRABALHO"]
[null,{"$f":"IF($B$314=\"ocultar\",\"ocultar\",IF('SA - ATIVIDADES'!$H$148>='SA - SERVICOS COMPLEMENTARES'!AH320,\"mostrar\",\"ocultar\"))","v":"ocultar"},"Designação (a preencher)","MODELO A - TEMPO - N.º DE HORAS DE TRABALHO",null,null,0,{"$f":"$H$314","v":0},{"$f":"G320*H320","v":0},null,null,null,null,null,0,0,null,null,null,null,null,null,0,{"$f":"$X$314*W320","v":0},null,null,0,0,{"$f":"AA320*AB320","v":0},null,{"$f":"BL320","v":0},null,null,4,null,null,null,null,null,null,null,null,null,null,null,null,null,null,null,null,null,null,null,null,null,null,null,null,null,{"$f":"IF(OR(AND(LEFT($D$314,8)=\"MODELO M\",LEFT(D320,8)=\"MODELO A\"),AND(LEFT($D$314,8)=\"MODELO A\",$F$314=\"Atribuir valor detalhado por Fase/Elemento\")),I320,0)","v":0},{"$f":"IF(OR(AND(LEFT($D$314,8)=\"MODELO M\",LEFT(D320,8)=\"MODELO B\"),AND(LEFT($D$314,8)=\"MODELO B\",$K$314=\"Atribuir valor detalhado por Fase/Elemento\")),P320,0)","v":0},{"$f":"IF(OR(AND(LEFT($D$314,8)=\"MODELO M\",LEFT(D320,8)=\"MODELO C\"),AND(LEFT($D$314,8)=\"MODELO C\",$R$314=\"Atribuir valor detalhado por Fase/Elemento\")),X320,0)","v":0},{"$f":"IF(OR(AND(LEFT($D$314,8)=\"MODELO M\",LEFT(D320,8)=\"MODELO D\"),AND(LEFT($D$314,8)=\"MODELO D\",$Z$314=\"Atribuir valor detalhado por Fase/Elemento\")),AC320,0)","v":0},{"$f":"SUM(BH320:BK320)","v":0},"MODELO A - TEMPO - N.º DE HORAS DE TRABALHO"]
[null,{"$f":"IF($B$314=\"ocultar\",\"ocultar\",IF('SA - ATIVIDADES'!$H$148>='SA - SERVICOS COMPLEMENTARES'!AH321,\"mostrar\",\"ocultar\"))","v":"ocultar"},"Designação (a preencher)","MODELO A - TEMPO - N.º DE HORAS DE TRABALHO",null,null,0,{"$f":"$H$314","v":0},{"$f":"G321*H321","v":0},null,null,null,null,null,0,0,null,null,null,null,null,null,0,{"$f":"$X$314*W321","v":0},null,null,0,0,{"$f":"AA321*AB321","v":0},null,{"$f":"BL321","v":0},null,null,5,null,null,null,null,null,null,null,null,null,null,null,null,null,null,null,null,null,null,null,null,null,null,null,null,null,{"$f":"IF(OR(AND(LEFT($D$314,8)=\"MODELO M\",LEFT(D321,8)=\"MODELO A\"),AND(LEFT($D$314,8)=\"MODELO A\",$F$314=\"Atribuir valor detalhado por Fase/Elemento\")),I321,0)","v":0},{"$f":"IF(OR(AND(LEFT($D$314,8)=\"MODELO M\",LEFT(D321,8)=\"MODELO B\"),AND(LEFT($D$314,8)=\"MODELO B\",$K$314=\"Atribuir valor detalhado por Fase/Elemento\")),P321,0)","v":0},{"$f":"IF(OR(AND(LEFT($D$314,8)=\"MODELO M\",LEFT(D321,8)=\"MODELO C\"),AND(LEFT($D$314,8)=\"MODELO C\",$R$314=\"Atribuir valor detalhado por Fase/Elemento\")),X321,0)","v":0},{"$f":"IF(OR(AND(LEFT($D$314,8)=\"MODELO M\",LEFT(D321,8)=\"MODELO D\"),AND(LEFT($D$314,8)=\"MODELO D\",$Z$314=\"Atribuir valor detalhado por Fase/Elemento\")),AC321,0)","v":0},{"$f":"SUM(BH321:BK321)","v":0},"MODELO A - TEMPO - N.º DE HORAS DE TRABALHO"]
[null,{"$f":"IF($B$314=\"ocultar\",\"ocultar\",\"mostrar\")","v":"ocultar"},"TOTAL",null,null,null,{"$f":"IF(F$314=\"Atribuir valor global à atividade\",G314,SUBTOTAL(109,G317:G321))","v":0},null,{"$f":"IF($F$314=\"Atribuir valor global à atividade\",I314,SUBTOTAL(109,I317:I321))","v":0},null,null,null,null,null,{"$f":"IF($K$314=\"Atribuir valor global à atividade\",1,SUBTOTAL(109,O317:O321))","v":1},{"$f":"IF($K$314=\"Atribuir valor global à atividade\",P314,SUBTOTAL(109,P317:P321))","v":0},null,null,null,null,null,null,{"$f":"IF($R$314=\"Atribuir valor global à atividade\",1,SUBTOTAL(109,W317:W321))","v":1},{"$f":"IF($R$314=\"Atribuir valor global à atividade\",X314,SUBTOTAL(109,X317:X321))","v":0},null,null,null,null,{"$f":"IF($Z$314=\"Atribuir valor global à atividade\",AC314,SUBTOTAL(109,AC317:AC321))","v":0},null,{"$f":"SUBTOTAL(109,AE317:AE321)","v":0},null,null,null,null,null,null,null,null,null,null,null,null,null,null,null,null,null,null,null,null,null,null,null,null,null,null,null,null,null,null,null,null,null,"MODELO A - TEMPO - N.º DE HORAS DE TRABALHO"]
[null,{"$f":"IF($B$314=\"ocultar\",\"ocultar\",\"mostrar\")","v":"ocultar"},null,null,null,null,null,null,null,null,null,null,null,null,null,null,null,null,null,null,null,null,null,null,null,null,null,null,null,null,null,null,null,null,null,null,null,null,null,null,null,null,null,null,null,null,null,null,null,null,null,null,null,null,null,null,null,null,null,null,null,null,null,null,"MODELO A - TEMPO - N.º DE HORAS DE TRABALHO"]
[null,{"$f":"IF('SA - ATIVIDADES'!F149=TRUE,\"mostrar\",\"ocultar\")","v":"ocultar"},"B22. FICHA TÉCNICA DA HABITAÇÃO","MODELO A - TEMPO - N.º DE HORAS DE TRABALHO",null,"Atribuir valor global à atividade",0,0,{"$f":"IF($F$324=\"Atribuir valor global à atividade\",G324*H324,\"\")","v":0},null,"Atribuir valor global à atividade","Valor Global Obra (VG Obra)",{"$f":"IF(L324=\"Valor Global Obra (VG Obra)\",$M$9,\"\")","v":0},0,0,{"$f":"IF(L324=\"Valor Global Obra (VG Obra)\",M324*O324,N324*O324)","v":0},null,"Atribuir valor global à atividade","Valor/m2 fixo (VF m2)",{"$f":"IF(S324=\"Valor/m2 fixo (VF m2)\",$T$9,\"\")","v":0},0,0,null,{"$f":"IF(S324=\"Valor/m2 fixo (VF m2)\",T324*1*V324,U324*1*V324)","v":0},null,"Atribuir valor global à atividade",0,0,{"$f":"AA324*AB324","v":0},null,{"$f":"BL324","v":0},null,null,null,null,null,null,null,null,null,null,null,null,null,null,null,null,null,null,null,null,null,null,null,null,null,null,null,null,{"$f":"IF(LEFT($D$324,8)=\"MODELO A\",IF($F$324=\"Atribuir valor detalhado por Fase/Elemento\",SUBTOTAL(109,BH327:BH331),I324),IF(LEFT($D$324,8)=\"MODELO M\",SUBTOTAL(109,BH327:BH331),0))","v":0},{"$f":"IF(LEFT($D$324,8)=\"MODELO B\",IF($K$324=\"Atribuir valor detalhado por Fase/Elemento\",SUBTOTAL(109,BI327:BI331),P324),IF(LEFT($D$324,8)=\"MODELO M\",SUBTOTAL(109,BI327:BI331),0))","v":0},{"$f":"IF(LEFT($D$324,8)=\"MODELO C\",IF($R$324=\"Atribuir valor detalhado por Fase/Elemento\",SUBTOTAL(109,BJ327:BJ331),X324),IF(LEFT($D$324,8)=\"MODELO M\",SUBTOTAL(109,BJ327:BJ331),0))","v":0},{"$f":"IF(LEFT($D$324,8)=\"MODELO D\",IF($Z$324=\"Atribuir valor detalhado por Fase/Elemento\",SUBTOTAL(109,BK327:BK331),AC324),IF(LEFT($D$324,8)=\"MODELO M\",SUBTOTAL(109,BK327:BK331),0))","v":0},{"$f":"SUM(BH324:BK324)","v":0},"MODELO A - TEMPO - N.º DE HORAS DE TRABALHO"]
[null,{"$f":"IF($B$324=\"ocultar\",\"ocultar\",\"mostrar\")","v":"ocultar"},null,null,null,null,null,null,null,null,null,null,null,null,null,null,null,null,null,null,null,null,null,null,null,null,null,null,null,null,null,null,null,null,null,null,null,null,null,null,null,null,null,null,null,null,null,null,null,null,null,null,null,null,null,null,null,null,null,null,null,null,null,null,"MODELO A - TEMPO - N.º DE HORAS DE TRABALHO"]
[null,"ocultar",null,null,null,null,null,null,null,null,null,null,null,null,null,null,null,null,null,null,null,null,null,null,null,null,null,null,null,null,null,null,null,null,null,null,null,null,null,null,null,null,null,null,null,null,null,null,null,null,null,null,null,null,null,null,null,null,null,null,null,null,null,null,"MODELO A - TEMPO - N.º DE HORAS DE TRABALHO"]
[null,{"$f":"IF($B$324=\"ocultar\",\"ocultar\",IF('SA - ATIVIDADES'!$H$149>='SA - SERVICOS COMPLEMENTARES'!AH327,\"mostrar\",\"ocultar\"))","v":"ocultar"},"Designação (a preencher)","MODELO A - TEMPO - N.º DE HORAS DE TRABALHO",null,null,0,{"$f":"$H$324","v":0},{"$f":"G327*H327","v":0},null,null,null,null,null,0,{"$f":"$P$324*O327","v":0},null,null,null,null,null,null,0,{"$f":"$X$324*W327","v":0},null,null,0,0,{"$f":"AA327*AB327","v":0},null,{"$f":"BL327","v":0},null,null,1,null,null,null,null,null,null,null,null,null,null,null,null,null,null,null,null,null,null,null,null,null,null,null,null,null,{"$f":"IF(OR(AND(LEFT($D$324,8)=\"MODELO M\",LEFT(D327,8)=\"MODELO A\"),AND(LEFT($D$324,8)=\"MODELO A\",$F$324=\"Atribuir valor detalhado por Fase/Elemento\")),I327,0)","v":0},{"$f":"IF(OR(AND(LEFT($D$324,8)=\"MODELO M\",LEFT(D327,8)=\"MODELO B\"),AND(LEFT($D$324,8)=\"MODELO B\",$K$324=\"Atribuir valor detalhado por Fase/Elemento\")),P327,0)","v":0},{"$f":"IF(OR(AND(LEFT($D$324,8)=\"MODELO M\",LEFT(D327,8)=\"MODELO C\"),AND(LEFT($D$324,8)=\"MODELO C\",$R$324=\"Atribuir valor detalhado por Fase/Elemento\")),X327,0)","v":0},{"$f":"IF(OR(AND(LEFT($D$324,8)=\"MODELO M\",LEFT(D327,8)=\"MODELO D\"),AND(LEFT($D$324,8)=\"MODELO D\",$Z$324=\"Atribuir valor detalhado por Fase/Elemento\")),AC327,0)","v":0},{"$f":"SUM(BH327:BK327)","v":0},"MODELO A - TEMPO - N.º DE HORAS DE TRABALHO"]
[null,{"$f":"IF($B$324=\"ocultar\",\"ocultar\",IF('SA - ATIVIDADES'!$H$149>='SA - SERVICOS COMPLEMENTARES'!AH328,\"mostrar\",\"ocultar\"))","v":"ocultar"},"Designação (a preencher)","MODELO A - TEMPO - N.º DE HORAS DE TRABALHO",null,null,0,{"$f":"$H$324","v":0},{"$f":"G328*H328","v":0},null,null,null,null,null,0,{"$f":"$P$324*O328","v":0},null,null,null,null,null,null,0,{"$f":"$X$324*W328","v":0},null,null,0,0,{"$f":"AA328*AB328","v":0},null,{"$f":"BL328","v":0},null,null,2,null,null,null,null,null,null,null,null,null,null,null,null,null,null,null,null,null,null,null,null,null,null,null,null,null,{"$f":"IF(OR(AND(LEFT($D$324,8)=\"MODELO M\",LEFT(D328,8)=\"MODELO A\"),AND(LEFT($D$324,8)=\"MODELO A\",$F$324=\"Atribuir valor detalhado por Fase/Elemento\")),I328,0)","v":0},{"$f":"IF(OR(AND(LEFT($D$324,8)=\"MODELO M\",LEFT(D328,8)=\"MODELO B\"),AND(LEFT($D$324,8)=\"MODELO B\",$K$324=\"Atribuir valor detalhado por Fase/Elemento\")),P328,0)","v":0},{"$f":"IF(OR(AND(LEFT($D$324,8)=\"MODELO M\",LEFT(D328,8)=\"MODELO C\"),AND(LEFT($D$324,8)=\"MODELO C\",$R$324=\"Atribuir valor detalhado por Fase/Elemento\")),X328,0)","v":0},{"$f":"IF(OR(AND(LEFT($D$324,8)=\"MODELO M\",LEFT(D328,8)=\"MODELO D\"),AND(LEFT($D$324,8)=\"MODELO D\",$Z$324=\"Atribuir valor detalhado por Fase/Elemento\")),AC328,0)","v":0},{"$f":"SUM(BH328:BK328)","v":0},"MODELO A - TEMPO - N.º DE HORAS DE TRABALHO"]
[null,{"$f":"IF($B$324=\"ocultar\",\"ocultar\",IF('SA - ATIVIDADES'!$H$149>='SA - SERVICOS COMPLEMENTARES'!AH329,\"mostrar\",\"ocultar\"))","v":"ocultar"},"Designação (a preencher)","MODELO A - TEMPO - N.º DE HORAS DE TRABALHO",null,null,0,{"$f":"$H$324","v":0},{"$f":"G329*H329","v":0},null,null,null,null,null,0,0,null,null,null,null,null,null,0,{"$f":"$X$324*W329","v":0},null,null,0,0,{"$f":"AA329*AB329","v":0},null,{"$f":"BL329","v":0},null,null,3,null,null,null,null,null,null,null,null,null,null,null,null,null,null,null,null,null,null,null,null,null,null,null,null,null,{"$f":"IF(OR(AND(LEFT($D$324,8)=\"MODELO M\",LEFT(D329,8)=\"MODELO A\"),AND(LEFT($D$324,8)=\"MODELO A\",$F$324=\"Atribuir valor detalhado por Fase/Elemento\")),I329,0)","v":0},{"$f":"IF(OR(AND(LEFT($D$324,8)=\"MODELO M\",LEFT(D329,8)=\"MODELO B\"),AND(LEFT($D$324,8)=\"MODELO B\",$K$324=\"Atribuir valor detalhado por Fase/Elemento\")),P329,0)","v":0},{"$f":"IF(OR(AND(LEFT($D$324,8)=\"MODELO M\",LEFT(D329,8)=\"MODELO C\"),AND(LEFT($D$324,8)=\"MODELO C\",$R$324=\"Atribuir valor detalhado por Fase/Elemento\")),X329,0)","v":0},{"$f":"IF(OR(AND(LEFT($D$324,8)=\"MODELO M\",LEFT(D329,8)=\"MODELO D\"),AND(LEFT($D$324,8)=\"MODELO D\",$Z$324=\"Atribuir valor detalhado por Fase/Elemento\")),AC329,0)","v":0},{"$f":"SUM(BH329:BK329)","v":0},"MODELO A - TEMPO - N.º DE HORAS DE TRABALHO"]
[null,{"$f":"IF($B$324=\"ocultar\",\"ocultar\",IF('SA - ATIVIDADES'!$H$149>='SA - SERVICOS COMPLEMENTARES'!AH330,\"mostrar\",\"ocultar\"))","v":"ocultar"},"Designação (a preencher)","MODELO A - TEMPO - N.º DE HORAS DE TRABALHO",null,null,0,{"$f":"$H$324","v":0},{"$f":"G330*H330","v":0},null,null,null,null,null,0,0,null,null,null,null,null,null,0,{"$f":"$X$324*W330","v":0},null,null,0,0,{"$f":"AA330*AB330","v":0},null,{"$f":"BL330","v":0},null,null,4,null,null,null,null,null,null,null,null,null,null,null,null,null,null,null,null,null,null,null,null,null,null,null,null,null,{"$f":"IF(OR(AND(LEFT($D$324,8)=\"MODELO M\",LEFT(D330,8)=\"MODELO A\"),AND(LEFT($D$324,8)=\"MODELO A\",$F$324=\"Atribuir valor detalhado por Fase/Elemento\")),I330,0)","v":0},{"$f":"IF(OR(AND(LEFT($D$324,8)=\"MODELO M\",LEFT(D330,8)=\"MODELO B\"),AND(LEFT($D$324,8)=\"MODELO B\",$K$324=\"Atribuir valor detalhado por Fase/Elemento\")),P330,0)","v":0},{"$f":"IF(OR(AND(LEFT($D$324,8)=\"MODELO M\",LEFT(D330,8)=\"MODELO C\"),AND(LEFT($D$324,8)=\"MODELO C\",$R$324=\"Atribuir valor detalhado por Fase/Elemento\")),X330,0)","v":0},{"$f":"IF(OR(AND(LEFT($D$324,8)=\"MODELO M\",LEFT(D330,8)=\"MODELO D\"),AND(LEFT($D$324,8)=\"MODELO D\",$Z$324=\"Atribuir valor detalhado por Fase/Elemento\")),AC330,0)","v":0},{"$f":"SUM(BH330:BK330)","v":0},"MODELO A - TEMPO - N.º DE HORAS DE TRABALHO"]
[null,{"$f":"IF($B$324=\"ocultar\",\"ocultar\",IF('SA - ATIVIDADES'!$H$149>='SA - SERVICOS COMPLEMENTARES'!AH331,\"mostrar\",\"ocultar\"))","v":"ocultar"},"Designação (a preencher)","MODELO A - TEMPO - N.º DE HORAS DE TRABALHO",null,null,0,{"$f":"$H$324","v":0},{"$f":"G331*H331","v":0},null,null,null,null,null,0,0,null,null,null,null,null,null,0,{"$f":"$X$324*W331","v":0},null,null,0,0,{"$f":"AA331*AB331","v":0},null,{"$f":"BL331","v":0},null,null,5,null,null,null,null,null,null,null,null,null,null,null,null,null,null,null,null,null,null,null,null,null,null,null,null,null,{"$f":"IF(OR(AND(LEFT($D$324,8)=\"MODELO M\",LEFT(D331,8)=\"MODELO A\"),AND(LEFT($D$324,8)=\"MODELO A\",$F$324=\"Atribuir valor detalhado por Fase/Elemento\")),I331,0)","v":0},{"$f":"IF(OR(AND(LEFT($D$324,8)=\"MODELO M\",LEFT(D331,8)=\"MODELO B\"),AND(LEFT($D$324,8)=\"MODELO B\",$K$324=\"Atribuir valor detalhado por Fase/Elemento\")),P331,0)","v":0},{"$f":"IF(OR(AND(LEFT($D$324,8)=\"MODELO M\",LEFT(D331,8)=\"MODELO C\"),AND(LEFT($D$324,8)=\"MODELO C\",$R$324=\"Atribuir valor detalhado por Fase/Elemento\")),X331,0)","v":0},{"$f":"IF(OR(AND(LEFT($D$324,8)=\"MODELO M\",LEFT(D331,8)=\"MODELO D\"),AND(LEFT($D$324,8)=\"MODELO D\",$Z$324=\"Atribuir valor detalhado por Fase/Elemento\")),AC331,0)","v":0},{"$f":"SUM(BH331:BK331)","v":0},"MODELO A - TEMPO - N.º DE HORAS DE TRABALHO"]
[null,{"$f":"IF($B$324=\"ocultar\",\"ocultar\",\"mostrar\")","v":"ocultar"},"TOTAL",null,null,null,{"$f":"IF(F$324=\"Atribuir valor global à atividade\",G324,SUBTOTAL(109,G327:G331))","v":0},null,{"$f":"IF($F$324=\"Atribuir valor global à atividade\",I324,SUBTOTAL(109,I327:I331))","v":0},null,null,null,null,null,{"$f":"IF($K$324=\"Atribuir valor global à atividade\",1,SUBTOTAL(109,O327:O331))","v":1},{"$f":"IF($K$324=\"Atribuir valor global à atividade\",P324,SUBTOTAL(109,P327:P331))","v":0},null,null,null,null,null,null,{"$f":"IF($R$324=\"Atribuir valor global à atividade\",1,SUBTOTAL(109,W327:W331))","v":1},{"$f":"IF($R$324=\"Atribuir valor global à atividade\",X324,SUBTOTAL(109,X327:X331))","v":0},null,null,null,null,{"$f":"IF($Z$324=\"Atribuir valor global à atividade\",AC324,SUBTOTAL(109,AC327:AC331))","v":0},null,{"$f":"SUBTOTAL(109,AE327:AE331)","v":0},null,null,null,null,null,null,null,null,null,null,null,null,null,null,null,null,null,null,null,null,null,null,null,null,null,null,null,null,null,null,null,null,null,"MODELO A - TEMPO - N.º DE HORAS DE TRABALHO"]
[null,{"$f":"IF($B$324=\"ocultar\",\"ocultar\",\"mostrar\")","v":"ocultar"},null,null,null,null,null,null,null,null,null,null,null,null,null,null,null,null,null,null,null,null,null,null,null,null,null,null,null,null,null,null,null,null,null,null,null,null,null,null,null,null,null,null,null,null,null,null,null,null,null,null,null,null,null,null,null,null,null,null,null,null,null,null,"MODELO A - TEMPO - N.º DE HORAS DE TRABALHO"]
[null,{"$f":"IF('SA - ATIVIDADES'!F150=TRUE,\"mostrar\",\"ocultar\")","v":"ocultar"},"B23. PLANO FINAL DE CONSIGNAÇÃO","MODELO A - TEMPO - N.º DE HORAS DE TRABALHO",null,"Atribuir valor global à atividade",0,0,{"$f":"IF($F$334=\"Atribuir valor global à atividade\",G334*H334,\"\")","v":0},null,"Atribuir valor global à atividade","Valor Global Obra (VG Obra)",{"$f":"IF(L334=\"Valor Global Obra (VG Obra)\",$M$9,\"\")","v":0},0,0,{"$f":"IF(L334=\"Valor Global Obra (VG Obra)\",M334*O334,N334*O334)","v":0},null,"Atribuir valor global à atividade","Valor/m2 fixo (VF m2)",{"$f":"IF(S334=\"Valor/m2 fixo (VF m2)\",$T$9,\"\")","v":0},0,0,null,{"$f":"IF(S334=\"Valor/m2 fixo (VF m2)\",T334*1*V334,U334*1*V334)","v":0},null,"Atribuir valor global à atividade",0,0,{"$f":"AA334*AB334","v":0},null,{"$f":"BL334","v":0},null,null,null,null,null,null,null,null,null,null,null,null,null,null,null,null,null,null,null,null,null,null,null,null,null,null,null,null,{"$f":"IF(LEFT($D$334,8)=\"MODELO A\",IF($F$334=\"Atribuir valor detalhado por Fase/Elemento\",SUBTOTAL(109,BH337:BH341),I334),IF(LEFT($D$334,8)=\"MODELO M\",SUBTOTAL(109,BH337:BH341),0))","v":0},{"$f":"IF(LEFT($D$334,8)=\"MODELO B\",IF($K$334=\"Atribuir valor detalhado por Fase/Elemento\",SUBTOTAL(109,BI337:BI341),P334),IF(LEFT($D$334,8)=\"MODELO M\",SUBTOTAL(109,BI337:BI341),0))","v":0},{"$f":"IF(LEFT($D$334,8)=\"MODELO C\",IF($R$334=\"Atribuir valor detalhado por Fase/Elemento\",SUBTOTAL(109,BJ337:BJ341),X334),IF(LEFT($D$334,8)=\"MODELO M\",SUBTOTAL(109,BJ337:BJ341),0))","v":0},{"$f":"IF(LEFT($D$334,8)=\"MODELO D\",IF($Z$334=\"Atribuir valor detalhado por Fase/Elemento\",SUBTOTAL(109,BK337:BK341),AC334),IF(LEFT($D$334,8)=\"MODELO M\",SUBTOTAL(109,BK337:BK341),0))","v":0},{"$f":"SUM(BH334:BK334)","v":0},"MODELO A - TEMPO - N.º DE HORAS DE TRABALHO"]
[null,{"$f":"IF($B$334=\"ocultar\",\"ocultar\",\"mostrar\")","v":"ocultar"},null,null,null,null,null,null,null,null,null,null,null,null,null,null,null,null,null,null,null,null,null,null,null,null,null,null,null,null,null,null,null,null,null,null,null,null,null,null,null,null,null,null,null,null,null,null,null,null,null,null,null,null,null,null,null,null,null,null,null,null,null,null,"MODELO A - TEMPO - N.º DE HORAS DE TRABALHO"]
[null,"ocultar",null,null,null,null,null,null,null,null,null,null,null,null,null,null,null,null,null,null,null,null,null,null,null,null,null,null,null,null,null,null,null,null,null,null,null,null,null,null,null,null,null,null,null,null,null,null,null,null,null,null,null,null,null,null,null,null,null,null,null,null,null,null,"MODELO A - TEMPO - N.º DE HORAS DE TRABALHO"]
[null,{"$f":"IF($B$334=\"ocultar\",\"ocultar\",IF('SA - ATIVIDADES'!$H$150>='SA - SERVICOS COMPLEMENTARES'!AH337,\"mostrar\",\"ocultar\"))","v":"ocultar"},"Designação (a preencher)","MODELO A - TEMPO - N.º DE HORAS DE TRABALHO",null,null,0,{"$f":"$H$334","v":0},{"$f":"G337*H337","v":0},null,null,null,null,null,0,{"$f":"$P$334*O337","v":0},null,null,null,null,null,null,0,{"$f":"$X$334*W337","v":0},null,null,0,0,{"$f":"AA337*AB337","v":0},null,{"$f":"BL337","v":0},null,null,1,null,null,null,null,null,null,null,null,null,null,null,null,null,null,null,null,null,null,null,null,null,null,null,null,null,{"$f":"IF(OR(AND(LEFT($D$334,8)=\"MODELO M\",LEFT(D337,8)=\"MODELO A\"),AND(LEFT($D$334,8)=\"MODELO A\",$F$334=\"Atribuir valor detalhado por Fase/Elemento\")),I337,0)","v":0},{"$f":"IF(OR(AND(LEFT($D$334,8)=\"MODELO M\",LEFT(D337,8)=\"MODELO B\"),AND(LEFT($D$334,8)=\"MODELO B\",$K$334=\"Atribuir valor detalhado por Fase/Elemento\")),P337,0)","v":0},{"$f":"IF(OR(AND(LEFT($D$334,8)=\"MODELO M\",LEFT(D337,8)=\"MODELO C\"),AND(LEFT($D$334,8)=\"MODELO C\",$R$334=\"Atribuir valor detalhado por Fase/Elemento\")),X337,0)","v":0},{"$f":"IF(OR(AND(LEFT($D$334,8)=\"MODELO M\",LEFT(D337,8)=\"MODELO D\"),AND(LEFT($D$334,8)=\"MODELO D\",$Z$334=\"Atribuir valor detalhado por Fase/Elemento\")),AC337,0)","v":0},{"$f":"SUM(BH337:BK337)","v":0},"MODELO A - TEMPO - N.º DE HORAS DE TRABALHO"]
[null,{"$f":"IF($B$334=\"ocultar\",\"ocultar\",IF('SA - ATIVIDADES'!$H$150>='SA - SERVICOS COMPLEMENTARES'!AH338,\"mostrar\",\"ocultar\"))","v":"ocultar"},"Designação (a preencher)","MODELO A - TEMPO - N.º DE HORAS DE TRABALHO",null,null,0,{"$f":"$H$334","v":0},{"$f":"G338*H338","v":0},null,null,null,null,null,0,{"$f":"$P$334*O338","v":0},null,null,null,null,null,null,0,{"$f":"$X$334*W338","v":0},null,null,0,0,{"$f":"AA338*AB338","v":0},null,{"$f":"BL338","v":0},null,null,2,null,null,null,null,null,null,null,null,null,null,null,null,null,null,null,null,null,null,null,null,null,null,null,null,null,{"$f":"IF(OR(AND(LEFT($D$334,8)=\"MODELO M\",LEFT(D338,8)=\"MODELO A\"),AND(LEFT($D$334,8)=\"MODELO A\",$F$334=\"Atribuir valor detalhado por Fase/Elemento\")),I338,0)","v":0},{"$f":"IF(OR(AND(LEFT($D$334,8)=\"MODELO M\",LEFT(D338,8)=\"MODELO B\"),AND(LEFT($D$334,8)=\"MODELO B\",$K$334=\"Atribuir valor detalhado por Fase/Elemento\")),P338,0)","v":0},{"$f":"IF(OR(AND(LEFT($D$334,8)=\"MODELO M\",LEFT(D338,8)=\"MODELO C\"),AND(LEFT($D$334,8)=\"MODELO C\",$R$334=\"Atribuir valor detalhado por Fase/Elemento\")),X338,0)","v":0},{"$f":"IF(OR(AND(LEFT($D$334,8)=\"MODELO M\",LEFT(D338,8)=\"MODELO D\"),AND(LEFT($D$334,8)=\"MODELO D\",$Z$334=\"Atribuir valor detalhado por Fase/Elemento\")),AC338,0)","v":0},{"$f":"SUM(BH338:BK338)","v":0},"MODELO A - TEMPO - N.º DE HORAS DE TRABALHO"]
[null,{"$f":"IF($B$334=\"ocultar\",\"ocultar\",IF('SA - ATIVIDADES'!$H$150>='SA - SERVICOS COMPLEMENTARES'!AH339,\"mostrar\",\"ocultar\"))","v":"ocultar"},"Designação (a preencher)","MODELO A - TEMPO - N.º DE HORAS DE TRABALHO",null,null,0,{"$f":"$H$334","v":0},{"$f":"G339*H339","v":0},null,null,null,null,null,0,0,null,null,null,null,null,null,0,{"$f":"$X$334*W339","v":0},null,null,0,0,{"$f":"AA339*AB339","v":0},null,{"$f":"BL339","v":0},null,null,3,null,null,null,null,null,null,null,null,null,null,null,null,null,null,null,null,null,null,null,null,null,null,null,null,null,{"$f":"IF(OR(AND(LEFT($D$334,8)=\"MODELO M\",LEFT(D339,8)=\"MODELO A\"),AND(LEFT($D$334,8)=\"MODELO A\",$F$334=\"Atribuir valor detalhado por Fase/Elemento\")),I339,0)","v":0},{"$f":"IF(OR(AND(LEFT($D$334,8)=\"MODELO M\",LEFT(D339,8)=\"MODELO B\"),AND(LEFT($D$334,8)=\"MODELO B\",$K$334=\"Atribuir valor detalhado por Fase/Elemento\")),P339,0)","v":0},{"$f":"IF(OR(AND(LEFT($D$334,8)=\"MODELO M\",LEFT(D339,8)=\"MODELO C\"),AND(LEFT($D$334,8)=\"MODELO C\",$R$334=\"Atribuir valor detalhado por Fase/Elemento\")),X339,0)","v":0},{"$f":"IF(OR(AND(LEFT($D$334,8)=\"MODELO M\",LEFT(D339,8)=\"MODELO D\"),AND(LEFT($D$334,8)=\"MODELO D\",$Z$334=\"Atribuir valor detalhado por Fase/Elemento\")),AC339,0)","v":0},{"$f":"SUM(BH339:BK339)","v":0},"MODELO A - TEMPO - N.º DE HORAS DE TRABALHO"]
[null,{"$f":"IF($B$334=\"ocultar\",\"ocultar\",IF('SA - ATIVIDADES'!$H$150>='SA - SERVICOS COMPLEMENTARES'!AH340,\"mostrar\",\"ocultar\"))","v":"ocultar"},"Designação (a preencher)","MODELO A - TEMPO - N.º DE HORAS DE TRABALHO",null,null,0,{"$f":"$H$334","v":0},{"$f":"G340*H340","v":0},null,null,null,null,null,0,0,null,null,null,null,null,null,0,{"$f":"$X$334*W340","v":0},null,null,0,0,{"$f":"AA340*AB340","v":0},null,{"$f":"BL340","v":0},null,null,4,null,null,null,null,null,null,null,null,null,null,null,null,null,null,null,null,null,null,null,null,null,null,null,null,null,{"$f":"IF(OR(AND(LEFT($D$334,8)=\"MODELO M\",LEFT(D340,8)=\"MODELO A\"),AND(LEFT($D$334,8)=\"MODELO A\",$F$334=\"Atribuir valor detalhado por Fase/Elemento\")),I340,0)","v":0},{"$f":"IF(OR(AND(LEFT($D$334,8)=\"MODELO M\",LEFT(D340,8)=\"MODELO B\"),AND(LEFT($D$334,8)=\"MODELO B\",$K$334=\"Atribuir valor detalhado por Fase/Elemento\")),P340,0)","v":0},{"$f":"IF(OR(AND(LEFT($D$334,8)=\"MODELO M\",LEFT(D340,8)=\"MODELO C\"),AND(LEFT($D$334,8)=\"MODELO C\",$R$334=\"Atribuir valor detalhado por Fase/Elemento\")),X340,0)","v":0},{"$f":"IF(OR(AND(LEFT($D$334,8)=\"MODELO M\",LEFT(D340,8)=\"MODELO D\"),AND(LEFT($D$334,8)=\"MODELO D\",$Z$334=\"Atribuir valor detalhado por Fase/Elemento\")),AC340,0)","v":0},{"$f":"SUM(BH340:BK340)","v":0},"MODELO A - TEMPO - N.º DE HORAS DE TRABALHO"]
[null,{"$f":"IF($B$334=\"ocultar\",\"ocultar\",IF('SA - ATIVIDADES'!$H$150>='SA - SERVICOS COMPLEMENTARES'!AH341,\"mostrar\",\"ocultar\"))","v":"ocultar"},"Designação (a preencher)","MODELO A - TEMPO - N.º DE HORAS DE TRABALHO",null,null,0,{"$f":"$H$334","v":0},{"$f":"G341*H341","v":0},null,null,null,null,null,0,0,null,null,null,null,null,null,0,{"$f":"$X$334*W341","v":0},null,null,0,0,{"$f":"AA341*AB341","v":0},null,{"$f":"BL341","v":0},null,null,5,null,null,null,null,null,null,null,null,null,null,null,null,null,null,null,null,null,null,null,null,null,null,null,null,null,{"$f":"IF(OR(AND(LEFT($D$334,8)=\"MODELO M\",LEFT(D341,8)=\"MODELO A\"),AND(LEFT($D$334,8)=\"MODELO A\",$F$334=\"Atribuir valor detalhado por Fase/Elemento\")),I341,0)","v":0},{"$f":"IF(OR(AND(LEFT($D$334,8)=\"MODELO M\",LEFT(D341,8)=\"MODELO B\"),AND(LEFT($D$334,8)=\"MODELO B\",$K$334=\"Atribuir valor detalhado por Fase/Elemento\")),P341,0)","v":0},{"$f":"IF(OR(AND(LEFT($D$334,8)=\"MODELO M\",LEFT(D341,8)=\"MODELO C\"),AND(LEFT($D$334,8)=\"MODELO C\",$R$334=\"Atribuir valor detalhado por Fase/Elemento\")),X341,0)","v":0},{"$f":"IF(OR(AND(LEFT($D$334,8)=\"MODELO M\",LEFT(D341,8)=\"MODELO D\"),AND(LEFT($D$334,8)=\"MODELO D\",$Z$334=\"Atribuir valor detalhado por Fase/Elemento\")),AC341,0)","v":0},{"$f":"SUM(BH341:BK341)","v":0},"MODELO A - TEMPO - N.º DE HORAS DE TRABALHO"]
[null,{"$f":"IF($B$334=\"ocultar\",\"ocultar\",\"mostrar\")","v":"ocultar"},"TOTAL",null,null,null,{"$f":"IF(F$334=\"Atribuir valor global à atividade\",G334,SUBTOTAL(109,G337:G341))","v":0},null,{"$f":"IF($F$334=\"Atribuir valor global à atividade\",I334,SUBTOTAL(109,I337:I341))","v":0},null,null,null,null,null,{"$f":"IF($K$334=\"Atribuir valor global à atividade\",1,SUBTOTAL(109,O337:O341))","v":1},{"$f":"IF($K$334=\"Atribuir valor global à atividade\",P334,SUBTOTAL(109,P337:P341))","v":0},null,null,null,null,null,null,{"$f":"IF($R$334=\"Atribuir valor global à atividade\",1,SUBTOTAL(109,W337:W341))","v":1},{"$f":"IF($R$334=\"Atribuir valor global à atividade\",X334,SUBTOTAL(109,X337:X341))","v":0},null,null,null,null,{"$f":"IF($Z$334=\"Atribuir valor global à atividade\",AC334,SUBTOTAL(109,AC337:AC341))","v":0},null,{"$f":"SUBTOTAL(109,AE337:AE341)","v":0},null,null,null,null,null,null,null,null,null,null,null,null,null,null,null,null,null,null,null,null,null,null,null,null,null,null,null,null,null,null,null,null,null,"MODELO A - TEMPO - N.º DE HORAS DE TRABALHO"]
[null,{"$f":"IF($B$334=\"ocultar\",\"ocultar\",\"mostrar\")","v":"ocultar"},null,null,null,null,null,null,null,null,null,null,null,null,null,null,null,null,null,null,null,null,null,null,null,null,null,null,null,null,null,null,null,null,null,null,null,null,null,null,null,null,null,null,null,null,null,null,null,null,null,null,null,null,null,null,null,null,null,null,null,null,null,null,"MODELO A - TEMPO - N.º DE HORAS DE TRABALHO"]
[null,{"$f":"IF('SA - ATIVIDADES'!F151=TRUE,\"mostrar\",\"ocultar\")","v":"ocultar"},"B24. DESENHO DE MOBILIÁRIO ARQUITETÓNICO","MODELO A - TEMPO - N.º DE HORAS DE TRABALHO",null,"Atribuir valor global à atividade",0,0,{"$f":"IF($F$344=\"Atribuir valor global à atividade\",G344*H344,\"\")","v":0},null,"Atribuir valor global à atividade","Valor Global Obra (VG Obra)",{"$f":"IF(L344=\"Valor Global Obra (VG Obra)\",$M$9,\"\")","v":0},0,0,{"$f":"IF(L344=\"Valor Global Obra (VG Obra)\",M344*O344,N344*O344)","v":0},null,"Atribuir valor global à atividade","Valor/m2 fixo (VF m2)",{"$f":"IF(S344=\"Valor/m2 fixo (VF m2)\",$T$9,\"\")","v":0},0,0,null,{"$f":"IF(S344=\"Valor/m2 fixo (VF m2)\",T344*1*V344,U344*1*V344)","v":0},null,"Atribuir valor global à atividade",0,0,{"$f":"AA344*AB344","v":0},null,{"$f":"BL344","v":0},null,null,null,null,null,null,null,null,null,null,null,null,null,null,null,null,null,null,null,null,null,null,null,null,null,null,null,null,{"$f":"IF(LEFT($D$344,8)=\"MODELO A\",IF($F$344=\"Atribuir valor detalhado por Fase/Elemento\",SUBTOTAL(109,BH347:BH351),I344),IF(LEFT($D$344,8)=\"MODELO M\",SUBTOTAL(109,BH347:BH351),0))","v":0},{"$f":"IF(LEFT($D$344,8)=\"MODELO B\",IF($K$344=\"Atribuir valor detalhado por Fase/Elemento\",SUBTOTAL(109,BI347:BI351),P344),IF(LEFT($D$344,8)=\"MODELO M\",SUBTOTAL(109,BI347:BI351),0))","v":0},{"$f":"IF(LEFT($D$344,8)=\"MODELO C\",IF($R$344=\"Atribuir valor detalhado por Fase/Elemento\",SUBTOTAL(109,BJ347:BJ351),X344),IF(LEFT($D$344,8)=\"MODELO M\",SUBTOTAL(109,BJ347:BJ351),0))","v":0},{"$f":"IF(LEFT($D$344,8)=\"MODELO D\",IF($Z$344=\"Atribuir valor detalhado por Fase/Elemento\",SUBTOTAL(109,BK347:BK351),AC344),IF(LEFT($D$344,8)=\"MODELO M\",SUBTOTAL(109,BK347:BK351),0))","v":0},{"$f":"SUM(BH344:BK344)","v":0},"MODELO A - TEMPO - N.º DE HORAS DE TRABALHO"]
[null,{"$f":"IF($B$344=\"ocultar\",\"ocultar\",\"mostrar\")","v":"ocultar"},null,null,null,null,null,null,null,null,null,null,null,null,null,null,null,null,null,null,null,null,null,null,null,null,null,null,null,null,null,null,null,null,null,null,null,null,null,null,null,null,null,null,null,null,null,null,null,null,null,null,null,null,null,null,null,null,null,null,null,null,null,null,"MODELO A - TEMPO - N.º DE HORAS DE TRABALHO"]
[null,"ocultar",null,null,null,null,null,null,null,null,null,null,null,null,null,null,null,null,null,null,null,null,null,null,null,null,null,null,null,null,null,null,null,null,null,null,null,null,null,null,null,null,null,null,null,null,null,null,null,null,null,null,null,null,null,null,null,null,null,null,null,null,null,null,"MODELO A - TEMPO - N.º DE HORAS DE TRABALHO"]
[null,{"$f":"IF($B$344=\"ocultar\",\"ocultar\",IF('SA - ATIVIDADES'!$H$151>='SA - SERVICOS COMPLEMENTARES'!AH347,\"mostrar\",\"ocultar\"))","v":"ocultar"},"Designação (a preencher)","MODELO A - TEMPO - N.º DE HORAS DE TRABALHO",null,null,0,{"$f":"$H$344","v":0},{"$f":"G347*H347","v":0},null,null,null,null,null,0,{"$f":"$P$344*O347","v":0},null,null,null,null,null,null,0,{"$f":"$X$344*W347","v":0},null,null,0,0,{"$f":"AA347*AB347","v":0},null,{"$f":"BL347","v":0},null,null,1,null,null,null,null,null,null,null,null,null,null,null,null,null,null,null,null,null,null,null,null,null,null,null,null,null,{"$f":"IF(OR(AND(LEFT($D$344,8)=\"MODELO M\",LEFT(D347,8)=\"MODELO A\"),AND(LEFT($D$344,8)=\"MODELO A\",$F$344=\"Atribuir valor detalhado por Fase/Elemento\")),I347,0)","v":0},{"$f":"IF(OR(AND(LEFT($D$344,8)=\"MODELO M\",LEFT(D347,8)=\"MODELO B\"),AND(LEFT($D$344,8)=\"MODELO B\",$K$344=\"Atribuir valor detalhado por Fase/Elemento\")),P347,0)","v":0},{"$f":"IF(OR(AND(LEFT($D$344,8)=\"MODELO M\",LEFT(D347,8)=\"MODELO C\"),AND(LEFT($D$344,8)=\"MODELO C\",$R$344=\"Atribuir valor detalhado por Fase/Elemento\")),X347,0)","v":0},{"$f":"IF(OR(AND(LEFT($D$344,8)=\"MODELO M\",LEFT(D347,8)=\"MODELO D\"),AND(LEFT($D$344,8)=\"MODELO D\",$Z$344=\"Atribuir valor detalhado por Fase/Elemento\")),AC347,0)","v":0},{"$f":"SUM(BH347:BK347)","v":0},"MODELO A - TEMPO - N.º DE HORAS DE TRABALHO"]
[null,{"$f":"IF($B$344=\"ocultar\",\"ocultar\",IF('SA - ATIVIDADES'!$H$151>='SA - SERVICOS COMPLEMENTARES'!AH348,\"mostrar\",\"ocultar\"))","v":"ocultar"},"Designação (a preencher)","MODELO A - TEMPO - N.º DE HORAS DE TRABALHO",null,null,0,{"$f":"$H$344","v":0},{"$f":"G348*H348","v":0},null,null,null,null,null,0,{"$f":"$P$344*O348","v":0},null,null,null,null,null,null,0,{"$f":"$X$344*W348","v":0},null,null,0,0,{"$f":"AA348*AB348","v":0},null,{"$f":"BL348","v":0},null,null,2,null,null,null,null,null,null,null,null,null,null,null,null,null,null,null,null,null,null,null,null,null,null,null,null,null,{"$f":"IF(OR(AND(LEFT($D$344,8)=\"MODELO M\",LEFT(D348,8)=\"MODELO A\"),AND(LEFT($D$344,8)=\"MODELO A\",$F$344=\"Atribuir valor detalhado por Fase/Elemento\")),I348,0)","v":0},{"$f":"IF(OR(AND(LEFT($D$344,8)=\"MODELO M\",LEFT(D348,8)=\"MODELO B\"),AND(LEFT($D$344,8)=\"MODELO B\",$K$344=\"Atribuir valor detalhado por Fase/Elemento\")),P348,0)","v":0},{"$f":"IF(OR(AND(LEFT($D$344,8)=\"MODELO M\",LEFT(D348,8)=\"MODELO C\"),AND(LEFT($D$344,8)=\"MODELO C\",$R$344=\"Atribuir valor detalhado por Fase/Elemento\")),X348,0)","v":0},{"$f":"IF(OR(AND(LEFT($D$344,8)=\"MODELO M\",LEFT(D348,8)=\"MODELO D\"),AND(LEFT($D$344,8)=\"MODELO D\",$Z$344=\"Atribuir valor detalhado por Fase/Elemento\")),AC348,0)","v":0},{"$f":"SUM(BH348:BK348)","v":0},"MODELO A - TEMPO - N.º DE HORAS DE TRABALHO"]
[null,{"$f":"IF($B$344=\"ocultar\",\"ocultar\",IF('SA - ATIVIDADES'!$H$151>='SA - SERVICOS COMPLEMENTARES'!AH349,\"mostrar\",\"ocultar\"))","v":"ocultar"},"Designação (a preencher)","MODELO A - TEMPO - N.º DE HORAS DE TRABALHO",null,null,0,{"$f":"$H$344","v":0},{"$f":"G349*H349","v":0},null,null,null,null,null,0,0,null,null,null,null,null,null,0,{"$f":"$X$344*W349","v":0},null,null,0,0,{"$f":"AA349*AB349","v":0},null,{"$f":"BL349","v":0},null,null,3,null,null,null,null,null,null,null,null,null,null,null,null,null,null,null,null,null,null,null,null,null,null,null,null,null,{"$f":"IF(OR(AND(LEFT($D$344,8)=\"MODELO M\",LEFT(D349,8)=\"MODELO A\"),AND(LEFT($D$344,8)=\"MODELO A\",$F$344=\"Atribuir valor detalhado por Fase/Elemento\")),I349,0)","v":0},{"$f":"IF(OR(AND(LEFT($D$344,8)=\"MODELO M\",LEFT(D349,8)=\"MODELO B\"),AND(LEFT($D$344,8)=\"MODELO B\",$K$344=\"Atribuir valor detalhado por Fase/Elemento\")),P349,0)","v":0},{"$f":"IF(OR(AND(LEFT($D$344,8)=\"MODELO M\",LEFT(D349,8)=\"MODELO C\"),AND(LEFT($D$344,8)=\"MODELO C\",$R$344=\"Atribuir valor detalhado por Fase/Elemento\")),X349,0)","v":0},{"$f":"IF(OR(AND(LEFT($D$344,8)=\"MODELO M\",LEFT(D349,8)=\"MODELO D\"),AND(LEFT($D$344,8)=\"MODELO D\",$Z$344=\"Atribuir valor detalhado por Fase/Elemento\")),AC349,0)","v":0},{"$f":"SUM(BH349:BK349)","v":0},"MODELO A - TEMPO - N.º DE HORAS DE TRABALHO"]
[null,{"$f":"IF($B$344=\"ocultar\",\"ocultar\",IF('SA - ATIVIDADES'!$H$151>='SA - SERVICOS COMPLEMENTARES'!AH350,\"mostrar\",\"ocultar\"))","v":"ocultar"},"Designação (a preencher)","MODELO A - TEMPO - N.º DE HORAS DE TRABALHO",null,null,0,{"$f":"$H$344","v":0},{"$f":"G350*H350","v":0},null,null,null,null,null,0,0,null,null,null,null,null,null,0,{"$f":"$X$344*W350","v":0},null,null,0,0,{"$f":"AA350*AB350","v":0},null,{"$f":"BL350","v":0},null,null,4,null,null,null,null,null,null,null,null,null,null,null,null,null,null,null,null,null,null,null,null,null,null,null,null,null,{"$f":"IF(OR(AND(LEFT($D$344,8)=\"MODELO M\",LEFT(D350,8)=\"MODELO A\"),AND(LEFT($D$344,8)=\"MODELO A\",$F$344=\"Atribuir valor detalhado por Fase/Elemento\")),I350,0)","v":0},{"$f":"IF(OR(AND(LEFT($D$344,8)=\"MODELO M\",LEFT(D350,8)=\"MODELO B\"),AND(LEFT($D$344,8)=\"MODELO B\",$K$344=\"Atribuir valor detalhado por Fase/Elemento\")),P350,0)","v":0},{"$f":"IF(OR(AND(LEFT($D$344,8)=\"MODELO M\",LEFT(D350,8)=\"MODELO C\"),AND(LEFT($D$344,8)=\"MODELO C\",$R$344=\"Atribuir valor detalhado por Fase/Elemento\")),X350,0)","v":0},{"$f":"IF(OR(AND(LEFT($D$344,8)=\"MODELO M\",LEFT(D350,8)=\"MODELO D\"),AND(LEFT($D$344,8)=\"MODELO D\",$Z$344=\"Atribuir valor detalhado por Fase/Elemento\")),AC350,0)","v":0},{"$f":"SUM(BH350:BK350)","v":0},"MODELO A - TEMPO - N.º DE HORAS DE TRABALHO"]
[null,{"$f":"IF($B$344=\"ocultar\",\"ocultar\",IF('SA - ATIVIDADES'!$H$151>='SA - SERVICOS COMPLEMENTARES'!AH351,\"mostrar\",\"ocultar\"))","v":"ocultar"},"Designação (a preencher)","MODELO A - TEMPO - N.º DE HORAS DE TRABALHO",null,null,0,{"$f":"$H$344","v":0},{"$f":"G351*H351","v":0},null,null,null,null,null,0,0,null,null,null,null,null,null,0,{"$f":"$X$344*W351","v":0},null,null,0,0,{"$f":"AA351*AB351","v":0},null,{"$f":"BL351","v":0},null,null,5,null,null,null,null,null,null,null,null,null,null,null,null,null,null,null,null,null,null,null,null,null,null,null,null,null,{"$f":"IF(OR(AND(LEFT($D$344,8)=\"MODELO M\",LEFT(D351,8)=\"MODELO A\"),AND(LEFT($D$344,8)=\"MODELO A\",$F$344=\"Atribuir valor detalhado por Fase/Elemento\")),I351,0)","v":0},{"$f":"IF(OR(AND(LEFT($D$344,8)=\"MODELO M\",LEFT(D351,8)=\"MODELO B\"),AND(LEFT($D$344,8)=\"MODELO B\",$K$344=\"Atribuir valor detalhado por Fase/Elemento\")),P351,0)","v":0},{"$f":"IF(OR(AND(LEFT($D$344,8)=\"MODELO M\",LEFT(D351,8)=\"MODELO C\"),AND(LEFT($D$344,8)=\"MODELO C\",$R$344=\"Atribuir valor detalhado por Fase/Elemento\")),X351,0)","v":0},{"$f":"IF(OR(AND(LEFT($D$344,8)=\"MODELO M\",LEFT(D351,8)=\"MODELO D\"),AND(LEFT($D$344,8)=\"MODELO D\",$Z$344=\"Atribuir valor detalhado por Fase/Elemento\")),AC351,0)","v":0},{"$f":"SUM(BH351:BK351)","v":0},"MODELO A - TEMPO - N.º DE HORAS DE TRABALHO"]
[null,{"$f":"IF($B$344=\"ocultar\",\"ocultar\",\"mostrar\")","v":"ocultar"},"TOTAL",null,null,null,{"$f":"IF(F$344=\"Atribuir valor global à atividade\",G344,SUBTOTAL(109,G347:G351))","v":0},null,{"$f":"IF($F$344=\"Atribuir valor global à atividade\",I344,SUBTOTAL(109,I347:I351))","v":0},null,null,null,null,null,{"$f":"IF($K$344=\"Atribuir valor global à atividade\",1,SUBTOTAL(109,O347:O351))","v":1},{"$f":"IF($K$344=\"Atribuir valor global à atividade\",P344,SUBTOTAL(109,P347:P351))","v":0},null,null,null,null,null,null,{"$f":"IF($R$344=\"Atribuir valor global à atividade\",1,SUBTOTAL(109,W347:W351))","v":1},{"$f":"IF($R$344=\"Atribuir valor global à atividade\",X344,SUBTOTAL(109,X347:X351))","v":0},null,null,null,null,{"$f":"IF($Z$344=\"Atribuir valor global à atividade\",AC344,SUBTOTAL(109,AC347:AC351))","v":0},null,{"$f":"SUBTOTAL(109,AE347:AE351)","v":0},null,null,null,null,null,null,null,null,null,null,null,null,null,null,null,null,null,null,null,null,null,null,null,null,null,null,null,null,null,null,null,null,null,"MODELO A - TEMPO - N.º DE HORAS DE TRABALHO"]
[null,{"$f":"IF($B$344=\"ocultar\",\"ocultar\",\"mostrar\")","v":"ocultar"},null,null,null,null,null,null,null,null,null,null,null,null,null,null,null,null,null,null,null,null,null,null,null,null,null,null,null,null,null,null,null,null,null,null,null,null,null,null,null,null,null,null,null,null,null,null,null,null,null,null,null,null,null,null,null,null,null,null,null,null,null,null,"MODELO A - TEMPO - N.º DE HORAS DE TRABALHO"]
[null,{"$f":"IF('SA - ATIVIDADES'!F152=TRUE,\"mostrar\",\"ocultar\")","v":"ocultar"},"B25. DESENHO GRÁFICO INFORMATIVO DE ESPAÇOS CONSTRUIDOS","MODELO A - TEMPO - N.º DE HORAS DE TRABALHO",null,"Atribuir valor global à atividade",0,0,{"$f":"IF($F$354=\"Atribuir valor global à atividade\",G354*H354,\"\")","v":0},null,"Atribuir valor global à atividade","Valor Global Obra (VG Obra)",{"$f":"IF(L354=\"Valor Global Obra (VG Obra)\",$M$9,\"\")","v":0},0,0,{"$f":"IF(L354=\"Valor Global Obra (VG Obra)\",M354*O354,N354*O354)","v":0},null,"Atribuir valor global à atividade","Valor/m2 fixo (VF m2)",{"$f":"IF(S354=\"Valor/m2 fixo (VF m2)\",$T$9,\"\")","v":0},0,0,null,{"$f":"IF(S354=\"Valor/m2 fixo (VF m2)\",T354*1*V354,U354*1*V354)","v":0},null,"Atribuir valor global à atividade",0,0,{"$f":"AA354*AB354","v":0},null,{"$f":"BL354","v":0},null,null,null,null,null,null,null,null,null,null,null,null,null,null,null,null,null,null,null,null,null,null,null,null,null,null,null,null,{"$f":"IF(LEFT($D$354,8)=\"MODELO A\",IF($F$354=\"Atribuir valor detalhado por Fase/Elemento\",SUBTOTAL(109,BH357:BH361),I354),IF(LEFT($D$354,8)=\"MODELO M\",SUBTOTAL(109,BH357:BH361),0))","v":0},{"$f":"IF(LEFT($D$354,8)=\"MODELO B\",IF($K$354=\"Atribuir valor detalhado por Fase/Elemento\",SUBTOTAL(109,BI357:BI361),P354),IF(LEFT($D$354,8)=\"MODELO M\",SUBTOTAL(109,BI357:BI361),0))","v":0},{"$f":"IF(LEFT($D$354,8)=\"MODELO C\",IF($R$354=\"Atribuir valor detalhado por Fase/Elemento\",SUBTOTAL(109,BJ357:BJ361),X354),IF(LEFT($D$354,8)=\"MODELO M\",SUBTOTAL(109,BJ357:BJ361),0))","v":0},{"$f":"IF(LEFT($D$354,8)=\"MODELO D\",IF($Z$354=\"Atribuir valor detalhado por Fase/Elemento\",SUBTOTAL(109,BK357:BK361),AC354),IF(LEFT($D$354,8)=\"MODELO M\",SUBTOTAL(109,BK357:BK361),0))","v":0},{"$f":"SUM(BH354:BK354)","v":0},"MODELO A - TEMPO - N.º DE HORAS DE TRABALHO"]
[null,{"$f":"IF($B$354=\"ocultar\",\"ocultar\",\"mostrar\")","v":"ocultar"},null,null,null,null,null,null,null,null,null,null,null,null,null,null,null,null,null,null,null,null,null,null,null,null,null,null,null,null,null,null,null,null,null,null,null,null,null,null,null,null,null,null,null,null,null,null,null,null,null,null,null,null,null,null,null,null,null,null,null,null,null,null,"MODELO A - TEMPO - N.º DE HORAS DE TRABALHO"]
[null,"ocultar",null,null,null,null,null,null,null,null,null,null,null,null,null,null,null,null,null,null,null,null,null,null,null,null,null,null,null,null,null,null,null,null,null,null,null,null,null,null,null,null,null,null,null,null,null,null,null,null,null,null,null,null,null,null,null,null,null,null,null,null,null,null,"MODELO A - TEMPO - N.º DE HORAS DE TRABALHO"]
[null,{"$f":"IF($B$354=\"ocultar\",\"ocultar\",IF('SA - ATIVIDADES'!$H$152>='SA - SERVICOS COMPLEMENTARES'!AH357,\"mostrar\",\"ocultar\"))","v":"ocultar"},"Designação (a preencher)","MODELO A - TEMPO - N.º DE HORAS DE TRABALHO",null,null,0,{"$f":"$H$354","v":0},{"$f":"G357*H357","v":0},null,null,null,null,null,0,{"$f":"$P$354*O357","v":0},null,null,null,null,null,null,0,{"$f":"$X$354*W357","v":0},null,null,0,0,{"$f":"AA357*AB357","v":0},null,{"$f":"BL357","v":0},null,null,1,null,null,null,null,null,null,null,null,null,null,null,null,null,null,null,null,null,null,null,null,null,null,null,null,null,{"$f":"IF(OR(AND(LEFT($D$354,8)=\"MODELO M\",LEFT(D357,8)=\"MODELO A\"),AND(LEFT($D$354,8)=\"MODELO A\",$F$354=\"Atribuir valor detalhado por Fase/Elemento\")),I357,0)","v":0},{"$f":"IF(OR(AND(LEFT($D$354,8)=\"MODELO M\",LEFT(D357,8)=\"MODELO B\"),AND(LEFT($D$354,8)=\"MODELO B\",$K$354=\"Atribuir valor detalhado por Fase/Elemento\")),P357,0)","v":0},{"$f":"IF(OR(AND(LEFT($D$354,8)=\"MODELO M\",LEFT(D357,8)=\"MODELO C\"),AND(LEFT($D$354,8)=\"MODELO C\",$R$354=\"Atribuir valor detalhado por Fase/Elemento\")),X357,0)","v":0},{"$f":"IF(OR(AND(LEFT($D$354,8)=\"MODELO M\",LEFT(D357,8)=\"MODELO D\"),AND(LEFT($D$354,8)=\"MODELO D\",$Z$354=\"Atribuir valor detalhado por Fase/Elemento\")),AC357,0)","v":0},{"$f":"SUM(BH357:BK357)","v":0},"MODELO A - TEMPO - N.º DE HORAS DE TRABALHO"]
[null,{"$f":"IF($B$354=\"ocultar\",\"ocultar\",IF('SA - ATIVIDADES'!$H$152>='SA - SERVICOS COMPLEMENTARES'!AH358,\"mostrar\",\"ocultar\"))","v":"ocultar"},"Designação (a preencher)","MODELO A - TEMPO - N.º DE HORAS DE TRABALHO",null,null,0,{"$f":"$H$354","v":0},{"$f":"G358*H358","v":0},null,null,null,null,null,0,{"$f":"$P$354*O358","v":0},null,null,null,null,null,null,0,{"$f":"$X$354*W358","v":0},null,null,0,0,{"$f":"AA358*AB358","v":0},null,{"$f":"BL358","v":0},null,null,2,null,null,null,null,null,null,null,null,null,null,null,null,null,null,null,null,null,null,null,null,null,null,null,null,null,{"$f":"IF(OR(AND(LEFT($D$354,8)=\"MODELO M\",LEFT(D358,8)=\"MODELO A\"),AND(LEFT($D$354,8)=\"MODELO A\",$F$354=\"Atribuir valor detalhado por Fase/Elemento\")),I358,0)","v":0},{"$f":"IF(OR(AND(LEFT($D$354,8)=\"MODELO M\",LEFT(D358,8)=\"MODELO B\"),AND(LEFT($D$354,8)=\"MODELO B\",$K$354=\"Atribuir valor detalhado por Fase/Elemento\")),P358,0)","v":0},{"$f":"IF(OR(AND(LEFT($D$354,8)=\"MODELO M\",LEFT(D358,8)=\"MODELO C\"),AND(LEFT($D$354,8)=\"MODELO C\",$R$354=\"Atribuir valor detalhado por Fase/Elemento\")),X358,0)","v":0},{"$f":"IF(OR(AND(LEFT($D$354,8)=\"MODELO M\",LEFT(D358,8)=\"MODELO D\"),AND(LEFT($D$354,8)=\"MODELO D\",$Z$354=\"Atribuir valor detalhado por Fase/Elemento\")),AC358,0)","v":0},{"$f":"SUM(BH358:BK358)","v":0},"MODELO A - TEMPO - N.º DE HORAS DE TRABALHO"]
[null,{"$f":"IF($B$354=\"ocultar\",\"ocultar\",IF('SA - ATIVIDADES'!$H$152>='SA - SERVICOS COMPLEMENTARES'!AH359,\"mostrar\",\"ocultar\"))","v":"ocultar"},"Designação (a preencher)","MODELO A - TEMPO - N.º DE HORAS DE TRABALHO",null,null,0,{"$f":"$H$354","v":0},{"$f":"G359*H359","v":0},null,null,null,null,null,0,0,null,null,null,null,null,null,0,{"$f":"$X$354*W359","v":0},null,null,0,0,{"$f":"AA359*AB359","v":0},null,{"$f":"BL359","v":0},null,null,3,null,null,null,null,null,null,null,null,null,null,null,null,null,null,null,null,null,null,null,null,null,null,null,null,null,{"$f":"IF(OR(AND(LEFT($D$354,8)=\"MODELO M\",LEFT(D359,8)=\"MODELO A\"),AND(LEFT($D$354,8)=\"MODELO A\",$F$354=\"Atribuir valor detalhado por Fase/Elemento\")),I359,0)","v":0},{"$f":"IF(OR(AND(LEFT($D$354,8)=\"MODELO M\",LEFT(D359,8)=\"MODELO B\"),AND(LEFT($D$354,8)=\"MODELO B\",$K$354=\"Atribuir valor detalhado por Fase/Elemento\")),P359,0)","v":0},{"$f":"IF(OR(AND(LEFT($D$354,8)=\"MODELO M\",LEFT(D359,8)=\"MODELO C\"),AND(LEFT($D$354,8)=\"MODELO C\",$R$354=\"Atribuir valor detalhado por Fase/Elemento\")),X359,0)","v":0},{"$f":"IF(OR(AND(LEFT($D$354,8)=\"MODELO M\",LEFT(D359,8)=\"MODELO D\"),AND(LEFT($D$354,8)=\"MODELO D\",$Z$354=\"Atribuir valor detalhado por Fase/Elemento\")),AC359,0)","v":0},{"$f":"SUM(BH359:BK359)","v":0},"MODELO A - TEMPO - N.º DE HORAS DE TRABALHO"]
[null,{"$f":"IF($B$354=\"ocultar\",\"ocultar\",IF('SA - ATIVIDADES'!$H$152>='SA - SERVICOS COMPLEMENTARES'!AH360,\"mostrar\",\"ocultar\"))","v":"ocultar"},"Designação (a preencher)","MODELO A - TEMPO - N.º DE HORAS DE TRABALHO",null,null,0,{"$f":"$H$354","v":0},{"$f":"G360*H360","v":0},null,null,null,null,null,0,0,null,null,null,null,null,null,0,{"$f":"$X$354*W360","v":0},null,null,0,0,{"$f":"AA360*AB360","v":0},null,{"$f":"BL360","v":0},null,null,4,null,null,null,null,null,null,null,null,null,null,null,null,null,null,null,null,null,null,null,null,null,null,null,null,null,{"$f":"IF(OR(AND(LEFT($D$354,8)=\"MODELO M\",LEFT(D360,8)=\"MODELO A\"),AND(LEFT($D$354,8)=\"MODELO A\",$F$354=\"Atribuir valor detalhado por Fase/Elemento\")),I360,0)","v":0},{"$f":"IF(OR(AND(LEFT($D$354,8)=\"MODELO M\",LEFT(D360,8)=\"MODELO B\"),AND(LEFT($D$354,8)=\"MODELO B\",$K$354=\"Atribuir valor detalhado por Fase/Elemento\")),P360,0)","v":0},{"$f":"IF(OR(AND(LEFT($D$354,8)=\"MODELO M\",LEFT(D360,8)=\"MODELO C\"),AND(LEFT($D$354,8)=\"MODELO C\",$R$354=\"Atribuir valor detalhado por Fase/Elemento\")),X360,0)","v":0},{"$f":"IF(OR(AND(LEFT($D$354,8)=\"MODELO M\",LEFT(D360,8)=\"MODELO D\"),AND(LEFT($D$354,8)=\"MODELO D\",$Z$354=\"Atribuir valor detalhado por Fase/Elemento\")),AC360,0)","v":0},{"$f":"SUM(BH360:BK360)","v":0},"MODELO A - TEMPO - N.º DE HORAS DE TRABALHO"]
[null,{"$f":"IF($B$354=\"ocultar\",\"ocultar\",IF('SA - ATIVIDADES'!$H$152>='SA - SERVICOS COMPLEMENTARES'!AH361,\"mostrar\",\"ocultar\"))","v":"ocultar"},"Designação (a preencher)","MODELO A - TEMPO - N.º DE HORAS DE TRABALHO",null,null,0,{"$f":"$H$354","v":0},{"$f":"G361*H361","v":0},null,null,null,null,null,0,0,null,null,null,null,null,null,0,{"$f":"$X$354*W361","v":0},null,null,0,0,{"$f":"AA361*AB361","v":0},null,{"$f":"BL361","v":0},null,null,5,null,null,null,null,null,null,null,null,null,null,null,null,null,null,null,null,null,null,null,null,null,null,null,null,null,{"$f":"IF(OR(AND(LEFT($D$354,8)=\"MODELO M\",LEFT(D361,8)=\"MODELO A\"),AND(LEFT($D$354,8)=\"MODELO A\",$F$354=\"Atribuir valor detalhado por Fase/Elemento\")),I361,0)","v":0},{"$f":"IF(OR(AND(LEFT($D$354,8)=\"MODELO M\",LEFT(D361,8)=\"MODELO B\"),AND(LEFT($D$354,8)=\"MODELO B\",$K$354=\"Atribuir valor detalhado por Fase/Elemento\")),P361,0)","v":0},{"$f":"IF(OR(AND(LEFT($D$354,8)=\"MODELO M\",LEFT(D361,8)=\"MODELO C\"),AND(LEFT($D$354,8)=\"MODELO C\",$R$354=\"Atribuir valor detalhado por Fase/Elemento\")),X361,0)","v":0},{"$f":"IF(OR(AND(LEFT($D$354,8)=\"MODELO M\",LEFT(D361,8)=\"MODELO D\"),AND(LEFT($D$354,8)=\"MODELO D\",$Z$354=\"Atribuir valor detalhado por Fase/Elemento\")),AC361,0)","v":0},{"$f":"SUM(BH361:BK361)","v":0},"MODELO A - TEMPO - N.º DE HORAS DE TRABALHO"]
[null,{"$f":"IF($B$354=\"ocultar\",\"ocultar\",\"mostrar\")","v":"ocultar"},"TOTAL",null,null,null,{"$f":"IF(F$354=\"Atribuir valor global à atividade\",G354,SUBTOTAL(109,G357:G361))","v":0},null,{"$f":"IF($F$354=\"Atribuir valor global à atividade\",I354,SUBTOTAL(109,I357:I361))","v":0},null,null,null,null,null,{"$f":"IF($K$354=\"Atribuir valor global à atividade\",1,SUBTOTAL(109,O357:O361))","v":1},{"$f":"IF($K$354=\"Atribuir valor global à atividade\",P354,SUBTOTAL(109,P357:P361))","v":0},null,null,null,null,null,null,{"$f":"IF($R$354=\"Atribuir valor global à atividade\",1,SUBTOTAL(109,W357:W361))","v":1},{"$f":"IF($R$354=\"Atribuir valor global à atividade\",X354,SUBTOTAL(109,X357:X361))","v":0},null,null,null,null,{"$f":"IF($Z$354=\"Atribuir valor global à atividade\",AC354,SUBTOTAL(109,AC357:AC361))","v":0},null,{"$f":"SUBTOTAL(109,AE357:AE361)","v":0},null,null,null,null,null,null,null,null,null,null,null,null,null,null,null,null,null,null,null,null,null,null,null,null,null,null,null,null,null,null,null,null,null,"MODELO A - TEMPO - N.º DE HORAS DE TRABALHO"]
[null,{"$f":"IF($B$354=\"ocultar\",\"ocultar\",\"mostrar\")","v":"ocultar"},null,null,null,null,null,null,null,null,null,null,null,null,null,null,null,null,null,null,null,null,null,null,null,null,null,null,null,null,null,null,null,null,null,null,null,null,null,null,null,null,null,null,null,null,null,null,null,null,null,null,null,null,null,null,null,null,null,null,null,null,null,null,"MODELO A - TEMPO - N.º DE HORAS DE TRABALHO"]
[null,{"$f":"IF('SA - ATIVIDADES'!F153=TRUE,\"mostrar\",\"ocultar\")","v":"ocultar"},"B26. ESTUDO DE ILUMINAÇÃO","MODELO A - TEMPO - N.º DE HORAS DE TRABALHO",null,"Atribuir valor global à atividade",0,0,{"$f":"IF($F$364=\"Atribuir valor global à atividade\",G364*H364,\"\")","v":0},null,"Atribuir valor global à atividade","Valor Global Obra (VG Obra)",{"$f":"IF(L364=\"Valor Global Obra (VG Obra)\",$M$9,\"\")","v":0},0,0,{"$f":"IF(L364=\"Valor Global Obra (VG Obra)\",M364*O364,N364*O364)","v":0},null,"Atribuir valor global à atividade","Valor/m2 fixo (VF m2)",{"$f":"IF(S364=\"Valor/m2 fixo (VF m2)\",$T$9,\"\")","v":0},0,0,null,{"$f":"IF(S364=\"Valor/m2 fixo (VF m2)\",T364*1*V364,U364*1*V364)","v":0},null,"Atribuir valor global à atividade",0,0,{"$f":"AA364*AB364","v":0},null,{"$f":"BL364","v":0},null,null,null,null,null,null,null,null,null,null,null,null,null,null,null,null,null,null,null,null,null,null,null,null,null,null,null,null,{"$f":"IF(LEFT($D$364,8)=\"MODELO A\",IF($F$364=\"Atribuir valor detalhado por Fase/Elemento\",SUBTOTAL(109,BH367:BH371),I364),IF(LEFT($D$364,8)=\"MODELO M\",SUBTOTAL(109,BH367:BH371),0))","v":0},{"$f":"IF(LEFT($D$364,8)=\"MODELO B\",IF($K$364=\"Atribuir valor detalhado por Fase/Elemento\",SUBTOTAL(109,BI367:BI371),P364),IF(LEFT($D$364,8)=\"MODELO M\",SUBTOTAL(109,BI367:BI371),0))","v":0},{"$f":"IF(LEFT($D$364,8)=\"MODELO C\",IF($R$364=\"Atribuir valor detalhado por Fase/Elemento\",SUBTOTAL(109,BJ367:BJ371),X364),IF(LEFT($D$364,8)=\"MODELO M\",SUBTOTAL(109,BJ367:BJ371),0))","v":0},{"$f":"IF(LEFT($D$364,8)=\"MODELO D\",IF($Z$364=\"Atribuir valor detalhado por Fase/Elemento\",SUBTOTAL(109,BK367:BK371),AC364),IF(LEFT($D$364,8)=\"MODELO M\",SUBTOTAL(109,BK367:BK371),0))","v":0},{"$f":"SUM(BH364:BK364)","v":0},"MODELO A - TEMPO - N.º DE HORAS DE TRABALHO"]
[null,{"$f":"IF($B$364=\"ocultar\",\"ocultar\",\"mostrar\")","v":"ocultar"},null,null,null,null,null,null,null,null,null,null,null,null,null,null,null,null,null,null,null,null,null,null,null,null,null,null,null,null,null,null,null,null,null,null,null,null,null,null,null,null,null,null,null,null,null,null,null,null,null,null,null,null,null,null,null,null,null,null,null,null,null,null,"MODELO A - TEMPO - N.º DE HORAS DE TRABALHO"]
[null,"ocultar",null,null,null,null,null,null,null,null,null,null,null,null,null,null,null,null,null,null,null,null,null,null,null,null,null,null,null,null,null,null,null,null,null,null,null,null,null,null,null,null,null,null,null,null,null,null,null,null,null,null,null,null,null,null,null,null,null,null,null,null,null,null,"MODELO A - TEMPO - N.º DE HORAS DE TRABALHO"]
[null,{"$f":"IF($B$364=\"ocultar\",\"ocultar\",IF('SA - ATIVIDADES'!$H$153>='SA - SERVICOS COMPLEMENTARES'!AH367,\"mostrar\",\"ocultar\"))","v":"ocultar"},"Designação (a preencher)","MODELO A - TEMPO - N.º DE HORAS DE TRABALHO",null,null,0,{"$f":"$H$364","v":0},{"$f":"G367*H367","v":0},null,null,null,null,null,0,{"$f":"$P$364*O367","v":0},null,null,null,null,null,null,0,{"$f":"$X$364*W367","v":0},null,null,0,0,{"$f":"AA367*AB367","v":0},null,{"$f":"BL367","v":0},null,null,1,null,null,null,null,null,null,null,null,null,null,null,null,null,null,null,null,null,null,null,null,null,null,null,null,null,{"$f":"IF(OR(AND(LEFT($D$364,8)=\"MODELO M\",LEFT(D367,8)=\"MODELO A\"),AND(LEFT($D$364,8)=\"MODELO A\",$F$364=\"Atribuir valor detalhado por Fase/Elemento\")),I367,0)","v":0},{"$f":"IF(OR(AND(LEFT($D$364,8)=\"MODELO M\",LEFT(D367,8)=\"MODELO B\"),AND(LEFT($D$364,8)=\"MODELO B\",$K$364=\"Atribuir valor detalhado por Fase/Elemento\")),P367,0)","v":0},{"$f":"IF(OR(AND(LEFT($D$364,8)=\"MODELO M\",LEFT(D367,8)=\"MODELO C\"),AND(LEFT($D$364,8)=\"MODELO C\",$R$364=\"Atribuir valor detalhado por Fase/Elemento\")),X367,0)","v":0},{"$f":"IF(OR(AND(LEFT($D$364,8)=\"MODELO M\",LEFT(D367,8)=\"MODELO D\"),AND(LEFT($D$364,8)=\"MODELO D\",$Z$364=\"Atribuir valor detalhado por Fase/Elemento\")),AC367,0)","v":0},{"$f":"SUM(BH367:BK367)","v":0},"MODELO A - TEMPO - N.º DE HORAS DE TRABALHO"]
[null,{"$f":"IF($B$364=\"ocultar\",\"ocultar\",IF('SA - ATIVIDADES'!$H$153>='SA - SERVICOS COMPLEMENTARES'!AH368,\"mostrar\",\"ocultar\"))","v":"ocultar"},"Designação (a preencher)","MODELO A - TEMPO - N.º DE HORAS DE TRABALHO",null,null,0,{"$f":"$H$364","v":0},{"$f":"G368*H368","v":0},null,null,null,null,null,0,{"$f":"$P$364*O368","v":0},null,null,null,null,null,null,0,{"$f":"$X$364*W368","v":0},null,null,0,0,{"$f":"AA368*AB368","v":0},null,{"$f":"BL368","v":0},null,null,2,null,null,null,null,null,null,null,null,null,null,null,null,null,null,null,null,null,null,null,null,null,null,null,null,null,{"$f":"IF(OR(AND(LEFT($D$364,8)=\"MODELO M\",LEFT(D368,8)=\"MODELO A\"),AND(LEFT($D$364,8)=\"MODELO A\",$F$364=\"Atribuir valor detalhado por Fase/Elemento\")),I368,0)","v":0},{"$f":"IF(OR(AND(LEFT($D$364,8)=\"MODELO M\",LEFT(D368,8)=\"MODELO B\"),AND(LEFT($D$364,8)=\"MODELO B\",$K$364=\"Atribuir valor detalhado por Fase/Elemento\")),P368,0)","v":0},{"$f":"IF(OR(AND(LEFT($D$364,8)=\"MODELO M\",LEFT(D368,8)=\"MODELO C\"),AND(LEFT($D$364,8)=\"MODELO C\",$R$364=\"Atribuir valor detalhado por Fase/Elemento\")),X368,0)","v":0},{"$f":"IF(OR(AND(LEFT($D$364,8)=\"MODELO M\",LEFT(D368,8)=\"MODELO D\"),AND(LEFT($D$364,8)=\"MODELO D\",$Z$364=\"Atribuir valor detalhado por Fase/Elemento\")),AC368,0)","v":0},{"$f":"SUM(BH368:BK368)","v":0},"MODELO A - TEMPO - N.º DE HORAS DE TRABALHO"]
[null,{"$f":"IF($B$364=\"ocultar\",\"ocultar\",IF('SA - ATIVIDADES'!$H$153>='SA - SERVICOS COMPLEMENTARES'!AH369,\"mostrar\",\"ocultar\"))","v":"ocultar"},"Designação (a preencher)","MODELO A - TEMPO - N.º DE HORAS DE TRABALHO",null,null,0,{"$f":"$H$364","v":0},{"$f":"G369*H369","v":0},null,null,null,null,null,0,0,null,null,null,null,null,null,0,{"$f":"$X$364*W369","v":0},null,null,0,0,{"$f":"AA369*AB369","v":0},null,{"$f":"BL369","v":0},null,null,3,null,null,null,null,null,null,null,null,null,null,null,null,null,null,null,null,null,null,null,null,null,null,null,null,null,{"$f":"IF(OR(AND(LEFT($D$364,8)=\"MODELO M\",LEFT(D369,8)=\"MODELO A\"),AND(LEFT($D$364,8)=\"MODELO A\",$F$364=\"Atribuir valor detalhado por Fase/Elemento\")),I369,0)","v":0},{"$f":"IF(OR(AND(LEFT($D$364,8)=\"MODELO M\",LEFT(D369,8)=\"MODELO B\"),AND(LEFT($D$364,8)=\"MODELO B\",$K$364=\"Atribuir valor detalhado por Fase/Elemento\")),P369,0)","v":0},{"$f":"IF(OR(AND(LEFT($D$364,8)=\"MODELO M\",LEFT(D369,8)=\"MODELO C\"),AND(LEFT($D$364,8)=\"MODELO C\",$R$364=\"Atribuir valor detalhado por Fase/Elemento\")),X369,0)","v":0},{"$f":"IF(OR(AND(LEFT($D$364,8)=\"MODELO M\",LEFT(D369,8)=\"MODELO D\"),AND(LEFT($D$364,8)=\"MODELO D\",$Z$364=\"Atribuir valor detalhado por Fase/Elemento\")),AC369,0)","v":0},{"$f":"SUM(BH369:BK369)","v":0},"MODELO A - TEMPO - N.º DE HORAS DE TRABALHO"]
[null,{"$f":"IF($B$364=\"ocultar\",\"ocultar\",IF('SA - ATIVIDADES'!$H$153>='SA - SERVICOS COMPLEMENTARES'!AH370,\"mostrar\",\"ocultar\"))","v":"ocultar"},"Designação (a preencher)","MODELO A - TEMPO - N.º DE HORAS DE TRABALHO",null,null,0,{"$f":"$H$364","v":0},{"$f":"G370*H370","v":0},null,null,null,null,null,0,0,null,null,null,null,null,null,0,{"$f":"$X$364*W370","v":0},null,null,0,0,{"$f":"AA370*AB370","v":0},null,{"$f":"BL370","v":0},null,null,4,null,null,null,null,null,null,null,null,null,null,null,null,null,null,null,null,null,null,null,null,null,null,null,null,null,{"$f":"IF(OR(AND(LEFT($D$364,8)=\"MODELO M\",LEFT(D370,8)=\"MODELO A\"),AND(LEFT($D$364,8)=\"MODELO A\",$F$364=\"Atribuir valor detalhado por Fase/Elemento\")),I370,0)","v":0},{"$f":"IF(OR(AND(LEFT($D$364,8)=\"MODELO M\",LEFT(D370,8)=\"MODELO B\"),AND(LEFT($D$364,8)=\"MODELO B\",$K$364=\"Atribuir valor detalhado por Fase/Elemento\")),P370,0)","v":0},{"$f":"IF(OR(AND(LEFT($D$364,8)=\"MODELO M\",LEFT(D370,8)=\"MODELO C\"),AND(LEFT($D$364,8)=\"MODELO C\",$R$364=\"Atribuir valor detalhado por Fase/Elemento\")),X370,0)","v":0},{"$f":"IF(OR(AND(LEFT($D$364,8)=\"MODELO M\",LEFT(D370,8)=\"MODELO D\"),AND(LEFT($D$364,8)=\"MODELO D\",$Z$364=\"Atribuir valor detalhado por Fase/Elemento\")),AC370,0)","v":0},{"$f":"SUM(BH370:BK370)","v":0},"MODELO A - TEMPO - N.º DE HORAS DE TRABALHO"]
[null,{"$f":"IF($B$364=\"ocultar\",\"ocultar\",IF('SA - ATIVIDADES'!$H$153>='SA - SERVICOS COMPLEMENTARES'!AH371,\"mostrar\",\"ocultar\"))","v":"ocultar"},"Designação (a preencher)","MODELO A - TEMPO - N.º DE HORAS DE TRABALHO",null,null,0,{"$f":"$H$364","v":0},{"$f":"G371*H371","v":0},null,null,null,null,null,0,0,null,null,null,null,null,null,0,{"$f":"$X$364*W371","v":0},null,null,0,0,{"$f":"AA371*AB371","v":0},null,{"$f":"BL371","v":0},null,null,5,null,null,null,null,null,null,null,null,null,null,null,null,null,null,null,null,null,null,null,null,null,null,null,null,null,{"$f":"IF(OR(AND(LEFT($D$364,8)=\"MODELO M\",LEFT(D371,8)=\"MODELO A\"),AND(LEFT($D$364,8)=\"MODELO A\",$F$364=\"Atribuir valor detalhado por Fase/Elemento\")),I371,0)","v":0},{"$f":"IF(OR(AND(LEFT($D$364,8)=\"MODELO M\",LEFT(D371,8)=\"MODELO B\"),AND(LEFT($D$364,8)=\"MODELO B\",$K$364=\"Atribuir valor detalhado por Fase/Elemento\")),P371,0)","v":0},{"$f":"IF(OR(AND(LEFT($D$364,8)=\"MODELO M\",LEFT(D371,8)=\"MODELO C\"),AND(LEFT($D$364,8)=\"MODELO C\",$R$364=\"Atribuir valor detalhado por Fase/Elemento\")),X371,0)","v":0},{"$f":"IF(OR(AND(LEFT($D$364,8)=\"MODELO M\",LEFT(D371,8)=\"MODELO D\"),AND(LEFT($D$364,8)=\"MODELO D\",$Z$364=\"Atribuir valor detalhado por Fase/Elemento\")),AC371,0)","v":0},{"$f":"SUM(BH371:BK371)","v":0},"MODELO A - TEMPO - N.º DE HORAS DE TRABALHO"]
[null,{"$f":"IF($B$364=\"ocultar\",\"ocultar\",\"mostrar\")","v":"ocultar"},"TOTAL",null,null,null,{"$f":"IF(F$364=\"Atribuir valor global à atividade\",G364,SUBTOTAL(109,G367:G371))","v":0},null,{"$f":"IF($F$364=\"Atribuir valor global à atividade\",I364,SUBTOTAL(109,I367:I371))","v":0},null,null,null,null,null,{"$f":"IF($K$364=\"Atribuir valor global à atividade\",1,SUBTOTAL(109,O367:O371))","v":1},{"$f":"IF($K$364=\"Atribuir valor global à atividade\",P364,SUBTOTAL(109,P367:P371))","v":0},null,null,null,null,null,null,{"$f":"IF($R$364=\"Atribuir valor global à atividade\",1,SUBTOTAL(109,W367:W371))","v":1},{"$f":"IF($R$364=\"Atribuir valor global à atividade\",X364,SUBTOTAL(109,X367:X371))","v":0},null,null,null,null,{"$f":"IF($Z$364=\"Atribuir valor global à atividade\",AC364,SUBTOTAL(109,AC367:AC371))","v":0},null,{"$f":"SUBTOTAL(109,AE367:AE371)","v":0},null,null,null,null,null,null,null,null,null,null,null,null,null,null,null,null,null,null,null,null,null,null,null,null,null,null,null,null,null,null,null,null,null,"MODELO A - TEMPO - N.º DE HORAS DE TRABALHO"]
[null,{"$f":"IF($B$364=\"ocultar\",\"ocultar\",\"mostrar\")","v":"ocultar"},null,null,null,null,null,null,null,null,null,null,null,null,null,null,null,null,null,null,null,null,null,null,null,null,null,null,null,null,null,null,null,null,null,null,null,null,null,null,null,null,null,null,null,null,null,null,null,null,null,null,null,null,null,null,null,null,null,null,null,null,null,null,{"$f":"IF($AH373<>\"\",BM372,IF(LEFT($D373,6)=\"MODELO\",$D373,BM372))","v":"MODELO A - TEMPO - N.º DE HORAS DE TRABALHO"}]
[null,{"$f":"IF('SA - ATIVIDADES'!F154=TRUE,\"mostrar\",\"ocultar\")","v":"ocultar"},"B27. MAQUETES","MODELO A - TEMPO - N.º DE HORAS DE TRABALHO",null,"Atribuir valor global à atividade",0,0,{"$f":"IF($F$374=\"Atribuir valor global à atividade\",G374*H374,\"\")","v":0},null,"Atribuir valor global à atividade","Valor Global Obra (VG Obra)",{"$f":"IF(L374=\"Valor Global Obra (VG Obra)\",$M$9,\"\")","v":0},0,0,{"$f":"IF(L374=\"Valor Global Obra (VG Obra)\",M374*O374,N374*O374)","v":0},null,"Atribuir valor global à atividade","Valor/m2 fixo (VF m2)",{"$f":"IF(S374=\"Valor/m2 fixo (VF m2)\",$T$9,\"\")","v":0},0,0,null,{"$f":"IF(S374=\"Valor/m2 fixo (VF m2)\",T374*1*V374,U374*1*V374)","v":0},null,"Atribuir valor global à atividade",0,0,{"$f":"AA374*AB374","v":0},null,{"$f":"BL374","v":0},null,null,null,null,null,null,null,null,null,null,null,null,null,null,null,null,null,null,null,null,null,null,null,null,null,null,null,null,{"$f":"IF(LEFT($D$374,8)=\"MODELO A\",IF($F$374=\"Atribuir valor detalhado por Fase/Elemento\",SUBTOTAL(109,BH377:BH381),I374),IF(LEFT($D$374,8)=\"MODELO M\",SUBTOTAL(109,BH377:BH381),0))","v":0},{"$f":"IF(LEFT($D$374,8)=\"MODELO B\",IF($K$374=\"Atribuir valor detalhado por Fase/Elemento\",SUBTOTAL(109,BI377:BI381),P374),IF(LEFT($D$374,8)=\"MODELO M\",SUBTOTAL(109,BI377:BI381),0))","v":0},{"$f":"IF(LEFT($D$374,8)=\"MODELO C\",IF($R$374=\"Atribuir valor detalhado por Fase/Elemento\",SUBTOTAL(109,BJ377:BJ381),X374),IF(LEFT($D$374,8)=\"MODELO M\",SUBTOTAL(109,BJ377:BJ381),0))","v":0},{"$f":"IF(LEFT($D$374,8)=\"MODELO D\",IF($Z$374=\"Atribuir valor detalhado por Fase/Elemento\",SUBTOTAL(109,BK377:BK381),AC374),IF(LEFT($D$374,8)=\"MODELO M\",SUBTOTAL(109,BK377:BK381),0))","v":0},{"$f":"SUM(BH374:BK374)","v":0},"MODELO A - TEMPO - N.º DE HORAS DE TRABALHO"]
[null,{"$f":"IF($B$374=\"ocultar\",\"ocultar\",\"mostrar\")","v":"ocultar"},null,null,null,null,null,null,null,null,null,null,null,null,null,null,null,null,null,null,null,null,null,null,null,null,null,null,null,null,null,null,null,null,null,null,null,null,null,null,null,null,null,null,null,null,null,null,null,null,null,null,null,null,null,null,null,null,null,null,null,null,null,null,"MODELO A - TEMPO - N.º DE HORAS DE TRABALHO"]
[null,"ocultar",null,null,null,null,null,null,null,null,null,null,null,null,null,null,null,null,null,null,null,null,null,null,null,null,null,null,null,null,null,null,null,null,null,null,null,null,null,null,null,null,null,null,null,null,null,null,null,null,null,null,null,null,null,null,null,null,null,null,null,null,null,null,"MODELO A - TEMPO - N.º DE HORAS DE TRABALHO"]
[null,{"$f":"IF($B$374=\"ocultar\",\"ocultar\",IF('SA - ATIVIDADES'!$H$154>='SA - SERVICOS COMPLEMENTARES'!AH377,\"mostrar\",\"ocultar\"))","v":"ocultar"},"Designação (a preencher)","MODELO A - TEMPO - N.º DE HORAS DE TRABALHO",null,null,0,{"$f":"$H$374","v":0},{"$f":"G377*H377","v":0},null,null,null,null,null,0,{"$f":"$P$374*O377","v":0},null,null,null,null,null,null,0,{"$f":"$X$374*W377","v":0},null,null,0,0,{"$f":"AA377*AB377","v":0},null,{"$f":"BL377","v":0},null,null,1,null,null,null,null,null,null,null,null,null,null,null,null,null,null,null,null,null,null,null,null,null,null,null,null,null,{"$f":"IF(OR(AND(LEFT($D$374,8)=\"MODELO M\",LEFT(D377,8)=\"MODELO A\"),AND(LEFT($D$374,8)=\"MODELO A\",$F$374=\"Atribuir valor detalhado por Fase/Elemento\")),I377,0)","v":0},{"$f":"IF(OR(AND(LEFT($D$374,8)=\"MODELO M\",LEFT(D377,8)=\"MODELO B\"),AND(LEFT($D$374,8)=\"MODELO B\",$K$374=\"Atribuir valor detalhado por Fase/Elemento\")),P377,0)","v":0},{"$f":"IF(OR(AND(LEFT($D$374,8)=\"MODELO M\",LEFT(D377,8)=\"MODELO C\"),AND(LEFT($D$374,8)=\"MODELO C\",$R$374=\"Atribuir valor detalhado por Fase/Elemento\")),X377,0)","v":0},{"$f":"IF(OR(AND(LEFT($D$374,8)=\"MODELO M\",LEFT(D377,8)=\"MODELO D\"),AND(LEFT($D$374,8)=\"MODELO D\",$Z$374=\"Atribuir valor detalhado por Fase/Elemento\")),AC377,0)","v":0},{"$f":"SUM(BH377:BK377)","v":0},"MODELO A - TEMPO - N.º DE HORAS DE TRABALHO"]
[null,{"$f":"IF($B$374=\"ocultar\",\"ocultar\",IF('SA - ATIVIDADES'!$H$154>='SA - SERVICOS COMPLEMENTARES'!AH378,\"mostrar\",\"ocultar\"))","v":"ocultar"},"Designação (a preencher)","MODELO A - TEMPO - N.º DE HORAS DE TRABALHO",null,null,0,{"$f":"$H$374","v":0},{"$f":"G378*H378","v":0},null,null,null,null,null,0,{"$f":"$P$374*O378","v":0},null,null,null,null,null,null,0,{"$f":"$X$374*W378","v":0},null,null,0,0,{"$f":"AA378*AB378","v":0},null,{"$f":"BL378","v":0},null,null,2,null,null,null,null,null,null,null,null,null,null,null,null,null,null,null,null,null,null,null,null,null,null,null,null,null,{"$f":"IF(OR(AND(LEFT($D$374,8)=\"MODELO M\",LEFT(D378,8)=\"MODELO A\"),AND(LEFT($D$374,8)=\"MODELO A\",$F$374=\"Atribuir valor detalhado por Fase/Elemento\")),I378,0)","v":0},{"$f":"IF(OR(AND(LEFT($D$374,8)=\"MODELO M\",LEFT(D378,8)=\"MODELO B\"),AND(LEFT($D$374,8)=\"MODELO B\",$K$374=\"Atribuir valor detalhado por Fase/Elemento\")),P378,0)","v":0},{"$f":"IF(OR(AND(LEFT($D$374,8)=\"MODELO M\",LEFT(D378,8)=\"MODELO C\"),AND(LEFT($D$374,8)=\"MODELO C\",$R$374=\"Atribuir valor detalhado por Fase/Elemento\")),X378,0)","v":0},{"$f":"IF(OR(AND(LEFT($D$374,8)=\"MODELO M\",LEFT(D378,8)=\"MODELO D\"),AND(LEFT($D$374,8)=\"MODELO D\",$Z$374=\"Atribuir valor detalhado por Fase/Elemento\")),AC378,0)","v":0},{"$f":"SUM(BH378:BK378)","v":0},"MODELO A - TEMPO - N.º DE HORAS DE TRABALHO"]
[null,{"$f":"IF($B$374=\"ocultar\",\"ocultar\",IF('SA - ATIVIDADES'!$H$154>='SA - SERVICOS COMPLEMENTARES'!AH379,\"mostrar\",\"ocultar\"))","v":"ocultar"},"Designação (a preencher)","MODELO A - TEMPO - N.º DE HORAS DE TRABALHO",null,null,0,{"$f":"$H$374","v":0},{"$f":"G379*H379","v":0},null,null,null,null,null,0,0,null,null,null,null,null,null,0,{"$f":"$X$374*W379","v":0},null,null,0,0,{"$f":"AA379*AB379","v":0},null,{"$f":"BL379","v":0},null,null,3,null,null,null,null,null,null,null,null,null,null,null,null,null,null,null,null,null,null,null,null,null,null,null,null,null,{"$f":"IF(OR(AND(LEFT($D$374,8)=\"MODELO M\",LEFT(D379,8)=\"MODELO A\"),AND(LEFT($D$374,8)=\"MODELO A\",$F$374=\"Atribuir valor detalhado por Fase/Elemento\")),I379,0)","v":0},{"$f":"IF(OR(AND(LEFT($D$374,8)=\"MODELO M\",LEFT(D379,8)=\"MODELO B\"),AND(LEFT($D$374,8)=\"MODELO B\",$K$374=\"Atribuir valor detalhado por Fase/Elemento\")),P379,0)","v":0},{"$f":"IF(OR(AND(LEFT($D$374,8)=\"MODELO M\",LEFT(D379,8)=\"MODELO C\"),AND(LEFT($D$374,8)=\"MODELO C\",$R$374=\"Atribuir valor detalhado por Fase/Elemento\")),X379,0)","v":0},{"$f":"IF(OR(AND(LEFT($D$374,8)=\"MODELO M\",LEFT(D379,8)=\"MODELO D\"),AND(LEFT($D$374,8)=\"MODELO D\",$Z$374=\"Atribuir valor detalhado por Fase/Elemento\")),AC379,0)","v":0},{"$f":"SUM(BH379:BK379)","v":0},"MODELO A - TEMPO - N.º DE HORAS DE TRABALHO"]
[null,{"$f":"IF($B$374=\"ocultar\",\"ocultar\",IF('SA - ATIVIDADES'!$H$154>='SA - SERVICOS COMPLEMENTARES'!AH380,\"mostrar\",\"ocultar\"))","v":"ocultar"},"Designação (a preencher)","MODELO A - TEMPO - N.º DE HORAS DE TRABALHO",null,null,0,{"$f":"$H$374","v":0},{"$f":"G380*H380","v":0},null,null,null,null,null,0,0,null,null,null,null,null,null,0,{"$f":"$X$374*W380","v":0},null,null,0,0,{"$f":"AA380*AB380","v":0},null,{"$f":"BL380","v":0},null,null,4,null,null,null,null,null,null,null,null,null,null,null,null,null,null,null,null,null,null,null,null,null,null,null,null,null,{"$f":"IF(OR(AND(LEFT($D$374,8)=\"MODELO M\",LEFT(D380,8)=\"MODELO A\"),AND(LEFT($D$374,8)=\"MODELO A\",$F$374=\"Atribuir valor detalhado por Fase/Elemento\")),I380,0)","v":0},{"$f":"IF(OR(AND(LEFT($D$374,8)=\"MODELO M\",LEFT(D380,8)=\"MODELO B\"),AND(LEFT($D$374,8)=\"MODELO B\",$K$374=\"Atribuir valor detalhado por Fase/Elemento\")),P380,0)","v":0},{"$f":"IF(OR(AND(LEFT($D$374,8)=\"MODELO M\",LEFT(D380,8)=\"MODELO C\"),AND(LEFT($D$374,8)=\"MODELO C\",$R$374=\"Atribuir valor detalhado por Fase/Elemento\")),X380,0)","v":0},{"$f":"IF(OR(AND(LEFT($D$374,8)=\"MODELO M\",LEFT(D380,8)=\"MODELO D\"),AND(LEFT($D$374,8)=\"MODELO D\",$Z$374=\"Atribuir valor detalhado por Fase/Elemento\")),AC380,0)","v":0},{"$f":"SUM(BH380:BK380)","v":0},"MODELO A - TEMPO - N.º DE HORAS DE TRABALHO"]
[null,{"$f":"IF($B$374=\"ocultar\",\"ocultar\",IF('SA - ATIVIDADES'!$H$154>='SA - SERVICOS COMPLEMENTARES'!AH381,\"mostrar\",\"ocultar\"))","v":"ocultar"},"Designação (a preencher)","MODELO A - TEMPO - N.º DE HORAS DE TRABALHO",null,null,0,{"$f":"$H$374","v":0},{"$f":"G381*H381","v":0},null,null,null,null,null,0,0,null,null,null,null,null,null,0,{"$f":"$X$374*W381","v":0},null,null,0,0,{"$f":"AA381*AB381","v":0},null,{"$f":"BL381","v":0},null,null,5,null,null,null,null,null,null,null,null,null,null,null,null,null,null,null,null,null,null,null,null,null,null,null,null,null,{"$f":"IF(OR(AND(LEFT($D$374,8)=\"MODELO M\",LEFT(D381,8)=\"MODELO A\"),AND(LEFT($D$374,8)=\"MODELO A\",$F$374=\"Atribuir valor detalhado por Fase/Elemento\")),I381,0)","v":0},{"$f":"IF(OR(AND(LEFT($D$374,8)=\"MODELO M\",LEFT(D381,8)=\"MODELO B\"),AND(LEFT($D$374,8)=\"MODELO B\",$K$374=\"Atribuir valor detalhado por Fase/Elemento\")),P381,0)","v":0},{"$f":"IF(OR(AND(LEFT($D$374,8)=\"MODELO M\",LEFT(D381,8)=\"MODELO C\"),AND(LEFT($D$374,8)=\"MODELO C\",$R$374=\"Atribuir valor detalhado por Fase/Elemento\")),X381,0)","v":0},{"$f":"IF(OR(AND(LEFT($D$374,8)=\"MODELO M\",LEFT(D381,8)=\"MODELO D\"),AND(LEFT($D$374,8)=\"MODELO D\",$Z$374=\"Atribuir valor detalhado por Fase/Elemento\")),AC381,0)","v":0},{"$f":"SUM(BH381:BK381)","v":0},"MODELO A - TEMPO - N.º DE HORAS DE TRABALHO"]
[null,{"$f":"IF($B$374=\"ocultar\",\"ocultar\",\"mostrar\")","v":"ocultar"},"TOTAL",null,null,null,{"$f":"IF(F$374=\"Atribuir valor global à atividade\",G374,SUBTOTAL(109,G377:G381))","v":0},null,{"$f":"IF($F$374=\"Atribuir valor global à atividade\",I374,SUBTOTAL(109,I377:I381))","v":0},null,null,null,null,null,{"$f":"IF($K$374=\"Atribuir valor global à atividade\",1,SUBTOTAL(109,O377:O381))","v":1},{"$f":"IF($K$374=\"Atribuir valor global à atividade\",P374,SUBTOTAL(109,P377:P381))","v":0},null,null,null,null,null,null,{"$f":"IF($R$374=\"Atribuir valor global à atividade\",1,SUBTOTAL(109,W377:W381))","v":1},{"$f":"IF($R$374=\"Atribuir valor global à atividade\",X374,SUBTOTAL(109,X377:X381))","v":0},null,null,null,null,{"$f":"IF($Z$374=\"Atribuir valor global à atividade\",AC374,SUBTOTAL(109,AC377:AC381))","v":0},null,{"$f":"SUBTOTAL(109,AE377:AE381)","v":0},null,null,null,null,null,null,null,null,null,null,null,null,null,null,null,null,null,null,null,null,null,null,null,null,null,null,null,null,null,null,null,null,null,"MODELO A - TEMPO - N.º DE HORAS DE TRABALHO"]
[null,{"$f":"IF($B$374=\"ocultar\",\"ocultar\",\"mostrar\")","v":"ocultar"},null,null,null,null,null,null,null,null,null,null,null,null,null,null,null,null,null,null,null,null,null,null,null,null,null,null,null,null,null,null,null,null,null,null,null,null,null,null,null,null,null,null,null,null,null,null,null,null,null,null,null,null,null,null,null,null,null,null,null,null,null,null,"MODELO A - TEMPO - N.º DE HORAS DE TRABALHO"]
[null,{"$f":"IF('SA - ATIVIDADES'!F155=TRUE,\"mostrar\",\"ocultar\")","v":"ocultar"},"B28. MODELOS DE INFORMAÇÃO DA CONSTRUÇÃO (BIM)","MODELO A - TEMPO - N.º DE HORAS DE TRABALHO",null,"Atribuir valor global à atividade",0,0,{"$f":"IF($F$384=\"Atribuir valor global à atividade\",G384*H384,\"\")","v":0},null,"Atribuir valor global à atividade","Valor Global Obra (VG Obra)",{"$f":"IF(L384=\"Valor Global Obra (VG Obra)\",$M$9,\"\")","v":0},0,0,{"$f":"IF(L384=\"Valor Global Obra (VG Obra)\",M384*O384,N384*O384)","v":0},null,"Atribuir valor global à atividade","Valor/m2 fixo (VF m2)",{"$f":"IF(S384=\"Valor/m2 fixo (VF m2)\",$T$9,\"\")","v":0},0,0,null,{"$f":"IF(S384=\"Valor/m2 fixo (VF m2)\",T384*1*V384,U384*1*V384)","v":0},null,"Atribuir valor global à atividade",0,0,{"$f":"AA384*AB384","v":0},null,{"$f":"BL384","v":0},null,null,null,null,null,null,null,null,null,null,null,null,null,null,null,null,null,null,null,null,null,null,null,null,null,null,null,null,{"$f":"IF(LEFT($D$384,8)=\"MODELO A\",IF($F$384=\"Atribuir valor detalhado por Fase/Elemento\",SUBTOTAL(109,BH387:BH391),I384),IF(LEFT($D$384,8)=\"MODELO M\",SUBTOTAL(109,BH387:BH391),0))","v":0},{"$f":"IF(LEFT($D$384,8)=\"MODELO B\",IF($K$384=\"Atribuir valor detalhado por Fase/Elemento\",SUBTOTAL(109,BI387:BI391),P384),IF(LEFT($D$384,8)=\"MODELO M\",SUBTOTAL(109,BI387:BI391),0))","v":0},{"$f":"IF(LEFT($D$384,8)=\"MODELO C\",IF($R$384=\"Atribuir valor detalhado por Fase/Elemento\",SUBTOTAL(109,BJ387:BJ391),X384),IF(LEFT($D$384,8)=\"MODELO M\",SUBTOTAL(109,BJ387:BJ391),0))","v":0},{"$f":"IF(LEFT($D$384,8)=\"MODELO D\",IF($Z$384=\"Atribuir valor detalhado por Fase/Elemento\",SUBTOTAL(109,BK387:BK391),AC384),IF(LEFT($D$384,8)=\"MODELO M\",SUBTOTAL(109,BK387:BK391),0))","v":0},{"$f":"SUM(BH384:BK384)","v":0},"MODELO A - TEMPO - N.º DE HORAS DE TRABALHO"]
[null,{"$f":"IF($B$384=\"ocultar\",\"ocultar\",\"mostrar\")","v":"ocultar"},null,null,null,null,null,null,null,null,null,null,null,null,null,null,null,null,null,null,null,null,null,null,null,null,null,null,null,null,null,null,null,null,null,null,null,null,null,null,null,null,null,null,null,null,null,null,null,null,null,null,null,null,null,null,null,null,null,null,null,null,null,null,"MODELO A - TEMPO - N.º DE HORAS DE TRABALHO"]
[null,"ocultar",null,null,null,null,null,null,null,null,null,null,null,null,null,null,null,null,null,null,null,null,null,null,null,null,null,null,null,null,null,null,null,null,null,null,null,null,null,null,null,null,null,null,null,null,null,null,null,null,null,null,null,null,null,null,null,null,null,null,null,null,null,null,"MODELO A - TEMPO - N.º DE HORAS DE TRABALHO"]
[null,{"$f":"IF($B$384=\"ocultar\",\"ocultar\",IF('SA - ATIVIDADES'!$H$155>='SA - SERVICOS COMPLEMENTARES'!AH387,\"mostrar\",\"ocultar\"))","v":"ocultar"},"Designação (a preencher)","MODELO A - TEMPO - N.º DE HORAS DE TRABALHO",null,null,0,{"$f":"$H$384","v":0},{"$f":"G387*H387","v":0},null,null,null,null,null,0,{"$f":"$P$384*O387","v":0},null,null,null,null,null,null,0,{"$f":"$X$384*W387","v":0},null,null,0,0,{"$f":"AA387*AB387","v":0},null,{"$f":"BL387","v":0},null,null,1,null,null,null,null,null,null,null,null,null,null,null,null,null,null,null,null,null,null,null,null,null,null,null,null,null,{"$f":"IF(OR(AND(LEFT($D$384,8)=\"MODELO M\",LEFT(D387,8)=\"MODELO A\"),AND(LEFT($D$384,8)=\"MODELO A\",$F$384=\"Atribuir valor detalhado por Fase/Elemento\")),I387,0)","v":0},{"$f":"IF(OR(AND(LEFT($D$384,8)=\"MODELO M\",LEFT(D387,8)=\"MODELO B\"),AND(LEFT($D$384,8)=\"MODELO B\",$K$384=\"Atribuir valor detalhado por Fase/Elemento\")),P387,0)","v":0},{"$f":"IF(OR(AND(LEFT($D$384,8)=\"MODELO M\",LEFT(D387,8)=\"MODELO C\"),AND(LEFT($D$384,8)=\"MODELO C\",$R$384=\"Atribuir valor detalhado por Fase/Elemento\")),X387,0)","v":0},{"$f":"IF(OR(AND(LEFT($D$384,8)=\"MODELO M\",LEFT(D387,8)=\"MODELO D\"),AND(LEFT($D$384,8)=\"MODELO D\",$Z$384=\"Atribuir valor detalhado por Fase/Elemento\")),AC387,0)","v":0},{"$f":"SUM(BH387:BK387)","v":0},"MODELO A - TEMPO - N.º DE HORAS DE TRABALHO"]
[null,{"$f":"IF($B$384=\"ocultar\",\"ocultar\",IF('SA - ATIVIDADES'!$H$155>='SA - SERVICOS COMPLEMENTARES'!AH388,\"mostrar\",\"ocultar\"))","v":"ocultar"},"Designação (a preencher)","MODELO A - TEMPO - N.º DE HORAS DE TRABALHO",null,null,0,{"$f":"$H$384","v":0},{"$f":"G388*H388","v":0},null,null,null,null,null,0,{"$f":"$P$384*O388","v":0},null,null,null,null,null,null,0,{"$f":"$X$384*W388","v":0},null,null,0,0,{"$f":"AA388*AB388","v":0},null,{"$f":"BL388","v":0},null,null,2,null,null,null,null,null,null,null,null,null,null,null,null,null,null,null,null,null,null,null,null,null,null,null,null,null,{"$f":"IF(OR(AND(LEFT($D$384,8)=\"MODELO M\",LEFT(D388,8)=\"MODELO A\"),AND(LEFT($D$384,8)=\"MODELO A\",$F$384=\"Atribuir valor detalhado por Fase/Elemento\")),I388,0)","v":0},{"$f":"IF(OR(AND(LEFT($D$384,8)=\"MODELO M\",LEFT(D388,8)=\"MODELO B\"),AND(LEFT($D$384,8)=\"MODELO B\",$K$384=\"Atribuir valor detalhado por Fase/Elemento\")),P388,0)","v":0},{"$f":"IF(OR(AND(LEFT($D$384,8)=\"MODELO M\",LEFT(D388,8)=\"MODELO C\"),AND(LEFT($D$384,8)=\"MODELO C\",$R$384=\"Atribuir valor detalhado por Fase/Elemento\")),X388,0)","v":0},{"$f":"IF(OR(AND(LEFT($D$384,8)=\"MODELO M\",LEFT(D388,8)=\"MODELO D\"),AND(LEFT($D$384,8)=\"MODELO D\",$Z$384=\"Atribuir valor detalhado por Fase/Elemento\")),AC388,0)","v":0},{"$f":"SUM(BH388:BK388)","v":0},"MODELO A - TEMPO - N.º DE HORAS DE TRABALHO"]
[null,{"$f":"IF($B$384=\"ocultar\",\"ocultar\",IF('SA - ATIVIDADES'!$H$155>='SA - SERVICOS COMPLEMENTARES'!AH389,\"mostrar\",\"ocultar\"))","v":"ocultar"},"Designação (a preencher)","MODELO A - TEMPO - N.º DE HORAS DE TRABALHO",null,null,0,{"$f":"$H$384","v":0},{"$f":"G389*H389","v":0},null,null,null,null,null,0,0,null,null,null,null,null,null,0,{"$f":"$X$384*W389","v":0},null,null,0,0,{"$f":"AA389*AB389","v":0},null,{"$f":"BL389","v":0},null,null,3,null,null,null,null,null,null,null,null,null,null,null,null,null,null,null,null,null,null,null,null,null,null,null,null,null,{"$f":"IF(OR(AND(LEFT($D$384,8)=\"MODELO M\",LEFT(D389,8)=\"MODELO A\"),AND(LEFT($D$384,8)=\"MODELO A\",$F$384=\"Atribuir valor detalhado por Fase/Elemento\")),I389,0)","v":0},{"$f":"IF(OR(AND(LEFT($D$384,8)=\"MODELO M\",LEFT(D389,8)=\"MODELO B\"),AND(LEFT($D$384,8)=\"MODELO B\",$K$384=\"Atribuir valor detalhado por Fase/Elemento\")),P389,0)","v":0},{"$f":"IF(OR(AND(LEFT($D$384,8)=\"MODELO M\",LEFT(D389,8)=\"MODELO C\"),AND(LEFT($D$384,8)=\"MODELO C\",$R$384=\"Atribuir valor detalhado por Fase/Elemento\")),X389,0)","v":0},{"$f":"IF(OR(AND(LEFT($D$384,8)=\"MODELO M\",LEFT(D389,8)=\"MODELO D\"),AND(LEFT($D$384,8)=\"MODELO D\",$Z$384=\"Atribuir valor detalhado por Fase/Elemento\")),AC389,0)","v":0},{"$f":"SUM(BH389:BK389)","v":0},"MODELO A - TEMPO - N.º DE HORAS DE TRABALHO"]
[null,{"$f":"IF($B$384=\"ocultar\",\"ocultar\",IF('SA - ATIVIDADES'!$H$155>='SA - SERVICOS COMPLEMENTARES'!AH390,\"mostrar\",\"ocultar\"))","v":"ocultar"},"Designação (a preencher)","MODELO A - TEMPO - N.º DE HORAS DE TRABALHO",null,null,0,{"$f":"$H$384","v":0},{"$f":"G390*H390","v":0},null,null,null,null,null,0,0,null,null,null,null,null,null,0,{"$f":"$X$384*W390","v":0},null,null,0,0,{"$f":"AA390*AB390","v":0},null,{"$f":"BL390","v":0},null,null,4,null,null,null,null,null,null,null,null,null,null,null,null,null,null,null,null,null,null,null,null,null,null,null,null,null,{"$f":"IF(OR(AND(LEFT($D$384,8)=\"MODELO M\",LEFT(D390,8)=\"MODELO A\"),AND(LEFT($D$384,8)=\"MODELO A\",$F$384=\"Atribuir valor detalhado por Fase/Elemento\")),I390,0)","v":0},{"$f":"IF(OR(AND(LEFT($D$384,8)=\"MODELO M\",LEFT(D390,8)=\"MODELO B\"),AND(LEFT($D$384,8)=\"MODELO B\",$K$384=\"Atribuir valor detalhado por Fase/Elemento\")),P390,0)","v":0},{"$f":"IF(OR(AND(LEFT($D$384,8)=\"MODELO M\",LEFT(D390,8)=\"MODELO C\"),AND(LEFT($D$384,8)=\"MODELO C\",$R$384=\"Atribuir valor detalhado por Fase/Elemento\")),X390,0)","v":0},{"$f":"IF(OR(AND(LEFT($D$384,8)=\"MODELO M\",LEFT(D390,8)=\"MODELO D\"),AND(LEFT($D$384,8)=\"MODELO D\",$Z$384=\"Atribuir valor detalhado por Fase/Elemento\")),AC390,0)","v":0},{"$f":"SUM(BH390:BK390)","v":0},"MODELO A - TEMPO - N.º DE HORAS DE TRABALHO"]
[null,{"$f":"IF($B$384=\"ocultar\",\"ocultar\",IF('SA - ATIVIDADES'!$H$155>='SA - SERVICOS COMPLEMENTARES'!AH391,\"mostrar\",\"ocultar\"))","v":"ocultar"},"Designação (a preencher)","MODELO A - TEMPO - N.º DE HORAS DE TRABALHO",null,null,0,{"$f":"$H$384","v":0},{"$f":"G391*H391","v":0},null,null,null,null,null,0,0,null,null,null,null,null,null,0,{"$f":"$X$384*W391","v":0},null,null,0,0,{"$f":"AA391*AB391","v":0},null,{"$f":"BL391","v":0},null,null,5,null,null,null,null,null,null,null,null,null,null,null,null,null,null,null,null,null,null,null,null,null,null,null,null,null,{"$f":"IF(OR(AND(LEFT($D$384,8)=\"MODELO M\",LEFT(D391,8)=\"MODELO A\"),AND(LEFT($D$384,8)=\"MODELO A\",$F$384=\"Atribuir valor detalhado por Fase/Elemento\")),I391,0)","v":0},{"$f":"IF(OR(AND(LEFT($D$384,8)=\"MODELO M\",LEFT(D391,8)=\"MODELO B\"),AND(LEFT($D$384,8)=\"MODELO B\",$K$384=\"Atribuir valor detalhado por Fase/Elemento\")),P391,0)","v":0},{"$f":"IF(OR(AND(LEFT($D$384,8)=\"MODELO M\",LEFT(D391,8)=\"MODELO C\"),AND(LEFT($D$384,8)=\"MODELO C\",$R$384=\"Atribuir valor detalhado por Fase/Elemento\")),X391,0)","v":0},{"$f":"IF(OR(AND(LEFT($D$384,8)=\"MODELO M\",LEFT(D391,8)=\"MODELO D\"),AND(LEFT($D$384,8)=\"MODELO D\",$Z$384=\"Atribuir valor detalhado por Fase/Elemento\")),AC391,0)","v":0},{"$f":"SUM(BH391:BK391)","v":0},"MODELO A - TEMPO - N.º DE HORAS DE TRABALHO"]
[null,{"$f":"IF($B$384=\"ocultar\",\"ocultar\",\"mostrar\")","v":"ocultar"},"TOTAL",null,null,null,{"$f":"IF(F$384=\"Atribuir valor global à atividade\",G384,SUBTOTAL(109,G387:G391))","v":0},null,{"$f":"IF($F$384=\"Atribuir valor global à atividade\",I384,SUBTOTAL(109,I387:I391))","v":0},null,null,null,null,null,{"$f":"IF($K$384=\"Atribuir valor global à atividade\",1,SUBTOTAL(109,O387:O391))","v":1},{"$f":"IF($K$384=\"Atribuir valor global à atividade\",P384,SUBTOTAL(109,P387:P391))","v":0},null,null,null,null,null,null,{"$f":"IF($R$384=\"Atribuir valor global à atividade\",1,SUBTOTAL(109,W387:W391))","v":1},{"$f":"IF($R$384=\"Atribuir valor global à atividade\",X384,SUBTOTAL(109,X387:X391))","v":0},null,null,null,null,{"$f":"IF($Z$384=\"Atribuir valor global à atividade\",AC384,SUBTOTAL(109,AC387:AC391))","v":0},null,{"$f":"SUBTOTAL(109,AE387:AE391)","v":0},null,null,null,null,null,null,null,null,null,null,null,null,null,null,null,null,null,null,null,null,null,null,null,null,null,null,null,null,null,null,null,null,null,"MODELO A - TEMPO - N.º DE HORAS DE TRABALHO"]
[null,{"$f":"IF($B$384=\"ocultar\",\"ocultar\",\"mostrar\")","v":"ocultar"},null,null,null,null,null,null,null,null,null,null,null,null,null,null,null,null,null,null,null,null,null,null,null,null,null,null,null,null,null,null,null,null,null,null,null,null,null,null,null,null,null,null,null,null,null,null,null,null,null,null,null,null,null,null,null,null,null,null,null,null,null,null,"MODELO A - TEMPO - N.º DE HORAS DE TRABALHO"]
[null,{"$f":"IF('SA - ATIVIDADES'!F156=TRUE,\"mostrar\",\"ocultar\")","v":"ocultar"},"B29. PLANO DE EXECUÇÃO DO MODELO DE INFORMAÇÃO DA CONSTRUÇÃO (BIM)","MODELO A - TEMPO - N.º DE HORAS DE TRABALHO",null,"Atribuir valor global à atividade",0,0,{"$f":"IF($F$394=\"Atribuir valor global à atividade\",G394*H394,\"\")","v":0},null,"Atribuir valor global à atividade","Valor Global Obra (VG Obra)",{"$f":"IF(L394=\"Valor Global Obra (VG Obra)\",$M$9,\"\")","v":0},0,0,{"$f":"IF(L394=\"Valor Global Obra (VG Obra)\",M394*O394,N394*O394)","v":0},null,"Atribuir valor global à atividade","Valor/m2 fixo (VF m2)",{"$f":"IF(S394=\"Valor/m2 fixo (VF m2)\",$T$9,\"\")","v":0},0,0,null,{"$f":"IF(S394=\"Valor/m2 fixo (VF m2)\",T394*1*V394,U394*1*V394)","v":0},null,"Atribuir valor global à atividade",0,0,{"$f":"AA394*AB394","v":0},null,{"$f":"BL394","v":0},null,null,null,null,null,null,null,null,null,null,null,null,null,null,null,null,null,null,null,null,null,null,null,null,null,null,null,null,{"$f":"IF(LEFT($D$394,8)=\"MODELO A\",IF($F$394=\"Atribuir valor detalhado por Fase/Elemento\",SUBTOTAL(109,BH397:BH401),I394),IF(LEFT($D$394,8)=\"MODELO M\",SUBTOTAL(109,BH397:BH401),0))","v":0},{"$f":"IF(LEFT($D$394,8)=\"MODELO B\",IF($K$394=\"Atribuir valor detalhado por Fase/Elemento\",SUBTOTAL(109,BI397:BI401),P394),IF(LEFT($D$394,8)=\"MODELO M\",SUBTOTAL(109,BI397:BI401),0))","v":0},{"$f":"IF(LEFT($D$394,8)=\"MODELO C\",IF($R$394=\"Atribuir valor detalhado por Fase/Elemento\",SUBTOTAL(109,BJ397:BJ401),X394),IF(LEFT($D$394,8)=\"MODELO M\",SUBTOTAL(109,BJ397:BJ401),0))","v":0},{"$f":"IF(LEFT($D$394,8)=\"MODELO D\",IF($Z$394=\"Atribuir valor detalhado por Fase/Elemento\",SUBTOTAL(109,BK397:BK401),AC394),IF(LEFT($D$394,8)=\"MODELO M\",SUBTOTAL(109,BK397:BK401),0))","v":0},{"$f":"SUM(BH394:BK394)","v":0},"MODELO A - TEMPO - N.º DE HORAS DE TRABALHO"]
[null,{"$f":"IF($B$394=\"ocultar\",\"ocultar\",\"mostrar\")","v":"ocultar"},null,null,null,null,null,null,null,null,null,null,null,null,null,null,null,null,null,null,null,null,null,null,null,null,null,null,null,null,null,null,null,null,null,null,null,null,null,null,null,null,null,null,null,null,null,null,null,null,null,null,null,null,null,null,null,null,null,null,null,null,null,null,"MODELO A - TEMPO - N.º DE HORAS DE TRABALHO"]
[null,"ocultar",null,null,null,null,null,null,null,null,null,null,null,null,null,null,null,null,null,null,null,null,null,null,null,null,null,null,null,null,null,null,null,null,null,null,null,null,null,null,null,null,null,null,null,null,null,null,null,null,null,null,null,null,null,null,null,null,null,null,null,null,null,null,"MODELO A - TEMPO - N.º DE HORAS DE TRABALHO"]
[null,{"$f":"IF($B$394=\"ocultar\",\"ocultar\",IF('SA - ATIVIDADES'!$H$156>='SA - SERVICOS COMPLEMENTARES'!AH397,\"mostrar\",\"ocultar\"))","v":"ocultar"},"Designação (a preencher)","MODELO A - TEMPO - N.º DE HORAS DE TRABALHO",null,null,0,{"$f":"$H$394","v":0},{"$f":"G397*H397","v":0},null,null,null,null,null,0,{"$f":"$P$394*O397","v":0},null,null,null,null,null,null,0,{"$f":"$X$394*W397","v":0},null,null,0,0,{"$f":"AA397*AB397","v":0},null,{"$f":"BL397","v":0},null,null,1,null,null,null,null,null,null,null,null,null,null,null,null,null,null,null,null,null,null,null,null,null,null,null,null,null,{"$f":"IF(OR(AND(LEFT($D$394,8)=\"MODELO M\",LEFT(D397,8)=\"MODELO A\"),AND(LEFT($D$394,8)=\"MODELO A\",$F$394=\"Atribuir valor detalhado por Fase/Elemento\")),I397,0)","v":0},{"$f":"IF(OR(AND(LEFT($D$394,8)=\"MODELO M\",LEFT(D397,8)=\"MODELO B\"),AND(LEFT($D$394,8)=\"MODELO B\",$K$394=\"Atribuir valor detalhado por Fase/Elemento\")),P397,0)","v":0},{"$f":"IF(OR(AND(LEFT($D$394,8)=\"MODELO M\",LEFT(D397,8)=\"MODELO C\"),AND(LEFT($D$394,8)=\"MODELO C\",$R$394=\"Atribuir valor detalhado por Fase/Elemento\")),X397,0)","v":0},{"$f":"IF(OR(AND(LEFT($D$394,8)=\"MODELO M\",LEFT(D397,8)=\"MODELO D\"),AND(LEFT($D$394,8)=\"MODELO D\",$Z$394=\"Atribuir valor detalhado por Fase/Elemento\")),AC397,0)","v":0},{"$f":"SUM(BH397:BK397)","v":0},"MODELO A - TEMPO - N.º DE HORAS DE TRABALHO"]
[null,{"$f":"IF($B$394=\"ocultar\",\"ocultar\",IF('SA - ATIVIDADES'!$H$156>='SA - SERVICOS COMPLEMENTARES'!AH398,\"mostrar\",\"ocultar\"))","v":"ocultar"},"Designação (a preencher)","MODELO A - TEMPO - N.º DE HORAS DE TRABALHO",null,null,0,{"$f":"$H$394","v":0},{"$f":"G398*H398","v":0},null,null,null,null,null,0,{"$f":"$P$394*O398","v":0},null,null,null,null,null,null,0,{"$f":"$X$394*W398","v":0},null,null,0,0,{"$f":"AA398*AB398","v":0},null,{"$f":"BL398","v":0},null,null,2,null,null,null,null,null,null,null,null,null,null,null,null,null,null,null,null,null,null,null,null,null,null,null,null,null,{"$f":"IF(OR(AND(LEFT($D$394,8)=\"MODELO M\",LEFT(D398,8)=\"MODELO A\"),AND(LEFT($D$394,8)=\"MODELO A\",$F$394=\"Atribuir valor detalhado por Fase/Elemento\")),I398,0)","v":0},{"$f":"IF(OR(AND(LEFT($D$394,8)=\"MODELO M\",LEFT(D398,8)=\"MODELO B\"),AND(LEFT($D$394,8)=\"MODELO B\",$K$394=\"Atribuir valor detalhado por Fase/Elemento\")),P398,0)","v":0},{"$f":"IF(OR(AND(LEFT($D$394,8)=\"MODELO M\",LEFT(D398,8)=\"MODELO C\"),AND(LEFT($D$394,8)=\"MODELO C\",$R$394=\"Atribuir valor detalhado por Fase/Elemento\")),X398,0)","v":0},{"$f":"IF(OR(AND(LEFT($D$394,8)=\"MODELO M\",LEFT(D398,8)=\"MODELO D\"),AND(LEFT($D$394,8)=\"MODELO D\",$Z$394=\"Atribuir valor detalhado por Fase/Elemento\")),AC398,0)","v":0},{"$f":"SUM(BH398:BK398)","v":0},"MODELO A - TEMPO - N.º DE HORAS DE TRABALHO"]
[null,{"$f":"IF($B$394=\"ocultar\",\"ocultar\",IF('SA - ATIVIDADES'!$H$156>='SA - SERVICOS COMPLEMENTARES'!AH399,\"mostrar\",\"ocultar\"))","v":"ocultar"},"Designação (a preencher)","MODELO A - TEMPO - N.º DE HORAS DE TRABALHO",null,null,0,{"$f":"$H$394","v":0},{"$f":"G399*H399","v":0},null,null,null,null,null,0,0,null,null,null,null,null,null,0,{"$f":"$X$394*W399","v":0},null,null,0,0,{"$f":"AA399*AB399","v":0},null,{"$f":"BL399","v":0},null,null,3,null,null,null,null,null,null,null,null,null,null,null,null,null,null,null,null,null,null,null,null,null,null,null,null,null,{"$f":"IF(OR(AND(LEFT($D$394,8)=\"MODELO M\",LEFT(D399,8)=\"MODELO A\"),AND(LEFT($D$394,8)=\"MODELO A\",$F$394=\"Atribuir valor detalhado por Fase/Elemento\")),I399,0)","v":0},{"$f":"IF(OR(AND(LEFT($D$394,8)=\"MODELO M\",LEFT(D399,8)=\"MODELO B\"),AND(LEFT($D$394,8)=\"MODELO B\",$K$394=\"Atribuir valor detalhado por Fase/Elemento\")),P399,0)","v":0},{"$f":"IF(OR(AND(LEFT($D$394,8)=\"MODELO M\",LEFT(D399,8)=\"MODELO C\"),AND(LEFT($D$394,8)=\"MODELO C\",$R$394=\"Atribuir valor detalhado por Fase/Elemento\")),X399,0)","v":0},{"$f":"IF(OR(AND(LEFT($D$394,8)=\"MODELO M\",LEFT(D399,8)=\"MODELO D\"),AND(LEFT($D$394,8)=\"MODELO D\",$Z$394=\"Atribuir valor detalhado por Fase/Elemento\")),AC399,0)","v":0},{"$f":"SUM(BH399:BK399)","v":0},"MODELO A - TEMPO - N.º DE HORAS DE TRABALHO"]
[null,{"$f":"IF($B$394=\"ocultar\",\"ocultar\",IF('SA - ATIVIDADES'!$H$156>='SA - SERVICOS COMPLEMENTARES'!AH400,\"mostrar\",\"ocultar\"))","v":"ocultar"},"Designação (a preencher)","MODELO A - TEMPO - N.º DE HORAS DE TRABALHO",null,null,0,{"$f":"$H$394","v":0},{"$f":"G400*H400","v":0},null,null,null,null,null,0,0,null,null,null,null,null,null,0,{"$f":"$X$394*W400","v":0},null,null,0,0,{"$f":"AA400*AB400","v":0},null,{"$f":"BL400","v":0},null,null,4,null,null,null,null,null,null,null,null,null,null,null,null,null,null,null,null,null,null,null,null,null,null,null,null,null,{"$f":"IF(OR(AND(LEFT($D$394,8)=\"MODELO M\",LEFT(D400,8)=\"MODELO A\"),AND(LEFT($D$394,8)=\"MODELO A\",$F$394=\"Atribuir valor detalhado por Fase/Elemento\")),I400,0)","v":0},{"$f":"IF(OR(AND(LEFT($D$394,8)=\"MODELO M\",LEFT(D400,8)=\"MODELO B\"),AND(LEFT($D$394,8)=\"MODELO B\",$K$394=\"Atribuir valor detalhado por Fase/Elemento\")),P400,0)","v":0},{"$f":"IF(OR(AND(LEFT($D$394,8)=\"MODELO M\",LEFT(D400,8)=\"MODELO C\"),AND(LEFT($D$394,8)=\"MODELO C\",$R$394=\"Atribuir valor detalhado por Fase/Elemento\")),X400,0)","v":0},{"$f":"IF(OR(AND(LEFT($D$394,8)=\"MODELO M\",LEFT(D400,8)=\"MODELO D\"),AND(LEFT($D$394,8)=\"MODELO D\",$Z$394=\"Atribuir valor detalhado por Fase/Elemento\")),AC400,0)","v":0},{"$f":"SUM(BH400:BK400)","v":0},"MODELO A - TEMPO - N.º DE HORAS DE TRABALHO"]
[null,{"$f":"IF($B$394=\"ocultar\",\"ocultar\",IF('SA - ATIVIDADES'!$H$156>='SA - SERVICOS COMPLEMENTARES'!AH401,\"mostrar\",\"ocultar\"))","v":"ocultar"},"Designação (a preencher)","MODELO A - TEMPO - N.º DE HORAS DE TRABALHO",null,null,0,{"$f":"$H$394","v":0},{"$f":"G401*H401","v":0},null,null,null,null,null,0,0,null,null,null,null,null,null,0,{"$f":"$X$394*W401","v":0},null,null,0,0,{"$f":"AA401*AB401","v":0},null,{"$f":"BL401","v":0},null,null,5,null,null,null,null,null,null,null,null,null,null,null,null,null,null,null,null,null,null,null,null,null,null,null,null,null,{"$f":"IF(OR(AND(LEFT($D$394,8)=\"MODELO M\",LEFT(D401,8)=\"MODELO A\"),AND(LEFT($D$394,8)=\"MODELO A\",$F$394=\"Atribuir valor detalhado por Fase/Elemento\")),I401,0)","v":0},{"$f":"IF(OR(AND(LEFT($D$394,8)=\"MODELO M\",LEFT(D401,8)=\"MODELO B\"),AND(LEFT($D$394,8)=\"MODELO B\",$K$394=\"Atribuir valor detalhado por Fase/Elemento\")),P401,0)","v":0},{"$f":"IF(OR(AND(LEFT($D$394,8)=\"MODELO M\",LEFT(D401,8)=\"MODELO C\"),AND(LEFT($D$394,8)=\"MODELO C\",$R$394=\"Atribuir valor detalhado por Fase/Elemento\")),X401,0)","v":0},{"$f":"IF(OR(AND(LEFT($D$394,8)=\"MODELO M\",LEFT(D401,8)=\"MODELO D\"),AND(LEFT($D$394,8)=\"MODELO D\",$Z$394=\"Atribuir valor detalhado por Fase/Elemento\")),AC401,0)","v":0},{"$f":"SUM(BH401:BK401)","v":0},"MODELO A - TEMPO - N.º DE HORAS DE TRABALHO"]
[null,{"$f":"IF($B$394=\"ocultar\",\"ocultar\",\"mostrar\")","v":"ocultar"},"TOTAL",null,null,null,{"$f":"IF(F$394=\"Atribuir valor global à atividade\",G394,SUBTOTAL(109,G397:G401))","v":0},null,{"$f":"IF($F$394=\"Atribuir valor global à atividade\",I394,SUBTOTAL(109,I397:I401))","v":0},null,null,null,null,null,{"$f":"IF($K$394=\"Atribuir valor global à atividade\",1,SUBTOTAL(109,O397:O401))","v":1},{"$f":"IF($K$394=\"Atribuir valor global à atividade\",P394,SUBTOTAL(109,P397:P401))","v":0},null,null,null,null,null,null,{"$f":"IF($R$394=\"Atribuir valor global à atividade\",1,SUBTOTAL(109,W397:W401))","v":1},{"$f":"IF($R$394=\"Atribuir valor global à atividade\",X394,SUBTOTAL(109,X397:X401))","v":0},null,null,null,null,{"$f":"IF($Z$394=\"Atribuir valor global à atividade\",AC394,SUBTOTAL(109,AC397:AC401))","v":0},null,{"$f":"SUBTOTAL(109,AE397:AE401)","v":0},null,null,null,null,null,null,null,null,null,null,null,null,null,null,null,null,null,null,null,null,null,null,null,null,null,null,null,null,null,null,null,null,null,"MODELO A - TEMPO - N.º DE HORAS DE TRABALHO"]
[null,{"$f":"IF($B$394=\"ocultar\",\"ocultar\",\"mostrar\")","v":"ocultar"},null,null,null,null,null,null,null,null,null,null,null,null,null,null,null,null,null,null,null,null,null,null,null,null,null,null,null,null,null,null,null,null,null,null,null,null,null,null,null,null,null,null,null,null,null,null,null,null,null,null,null,null,null,null,null,null,null,null,null,null,null,null,"MODELO A - TEMPO - N.º DE HORAS DE TRABALHO"]
[null,{"$f":"IF('SA - ATIVIDADES'!F157=TRUE,\"mostrar\",\"ocultar\")","v":"ocultar"},"B30. PLANO DE OCUPAÇÃO DA VIA PÚBLICA","MODELO A - TEMPO - N.º DE HORAS DE TRABALHO",null,"Atribuir valor global à atividade",0,0,{"$f":"IF($F$404=\"Atribuir valor global à atividade\",G404*H404,\"\")","v":0},null,"Atribuir valor global à atividade","Valor Global Obra (VG Obra)",{"$f":"IF(L404=\"Valor Global Obra (VG Obra)\",$M$9,\"\")","v":0},0,0,{"$f":"IF(L404=\"Valor Global Obra (VG Obra)\",M404*O404,N404*O404)","v":0},null,"Atribuir valor global à atividade","Valor/m2 fixo (VF m2)",{"$f":"IF(S404=\"Valor/m2 fixo (VF m2)\",$T$9,\"\")","v":0},0,0,null,{"$f":"IF(S404=\"Valor/m2 fixo (VF m2)\",T404*1*V404,U404*1*V404)","v":0},null,"Atribuir valor global à atividade",0,0,{"$f":"AA404*AB404","v":0},null,{"$f":"BL404","v":0},null,null,null,null,null,null,null,null,null,null,null,null,null,null,null,null,null,null,null,null,null,null,null,null,null,null,null,null,{"$f":"IF(LEFT($D$404,8)=\"MODELO A\",IF($F$404=\"Atribuir valor detalhado por Fase/Elemento\",SUBTOTAL(109,BH407:BH411),I404),IF(LEFT($D$404,8)=\"MODELO M\",SUBTOTAL(109,BH407:BH411),0))","v":0},{"$f":"IF(LEFT($D$404,8)=\"MODELO B\",IF($K$404=\"Atribuir valor detalhado por Fase/Elemento\",SUBTOTAL(109,BI407:BI411),P404),IF(LEFT($D$404,8)=\"MODELO M\",SUBTOTAL(109,BI407:BI411),0))","v":0},{"$f":"IF(LEFT($D$404,8)=\"MODELO C\",IF($R$404=\"Atribuir valor detalhado por Fase/Elemento\",SUBTOTAL(109,BJ407:BJ411),X404),IF(LEFT($D$404,8)=\"MODELO M\",SUBTOTAL(109,BJ407:BJ411),0))","v":0},{"$f":"IF(LEFT($D$404,8)=\"MODELO D\",IF($Z$404=\"Atribuir valor detalhado por Fase/Elemento\",SUBTOTAL(109,BK407:BK411),AC404),IF(LEFT($D$404,8)=\"MODELO M\",SUBTOTAL(109,BK407:BK411),0))","v":0},{"$f":"SUM(BH404:BK404)","v":0},"MODELO A - TEMPO - N.º DE HORAS DE TRABALHO"]
[null,{"$f":"IF($B$404=\"ocultar\",\"ocultar\",\"mostrar\")","v":"ocultar"},null,null,null,null,null,null,null,null,null,null,null,null,null,null,null,null,null,null,null,null,null,null,null,null,null,null,null,null,null,null,null,null,null,null,null,null,null,null,null,null,null,null,null,null,null,null,null,null,null,null,null,null,null,null,null,null,null,null,null,null,null,null,"MODELO A - TEMPO - N.º DE HORAS DE TRABALHO"]
[null,"ocultar",null,null,null,null,null,null,null,null,null,null,null,null,null,null,null,null,null,null,null,null,null,null,null,null,null,null,null,null,null,null,null,null,null,null,null,null,null,null,null,null,null,null,null,null,null,null,null,null,null,null,null,null,null,null,null,null,null,null,null,null,null,null,"MODELO A - TEMPO - N.º DE HORAS DE TRABALHO"]
[null,{"$f":"IF($B$404=\"ocultar\",\"ocultar\",IF('SA - ATIVIDADES'!$H$157>='SA - SERVICOS COMPLEMENTARES'!AH407,\"mostrar\",\"ocultar\"))","v":"ocultar"},"Designação (a preencher)","MODELO A - TEMPO - N.º DE HORAS DE TRABALHO",null,null,0,{"$f":"$H$404","v":0},{"$f":"G407*H407","v":0},null,null,null,null,null,0,{"$f":"$P$404*O407","v":0},null,null,null,null,null,null,0,{"$f":"$X$404*W407","v":0},null,null,0,0,{"$f":"AA407*AB407","v":0},null,{"$f":"BL407","v":0},null,null,1,null,null,null,null,null,null,null,null,null,null,null,null,null,null,null,null,null,null,null,null,null,null,null,null,null,{"$f":"IF(OR(AND(LEFT($D$404,8)=\"MODELO M\",LEFT(D407,8)=\"MODELO A\"),AND(LEFT($D$404,8)=\"MODELO A\",$F$404=\"Atribuir valor detalhado por Fase/Elemento\")),I407,0)","v":0},{"$f":"IF(OR(AND(LEFT($D$404,8)=\"MODELO M\",LEFT(D407,8)=\"MODELO B\"),AND(LEFT($D$404,8)=\"MODELO B\",$K$404=\"Atribuir valor detalhado por Fase/Elemento\")),P407,0)","v":0},{"$f":"IF(OR(AND(LEFT($D$404,8)=\"MODELO M\",LEFT(D407,8)=\"MODELO C\"),AND(LEFT($D$404,8)=\"MODELO C\",$R$404=\"Atribuir valor detalhado por Fase/Elemento\")),X407,0)","v":0},{"$f":"IF(OR(AND(LEFT($D$404,8)=\"MODELO M\",LEFT(D407,8)=\"MODELO D\"),AND(LEFT($D$404,8)=\"MODELO D\",$Z$404=\"Atribuir valor detalhado por Fase/Elemento\")),AC407,0)","v":0},{"$f":"SUM(BH407:BK407)","v":0},"MODELO A - TEMPO - N.º DE HORAS DE TRABALHO"]
[null,{"$f":"IF($B$404=\"ocultar\",\"ocultar\",IF('SA - ATIVIDADES'!$H$157>='SA - SERVICOS COMPLEMENTARES'!AH408,\"mostrar\",\"ocultar\"))","v":"ocultar"},"Designação (a preencher)","MODELO A - TEMPO - N.º DE HORAS DE TRABALHO",null,null,0,{"$f":"$H$404","v":0},{"$f":"G408*H408","v":0},null,null,null,null,null,0,{"$f":"$P$404*O408","v":0},null,null,null,null,null,null,0,{"$f":"$X$404*W408","v":0},null,null,0,0,{"$f":"AA408*AB408","v":0},null,{"$f":"BL408","v":0},null,null,2,null,null,null,null,null,null,null,null,null,null,null,null,null,null,null,null,null,null,null,null,null,null,null,null,null,{"$f":"IF(OR(AND(LEFT($D$404,8)=\"MODELO M\",LEFT(D408,8)=\"MODELO A\"),AND(LEFT($D$404,8)=\"MODELO A\",$F$404=\"Atribuir valor detalhado por Fase/Elemento\")),I408,0)","v":0},{"$f":"IF(OR(AND(LEFT($D$404,8)=\"MODELO M\",LEFT(D408,8)=\"MODELO B\"),AND(LEFT($D$404,8)=\"MODELO B\",$K$404=\"Atribuir valor detalhado por Fase/Elemento\")),P408,0)","v":0},{"$f":"IF(OR(AND(LEFT($D$404,8)=\"MODELO M\",LEFT(D408,8)=\"MODELO C\"),AND(LEFT($D$404,8)=\"MODELO C\",$R$404=\"Atribuir valor detalhado por Fase/Elemento\")),X408,0)","v":0},{"$f":"IF(OR(AND(LEFT($D$404,8)=\"MODELO M\",LEFT(D408,8)=\"MODELO D\"),AND(LEFT($D$404,8)=\"MODELO D\",$Z$404=\"Atribuir valor detalhado por Fase/Elemento\")),AC408,0)","v":0},{"$f":"SUM(BH408:BK408)","v":0},"MODELO A - TEMPO - N.º DE HORAS DE TRABALHO"]
[null,{"$f":"IF($B$404=\"ocultar\",\"ocultar\",IF('SA - ATIVIDADES'!$H$157>='SA - SERVICOS COMPLEMENTARES'!AH409,\"mostrar\",\"ocultar\"))","v":"ocultar"},"Designação (a preencher)","MODELO A - TEMPO - N.º DE HORAS DE TRABALHO",null,null,0,{"$f":"$H$404","v":0},{"$f":"G409*H409","v":0},null,null,null,null,null,0,0,null,null,null,null,null,null,0,{"$f":"$X$404*W409","v":0},null,null,0,0,{"$f":"AA409*AB409","v":0},null,{"$f":"BL409","v":0},null,null,3,null,null,null,null,null,null,null,null,null,null,null,null,null,null,null,null,null,null,null,null,null,null,null,null,null,{"$f":"IF(OR(AND(LEFT($D$404,8)=\"MODELO M\",LEFT(D409,8)=\"MODELO A\"),AND(LEFT($D$404,8)=\"MODELO A\",$F$404=\"Atribuir valor detalhado por Fase/Elemento\")),I409,0)","v":0},{"$f":"IF(OR(AND(LEFT($D$404,8)=\"MODELO M\",LEFT(D409,8)=\"MODELO B\"),AND(LEFT($D$404,8)=\"MODELO B\",$K$404=\"Atribuir valor detalhado por Fase/Elemento\")),P409,0)","v":0},{"$f":"IF(OR(AND(LEFT($D$404,8)=\"MODELO M\",LEFT(D409,8)=\"MODELO C\"),AND(LEFT($D$404,8)=\"MODELO C\",$R$404=\"Atribuir valor detalhado por Fase/Elemento\")),X409,0)","v":0},{"$f":"IF(OR(AND(LEFT($D$404,8)=\"MODELO M\",LEFT(D409,8)=\"MODELO D\"),AND(LEFT($D$404,8)=\"MODELO D\",$Z$404=\"Atribuir valor detalhado por Fase/Elemento\")),AC409,0)","v":0},{"$f":"SUM(BH409:BK409)","v":0},"MODELO A - TEMPO - N.º DE HORAS DE TRABALHO"]
[null,{"$f":"IF($B$404=\"ocultar\",\"ocultar\",IF('SA - ATIVIDADES'!$H$157>='SA - SERVICOS COMPLEMENTARES'!AH410,\"mostrar\",\"ocultar\"))","v":"ocultar"},"Designação (a preencher)","MODELO A - TEMPO - N.º DE HORAS DE TRABALHO",null,null,0,{"$f":"$H$404","v":0},{"$f":"G410*H410","v":0},null,null,null,null,null,0,0,null,null,null,null,null,null,0,{"$f":"$X$404*W410","v":0},null,null,0,0,{"$f":"AA410*AB410","v":0},null,{"$f":"BL410","v":0},null,null,4,null,null,null,null,null,null,null,null,null,null,null,null,null,null,null,null,null,null,null,null,null,null,null,null,null,{"$f":"IF(OR(AND(LEFT($D$404,8)=\"MODELO M\",LEFT(D410,8)=\"MODELO A\"),AND(LEFT($D$404,8)=\"MODELO A\",$F$404=\"Atribuir valor detalhado por Fase/Elemento\")),I410,0)","v":0},{"$f":"IF(OR(AND(LEFT($D$404,8)=\"MODELO M\",LEFT(D410,8)=\"MODELO B\"),AND(LEFT($D$404,8)=\"MODELO B\",$K$404=\"Atribuir valor detalhado por Fase/Elemento\")),P410,0)","v":0},{"$f":"IF(OR(AND(LEFT($D$404,8)=\"MODELO M\",LEFT(D410,8)=\"MODELO C\"),AND(LEFT($D$404,8)=\"MODELO C\",$R$404=\"Atribuir valor detalhado por Fase/Elemento\")),X410,0)","v":0},{"$f":"IF(OR(AND(LEFT($D$404,8)=\"MODELO M\",LEFT(D410,8)=\"MODELO D\"),AND(LEFT($D$404,8)=\"MODELO D\",$Z$404=\"Atribuir valor detalhado por Fase/Elemento\")),AC410,0)","v":0},{"$f":"SUM(BH410:BK410)","v":0},"MODELO A - TEMPO - N.º DE HORAS DE TRABALHO"]
[null,{"$f":"IF($B$404=\"ocultar\",\"ocultar\",IF('SA - ATIVIDADES'!$H$157>='SA - SERVICOS COMPLEMENTARES'!AH411,\"mostrar\",\"ocultar\"))","v":"ocultar"},"Designação (a preencher)","MODELO A - TEMPO - N.º DE HORAS DE TRABALHO",null,null,0,{"$f":"$H$404","v":0},{"$f":"G411*H411","v":0},null,null,null,null,null,0,0,null,null,null,null,null,null,0,{"$f":"$X$404*W411","v":0},null,null,0,0,{"$f":"AA411*AB411","v":0},null,{"$f":"BL411","v":0},null,null,5,null,null,null,null,null,null,null,null,null,null,null,null,null,null,null,null,null,null,null,null,null,null,null,null,null,{"$f":"IF(OR(AND(LEFT($D$404,8)=\"MODELO M\",LEFT(D411,8)=\"MODELO A\"),AND(LEFT($D$404,8)=\"MODELO A\",$F$404=\"Atribuir valor detalhado por Fase/Elemento\")),I411,0)","v":0},{"$f":"IF(OR(AND(LEFT($D$404,8)=\"MODELO M\",LEFT(D411,8)=\"MODELO B\"),AND(LEFT($D$404,8)=\"MODELO B\",$K$404=\"Atribuir valor detalhado por Fase/Elemento\")),P411,0)","v":0},{"$f":"IF(OR(AND(LEFT($D$404,8)=\"MODELO M\",LEFT(D411,8)=\"MODELO C\"),AND(LEFT($D$404,8)=\"MODELO C\",$R$404=\"Atribuir valor detalhado por Fase/Elemento\")),X411,0)","v":0},{"$f":"IF(OR(AND(LEFT($D$404,8)=\"MODELO M\",LEFT(D411,8)=\"MODELO D\"),AND(LEFT($D$404,8)=\"MODELO D\",$Z$404=\"Atribuir valor detalhado por Fase/Elemento\")),AC411,0)","v":0},{"$f":"SUM(BH411:BK411)","v":0},"MODELO A - TEMPO - N.º DE HORAS DE TRABALHO"]
[null,{"$f":"IF($B$404=\"ocultar\",\"ocultar\",\"mostrar\")","v":"ocultar"},"TOTAL",null,null,null,{"$f":"IF(F$404=\"Atribuir valor global à atividade\",G404,SUBTOTAL(109,G407:G411))","v":0},null,{"$f":"IF($F$404=\"Atribuir valor global à atividade\",I404,SUBTOTAL(109,I407:I411))","v":0},null,null,null,null,null,{"$f":"IF($K$404=\"Atribuir valor global à atividade\",1,SUBTOTAL(109,O407:O411))","v":1},{"$f":"IF($K$404=\"Atribuir valor global à atividade\",P404,SUBTOTAL(109,P407:P411))","v":0},null,null,null,null,null,null,{"$f":"IF($R$404=\"Atribuir valor global à atividade\",1,SUBTOTAL(109,W407:W411))","v":1},{"$f":"IF($R$404=\"Atribuir valor global à atividade\",X404,SUBTOTAL(109,X407:X411))","v":0},null,null,null,null,{"$f":"IF($Z$404=\"Atribuir valor global à atividade\",AC404,SUBTOTAL(109,AC407:AC411))","v":0},null,{"$f":"SUBTOTAL(109,AE407:AE411)","v":0},null,null,null,null,null,null,null,null,null,null,null,null,null,null,null,null,null,null,null,null,null,null,null,null,null,null,null,null,null,null,null,null,null,"MODELO A - TEMPO - N.º DE HORAS DE TRABALHO"]
[null,{"$f":"IF($B$404=\"ocultar\",\"ocultar\",\"mostrar\")","v":"ocultar"},null,null,null,null,null,null,null,null,null,null,null,null,null,null,null,null,null,null,null,null,null,null,null,null,null,null,null,null,null,null,null,null,null,null,null,null,null,null,null,null,null,null,null,null,null,null,null,null,null,null,null,null,null,null,null,null,null,null,null,null,null,null,"MODELO A - TEMPO - N.º DE HORAS DE TRABALHO"]
[null,{"$f":"\"mostrar\"","v":"mostrar"},"TOTAL GERAL",null,null,null,{"$f":"SUM(G19,G29,G39,G49,G59,G112,G122,G132,G142,G152,G162,G172,G182,G192,G202,G212,G222,G232,G242,G252,G262,G272,G282,G292,G302,G312,G322,G332,G342,G352,G362,G372,G382,G392,G402,G412)","v":0},null,{"$f":"SUM(I19,I29,I39,I49,I59,I112,I122,I132,I142,I152,I162,I172,I182,I192,I202,I212,I222,I232,I242,I252,I262,I272,I282,I292,I302,I312,I322,I332,I342,I352,I362,I372,I382,I392,I402,I412)","v":0},null,null,null,null,null,null,{"$f":"SUM(P19,P29,P39,P49,P59,P112,P122,P132,P142,P152,P162,P172,P182,P192,P202,P212,P222,P232,P242,P252,P262,P272,P282,P292,P302,P312,P322,P332,P342,P352,P362,P372,P382,P392,P402,P412)","v":0},null,null,null,null,null,null,null,{"$f":"SUM(X19,X29,X39,X49,X59,X112,X122,X132,X142,X152,X162,X172,X182,X192,X202,X212,X222,X232,X242,X252,X262,X272,X282,X292,X302,X312,X322,X332,X342,X352,X362,X372,X382,X392,X402,X412)","v":0},null,null,null,null,{"$f":"SUM(AC19,AC29,AC39,AC49,AC59,AC112,AC122,AC132,AC142,AC152,AC162,AC172,AC182,AC192,AC202,AC212,AC222,AC232,AC242,AC252,AC262,AC272,AC282,AC292,AC302,AC312,AC322,AC332,AC342,AC352,AC362,AC372,AC382,AC392,AC402,AC412)","v":0},null,{"$f":"SUM(BL11,BL21,BL31,BL41,BL51,BL61,BL114,BL124,BL134,BL144,BL154,BL164,BL174,BL184,BL194,BL204,BL214,BL224,BL234,BL244,BL254,BL264,BL274,BL284,BL294,BL304,BL314,BL324,BL334,BL344,BL354,BL364,BL374,BL384,BL394,BL404)","v":0},null,null,null,null,null,null,null,null,null,null,null,null,null,null,null,null,null,null,null,null,null,null,null,null,null,null,null,null,null,null,null,null,null,"MODELO A - TEMPO - N.º DE HORAS DE TRABALHO"]
["ORDEM DOS ARQUITECTOS",null,null,null,null,null,null,null,null,null,null,null,null,null,null,null,null,null,null,null,null,null,null,null,null,null,null,null,null,null,"SIMULADOR",null,null,null,null,null,null,null,null,null,null,null,null,null,null,null,null,null,null,null,null,null,null,null,null,null,null,null,null,null,null,null,null,null,"MODELO A - TEMPO - N.º DE HORAS DE TRABALHO"]

{"sheet":"SA - SERVICOS GESTAO E CONTROLO","index":8,"n_rows":162,"n_cols":65,"rows_kept":162,"cut":false,"hidden":false,"merged":[[4,62,7,62],[4,63,7,63],[5,5,5,8],[5,25,5,28],[4,25,4,28],[4,30,7,30],[4,33,7,33],[4,59,7,59],[4,60,7,60],[4,61,7,61],[4,17,4,22],[5,2,7,2],[0,5,0,8],[0,10,0,15],[0,17,0,23],[0,25,0,28],[3,10,3,15],[4,5,4,8],[4,10,4,14]]}
[null,null,"SIMULADOR A | SERVIÇOS GESTÃO E CONTROLO",null,null,"MODELO A | TEMPO - N.º DE HORAS DE TRABALHO",null,null,null,null,"MODELO B | PERCENTAGEM - DA ESTIMATIVA APLICÁVEL",null,null,null,null,null,null,"MODELO C | ÁREA - DE CONSTRUÇÃO EM M²",null,null,null,null,null,null,null,"MODELO D | UNIDADE - N.º DE UNIDADES A APLICAR"]
[]
[]
[null,null,null,null,null,null,null,null,null,null,null,null,null,null,null,null,null,null,null,null,"x"]
[null,null,null,null,null,null,null,null,null,null,null,null,null,null,null,null,null,null,null,null,null,null,null,null,null,null,null,null,null,null,"TOTAL\n(info)",null,null,"CTRL Linhas a apresentar",null,null,null,null,null,null,null,null,null,null,null,null,null,null,null,null,null,null,null,null,null,null,null,null,null,"MODELO A","MODELO B","MODELO C","MODELO D","TOTAL"]
[null,null,"ATIVIDADES ESPECÍFICAS","MODELO DE CÁLCULO",null,null,null,null,null,null,null,null,null,null,"VG Obra",{"$f":"M9","v":0},null,null,null,null,null,null,"Valor/m² FIXO",0]
[]
[null,null,null,"SELECIONAR (info)",null,"ÂMBITO (info)","N.º HORAS","VALOR/HORA","RESULTADO",null,"ÂMBITO (info)","TIPO VALOR (info)","VG OBRA","VC OBRA","% A APLICAR (info)","RESULTADO (info)",null,"ÂMBITO (info)","TIPO VALOR (info)","VF m²","VC m²","N.º DE m²","% A APLICAR (info)","RESULTADO",null,"ÂMBITO (info)","N.º DE UNIDADES","VALOR/UNIDADE","RESULTADO"]
[null,null,null,null,null,null,null,null,null,null,null,null,{"$f":"'SIMULADOR A'!C10","v":0},null,null,null,null,null,null,{"$f":"X6","v":0}]
[]
[null,{"$f":"IF('SA - ATIVIDADES'!$F$161<>TRUE,\"ocultar\",\"mostrar\")","v":"ocultar"},"C2. ASSISTÊNCIA TÉCNICA ESPECIAL","MODELO A - TEMPO - N.º DE HORAS DE TRABALHO",null,"Atribuir valor global à atividade",0,0,{"$f":"IF($F$11=\"Atribuir valor global à atividade\",G11*H11,\"\")","v":0},null,"Atribuir valor global à atividade","Valor Global Obra (VG Obra)",{"$f":"IF(L11=\"Valor Global Obra (VG Obra)\",$M$9,\"\")","v":0},0,0,{"$f":"IF(L11=\"Valor Global Obra (VG Obra)\",M11*O11,N11*O11)","v":0},null,"Atribuir valor global à atividade","Valor/m2 fixo (VF m2)",{"$f":"IF(S11=\"Valor/m2 fixo (VF m2)\",$T$9,\"\")","v":0},0,0,null,{"$f":"IF(S11=\"Valor/m2 fixo (VF m2)\",T11*1*V11,U11*1*V11)","v":0},null,"Atribuir valor global à atividade",0,0,{"$f":"AA11*AB11","v":0},null,{"$f":"BL11","v":0},null,null,null,null,null,null,null,null,null,null,null,null,null,null,null,null,null,null,null,null,null,null,null,null,null,null,null,null,{"$f":"IF(LEFT($D$11,8)=\"MODELO A\",IF($F$11=\"Atribuir valor detalhado por Fase/Elemento\",SUBTOTAL(109,BH14:BH18),I11),IF(LEFT($D$11,8)=\"MODELO M\",SUBTOTAL(109,BH14:BH18),0))","v":0},{"$f":"IF(LEFT($D$11,8)=\"MODELO B\",IF($K$11=\"Atribuir valor detalhado por Fase/Elemento\",SUBTOTAL(109,BI14:BI18),P11),IF(LEFT($D$11,8)=\"MODELO M\",SUBTOTAL(109,BI14:BI18),0))","v":0},{"$f":"IF(LEFT($D$11,8)=\"MODELO C\",IF($R$11=\"Atribuir valor detalhado por Fase/Elemento\",SUBTOTAL(109,BJ14:BJ18),X11),IF(LEFT($D$11,8)=\"MODELO M\",SUBTOTAL(109,BJ14:BJ18),0))","v":0},{"$f":"IF(LEFT($D$11,8)=\"MODELO D\",IF($Z$11=\"Atribuir valor detalhado por Fase/Elemento\",SUBTOTAL(109,BK14:BK18),AC11),IF(LEFT($D$11,8)=\"MODELO M\",SUBTOTAL(109,BK14:BK18),0))","v":0},{"$f":"SUM(BH11:BK11)","v":0},{"$f":"IF($AH11<>\"\",BM10,IF(LEFT($D11,6)=\"MODELO\",$D11,BM10))","v":"MODELO A - TEMPO - N.º DE HORAS DE TRABALHO"}]
[null,{"$f":"IF($B$11=\"ocultar\",\"ocultar\",\"mostrar\")","v":"ocultar"},null,null,null,null,null,null,null,null,null,null,null,null,null,null,null,null,null,null,null,null,null,null,null,null,null,null,null,null,null,null,null,null,null,null,null,null,null,null,null,null,null,null,null,null,null,null,null,null,null,null,null,null,null,null,null,null,null,null,null,null,null,null,{"$f":"IF($AH12<>\"\",BM11,IF(LEFT($D12,6)=\"MODELO\",$D12,BM11))","v":"MODELO A - TEMPO - N.º DE HORAS DE TRABALHO"}]
[null,"ocultar",null,null,null,null,null,null,null,null,null,null,null,null,null,null,null,null,null,null,null,null,null,null,null,null,null,null,null,null,null,null,null,null,null,null,null,null,null,null,null,null,null,null,null,null,null,null,null,null,null,null,null,null,null,null,null,null,null,null,null,null,null,null,"MODELO A - TEMPO - N.º DE HORAS DE TRABALHO"]
[null,{"$f":"IF($B$11=\"ocultar\",\"ocultar\",IF('SA - ATIVIDADES'!$F$161=TRUE,IF('SA - ATIVIDADES'!$H$161>='SA - SERVICOS GESTAO E CONTROLO'!AH14,\"mostrar\",\"ocultar\"),\"ocultar\"))","v":"ocultar"},"Designação (a preencher)","MODELO A - TEMPO - N.º DE HORAS DE TRABALHO",null,null,0,{"$f":"$H$11","v":0},{"$f":"G14*H14","v":0},null,null,null,null,null,0,{"$f":"$P$11*O14","v":0},null,null,null,null,null,null,0,{"$f":"$X$11*W14","v":0},null,null,0,0,{"$f":"AA14*AB14","v":0},null,{"$f":"BL14","v":0},null,null,1,null,null,null,null,null,null,null,null,null,null,null,null,null,null,null,null,null,null,null,null,null,null,null,null,null,{"$f":"IF(OR(AND(LEFT($D$11,8)=\"MODELO M\",LEFT(D14,8)=\"MODELO A\"),AND(LEFT($D$11,8)=\"MODELO A\",$F$11=\"Atribuir valor detalhado por Fase/Elemento\")),I14,0)","v":0},{"$f":"IF(OR(AND(LEFT($D$11,8)=\"MODELO M\",LEFT(D14,8)=\"MODELO B\"),AND(LEFT($D$11,8)=\"MODELO B\",$K$11=\"Atribuir valor detalhado por Fase/Elemento\")),P14,0)","v":0},{"$f":"IF(OR(AND(LEFT($D$11,8)=\"MODELO M\",LEFT(D14,8)=\"MODELO C\"),AND(LEFT($D$11,8)=\"MODELO C\",$R$11=\"Atribuir valor detalhado por Fase/Elemento\")),X14,0)","v":0},{"$f":"IF(OR(AND(LEFT($D$11,8)=\"MODELO M\",LEFT(D14,8)=\"MODELO D\"),AND(LEFT($D$11,8)=\"MODELO D\",$Z$11=\"Atribuir valor detalhado por Fase/Elemento\")),AC14,0)","v":0},{"$f":"SUM(BH14:BK14)","v":0},"MODELO A - TEMPO - N.º DE HORAS DE TRABALHO"]
[null,{"$f":"IF($B$11=\"ocultar\",\"ocultar\",IF('SA - ATIVIDADES'!$F$161=TRUE,IF('SA - ATIVIDADES'!$H$161>='SA - SERVICOS GESTAO E CONTROLO'!AH15,\"mostrar\",\"ocultar\"),\"ocultar\"))","v":"ocultar"},"Designação (a preencher)","MODELO A - TEMPO - N.º DE HORAS DE TRABALHO",null,null,0,{"$f":"$H$11","v":0},{"$f":"G15*H15","v":0},null,null,null,null,null,0,{"$f":"$P$11*O15","v":0},null,null,null,null,null,null,0,{"$f":"$X$11*W15","v":0},null,null,0,0,{"$f":"AA15*AB15","v":0},null,{"$f":"BL15","v":0},null,null,2,null,null,null,null,null,null,null,null,null,null,null,null,null,null,null,null,null,null,null,null,null,null,null,null,null,{"$f":"IF(OR(AND(LEFT($D$11,8)=\"MODELO M\",LEFT(D15,8)=\"MODELO A\"),AND(LEFT($D$11,8)=\"MODELO A\",$F$11=\"Atribuir valor detalhado por Fase/Elemento\")),I15,0)","v":0},{"$f":"IF(OR(AND(LEFT($D$11,8)=\"MODELO M\",LEFT(D15,8)=\"MODELO B\"),AND(LEFT($D$11,8)=\"MODELO B\",$K$11=\"Atribuir valor detalhado por Fase/Elemento\")),P15,0)","v":0},{"$f":"IF(OR(AND(LEFT($D$11,8)=\"MODELO M\",LEFT(D15,8)=\"MODELO C\"),AND(LEFT($D$11,8)=\"MODELO C\",$R$11=\"Atribuir valor detalhado por Fase/Elemento\")),X15,0)","v":0},{"$f":"IF(OR(AND(LEFT($D$11,8)=\"MODELO M\",LEFT(D15,8)=\"MODELO D\"),AND(LEFT($D$11,8)=\"MODELO D\",$Z$11=\"Atribuir valor detalhado por Fase/Elemento\")),AC15,0)","v":0},{"$f":"SUM(BH15:BK15)","v":0},"MODELO A - TEMPO - N.º DE HORAS DE TRABALHO"]
[null,{"$f":"IF($B$11=\"ocultar\",\"ocultar\",IF('SA - ATIVIDADES'!$F$161=TRUE,IF('SA - ATIVIDADES'!$H$161>='SA - SERVICOS GESTAO E CONTROLO'!AH16,\"mostrar\",\"ocultar\"),\"ocultar\"))","v":"ocultar"},"Designação (a preencher)","MODELO A - TEMPO - N.º DE HORAS DE TRABALHO",null,null,0,0,0,null,null,null,null,null,0,0,null,null,null,null,null,null,0,0,null,null,0,0,0,null,0,null,null,3,null,null,null,null,null,null,null,null,null,null,null,null,null,null,null,null,null,null,null,null,null,null,null,null,null,{"$f":"IF(OR(AND(LEFT($D$11,8)=\"MODELO M\",LEFT(D16,8)=\"MODELO A\"),AND(LEFT($D$11,8)=\"MODELO A\",$F$11=\"Atribuir valor detalhado por Fase/Elemento\")),I16,0)","v":0},{"$f":"IF(OR(AND(LEFT($D$11,8)=\"MODELO M\",LEFT(D16,8)=\"MODELO B\"),AND(LEFT($D$11,8)=\"MODELO B\",$K$11=\"Atribuir valor detalhado por Fase/Elemento\")),P16,0)","v":0},{"$f":"IF(OR(AND(LEFT($D$11,8)=\"MODELO M\",LEFT(D16,8)=\"MODELO C\"),AND(LEFT($D$11,8)=\"MODELO C\",$R$11=\"Atribuir valor detalhado por Fase/Elemento\")),X16,0)","v":0},{"$f":"IF(OR(AND(LEFT($D$11,8)=\"MODELO M\",LEFT(D16,8)=\"MODELO D\"),AND(LEFT($D$11,8)=\"MODELO D\",$Z$11=\"Atribuir valor detalhado por Fase/Elemento\")),AC16,0)","v":0},0,"MODELO A - TEMPO - N.º DE HORAS DE TRABALHO"]
[null,{"$f":"IF($B$11=\"ocultar\",\"ocultar\",IF('SA - ATIVIDADES'!$F$161=TRUE,IF('SA - ATIVIDADES'!$H$161>='SA - SERVICOS GESTAO E CONTROLO'!AH17,\"mostrar\",\"ocultar\"),\"ocultar\"))","v":"ocultar"},"Designação (a preencher)","MODELO A - TEMPO - N.º DE HORAS DE TRABALHO",null,null,0,0,0,null,null,null,null,null,0,0,null,null,null,null,null,null,0,0,null,null,0,0,0,null,0,null,null,4,null,null,null,null,null,null,null,null,null,null,null,null,null,null,null,null,null,null,null,null,null,null,null,null,null,{"$f":"IF(OR(AND(LEFT($D$11,8)=\"MODELO M\",LEFT(D17,8)=\"MODELO A\"),AND(LEFT($D$11,8)=\"MODELO A\",$F$11=\"Atribuir valor detalhado por Fase/Elemento\")),I17,0)","v":0},{"$f":"IF(OR(AND(LEFT($D$11,8)=\"MODELO M\",LEFT(D17,8)=\"MODELO B\"),AND(LEFT($D$11,8)=\"MODELO B\",$K$11=\"Atribuir valor detalhado por Fase/Elemento\")),P17,0)","v":0},{"$f":"IF(OR(AND(LEFT($D$11,8)=\"MODELO M\",LEFT(D17,8)=\"MODELO C\"),AND(LEFT($D$11,8)=\"MODELO C\",$R$11=\"Atribuir valor detalhado por Fase/Elemento\")),X17,0)","v":0},{"$f":"IF(OR(AND(LEFT($D$11,8)=\"MODELO M\",LEFT(D17,8)=\"MODELO D\"),AND(LEFT($D$11,8)=\"MODELO D\",$Z$11=\"Atribuir valor detalhado por Fase/Elemento\")),AC17,0)","v":0},0,"MODELO A - TEMPO - N.º DE HORAS DE TRABALHO"]
[null,{"$f":"IF($B$11=\"ocultar\",\"ocultar\",IF('SA - ATIVIDADES'!$F$161=TRUE,IF('SA - ATIVIDADES'!$H$161>='SA - SERVICOS GESTAO E CONTROLO'!AH18,\"mostrar\",\"ocultar\"),\"ocultar\"))","v":"ocultar"},"Designação (a preencher)","MODELO A - TEMPO - N.º DE HORAS DE TRABALHO",null,null,0,0,0,null,null,null,null,null,0,0,null,null,null,null,null,null,0,0,null,null,0,0,0,null,0,null,null,5,null,null,null,null,null,null,null,null,null,null,null,null,null,null,null,null,null,null,null,null,null,null,null,null,null,{"$f":"IF(OR(AND(LEFT($D$11,8)=\"MODELO M\",LEFT(D18,8)=\"MODELO A\"),AND(LEFT($D$11,8)=\"MODELO A\",$F$11=\"Atribuir valor detalhado por Fase/Elemento\")),I18,0)","v":0},{"$f":"IF(OR(AND(LEFT($D$11,8)=\"MODELO M\",LEFT(D18,8)=\"MODELO B\"),AND(LEFT($D$11,8)=\"MODELO B\",$K$11=\"Atribuir valor detalhado por Fase/Elemento\")),P18,0)","v":0},{"$f":"IF(OR(AND(LEFT($D$11,8)=\"MODELO M\",LEFT(D18,8)=\"MODELO C\"),AND(LEFT($D$11,8)=\"MODELO C\",$R$11=\"Atribuir valor detalhado por Fase/Elemento\")),X18,0)","v":0},{"$f":"IF(OR(AND(LEFT($D$11,8)=\"MODELO M\",LEFT(D18,8)=\"MODELO D\"),AND(LEFT($D$11,8)=\"MODELO D\",$Z$11=\"Atribuir valor detalhado por Fase/Elemento\")),AC18,0)","v":0},0,"MODELO A - TEMPO - N.º DE HORAS DE TRABALHO"]
[null,{"$f":"IF($B$14=\"ocultar\",\"ocultar\",\"mostrar\")","v":"ocultar"},"TOTAL",null,null,null,{"$f":"IF($F11=\"Atribuir valor global à atividade\",G11,SUBTOTAL(109,G14:G18))","v":0},null,{"$f":"IF($F11=\"Atribuir valor global à atividade\",I11,SUBTOTAL(109,I14:I18))","v":0},null,null,null,null,null,{"$f":"IF($K11=\"Atribuir valor global à atividade\",1,SUBTOTAL(109,O14:O18))","v":1},{"$f":"IF($K11=\"Atribuir valor global à atividade\",P11,SUBTOTAL(109,P14:P18))","v":0},null,null,null,null,null,null,{"$f":"IF($R11=\"Atribuir valor global à atividade\",1,SUBTOTAL(109,W14:W18))","v":1},{"$f":"IF($R11=\"Atribuir valor global à atividade\",X11,SUBTOTAL(109,X14:X18))","v":0},null,null,null,null,{"$f":"IF($Z11=\"Atribuir valor global à atividade\",AC11,SUBTOTAL(109,AC14:AC18))","v":0},null,{"$f":"BL11","v":0},null,null,null,null,null,null,null,null,null,null,null,null,null,null,null,null,null,null,null,null,null,null,null,null,null,null,null,null,null,null,null,null,null,"MODELO A - TEMPO - N.º DE HORAS DE TRABALHO"]
[null,{"$f":"IF($B$11=\"mostrar\",\"mostrar\",\"ocultar\")","v":"ocultar"},null,null,null,null,null,null,null,null,null,null,null,null,null,null,null,null,null,null,null,null,null,null,null,null,null,null,null,null,null,null,null,null,null,null,null,null,null,null,null,null,null,null,null,null,null,null,null,null,null,null,null,null,null,null,null,null,null,null,null,null,null,null,"MODELO A - TEMPO - N.º DE HORAS DE TRABALHO"]
[null,{"$f":"IF('SA - ATIVIDADES'!$F$164<>TRUE,\"ocultar\",\"mostrar\")","v":"ocultar"},"D1. REVISÃO DE PROJETO","MODELO A - TEMPO - N.º DE HORAS DE TRABALHO",null,"Atribuir valor global à atividade",0,0,{"$f":"IF($F$21=\"Atribuir valor global à atividade\",G21*H21,\"\")","v":0},null,"Atribuir valor global à atividade","Valor Global Obra (VG Obra)",{"$f":"IF(L21=\"Valor Global Obra (VG Obra)\",$M$9,\"\")","v":0},0,0,{"$f":"IF(L21=\"Valor Global Obra (VG Obra)\",M21*O21,N21*O21)","v":0},null,"Atribuir valor global à atividade","Valor/m2 fixo (VF m2)",{"$f":"IF(S21=\"Valor/m2 fixo (VF m2)\",$T$9,\"\")","v":0},0,0,null,{"$f":"IF(S21=\"Valor/m2 fixo (VF m2)\",T21*1*V21,U21*1*V21)","v":0},null,"Atribuir valor global à atividade",0,0,{"$f":"AA21*AB21","v":0},null,{"$f":"BL21","v":0},null,null,null,null,null,null,null,null,null,null,null,null,null,null,null,null,null,null,null,null,null,null,null,null,null,null,null,null,{"$f":"IF(LEFT($D$21,8)=\"MODELO A\",IF($F$21=\"Atribuir valor detalhado por Fase/Elemento\",SUBTOTAL(109,BH24:BH28),I21),IF(LEFT($D$21,8)=\"MODELO M\",SUBTOTAL(109,BH24:BH28),0))","v":0},{"$f":"IF(LEFT($D$21,8)=\"MODELO B\",IF($K$21=\"Atribuir valor detalhado por Fase/Elemento\",SUBTOTAL(109,BI24:BI28),P21),IF(LEFT($D$21,8)=\"MODELO M\",SUBTOTAL(109,BI24:BI28),0))","v":0},{"$f":"IF(LEFT($D$21,8)=\"MODELO C\",IF($R$21=\"Atribuir valor detalhado por Fase/Elemento\",SUBTOTAL(109,BJ24:BJ28),X21),IF(LEFT($D$21,8)=\"MODELO M\",SUBTOTAL(109,BJ24:BJ28),0))","v":0},{"$f":"IF(LEFT($D$21,8)=\"MODELO D\",IF($Z$21=\"Atribuir valor detalhado por Fase/Elemento\",SUBTOTAL(109,BK24:BK28),AC21),IF(LEFT($D$21,8)=\"MODELO M\",SUBTOTAL(109,BK24:BK28),0))","v":0},{"$f":"SUM(BH21:BK21)","v":0},"MODELO A - TEMPO - N.º DE HORAS DE TRABALHO"]
[null,{"$f":"IF($B$21=\"ocultar\",\"ocultar\",\"mostrar\")","v":"ocultar"},null,null,null,null,null,null,null,null,null,null,null,null,null,null,null,null,null,null,null,null,null,null,null,null,null,null,null,null,null,null,null,null,null,null,null,null,null,null,null,null,null,null,null,null,null,null,null,null,null,null,null,null,null,null,null,null,null,null,null,null,null,null,"MODELO A - TEMPO - N.º DE HORAS DE TRABALHO"]
[null,"ocultar",null,null,null,null,null,null,null,null,null,null,null,null,null,null,null,null,null,null,null,null,null,null,null,null,null,null,null,null,null,null,null,null,null,null,null,null,null,null,null,null,null,null,null,null,null,null,null,null,null,null,null,null,null,null,null,null,null,null,null,null,null,null,"MODELO A - TEMPO - N.º DE HORAS DE TRABALHO"]
[null,{"$f":"IF($B$21=\"ocultar\",\"ocultar\",IF('SA - ATIVIDADES'!$F$164=TRUE,IF('SA - ATIVIDADES'!$H$164>='SA - SERVICOS GESTAO E CONTROLO'!AH24,\"mostrar\",\"ocultar\"),\"ocultar\"))","v":"ocultar"},"Designação (a preencher)","MODELO A - TEMPO - N.º DE HORAS DE TRABALHO",null,null,0,{"$f":"$H$21","v":0},{"$f":"G24*H24","v":0},null,null,null,null,null,0,{"$f":"$P$21*O24","v":0},null,null,null,null,null,null,0,{"$f":"$X$21*W24","v":0},null,null,0,0,{"$f":"AA24*AB24","v":0},null,{"$f":"BL24","v":0},null,null,1,null,null,null,null,null,null,null,null,null,null,null,null,null,null,null,null,null,null,null,null,null,null,null,null,null,{"$f":"IF(OR(AND(LEFT($D$21,8)=\"MODELO M\",LEFT(D24,8)=\"MODELO A\"),AND(LEFT($D$21,8)=\"MODELO A\",$F$21=\"Atribuir valor detalhado por Fase/Elemento\")),I24,0)","v":0},{"$f":"IF(OR(AND(LEFT($D$21,8)=\"MODELO M\",LEFT(D24,8)=\"MODELO B\"),AND(LEFT($D$21,8)=\"MODELO B\",$K$21=\"Atribuir valor detalhado por Fase/Elemento\")),P24,0)","v":0},{"$f":"IF(OR(AND(LEFT($D$21,8)=\"MODELO M\",LEFT(D24,8)=\"MODELO C\"),AND(LEFT($D$21,8)=\"MODELO C\",$R$21=\"Atribuir valor detalhado por Fase/Elemento\")),X24,0)","v":0},{"$f":"IF(OR(AND(LEFT($D$21,8)=\"MODELO M\",LEFT(D24,8)=\"MODELO D\"),AND(LEFT($D$21,8)=\"MODELO D\",$Z$21=\"Atribuir valor detalhado por Fase/Elemento\")),AC24,0)","v":0},{"$f":"SUM(BH24:BK24)","v":0},"MODELO A - TEMPO - N.º DE HORAS DE TRABALHO"]
[null,{"$f":"IF($B$21=\"ocultar\",\"ocultar\",IF('SA - ATIVIDADES'!$F$164=TRUE,IF('SA - ATIVIDADES'!$H$164>='SA - SERVICOS GESTAO E CONTROLO'!AH25,\"mostrar\",\"ocultar\"),\"ocultar\"))","v":"ocultar"},"Designação (a preencher)","MODELO A - TEMPO - N.º DE HORAS DE TRABALHO",null,null,0,{"$f":"$H$21","v":0},{"$f":"G25*H25","v":0},null,null,null,null,null,0,{"$f":"$P$21*O25","v":0},null,null,null,null,null,null,0,{"$f":"$X$21*W25","v":0},null,null,0,0,{"$f":"AA25*AB25","v":0},null,{"$f":"BL25","v":0},null,null,2,null,null,null,null,null,null,null,null,null,null,null,null,null,null,null,null,null,null,null,null,null,null,null,null,null,{"$f":"IF(OR(AND(LEFT($D$21,8)=\"MODELO M\",LEFT(D25,8)=\"MODELO A\"),AND(LEFT($D$21,8)=\"MODELO A\",$F$21=\"Atribuir valor detalhado por Fase/Elemento\")),I25,0)","v":0},{"$f":"IF(OR(AND(LEFT($D$21,8)=\"MODELO M\",LEFT(D25,8)=\"MODELO B\"),AND(LEFT($D$21,8)=\"MODELO B\",$K$21=\"Atribuir valor detalhado por Fase/Elemento\")),P25,0)","v":0},{"$f":"IF(OR(AND(LEFT($D$21,8)=\"MODELO M\",LEFT(D25,8)=\"MODELO C\"),AND(LEFT($D$21,8)=\"MODELO C\",$R$21=\"Atribuir valor detalhado por Fase/Elemento\")),X25,0)","v":0},{"$f":"IF(OR(AND(LEFT($D$21,8)=\"MODELO M\",LEFT(D25,8)=\"MODELO D\"),AND(LEFT($D$21,8)=\"MODELO D\",$Z$21=\"Atribuir valor detalhado por Fase/Elemento\")),AC25,0)","v":0},{"$f":"SUM(BH25:BK25)","v":0},"MODELO A - TEMPO - N.º DE HORAS DE TRABALHO"]
[null,{"$f":"IF($B$21=\"ocultar\",\"ocultar\",IF('SA - ATIVIDADES'!$F$164=TRUE,IF('SA - ATIVIDADES'!$H$164>='SA - SERVICOS GESTAO E CONTROLO'!AH26,\"mostrar\",\"ocultar\"),\"ocultar\"))","v":"ocultar"},"Designação (a preencher)","MODELO A - TEMPO - N.º DE HORAS DE TRABALHO",null,null,0,0,0,null,null,null,null,null,0,0,null,null,null,null,null,null,0,0,null,null,0,0,0,null,0,null,null,3,null,null,null,null,null,null,null,null,null,null,null,null,null,null,null,null,null,null,null,null,null,null,null,null,null,{"$f":"IF(OR(AND(LEFT($D$21,8)=\"MODELO M\",LEFT(D26,8)=\"MODELO A\"),AND(LEFT($D$21,8)=\"MODELO A\",$F$21=\"Atribuir valor detalhado por Fase/Elemento\")),I26,0)","v":0},{"$f":"IF(OR(AND(LEFT($D$21,8)=\"MODELO M\",LEFT(D26,8)=\"MODELO B\"),AND(LEFT($D$21,8)=\"MODELO B\",$K$21=\"Atribuir valor detalhado por Fase/Elemento\")),P26,0)","v":0},{"$f":"IF(OR(AND(LEFT($D$21,8)=\"MODELO M\",LEFT(D26,8)=\"MODELO C\"),AND(LEFT($D$21,8)=\"MODELO C\",$R$21=\"Atribuir valor detalhado por Fase/Elemento\")),X26,0)","v":0},{"$f":"IF(OR(AND(LEFT($D$21,8)=\"MODELO M\",LEFT(D26,8)=\"MODELO D\"),AND(LEFT($D$21,8)=\"MODELO D\",$Z$21=\"Atribuir valor detalhado por Fase/Elemento\")),AC26,0)","v":0},0,"MODELO A - TEMPO - N.º DE HORAS DE TRABALHO"]
[null,{"$f":"IF($B$21=\"ocultar\",\"ocultar\",IF('SA - ATIVIDADES'!$F$164=TRUE,IF('SA - ATIVIDADES'!$H$164>='SA - SERVICOS GESTAO E CONTROLO'!AH27,\"mostrar\",\"ocultar\"),\"ocultar\"))","v":"ocultar"},"Designação (a preencher)","MODELO A - TEMPO - N.º DE HORAS DE TRABALHO",null,null,0,0,0,null,null,null,null,null,0,0,null,null,null,null,null,null,0,0,null,null,0,0,0,null,0,null,null,4,null,null,null,null,null,null,null,null,null,null,null,null,null,null,null,null,null,null,null,null,null,null,null,null,null,{"$f":"IF(OR(AND(LEFT($D$21,8)=\"MODELO M\",LEFT(D27,8)=\"MODELO A\"),AND(LEFT($D$21,8)=\"MODELO A\",$F$21=\"Atribuir valor detalhado por Fase/Elemento\")),I27,0)","v":0},{"$f":"IF(OR(AND(LEFT($D$21,8)=\"MODELO M\",LEFT(D27,8)=\"MODELO B\"),AND(LEFT($D$21,8)=\"MODELO B\",$K$21=\"Atribuir valor detalhado por Fase/Elemento\")),P27,0)","v":0},{"$f":"IF(OR(AND(LEFT($D$21,8)=\"MODELO M\",LEFT(D27,8)=\"MODELO C\"),AND(LEFT($D$21,8)=\"MODELO C\",$R$21=\"Atribuir valor detalhado por Fase/Elemento\")),X27,0)","v":0},{"$f":"IF(OR(AND(LEFT($D$21,8)=\"MODELO M\",LEFT(D27,8)=\"MODELO D\"),AND(LEFT($D$21,8)=\"MODELO D\",$Z$21=\"Atribuir valor detalhado por Fase/Elemento\")),AC27,0)","v":0},0,"MODELO A - TEMPO - N.º DE HORAS DE TRABALHO"]
[null,{"$f":"IF($B$21=\"ocultar\",\"ocultar\",IF('SA - ATIVIDADES'!$F$164=TRUE,IF('SA - ATIVIDADES'!$H$164>='SA - SERVICOS GESTAO E CONTROLO'!AH28,\"mostrar\",\"ocultar\"),\"ocultar\"))","v":"ocultar"},"Designação (a preencher)","MODELO A - TEMPO - N.º DE HORAS DE TRABALHO",null,null,0,0,0,null,null,null,null,null,0,0,null,null,null,null,null,null,0,0,null,null,0,0,0,null,0,null,null,5,null,null,null,null,null,null,null,null,null,null,null,null,null,null,null,null,null,null,null,null,null,null,null,null,null,{"$f":"IF(OR(AND(LEFT($D$21,8)=\"MODELO M\",LEFT(D28,8)=\"MODELO A\"),AND(LEFT($D$21,8)=\"MODELO A\",$F$21=\"Atribuir valor detalhado por Fase/Elemento\")),I28,0)","v":0},{"$f":"IF(OR(AND(LEFT($D$21,8)=\"MODELO M\",LEFT(D28,8)=\"MODELO B\"),AND(LEFT($D$21,8)=\"MODELO B\",$K$21=\"Atribuir valor detalhado por Fase/Elemento\")),P28,0)","v":0},{"$f":"IF(OR(AND(LEFT($D$21,8)=\"MODELO M\",LEFT(D28,8)=\"MODELO C\"),AND(LEFT($D$21,8)=\"MODELO C\",$R$21=\"Atribuir valor detalhado por Fase/Elemento\")),X28,0)","v":0},{"$f":"IF(OR(AND(LEFT($D$21,8)=\"MODELO M\",LEFT(D28,8)=\"MODELO D\"),AND(LEFT($D$21,8)=\"MODELO D\",$Z$21=\"Atribuir valor detalhado por Fase/Elemento\")),AC28,0)","v":0},0,"MODELO A - TEMPO - N.º DE HORAS DE TRABALHO"]
[null,{"$f":"IF($B$24=\"ocultar\",\"ocultar\",\"mostrar\")","v":"ocultar"},"TOTAL",null,null,null,{"$f":"IF($F21=\"Atribuir valor global à atividade\",G21,SUBTOTAL(109,G24:G28))","v":0},null,{"$f":"IF($F21=\"Atribuir valor global à atividade\",I21,SUBTOTAL(109,I24:I28))","v":0},null,null,null,null,null,{"$f":"IF($K21=\"Atribuir valor global à atividade\",1,SUBTOTAL(109,O24:O28))","v":1},{"$f":"IF($K21=\"Atribuir valor global à atividade\",P21,SUBTOTAL(109,P24:P28))","v":0},null,null,null,null,null,null,{"$f":"IF($R21=\"Atribuir valor global à atividade\",1,SUBTOTAL(109,W24:W28))","v":1},{"$f":"IF($R21=\"Atribuir valor global à atividade\",X21,SUBTOTAL(109,X24:X28))","v":0},null,null,null,null,{"$f":"IF($Z21=\"Atribuir valor global à atividade\",AC21,SUBTOTAL(109,AC24:AC28))","v":0},null,{"$f":"BL21","v":0},null,null,null,null,null,null,null,null,null,null,null,null,null,null,null,null,null,null,null,null,null,null,null,null,null,null,null,null,null,null,null,null,null,"MODELO A - TEMPO - N.º DE HORAS DE TRABALHO"]
[null,{"$f":"IF($B$21=\"mostrar\",\"mostrar\",\"ocultar\")","v":"ocultar"},null,null,null,null,null,null,null,null,null,null,null,null,null,null,null,null,null,null,null,null,null,null,null,null,null,null,null,null,null,null,null,null,null,null,null,null,null,null,null,null,null,null,null,null,null,null,null,null,null,null,null,null,null,null,null,null,null,null,null,null,null,null,"MODELO A - TEMPO - N.º DE HORAS DE TRABALHO"]
[null,{"$f":"IF('SA - ATIVIDADES'!$F$167<>TRUE,\"ocultar\",\"mostrar\")","v":"ocultar"},"E2. COORDENAÇÃO DE SEGURANÇA E SAÚDE EM PROJETO","MODELO A - TEMPO - N.º DE HORAS DE TRABALHO",null,"Atribuir valor global à atividade",0,0,{"$f":"IF($F$31=\"Atribuir valor global à atividade\",G31*H31,\"\")","v":0},null,"Atribuir valor global à atividade","Valor Global Obra (VG Obra)",{"$f":"IF(L31=\"Valor Global Obra (VG Obra)\",$M$9,\"\")","v":0},0,0,{"$f":"IF(L31=\"Valor Global Obra (VG Obra)\",M31*O31,N31*O31)","v":0},null,"Atribuir valor global à atividade","Valor/m2 fixo (VF m2)",{"$f":"IF(S31=\"Valor/m2 fixo (VF m2)\",$T$9,\"\")","v":0},0,0,null,{"$f":"IF(S31=\"Valor/m2 fixo (VF m2)\",T31*1*V31,U31*1*V31)","v":0},null,"Atribuir valor global à atividade",0,0,{"$f":"AA31*AB31","v":0},null,{"$f":"BL31","v":0},null,null,null,null,null,null,null,null,null,null,null,null,null,null,null,null,null,null,null,null,null,null,null,null,null,null,null,null,{"$f":"IF(LEFT($D$31,8)=\"MODELO A\",IF($F$31=\"Atribuir valor detalhado por Fase/Elemento\",SUBTOTAL(109,BH34:BH38),I31),IF(LEFT($D$31,8)=\"MODELO M\",SUBTOTAL(109,BH34:BH38),0))","v":0},{"$f":"IF(LEFT($D$31,8)=\"MODELO B\",IF($K$31=\"Atribuir valor detalhado por Fase/Elemento\",SUBTOTAL(109,BI34:BI38),P31),IF(LEFT($D$31,8)=\"MODELO M\",SUBTOTAL(109,BI34:BI38),0))","v":0},{"$f":"IF(LEFT($D$31,8)=\"MODELO C\",IF($R$31=\"Atribuir valor detalhado por Fase/Elemento\",SUBTOTAL(109,BJ34:BJ38),X31),IF(LEFT($D$31,8)=\"MODELO M\",SUBTOTAL(109,BJ34:BJ38),0))","v":0},{"$f":"IF(LEFT($D$31,8)=\"MODELO D\",IF($Z$31=\"Atribuir valor detalhado por Fase/Elemento\",SUBTOTAL(109,BK34:BK38),AC31),IF(LEFT($D$31,8)=\"MODELO M\",SUBTOTAL(109,BK34:BK38),0))","v":0},{"$f":"SUM(BH31:BK31)","v":0},"MODELO A - TEMPO - N.º DE HORAS DE TRABALHO"]
[null,{"$f":"IF($B$31=\"ocultar\",\"ocultar\",\"mostrar\")","v":"ocultar"},null,null,null,null,null,null,null,null,null,null,null,null,null,null,null,null,null,null,null,null,null,null,null,null,null,null,null,null,null,null,null,null,null,null,null,null,null,null,null,null,null,null,null,null,null,null,null,null,null,null,null,null,null,null,null,null,null,null,null,null,null,null,"MODELO A - TEMPO - N.º DE HORAS DE TRABALHO"]
[null,"ocultar",null,null,null,null,null,null,null,null,null,null,null,null,null,null,null,null,null,null,null,null,null,null,null,null,null,null,null,null,null,null,null,null,null,null,null,null,null,null,null,null,null,null,null,null,null,null,null,null,null,null,null,null,null,null,null,null,null,null,null,null,null,null,"MODELO A - TEMPO - N.º DE HORAS DE TRABALHO"]
[null,{"$f":"IF($B$31=\"ocultar\",\"ocultar\",IF('SA - ATIVIDADES'!$F$167=TRUE,IF('SA - ATIVIDADES'!$H$167>='SA - SERVICOS GESTAO E CONTROLO'!AH34,\"mostrar\",\"ocultar\"),\"ocultar\"))","v":"ocultar"},"Designação (a preencher)","MODELO A - TEMPO - N.º DE HORAS DE TRABALHO",null,null,0,{"$f":"$H$31","v":0},{"$f":"G34*H34","v":0},null,null,null,null,null,0,{"$f":"$P$31*O34","v":0},null,null,null,null,null,null,0,{"$f":"$X$31*W34","v":0},null,null,0,0,{"$f":"AA34*AB34","v":0},null,{"$f":"BL34","v":0},null,null,1,null,null,null,null,null,null,null,null,null,null,null,null,null,null,null,null,null,null,null,null,null,null,null,null,null,{"$f":"IF(OR(AND(LEFT($D$31,8)=\"MODELO M\", LEFT(D34,8)=\"MODELO A\"), AND(LEFT($D$31,8)=\"MODELO A\", $F$31=\"Atribuir valor detalhado por Fase/Elemento\")), I34, 0)","v":0},{"$f":"IF(OR(AND(LEFT($D$31,8)=\"MODELO M\", LEFT(D34,8)=\"MODELO B\"), AND(LEFT($D$31,8)=\"MODELO B\", $K$31=\"Atribuir valor detalhado por Fase/Elemento\")), P34, 0)","v":0},{"$f":"IF(OR(AND(LEFT($D$31,8)=\"MODELO M\", LEFT(D34,8)=\"MODELO C\"), AND(LEFT($D$31,8)=\"MODELO C\", $R$31=\"Atribuir valor detalhado por Fase/Elemento\")), X34, 0)","v":0},{"$f":"IF(OR(AND(LEFT($D$31,8)=\"MODELO M\", LEFT(D34,8)=\"MODELO D\"), AND(LEFT($D$31,8)=\"MODELO D\", $Z$31=\"Atribuir valor detalhado por Fase/Elemento\")), AC34, 0)","v":0},{"$f":"SUM(BH34:BK34)","v":0},"MODELO A - TEMPO - N.º DE HORAS DE TRABALHO"]
[null,{"$f":"IF($B$31=\"ocultar\",\"ocultar\",IF('SA - ATIVIDADES'!$F$167=TRUE,IF('SA - ATIVIDADES'!$H$167>='SA - SERVICOS GESTAO E CONTROLO'!AH35,\"mostrar\",\"ocultar\"),\"ocultar\"))","v":"ocultar"},"Designação (a preencher)","MODELO A - TEMPO - N.º DE HORAS DE TRABALHO",null,null,0,0,{"$f":"G35*H35","v":0},null,null,null,null,null,0,{"$f":"$P$31*O35","v":0},null,null,null,null,null,null,0,{"$f":"$X$31*W35","v":0},null,null,0,0,0,null,{"$f":"BL35","v":0},null,null,2,null,null,null,null,null,null,null,null,null,null,null,null,null,null,null,null,null,null,null,null,null,null,null,null,null,0,0,0,0,{"$f":"SUM(BH35:BK35)","v":0},"MODELO A - TEMPO - N.º DE HORAS DE TRABALHO"]
[null,{"$f":"IF($B$31=\"ocultar\",\"ocultar\",IF('SA - ATIVIDADES'!$F$167=TRUE,IF('SA - ATIVIDADES'!$H$167>='SA - SERVICOS GESTAO E CONTROLO'!AH36,\"mostrar\",\"ocultar\"),\"ocultar\"))","v":"ocultar"},"Designação (a preencher)","MODELO A - TEMPO - N.º DE HORAS DE TRABALHO",null,null,0,0,0,null,null,null,null,null,0,{"$f":"$P$31*O36","v":0},null,null,null,null,null,null,0,0,null,null,0,0,0,null,0,null,null,3,null,null,null,null,null,null,null,null,null,null,null,null,null,null,null,null,null,null,null,null,null,null,null,null,null,0,0,0,0,0,"MODELO A - TEMPO - N.º DE HORAS DE TRABALHO"]
[null,{"$f":"IF($B$31=\"ocultar\",\"ocultar\",IF('SA - ATIVIDADES'!$F$167=TRUE,IF('SA - ATIVIDADES'!$H$167>='SA - SERVICOS GESTAO E CONTROLO'!AH37,\"mostrar\",\"ocultar\"),\"ocultar\"))","v":"ocultar"},"Designação (a preencher)","MODELO A - TEMPO - N.º DE HORAS DE TRABALHO",null,null,0,0,0,null,null,null,null,null,0,{"$f":"$P$31*O37","v":0},null,null,null,null,null,null,0,0,null,null,0,0,0,null,0,null,null,4,null,null,null,null,null,null,null,null,null,null,null,null,null,null,null,null,null,null,null,null,null,null,null,null,null,0,0,0,0,0,"MODELO A - TEMPO - N.º DE HORAS DE TRABALHO"]
[null,{"$f":"IF($B$31=\"ocultar\",\"ocultar\",IF('SA - ATIVIDADES'!$F$167=TRUE,IF('SA - ATIVIDADES'!$H$167>='SA - SERVICOS GESTAO E CONTROLO'!AH38,\"mostrar\",\"ocultar\"),\"ocultar\"))","v":"ocultar"},"Designação (a preencher)","MODELO A - TEMPO - N.º DE HORAS DE TRABALHO",null,null,0,0,0,null,null,null,null,null,0,{"$f":"$P$31*O38","v":0},null,null,null,null,null,null,0,0,null,null,0,0,0,null,0,null,null,5,null,null,null,null,null,null,null,null,null,null,null,null,null,null,null,null,null,null,null,null,null,null,null,null,null,0,0,0,0,0,"MODELO A - TEMPO - N.º DE HORAS DE TRABALHO"]
[null,{"$f":"IF($B$34=\"ocultar\",\"ocultar\",\"mostrar\")","v":"ocultar"},"TOTAL",null,null,null,{"$f":"IF($F31=\"Atribuir valor global à atividade\",G31,SUBTOTAL(109,G34:G38))","v":0},null,{"$f":"IF($F31=\"Atribuir valor global à atividade\",I31,SUBTOTAL(109,I34:I38))","v":0},null,null,null,null,null,{"$f":"IF($K31=\"Atribuir valor global à atividade\",1,SUBTOTAL(109,O34:O38))","v":1},{"$f":"IF($K31=\"Atribuir valor global à atividade\",P31,SUBTOTAL(109,P34:P38))","v":0},null,null,null,null,null,null,{"$f":"IF($R31=\"Atribuir valor global à atividade\",1,SUBTOTAL(109,W34:W38))","v":1},{"$f":"IF($R31=\"Atribuir valor global à atividade\",X31,SUBTOTAL(109,X34:X38))","v":0},null,null,null,null,{"$f":"IF($Z31=\"Atribuir valor global à atividade\",AC31,SUBTOTAL(109,AC34:AC38))","v":0},null,{"$f":"BL31","v":0},null,null,null,null,null,null,null,null,null,null,null,null,null,null,null,null,null,null,null,null,null,null,null,null,null,null,null,null,null,null,null,null,null,"MODELO A - TEMPO - N.º DE HORAS DE TRABALHO"]
[null,{"$f":"IF($B$31=\"mostrar\",\"mostrar\",\"ocultar\")","v":"ocultar"},null,null,null,null,null,null,null,null,null,null,null,null,null,null,null,null,null,null,null,null,null,null,null,null,null,null,null,null,null,null,null,null,null,null,null,null,null,null,null,null,null,null,null,null,null,null,null,null,null,null,null,null,null,null,null,null,null,null,null,null,null,null,"MODELO A - TEMPO - N.º DE HORAS DE TRABALHO"]
[null,{"$f":"IF('SA - ATIVIDADES'!$F$168<>TRUE,\"ocultar\",\"mostrar\")","v":"ocultar"},"E3. COORDENAÇÃO DE SEGURANÇA E SAÚDE EM OBRA","MODELO A - TEMPO - N.º DE HORAS DE TRABALHO",null,"Atribuir valor global à atividade",0,0,{"$f":"IF($F$41=\"Atribuir valor global à atividade\",G41*H41,\"\")","v":0},null,"Atribuir valor global à atividade","Valor Global Obra (VG Obra)",{"$f":"IF(L41=\"Valor Global Obra (VG Obra)\",$M$9,\"\")","v":0},0,0,{"$f":"IF(L41=\"Valor Global Obra (VG Obra)\",M41*O41,N41*O41)","v":0},null,"Atribuir valor global à atividade","Valor/m2 fixo (VF m2)",{"$f":"IF(S41=\"Valor/m2 fixo (VF m2)\",$T$9,\"\")","v":0},0,0,null,{"$f":"IF(S41=\"Valor/m2 fixo (VF m2)\",T41*1*V41,U41*1*V41)","v":0},null,"Atribuir valor global à atividade",0,0,{"$f":"AA41*AB41","v":0},null,{"$f":"BL41","v":0},null,null,null,null,null,null,null,null,null,null,null,null,null,null,null,null,null,null,null,null,null,null,null,null,null,null,null,null,{"$f":"IF(LEFT($D$41,8)=\"MODELO A\",IF($F$41=\"Atribuir valor detalhado por Fase/Elemento\",SUBTOTAL(109,BH44:BH48),I41),IF(LEFT($D$41,8)=\"MODELO M\",SUBTOTAL(109,BH44:BH48),0))","v":0},{"$f":"IF(LEFT($D$41,8)=\"MODELO B\",IF($K$41=\"Atribuir valor detalhado por Fase/Elemento\",SUBTOTAL(109,BI44:BI48),P41),IF(LEFT($D$41,8)=\"MODELO M\",SUBTOTAL(109,BI44:BI48),0))","v":0},{"$f":"IF(LEFT($D$41,8)=\"MODELO C\",IF($R$41=\"Atribuir valor detalhado por Fase/Elemento\",SUBTOTAL(109,BJ44:BJ48),X41),IF(LEFT($D$41,8)=\"MODELO M\",SUBTOTAL(109,BJ44:BJ48),0))","v":0},{"$f":"IF(LEFT($D$41,8)=\"MODELO D\",IF($Z$41=\"Atribuir valor detalhado por Fase/Elemento\",SUBTOTAL(109,BK44:BK48),AC41),IF(LEFT($D$41,8)=\"MODELO M\",SUBTOTAL(109,BK44:BK48),0))","v":0},{"$f":"SUM(BH41:BK41)","v":0},"MODELO A - TEMPO - N.º DE HORAS DE TRABALHO"]
[null,{"$f":"IF($B$41=\"ocultar\",\"ocultar\",\"mostrar\")","v":"ocultar"},null,null,null,null,null,null,null,null,null,null,null,null,null,null,null,null,null,null,null,null,null,null,null,null,null,null,null,null,null,null,null,null,null,null,null,null,null,null,null,null,null,null,null,null,null,null,null,null,null,null,null,null,null,null,null,null,null,null,null,null,null,null,"MODELO A - TEMPO - N.º DE HORAS DE TRABALHO"]
[null,"ocultar",null,null,null,null,null,null,null,null,null,null,null,null,null,null,null,null,null,null,null,null,null,null,null,null,null,null,null,null,null,null,null,null,null,null,null,null,null,null,null,null,null,null,null,null,null,null,null,null,null,null,null,null,null,null,null,null,null,null,null,null,null,null,"MODELO A - TEMPO - N.º DE HORAS DE TRABALHO"]
[null,{"$f":"IF($B$41=\"ocultar\",\"ocultar\",IF('SA - ATIVIDADES'!$F$168=TRUE,IF('SA - ATIVIDADES'!$H$168>='SA - SERVICOS GESTAO E CONTROLO'!AH44,\"mostrar\",\"ocultar\"),\"ocultar\"))","v":"ocultar"},"Designação (a preencher)","MODELO A - TEMPO - N.º DE HORAS DE TRABALHO",null,null,0,{"$f":"$H$41","v":0},{"$f":"G44*H44","v":0},null,null,null,null,null,0,{"$f":"$P$41*O44","v":0},null,null,null,null,null,null,0,{"$f":"$X$41*W44","v":0},null,null,0,0,0,null,{"$f":"BL44","v":0},null,null,1,null,null,null,null,null,null,null,null,null,null,null,null,null,null,null,null,null,null,null,null,null,null,null,null,null,{"$f":"IF(OR(AND(LEFT($D$41,8)=\"MODELO M\",LEFT(D44,8)=\"MODELO A\"),AND(LEFT($D$41,8)=\"MODELO A\",$F$41=\"Atribuir valor detalhado por Fase/Elemento\")),I44,0)","v":0},{"$f":"IF(OR(AND(LEFT($D$41,8)=\"MODELO M\",LEFT(D44,8)=\"MODELO B\"),AND(LEFT($D$41,8)=\"MODELO B\",$K$41=\"Atribuir valor detalhado por Fase/Elemento\")),P44,0)","v":0},{"$f":"IF(OR(AND(LEFT($D$41,8)=\"MODELO M\",LEFT(D44,8)=\"MODELO C\"),AND(LEFT($D$41,8)=\"MODELO C\",$R$41=\"Atribuir valor detalhado por Fase/Elemento\")),X44,0)","v":0},{"$f":"IF(OR(AND(LEFT($D$41,8)=\"MODELO M\",LEFT(D44,8)=\"MODELO D\"),AND(LEFT($D$41,8)=\"MODELO D\",$Z$41=\"Atribuir valor detalhado por Fase/Elemento\")),AC44,0)","v":0},{"$f":"SUM(BH44:BK44)","v":0},"MODELO A - TEMPO - N.º DE HORAS DE TRABALHO"]
[null,{"$f":"IF($B$41=\"ocultar\",\"ocultar\",IF('SA - ATIVIDADES'!$F$168=TRUE,IF('SA - ATIVIDADES'!$H$168>='SA - SERVICOS GESTAO E CONTROLO'!AH45,\"mostrar\",\"ocultar\"),\"ocultar\"))","v":"ocultar"},"Designação (a preencher)","MODELO A - TEMPO - N.º DE HORAS DE TRABALHO",null,null,0,{"$f":"$H$41","v":0},{"$f":"G45*H45","v":0},null,null,null,null,null,0,{"$f":"$P$41*O45","v":0},null,null,null,null,null,null,0,{"$f":"$X$41*W45","v":0},null,null,0,0,0,null,{"$f":"BL45","v":0},null,null,2,null,null,null,null,null,null,null,null,null,null,null,null,null,null,null,null,null,null,null,null,null,null,null,null,null,{"$f":"IF(OR(AND(LEFT($D$41,8)=\"MODELO M\",LEFT(D45,8)=\"MODELO A\"),AND(LEFT($D$41,8)=\"MODELO A\",$F$41=\"Atribuir valor detalhado por Fase/Elemento\")),I45,0)","v":0},{"$f":"IF(OR(AND(LEFT($D$41,8)=\"MODELO M\",LEFT(D45,8)=\"MODELO B\"),AND(LEFT($D$41,8)=\"MODELO B\",$K$41=\"Atribuir valor detalhado por Fase/Elemento\")),P45,0)","v":0},{"$f":"IF(OR(AND(LEFT($D$41,8)=\"MODELO M\",LEFT(D45,8)=\"MODELO C\"),AND(LEFT($D$41,8)=\"MODELO C\",$R$41=\"Atribuir valor detalhado por Fase/Elemento\")),X45,0)","v":0},{"$f":"IF(OR(AND(LEFT($D$41,8)=\"MODELO M\",LEFT(D45,8)=\"MODELO D\"),AND(LEFT($D$41,8)=\"MODELO D\",$Z$41=\"Atribuir valor detalhado por Fase/Elemento\")),AC45,0)","v":0},0,"MODELO A - TEMPO - N.º DE HORAS DE TRABALHO"]
[null,{"$f":"IF($B$41=\"ocultar\",\"ocultar\",IF('SA - ATIVIDADES'!$F$168=TRUE,IF('SA - ATIVIDADES'!$H$168>='SA - SERVICOS GESTAO E CONTROLO'!AH46,\"mostrar\",\"ocultar\"),\"ocultar\"))","v":"ocultar"},"Designação (a preencher)","MODELO A - TEMPO - N.º DE HORAS DE TRABALHO",null,null,0,0,0,null,null,null,null,null,0,0,null,null,null,null,null,null,0,0,null,null,0,0,0,null,0,null,null,3,null,null,null,null,null,null,null,null,null,null,null,null,null,null,null,null,null,null,null,null,null,null,null,null,null,{"$f":"IF(OR(AND(LEFT($D$41,8)=\"MODELO M\",LEFT(D46,8)=\"MODELO A\"),AND(LEFT($D$41,8)=\"MODELO A\",$F$41=\"Atribuir valor detalhado por Fase/Elemento\")),I46,0)","v":0},{"$f":"IF(OR(AND(LEFT($D$41,8)=\"MODELO M\",LEFT(D46,8)=\"MODELO B\"),AND(LEFT($D$41,8)=\"MODELO B\",$K$41=\"Atribuir valor detalhado por Fase/Elemento\")),P46,0)","v":0},{"$f":"IF(OR(AND(LEFT($D$41,8)=\"MODELO M\",LEFT(D46,8)=\"MODELO C\"),AND(LEFT($D$41,8)=\"MODELO C\",$R$41=\"Atribuir valor detalhado por Fase/Elemento\")),X46,0)","v":0},{"$f":"IF(OR(AND(LEFT($D$41,8)=\"MODELO M\",LEFT(D46,8)=\"MODELO D\"),AND(LEFT($D$41,8)=\"MODELO D\",$Z$41=\"Atribuir valor detalhado por Fase/Elemento\")),AC46,0)","v":0},0,"MODELO A - TEMPO - N.º DE HORAS DE TRABALHO"]
[null,{"$f":"IF($B$41=\"ocultar\",\"ocultar\",IF('SA - ATIVIDADES'!$F$168=TRUE,IF('SA - ATIVIDADES'!$H$168>='SA - SERVICOS GESTAO E CONTROLO'!AH47,\"mostrar\",\"ocultar\"),\"ocultar\"))","v":"ocultar"},"Designação (a preencher)","MODELO A - TEMPO - N.º DE HORAS DE TRABALHO",null,null,0,0,0,null,null,null,null,null,0,0,null,null,null,null,null,null,0,0,null,null,0,0,0,null,0,null,null,4,null,null,null,null,null,null,null,null,null,null,null,null,null,null,null,null,null,null,null,null,null,null,null,null,null,{"$f":"IF(OR(AND(LEFT($D$41,8)=\"MODELO M\",LEFT(D47,8)=\"MODELO A\"),AND(LEFT($D$41,8)=\"MODELO A\",$F$41=\"Atribuir valor detalhado por Fase/Elemento\")),I47,0)","v":0},{"$f":"IF(OR(AND(LEFT($D$41,8)=\"MODELO M\",LEFT(D47,8)=\"MODELO B\"),AND(LEFT($D$41,8)=\"MODELO B\",$K$41=\"Atribuir valor detalhado por Fase/Elemento\")),P47,0)","v":0},{"$f":"IF(OR(AND(LEFT($D$41,8)=\"MODELO M\",LEFT(D47,8)=\"MODELO C\"),AND(LEFT($D$41,8)=\"MODELO C\",$R$41=\"Atribuir valor detalhado por Fase/Elemento\")),X47,0)","v":0},{"$f":"IF(OR(AND(LEFT($D$41,8)=\"MODELO M\",LEFT(D47,8)=\"MODELO D\"),AND(LEFT($D$41,8)=\"MODELO D\",$Z$41=\"Atribuir valor detalhado por Fase/Elemento\")),AC47,0)","v":0},0,"MODELO A - TEMPO - N.º DE HORAS DE TRABALHO"]
[null,{"$f":"IF($B$41=\"ocultar\",\"ocultar\",IF('SA - ATIVIDADES'!$F$168=TRUE,IF('SA - ATIVIDADES'!$H$168>='SA - SERVICOS GESTAO E CONTROLO'!AH48,\"mostrar\",\"ocultar\"),\"ocultar\"))","v":"ocultar"},"Designação (a preencher)","MODELO A - TEMPO - N.º DE HORAS DE TRABALHO",null,null,0,0,0,null,null,null,null,null,0,0,null,null,null,null,null,null,0,0,null,null,0,0,0,null,0,null,null,5,null,null,null,null,null,null,null,null,null,null,null,null,null,null,null,null,null,null,null,null,null,null,null,null,null,{"$f":"IF(OR(AND(LEFT($D$41,8)=\"MODELO M\",LEFT(D48,8)=\"MODELO A\"),AND(LEFT($D$41,8)=\"MODELO A\",$F$41=\"Atribuir valor detalhado por Fase/Elemento\")),I48,0)","v":0},{"$f":"IF(OR(AND(LEFT($D$41,8)=\"MODELO M\",LEFT(D48,8)=\"MODELO B\"),AND(LEFT($D$41,8)=\"MODELO B\",$K$41=\"Atribuir valor detalhado por Fase/Elemento\")),P48,0)","v":0},{"$f":"IF(OR(AND(LEFT($D$41,8)=\"MODELO M\",LEFT(D48,8)=\"MODELO C\"),AND(LEFT($D$41,8)=\"MODELO C\",$R$41=\"Atribuir valor detalhado por Fase/Elemento\")),X48,0)","v":0},{"$f":"IF(OR(AND(LEFT($D$41,8)=\"MODELO M\",LEFT(D48,8)=\"MODELO D\"),AND(LEFT($D$41,8)=\"MODELO D\",$Z$41=\"Atribuir valor detalhado por Fase/Elemento\")),AC48,0)","v":0},0,"MODELO A - TEMPO - N.º DE HORAS DE TRABALHO"]
[null,{"$f":"IF($B$44=\"ocultar\",\"ocultar\",\"mostrar\")","v":"ocultar"},"TOTAL",null,null,null,{"$f":"IF($F41=\"Atribuir valor global à atividade\",G41,SUBTOTAL(109,G44:G48))","v":0},null,{"$f":"IF($F41=\"Atribuir valor global à atividade\",I41,SUBTOTAL(109,I44:I48))","v":0},null,null,null,null,null,{"$f":"IF($K41=\"Atribuir valor global à atividade\",1,SUBTOTAL(109,O44:O48))","v":1},{"$f":"IF($K41=\"Atribuir valor global à atividade\",P41,SUBTOTAL(109,P44:P48))","v":0},null,null,null,null,null,null,{"$f":"IF($R41=\"Atribuir valor global à atividade\",1,SUBTOTAL(109,W44:W48))","v":1},{"$f":"IF($R41=\"Atribuir valor global à atividade\",X41,SUBTOTAL(109,X44:X48))","v":0},null,null,null,null,{"$f":"IF($Z41=\"Atribuir valor global à atividade\",AC41,SUBTOTAL(109,AC44:AC48))","v":0},null,{"$f":"BL41","v":0},null,null,null,null,null,null,null,null,null,null,null,null,null,null,null,null,null,null,null,null,null,null,null,null,null,null,null,null,null,null,null,null,null,"MODELO A - TEMPO - N.º DE HORAS DE TRABALHO"]
[null,{"$f":"IF($B$41=\"mostrar\",\"mostrar\",\"ocultar\")","v":"ocultar"},null,null,null,null,null,null,null,null,null,null,null,null,null,null,null,null,null,null,null,null,null,null,null,null,null,null,null,null,null,null,null,null,null,null,null,null,null,null,null,null,null,null,null,null,null,null,null,null,null,null,null,null,null,null,null,null,null,null,null,null,null,null,"MODELO A - TEMPO - N.º DE HORAS DE TRABALHO"]
[null,{"$f":"IF('SA - ATIVIDADES'!$F$169<>TRUE,\"ocultar\",\"mostrar\")","v":"ocultar"},"E4. COORDENAÇÃO DE MODELOS DE INFORMAÇÃO DA CONSTRUÇÃO (BIM)","MODELO A - TEMPO - N.º DE HORAS DE TRABALHO",null,"Atribuir valor global à atividade",0,0,{"$f":"IF($F$51=\"Atribuir valor global à atividade\",G51*H51,\"\")","v":0},null,"Atribuir valor global à atividade","Valor Global Obra (VG Obra)",{"$f":"IF(L51=\"Valor Global Obra (VG Obra)\",$M$9,\"\")","v":0},0,0,{"$f":"IF(L51=\"Valor Global Obra (VG Obra)\",M51*O51,N51*O51)","v":0},null,"Atribuir valor global à atividade","Valor/m2 fixo (VF m2)",{"$f":"IF(S51=\"Valor/m2 fixo (VF m2)\",$T$9,\"\")","v":0},0,0,null,{"$f":"IF(S51=\"Valor/m2 fixo (VF m2)\",T51*1*V51,U51*1*V51)","v":0},null,"Atribuir valor global à atividade",0,0,{"$f":"AA51*AB51","v":0},null,{"$f":"BL51","v":0},null,null,null,null,null,null,null,null,null,null,null,null,null,null,null,null,null,null,null,null,null,null,null,null,null,null,null,null,{"$f":"IF(LEFT($D$51,8)=\"MODELO A\",IF($F$51=\"Atribuir valor detalhado por Fase/Elemento\",SUBTOTAL(109,BH54:BH58),I51),IF(LEFT($D$51,8)=\"MODELO M\",SUBTOTAL(109,BH54:BH58),0))","v":0},{"$f":"IF(LEFT($D$51,8)=\"MODELO B\",IF($K$51=\"Atribuir valor detalhado por Fase/Elemento\",SUBTOTAL(109,BI54:BI58),P51),IF(LEFT($D$51,8)=\"MODELO M\",SUBTOTAL(109,BI54:BI58),0))","v":0},{"$f":"IF(LEFT($D$51,8)=\"MODELO C\",IF($R$51=\"Atribuir valor detalhado por Fase/Elemento\",SUBTOTAL(109,BJ54:BJ58),X51),IF(LEFT($D$51,8)=\"MODELO M\",SUBTOTAL(109,BJ54:BJ58),0))","v":0},{"$f":"IF(LEFT($D$51,8)=\"MODELO D\",IF($Z$51=\"Atribuir valor detalhado por Fase/Elemento\",SUBTOTAL(109,BK54:BK58),AC51),IF(LEFT($D$51,8)=\"MODELO M\",SUBTOTAL(109,BK54:BK58),0))","v":0},{"$f":"SUM(BH51:BK51)","v":0},"MODELO A - TEMPO - N.º DE HORAS DE TRABALHO"]
[null,{"$f":"IF($B$51=\"ocultar\",\"ocultar\",\"mostrar\")","v":"ocultar"},null,null,null,null,null,null,null,null,null,null,null,null,null,null,null,null,null,null,null,null,null,null,null,null,null,null,null,null,null,null,null,null,null,null,null,null,null,null,null,null,null,null,null,null,null,null,null,null,null,null,null,null,null,null,null,null,null,null,null,null,null,null,"MODELO A - TEMPO - N.º DE HORAS DE TRABALHO"]
[null,"ocultar",null,null,null,null,null,null,null,null,null,null,null,null,null,null,null,null,null,null,null,null,null,null,null,null,null,null,null,null,null,null,null,null,null,null,null,null,null,null,null,null,null,null,null,null,null,null,null,null,null,null,null,null,null,null,null,null,null,null,null,null,null,null,"MODELO A - TEMPO - N.º DE HORAS DE TRABALHO"]
[null,{"$f":"IF($B$51=\"ocultar\",\"ocultar\",IF('SA - ATIVIDADES'!$F$169=TRUE,IF('SA - ATIVIDADES'!$H$169>='SA - SERVICOS GESTAO E CONTROLO'!AH54,\"mostrar\",\"ocultar\"),\"ocultar\"))","v":"ocultar"},"Designação (a preencher)","MODELO A - TEMPO - N.º DE HORAS DE TRABALHO",null,null,0,{"$f":"$H$51","v":0},{"$f":"G54*H54","v":0},null,null,null,null,null,0,{"$f":"$P$51*O54","v":0},null,null,null,null,null,null,0,{"$f":"$X$51*W54","v":0},null,null,0,0,0,null,{"$f":"BL54","v":0},null,null,1,null,null,null,null,null,null,null,null,null,null,null,null,null,null,null,null,null,null,null,null,null,null,null,null,null,{"$f":"IF(OR(AND(LEFT($D$51,8)=\"MODELO M\",LEFT(D54,8)=\"MODELO A\"),AND(LEFT($D$51,8)=\"MODELO A\",$F$51=\"Atribuir valor detalhado por Fase/Elemento\")),I54,0)","v":0},{"$f":"IF(OR(AND(LEFT($D$51,8)=\"MODELO M\",LEFT(D54,8)=\"MODELO B\"),AND(LEFT($D$51,8)=\"MODELO B\",$K$51=\"Atribuir valor detalhado por Fase/Elemento\")),P54,0)","v":0},{"$f":"IF(OR(AND(LEFT($D$51,8)=\"MODELO M\",LEFT(D54,8)=\"MODELO C\"),AND(LEFT($D$51,8)=\"MODELO C\",$R$51=\"Atribuir valor detalhado por Fase/Elemento\")),X54,0)","v":0},{"$f":"IF(OR(AND(LEFT($D$51,8)=\"MODELO M\",LEFT(D54,8)=\"MODELO D\"),AND(LEFT($D$51,8)=\"MODELO D\",$Z$51=\"Atribuir valor detalhado por Fase/Elemento\")),AC54,0)","v":0},{"$f":"SUM(BH54:BK54)","v":0},"MODELO A - TEMPO - N.º DE HORAS DE TRABALHO"]
[null,{"$f":"IF($B$51=\"ocultar\",\"ocultar\",IF('SA - ATIVIDADES'!$F$169=TRUE,IF('SA - ATIVIDADES'!$H$169>='SA - SERVICOS GESTAO E CONTROLO'!AH55,\"mostrar\",\"ocultar\"),\"ocultar\"))","v":"ocultar"},"Designação (a preencher)","MODELO A - TEMPO - N.º DE HORAS DE TRABALHO",null,null,0,{"$f":"$H$51","v":0},{"$f":"G55*H55","v":0},null,null,null,null,null,0,{"$f":"$P$51*O55","v":0},null,null,null,null,null,null,0,{"$f":"$X$51*W55","v":0},null,null,0,0,0,null,{"$f":"BL55","v":0},null,null,2,null,null,null,null,null,null,null,null,null,null,null,null,null,null,null,null,null,null,null,null,null,null,null,null,null,{"$f":"IF(OR(AND(LEFT($D$51,8)=\"MODELO M\",LEFT(D55,8)=\"MODELO A\"),AND(LEFT($D$51,8)=\"MODELO A\",$F$51=\"Atribuir valor detalhado por Fase/Elemento\")),I55,0)","v":0},{"$f":"IF(OR(AND(LEFT($D$51,8)=\"MODELO M\",LEFT(D55,8)=\"MODELO B\"),AND(LEFT($D$51,8)=\"MODELO B\",$K$51=\"Atribuir valor detalhado por Fase/Elemento\")),P55,0)","v":0},{"$f":"IF(OR(AND(LEFT($D$51,8)=\"MODELO M\",LEFT(D55,8)=\"MODELO C\"),AND(LEFT($D$51,8)=\"MODELO C\",$R$51=\"Atribuir valor detalhado por Fase/Elemento\")),X55,0)","v":0},{"$f":"IF(OR(AND(LEFT($D$51,8)=\"MODELO M\",LEFT(D55,8)=\"MODELO D\"),AND(LEFT($D$51,8)=\"MODELO D\",$Z$51=\"Atribuir valor detalhado por Fase/Elemento\")),AC55,0)","v":0},0,"MODELO A - TEMPO - N.º DE HORAS DE TRABALHO"]
[null,{"$f":"IF($B$51=\"ocultar\",\"ocultar\",IF('SA - ATIVIDADES'!$F$169=TRUE,IF('SA - ATIVIDADES'!$H$169>='SA - SERVICOS GESTAO E CONTROLO'!AH56,\"mostrar\",\"ocultar\"),\"ocultar\"))","v":"ocultar"},"Designação (a preencher)","MODELO A - TEMPO - N.º DE HORAS DE TRABALHO",null,null,0,0,0,null,null,null,null,null,0,0,null,null,null,null,null,null,0,0,null,null,0,0,0,null,0,null,null,3,null,null,null,null,null,null,null,null,null,null,null,null,null,null,null,null,null,null,null,null,null,null,null,null,null,{"$f":"IF(OR(AND(LEFT($D$51,8)=\"MODELO M\",LEFT(D56,8)=\"MODELO A\"),AND(LEFT($D$51,8)=\"MODELO A\",$F$51=\"Atribuir valor detalhado por Fase/Elemento\")),I56,0)","v":0},{"$f":"IF(OR(AND(LEFT($D$51,8)=\"MODELO M\",LEFT(D56,8)=\"MODELO B\"),AND(LEFT($D$51,8)=\"MODELO B\",$K$51=\"Atribuir valor detalhado por Fase/Elemento\")),P56,0)","v":0},{"$f":"IF(OR(AND(LEFT($D$51,8)=\"MODELO M\",LEFT(D56,8)=\"MODELO C\"),AND(LEFT($D$51,8)=\"MODELO C\",$R$51=\"Atribuir valor detalhado por Fase/Elemento\")),X56,0)","v":0},{"$f":"IF(OR(AND(LEFT($D$51,8)=\"MODELO M\",LEFT(D56,8)=\"MODELO D\"),AND(LEFT($D$51,8)=\"MODELO D\",$Z$51=\"Atribuir valor detalhado por Fase/Elemento\")),AC56,0)","v":0},0,"MODELO A - TEMPO - N.º DE HORAS DE TRABALHO"]
[null,{"$f":"IF($B$51=\"ocultar\",\"ocultar\",IF('SA - ATIVIDADES'!$F$169=TRUE,IF('SA - ATIVIDADES'!$H$169>='SA - SERVICOS GESTAO E CONTROLO'!AH57,\"mostrar\",\"ocultar\"),\"ocultar\"))","v":"ocultar"},"Designação (a preencher)","MODELO A - TEMPO - N.º DE HORAS DE TRABALHO",null,null,0,0,0,null,null,null,null,null,0,0,null,null,null,null,null,null,0,0,null,null,0,0,0,null,0,null,null,4,null,null,null,null,null,null,null,null,null,null,null,null,null,null,null,null,null,null,null,null,null,null,null,null,null,{"$f":"IF(OR(AND(LEFT($D$51,8)=\"MODELO M\",LEFT(D57,8)=\"MODELO A\"),AND(LEFT($D$51,8)=\"MODELO A\",$F$51=\"Atribuir valor detalhado por Fase/Elemento\")),I57,0)","v":0},{"$f":"IF(OR(AND(LEFT($D$51,8)=\"MODELO M\",LEFT(D57,8)=\"MODELO B\"),AND(LEFT($D$51,8)=\"MODELO B\",$K$51=\"Atribuir valor detalhado por Fase/Elemento\")),P57,0)","v":0},{"$f":"IF(OR(AND(LEFT($D$51,8)=\"MODELO M\",LEFT(D57,8)=\"MODELO C\"),AND(LEFT($D$51,8)=\"MODELO C\",$R$51=\"Atribuir valor detalhado por Fase/Elemento\")),X57,0)","v":0},{"$f":"IF(OR(AND(LEFT($D$51,8)=\"MODELO M\",LEFT(D57,8)=\"MODELO D\"),AND(LEFT($D$51,8)=\"MODELO D\",$Z$51=\"Atribuir valor detalhado por Fase/Elemento\")),AC57,0)","v":0},0,"MODELO A - TEMPO - N.º DE HORAS DE TRABALHO"]
[null,{"$f":"IF($B$51=\"ocultar\",\"ocultar\",IF('SA - ATIVIDADES'!$F$169=TRUE,IF('SA - ATIVIDADES'!$H$169>='SA - SERVICOS GESTAO E CONTROLO'!AH58,\"mostrar\",\"ocultar\"),\"ocultar\"))","v":"ocultar"},"Designação (a preencher)","MODELO A - TEMPO - N.º DE HORAS DE TRABALHO",null,null,0,0,0,null,null,null,null,null,0,0,null,null,null,null,null,null,0,0,null,null,0,0,0,null,0,null,null,5,null,null,null,null,null,null,null,null,null,null,null,null,null,null,null,null,null,null,null,null,null,null,null,null,null,{"$f":"IF(OR(AND(LEFT($D$51,8)=\"MODELO M\",LEFT(D58,8)=\"MODELO A\"),AND(LEFT($D$51,8)=\"MODELO A\",$F$51=\"Atribuir valor detalhado por Fase/Elemento\")),I58,0)","v":0},{"$f":"IF(OR(AND(LEFT($D$51,8)=\"MODELO M\",LEFT(D58,8)=\"MODELO B\"),AND(LEFT($D$51,8)=\"MODELO B\",$K$51=\"Atribuir valor detalhado por Fase/Elemento\")),P58,0)","v":0},{"$f":"IF(OR(AND(LEFT($D$51,8)=\"MODELO M\",LEFT(D58,8)=\"MODELO C\"),AND(LEFT($D$51,8)=\"MODELO C\",$R$51=\"Atribuir valor detalhado por Fase/Elemento\")),X58,0)","v":0},{"$f":"IF(OR(AND(LEFT($D$51,8)=\"MODELO M\",LEFT(D58,8)=\"MODELO D\"),AND(LEFT($D$51,8)=\"MODELO D\",$Z$51=\"Atribuir valor detalhado por Fase/Elemento\")),AC58,0)","v":0},0,"MODELO A - TEMPO - N.º DE HORAS DE TRABALHO"]
[null,{"$f":"IF($B$54=\"ocultar\",\"ocultar\",\"mostrar\")","v":"ocultar"},"TOTAL",null,null,null,{"$f":"IF($F51=\"Atribuir valor global à atividade\",G51,SUBTOTAL(109,G54:G58))","v":0},null,{"$f":"IF($F51=\"Atribuir valor global à atividade\",I51,SUBTOTAL(109,I54:I58))","v":0},null,null,null,null,null,{"$f":"IF($K51=\"Atribuir valor global à atividade\",1,SUBTOTAL(109,O54:O58))","v":1},{"$f":"IF($K51=\"Atribuir valor global à atividade\",P51,SUBTOTAL(109,P54:P58))","v":0},null,null,null,null,null,null,{"$f":"IF($R51=\"Atribuir valor global à atividade\",1,SUBTOTAL(109,W54:W58))","v":1},{"$f":"IF($R51=\"Atribuir valor global à atividade\",X51,SUBTOTAL(109,X54:X58))","v":0},null,null,null,null,{"$f":"IF($Z51=\"Atribuir valor global à atividade\",AC51,SUBTOTAL(109,AC54:AC58))","v":0},null,{"$f":"BL51","v":0},null,null,null,null,null,null,null,null,null,null,null,null,null,null,null,null,null,null,null,null,null,null,null,null,null,null,null,null,null,null,null,null,null,"MODELO A - TEMPO - N.º DE HORAS DE TRABALHO"]
[null,{"$f":"IF($B$51=\"mostrar\",\"mostrar\",\"ocultar\")","v":"ocultar"},null,null,null,null,null,null,null,null,null,null,null,null,null,null,null,null,null,null,null,null,null,null,null,null,null,null,null,null,null,null,null,null,null,null,null,null,null,null,null,null,null,null,null,null,null,null,null,null,null,null,null,null,null,null,null,null,null,null,null,null,null,null,"MODELO A - TEMPO - N.º DE HORAS DE TRABALHO"]
[null,{"$f":"IF('SA - ATIVIDADES'!$F$170<>TRUE,\"ocultar\",\"mostrar\")","v":"ocultar"},"E5. COORDENAÇÃO DA EQUIPA DE GESTÃO DE PROJETO/OBRA","MODELO A - TEMPO - N.º DE HORAS DE TRABALHO",null,"Atribuir valor global à atividade",0,0,{"$f":"IF($F$61=\"Atribuir valor global à atividade\",G61*H61,\"\")","v":0},null,"Atribuir valor global à atividade","Valor Global Obra (VG Obra)",{"$f":"IF(L61=\"Valor Global Obra (VG Obra)\",$M$9,\"\")","v":0},0,0,{"$f":"IF(L61=\"Valor Global Obra (VG Obra)\",M61*O61,N61*O61)","v":0},null,"Atribuir valor global à atividade","Valor/m2 fixo (VF m2)",{"$f":"IF(S61=\"Valor/m2 fixo (VF m2)\",$T$9,\"\")","v":0},0,0,null,{"$f":"IF(S61=\"Valor/m2 fixo (VF m2)\",T61*1*V61,U61*1*V61)","v":0},null,"Atribuir valor global à atividade",0,0,{"$f":"AA61*AB61","v":0},null,{"$f":"BL61","v":0},null,null,null,null,null,null,null,null,null,null,null,null,null,null,null,null,null,null,null,null,null,null,null,null,null,null,null,null,{"$f":"IF(LEFT($D$61,8)=\"MODELO A\",IF($F$61=\"Atribuir valor detalhado por Fase/Elemento\",SUBTOTAL(109,BH64:BH68),I61),IF(LEFT($D$61,8)=\"MODELO M\",SUBTOTAL(109,BH64:BH68),0))","v":0},{"$f":"IF(LEFT($D$61,8)=\"MODELO B\",IF($K$61=\"Atribuir valor detalhado por Fase/Elemento\",SUBTOTAL(109,BI64:BI68),P61),IF(LEFT($D$61,8)=\"MODELO M\",SUBTOTAL(109,BI64:BI68),0))","v":0},{"$f":"IF(LEFT($D$61,8)=\"MODELO C\",IF($R$61=\"Atribuir valor detalhado por Fase/Elemento\",SUBTOTAL(109,BJ64:BJ68),X61),IF(LEFT($D$61,8)=\"MODELO M\",SUBTOTAL(109,BJ64:BJ68),0))","v":0},{"$f":"IF(LEFT($D$61,8)=\"MODELO D\",IF($Z$61=\"Atribuir valor detalhado por Fase/Elemento\",SUBTOTAL(109,BK64:BK68),AC61),IF(LEFT($D$61,8)=\"MODELO M\",SUBTOTAL(109,BK64:BK68),0))","v":0},{"$f":"SUM(BH61:BK61)","v":0},"MODELO A - TEMPO - N.º DE HORAS DE TRABALHO"]
[null,{"$f":"IF($B$61=\"ocultar\",\"ocultar\",\"mostrar\")","v":"ocultar"},null,null,null,null,null,null,null,null,null,null,null,null,null,null,null,null,null,null,null,null,null,null,null,null,null,null,null,null,null,null,null,null,null,null,null,null,null,null,null,null,null,null,null,null,null,null,null,null,null,null,null,null,null,null,null,null,null,null,null,null,null,null,"MODELO A - TEMPO - N.º DE HORAS DE TRABALHO"]
[null,"ocultar",null,null,null,null,null,null,null,null,null,null,null,null,null,null,null,null,null,null,null,null,null,null,null,null,null,null,null,null,null,null,null,null,null,null,null,null,null,null,null,null,null,null,null,null,null,null,null,null,null,null,null,null,null,null,null,null,null,null,null,null,null,null,"MODELO A - TEMPO - N.º DE HORAS DE TRABALHO"]
[null,{"$f":"IF($B$61=\"ocultar\",\"ocultar\",IF('SA - ATIVIDADES'!$F$170=TRUE,IF('SA - ATIVIDADES'!$H$170>='SA - SERVICOS GESTAO E CONTROLO'!AH64,\"mostrar\",\"ocultar\"),\"ocultar\"))","v":"ocultar"},"Designação (a preencher)","MODELO A - TEMPO - N.º DE HORAS DE TRABALHO",null,null,0,{"$f":"$H$61","v":0},{"$f":"G64*H64","v":0},null,null,null,null,null,0,{"$f":"$P$61*O64","v":0},null,null,null,null,null,null,0,{"$f":"$X$61*W64","v":0},null,null,0,0,{"$f":"AA64*AB64","v":0},null,{"$f":"BL64","v":0},null,null,1,null,null,null,null,null,null,null,null,null,null,null,null,null,null,null,null,null,null,null,null,null,null,null,null,null,{"$f":"IF(OR(AND(LEFT($D$61,8)=\"MODELO M\",LEFT(D64,8)=\"MODELO A\"),AND(LEFT($D$61,8)=\"MODELO A\",$F$61=\"Atribuir valor detalhado por Fase/Elemento\")),I64,0)","v":0},{"$f":"IF(OR(AND(LEFT($D$61,8)=\"MODELO M\",LEFT(D64,8)=\"MODELO B\"),AND(LEFT($D$61,8)=\"MODELO B\",$K$61=\"Atribuir valor detalhado por Fase/Elemento\")),P64,0)","v":0},{"$f":"IF(OR(AND(LEFT($D$61,8)=\"MODELO M\",LEFT(D64,8)=\"MODELO C\"),AND(LEFT($D$61,8)=\"MODELO C\",$R$61=\"Atribuir valor detalhado por Fase/Elemento\")),X64,0)","v":0},{"$f":"IF(OR(AND(LEFT($D$61,8)=\"MODELO M\",LEFT(D64,8)=\"MODELO D\"),AND(LEFT($D$61,8)=\"MODELO D\",$Z$61=\"Atribuir valor detalhado por Fase/Elemento\")),AC64,0)","v":0},{"$f":"SUM(BH64:BK64)","v":0},"MODELO A - TEMPO - N.º DE HORAS DE TRABALHO"]
[null,{"$f":"IF($B$61=\"ocultar\",\"ocultar\",IF('SA - ATIVIDADES'!$F$170=TRUE,IF('SA - ATIVIDADES'!$H$170>='SA - SERVICOS GESTAO E CONTROLO'!AH65,\"mostrar\",\"ocultar\"),\"ocultar\"))","v":"ocultar"},"Designação (a preencher)","MODELO A - TEMPO - N.º DE HORAS DE TRABALHO",null,null,0,{"$f":"$H$61","v":0},{"$f":"G65*H65","v":0},null,null,null,null,null,0,{"$f":"$P$61*O65","v":0},null,null,null,null,null,null,0,{"$f":"$X$61*W65","v":0},null,null,0,0,0,null,{"$f":"BL65","v":0},null,null,2,null,null,null,null,null,null,null,null,null,null,null,null,null,null,null,null,null,null,null,null,null,null,null,null,null,{"$f":"IF(OR(AND(LEFT($D$61,8)=\"MODELO M\",LEFT(D65,8)=\"MODELO A\"),AND(LEFT($D$61,8)=\"MODELO A\",$F$61=\"Atribuir valor detalhado por Fase/Elemento\")),I65,0)","v":0},{"$f":"IF(OR(AND(LEFT($D$61,8)=\"MODELO M\",LEFT(D65,8)=\"MODELO B\"),AND(LEFT($D$61,8)=\"MODELO B\",$K$61=\"Atribuir valor detalhado por Fase/Elemento\")),P65,0)","v":0},{"$f":"IF(OR(AND(LEFT($D$61,8)=\"MODELO M\",LEFT(D65,8)=\"MODELO C\"),AND(LEFT($D$61,8)=\"MODELO C\",$R$61=\"Atribuir valor detalhado por Fase/Elemento\")),X65,0)","v":0},{"$f":"IF(OR(AND(LEFT($D$61,8)=\"MODELO M\",LEFT(D65,8)=\"MODELO D\"),AND(LEFT($D$61,8)=\"MODELO D\",$Z$61=\"Atribuir valor detalhado por Fase/Elemento\")),AC65,0)","v":0},0,"MODELO A - TEMPO - N.º DE HORAS DE TRABALHO"]
[null,{"$f":"IF($B$61=\"ocultar\",\"ocultar\",IF('SA - ATIVIDADES'!$F$170=TRUE,IF('SA - ATIVIDADES'!$H$170>='SA - SERVICOS GESTAO E CONTROLO'!AH66,\"mostrar\",\"ocultar\"),\"ocultar\"))","v":"ocultar"},"Designação (a preencher)","MODELO A - TEMPO - N.º DE HORAS DE TRABALHO",null,null,0,0,0,null,null,null,null,null,0,{"$f":"$P$61*O66","v":0},null,null,null,null,null,null,0,0,null,null,0,0,0,null,0,null,null,3,null,null,null,null,null,null,null,null,null,null,null,null,null,null,null,null,null,null,null,null,null,null,null,null,null,{"$f":"IF(OR(AND(LEFT($D$61,8)=\"MODELO M\",LEFT(D66,8)=\"MODELO A\"),AND(LEFT($D$61,8)=\"MODELO A\",$F$61=\"Atribuir valor detalhado por Fase/Elemento\")),I66,0)","v":0},{"$f":"IF(OR(AND(LEFT($D$61,8)=\"MODELO M\",LEFT(D66,8)=\"MODELO B\"),AND(LEFT($D$61,8)=\"MODELO B\",$K$61=\"Atribuir valor detalhado por Fase/Elemento\")),P66,0)","v":0},{"$f":"IF(OR(AND(LEFT($D$61,8)=\"MODELO M\",LEFT(D66,8)=\"MODELO C\"),AND(LEFT($D$61,8)=\"MODELO C\",$R$61=\"Atribuir valor detalhado por Fase/Elemento\")),X66,0)","v":0},{"$f":"IF(OR(AND(LEFT($D$61,8)=\"MODELO M\",LEFT(D66,8)=\"MODELO D\"),AND(LEFT($D$61,8)=\"MODELO D\",$Z$61=\"Atribuir valor detalhado por Fase/Elemento\")),AC66,0)","v":0},0,"MODELO A - TEMPO - N.º DE HORAS DE TRABALHO"]
[null,{"$f":"IF($B$61=\"ocultar\",\"ocultar\",IF('SA - ATIVIDADES'!$F$170=TRUE,IF('SA - ATIVIDADES'!$H$170>='SA - SERVICOS GESTAO E CONTROLO'!AH67,\"mostrar\",\"ocultar\"),\"ocultar\"))","v":"ocultar"},"Designação (a preencher)","MODELO A - TEMPO - N.º DE HORAS DE TRABALHO",null,null,0,0,0,null,null,null,null,null,0,0,null,null,null,null,null,null,0,0,null,null,0,0,0,null,0,null,null,4,null,null,null,null,null,null,null,null,null,null,null,null,null,null,null,null,null,null,null,null,null,null,null,null,null,{"$f":"IF(OR(AND(LEFT($D$61,8)=\"MODELO M\",LEFT(D67,8)=\"MODELO A\"),AND(LEFT($D$61,8)=\"MODELO A\",$F$61=\"Atribuir valor detalhado por Fase/Elemento\")),I67,0)","v":0},{"$f":"IF(OR(AND(LEFT($D$61,8)=\"MODELO M\",LEFT(D67,8)=\"MODELO B\"),AND(LEFT($D$61,8)=\"MODELO B\",$K$61=\"Atribuir valor detalhado por Fase/Elemento\")),P67,0)","v":0},{"$f":"IF(OR(AND(LEFT($D$61,8)=\"MODELO M\",LEFT(D67,8)=\"MODELO C\"),AND(LEFT($D$61,8)=\"MODELO C\",$R$61=\"Atribuir valor detalhado por Fase/Elemento\")),X67,0)","v":0},{"$f":"IF(OR(AND(LEFT($D$61,8)=\"MODELO M\",LEFT(D67,8)=\"MODELO D\"),AND(LEFT($D$61,8)=\"MODELO D\",$Z$61=\"Atribuir valor detalhado por Fase/Elemento\")),AC67,0)","v":0},0,"MODELO A - TEMPO - N.º DE HORAS DE TRABALHO"]
[null,{"$f":"IF($B$61=\"ocultar\",\"ocultar\",IF('SA - ATIVIDADES'!$F$170=TRUE,IF('SA - ATIVIDADES'!$H$170>='SA - SERVICOS GESTAO E CONTROLO'!AH68,\"mostrar\",\"ocultar\"),\"ocultar\"))","v":"ocultar"},"Designação (a preencher)","MODELO A - TEMPO - N.º DE HORAS DE TRABALHO",null,null,0,0,0,null,null,null,null,null,0,0,null,null,null,null,null,null,0,0,null,null,0,0,0,null,0,null,null,5,null,null,null,null,null,null,null,null,null,null,null,null,null,null,null,null,null,null,null,null,null,null,null,null,null,{"$f":"IF(OR(AND(LEFT($D$61,8)=\"MODELO M\",LEFT(D68,8)=\"MODELO A\"),AND(LEFT($D$61,8)=\"MODELO A\",$F$61=\"Atribuir valor detalhado por Fase/Elemento\")),I68,0)","v":0},{"$f":"IF(OR(AND(LEFT($D$61,8)=\"MODELO M\",LEFT(D68,8)=\"MODELO B\"),AND(LEFT($D$61,8)=\"MODELO B\",$K$61=\"Atribuir valor detalhado por Fase/Elemento\")),P68,0)","v":0},{"$f":"IF(OR(AND(LEFT($D$61,8)=\"MODELO M\",LEFT(D68,8)=\"MODELO C\"),AND(LEFT($D$61,8)=\"MODELO C\",$R$61=\"Atribuir valor detalhado por Fase/Elemento\")),X68,0)","v":0},{"$f":"IF(OR(AND(LEFT($D$61,8)=\"MODELO M\",LEFT(D68,8)=\"MODELO D\"),AND(LEFT($D$61,8)=\"MODELO D\",$Z$61=\"Atribuir valor detalhado por Fase/Elemento\")),AC68,0)","v":0},0,"MODELO A - TEMPO - N.º DE HORAS DE TRABALHO"]
[null,{"$f":"IF($B$64=\"ocultar\",\"ocultar\",\"mostrar\")","v":"ocultar"},"TOTAL",null,null,null,{"$f":"IF($F61=\"Atribuir valor global à atividade\",G61,SUBTOTAL(109,G64:G68))","v":0},null,{"$f":"IF($F61=\"Atribuir valor global à atividade\",I61,SUBTOTAL(109,I64:I68))","v":0},null,null,null,null,null,{"$f":"IF($K61=\"Atribuir valor global à atividade\",1,SUBTOTAL(109,O64:O68))","v":1},{"$f":"IF($K61=\"Atribuir valor global à atividade\",P61,SUBTOTAL(109,P64:P68))","v":0},null,null,null,null,null,null,{"$f":"IF($R61=\"Atribuir valor global à atividade\",1,SUBTOTAL(109,W64:W68))","v":1},{"$f":"IF($R61=\"Atribuir valor global à atividade\",X61,SUBTOTAL(109,X64:X68))","v":0},null,null,null,null,{"$f":"IF($Z61=\"Atribuir valor global à atividade\",AC61,SUBTOTAL(109,AC64:AC68))","v":0},null,{"$f":"BL61","v":0},null,null,null,null,null,null,null,null,null,null,null,null,null,null,null,null,null,null,null,null,null,null,null,null,null,null,null,null,null,null,null,null,null,"MODELO A - TEMPO - N.º DE HORAS DE TRABALHO"]
[null,{"$f":"IF($B$61=\"mostrar\",\"mostrar\",\"ocultar\")","v":"ocultar"},null,null,null,null,null,null,null,null,null,null,null,null,null,null,null,null,null,null,null,null,null,null,null,null,null,null,null,null,null,null,null,null,null,null,null,null,null,null,null,null,null,null,null,null,null,null,null,null,null,null,null,null,null,null,null,null,null,null,null,null,null,null,"MODELO A - TEMPO - N.º DE HORAS DE TRABALHO"]
[null,{"$f":"IF('SA - ATIVIDADES'!$F$173<>TRUE,\"ocultar\",\"mostrar\")","v":"ocultar"},"F1. DIREÇÃO DE FISCALIZAÇÃO DE OBRA (EDIFÍCIOS)","MODELO A - TEMPO - N.º DE HORAS DE TRABALHO",null,"Atribuir valor global à atividade",0,0,{"$f":"IF($F$71=\"Atribuir valor global à atividade\",G71*H71,\"\")","v":0},null,"Atribuir valor global à atividade","Valor Global Obra (VG Obra)",{"$f":"IF(L71=\"Valor Global Obra (VG Obra)\",$M$9,\"\")","v":0},0,0,{"$f":"IF(L71=\"Valor Global Obra (VG Obra)\",M71*O71,N71*O71)","v":0},null,"Atribuir valor global à atividade","Valor/m2 fixo (VF m2)",{"$f":"IF(S71=\"Valor/m2 fixo (VF m2)\",$T$9,\"\")","v":0},0,0,null,{"$f":"IF(S71=\"Valor/m2 fixo (VF m2)\",T71*1*V71,U71*1*V71)","v":0},null,"Atribuir valor global à atividade",0,0,{"$f":"AA71*AB71","v":0},null,{"$f":"BL71","v":0},null,null,null,null,null,null,null,null,null,null,null,null,null,null,null,null,null,null,null,null,null,null,null,null,null,null,null,null,{"$f":"IF(LEFT($D$71,8)=\"MODELO A\",IF($F$71=\"Atribuir valor detalhado por Fase/Elemento\",SUBTOTAL(109,BH74:BH78),I71),IF(LEFT($D$71,8)=\"MODELO M\",SUBTOTAL(109,BH74:BH78),0))","v":0},{"$f":"IF(LEFT($D$71,8)=\"MODELO B\",IF($K$71=\"Atribuir valor detalhado por Fase/Elemento\",SUBTOTAL(109,BI74:BI78),P71),IF(LEFT($D$71,8)=\"MODELO M\",SUBTOTAL(109,BI74:BI78),0))","v":0},{"$f":"IF(LEFT($D$71,8)=\"MODELO C\",IF($R$71=\"Atribuir valor detalhado por Fase/Elemento\",SUBTOTAL(109,BJ74:BJ78),X71),IF(LEFT($D$71,8)=\"MODELO M\",SUBTOTAL(109,BJ74:BJ78),0))","v":0},{"$f":"IF(LEFT($D$71,8)=\"MODELO D\",IF($Z$71=\"Atribuir valor detalhado por Fase/Elemento\",SUBTOTAL(109,BK74:BK78),AC71),IF(LEFT($D$71,8)=\"MODELO M\",SUBTOTAL(109,BK74:BK78),0))","v":0},{"$f":"SUM(BH71:BK71)","v":0},"MODELO A - TEMPO - N.º DE HORAS DE TRABALHO"]
[null,{"$f":"IF($B$71=\"ocultar\",\"ocultar\",\"mostrar\")","v":"ocultar"},null,null,null,null,null,null,null,null,null,null,null,null,null,null,null,null,null,null,null,null,null,null,null,null,null,null,null,null,null,null,null,null,null,null,null,null,null,null,null,null,null,null,null,null,null,null,null,null,null,null,null,null,null,null,null,null,null,null,null,null,null,null,"MODELO A - TEMPO - N.º DE HORAS DE TRABALHO"]
[null,"ocultar",null,null,null,null,null,null,null,null,null,null,null,null,null,null,null,null,null,null,null,null,null,null,null,null,null,null,null,null,null,null,null,null,null,null,null,null,null,null,null,null,null,null,null,null,null,null,null,null,null,null,null,null,null,null,null,null,null,null,null,null,null,null,"MODELO A - TEMPO - N.º DE HORAS DE TRABALHO"]
[null,{"$f":"IF($B$71=\"ocultar\",\"ocultar\",IF('SA - ATIVIDADES'!$F$173=TRUE,IF('SA - ATIVIDADES'!$H$173>='SA - SERVICOS GESTAO E CONTROLO'!AH74,\"mostrar\",\"ocultar\"),\"ocultar\"))","v":"ocultar"},"Designação (a preencher)","MODELO A - TEMPO - N.º DE HORAS DE TRABALHO",null,null,0,{"$f":"$H$71","v":0},{"$f":"G74*H74","v":0},null,null,null,null,null,0,{"$f":"$P$71*O74","v":0},null,null,null,null,null,null,0,{"$f":"$X$71*W74","v":0},null,null,0,0,{"$f":"AA74*AB74","v":0},null,{"$f":"BL74","v":0},null,null,1,null,null,null,null,null,null,null,null,null,null,null,null,null,null,null,null,null,null,null,null,null,null,null,null,null,{"$f":"IF(OR(AND(LEFT($D$71,8)=\"MODELO M\",LEFT(D74,8)=\"MODELO A\"),AND(LEFT($D$71,8)=\"MODELO A\",$F$71=\"Atribuir valor detalhado por Fase/Elemento\")),I74,0)","v":0},{"$f":"IF(OR(AND(LEFT($D$71,8)=\"MODELO M\",LEFT(D74,8)=\"MODELO B\"),AND(LEFT($D$71,8)=\"MODELO B\",$K$71=\"Atribuir valor detalhado por Fase/Elemento\")),P74,0)","v":0},{"$f":"IF(OR(AND(LEFT($D$71,8)=\"MODELO M\",LEFT(D74,8)=\"MODELO C\"),AND(LEFT($D$71,8)=\"MODELO C\",$R$71=\"Atribuir valor detalhado por Fase/Elemento\")),X74,0)","v":0},{"$f":"IF(OR(AND(LEFT($D$71,8)=\"MODELO M\",LEFT(D74,8)=\"MODELO D\"),AND(LEFT($D$71,8)=\"MODELO D\",$Z$71=\"Atribuir valor detalhado por Fase/Elemento\")),AC74,0)","v":0},{"$f":"SUM(BH74:BK74)","v":0},"MODELO A - TEMPO - N.º DE HORAS DE TRABALHO"]
[null,{"$f":"IF($B$71=\"ocultar\",\"ocultar\",IF('SA - ATIVIDADES'!$F$173=TRUE,IF('SA - ATIVIDADES'!$H$173>='SA - SERVICOS GESTAO E CONTROLO'!AH75,\"mostrar\",\"ocultar\"),\"ocultar\"))","v":"ocultar"},"Designação (a preencher)","MODELO A - TEMPO - N.º DE HORAS DE TRABALHO",null,null,0,{"$f":"$H$71","v":0},{"$f":"G75*H75","v":0},null,null,null,null,null,0,{"$f":"$P$71*O75","v":0},null,null,null,null,null,null,0,{"$f":"$X$71*W75","v":0},null,null,0,0,{"$f":"AA75*AB75","v":0},null,{"$f":"BL75","v":0},null,null,2,null,null,null,null,null,null,null,null,null,null,null,null,null,null,null,null,null,null,null,null,null,null,null,null,null,{"$f":"IF(OR(AND(LEFT($D$71,8)=\"MODELO M\",LEFT(D75,8)=\"MODELO A\"),AND(LEFT($D$71,8)=\"MODELO A\",$F$71=\"Atribuir valor detalhado por Fase/Elemento\")),I75,0)","v":0},{"$f":"IF(OR(AND(LEFT($D$71,8)=\"MODELO M\",LEFT(D75,8)=\"MODELO B\"),AND(LEFT($D$71,8)=\"MODELO B\",$K$71=\"Atribuir valor detalhado por Fase/Elemento\")),P75,0)","v":0},{"$f":"IF(OR(AND(LEFT($D$71,8)=\"MODELO M\",LEFT(D75,8)=\"MODELO C\"),AND(LEFT($D$71,8)=\"MODELO C\",$R$71=\"Atribuir valor detalhado por Fase/Elemento\")),X75,0)","v":0},{"$f":"IF(OR(AND(LEFT($D$71,8)=\"MODELO M\",LEFT(D75,8)=\"MODELO D\"),AND(LEFT($D$71,8)=\"MODELO D\",$Z$71=\"Atribuir valor detalhado por Fase/Elemento\")),AC75,0)","v":0},{"$f":"SUM(BH75:BK75)","v":0},"MODELO A - TEMPO - N.º DE HORAS DE TRABALHO"]
[null,{"$f":"IF($B$71=\"ocultar\",\"ocultar\",IF('SA - ATIVIDADES'!$F$173=TRUE,IF('SA - ATIVIDADES'!$H$173>='SA - SERVICOS GESTAO E CONTROLO'!AH76,\"mostrar\",\"ocultar\"),\"ocultar\"))","v":"ocultar"},"Designação (a preencher)","MODELO A - TEMPO - N.º DE HORAS DE TRABALHO",null,null,0,0,0,null,null,null,null,null,0,0,null,null,null,null,null,null,0,0,null,null,0,0,0,null,0,null,null,3,null,null,null,null,null,null,null,null,null,null,null,null,null,null,null,null,null,null,null,null,null,null,null,null,null,{"$f":"IF(OR(AND(LEFT($D$71,8)=\"MODELO M\",LEFT(D76,8)=\"MODELO A\"),AND(LEFT($D$71,8)=\"MODELO A\",$F$71=\"Atribuir valor detalhado por Fase/Elemento\")),I76,0)","v":0},{"$f":"IF(OR(AND(LEFT($D$71,8)=\"MODELO M\",LEFT(D76,8)=\"MODELO B\"),AND(LEFT($D$71,8)=\"MODELO B\",$K$71=\"Atribuir valor detalhado por Fase/Elemento\")),P76,0)","v":0},{"$f":"IF(OR(AND(LEFT($D$71,8)=\"MODELO M\",LEFT(D76,8)=\"MODELO C\"),AND(LEFT($D$71,8)=\"MODELO C\",$R$71=\"Atribuir valor detalhado por Fase/Elemento\")),X76,0)","v":0},{"$f":"IF(OR(AND(LEFT($D$71,8)=\"MODELO M\",LEFT(D76,8)=\"MODELO D\"),AND(LEFT($D$71,8)=\"MODELO D\",$Z$71=\"Atribuir valor detalhado por Fase/Elemento\")),AC76,0)","v":0},0,{"$f":"IF($AH76<>\"\",BM75,IF(LEFT($D76,6)=\"MODELO\",$D76,BM75))","v":"MODELO A - TEMPO - N.º DE HORAS DE TRABALHO"}]
[null,{"$f":"IF($B$71=\"ocultar\",\"ocultar\",IF('SA - ATIVIDADES'!$F$173=TRUE,IF('SA - ATIVIDADES'!$H$173>='SA - SERVICOS GESTAO E CONTROLO'!AH77,\"mostrar\",\"ocultar\"),\"ocultar\"))","v":"ocultar"},"Designação (a preencher)","MODELO A - TEMPO - N.º DE HORAS DE TRABALHO",null,null,0,0,0,null,null,null,null,null,0,0,null,null,null,null,null,null,0,0,null,null,0,0,0,null,0,null,null,4,null,null,null,null,null,null,null,null,null,null,null,null,null,null,null,null,null,null,null,null,null,null,null,null,null,{"$f":"IF(OR(AND(LEFT($D$71,8)=\"MODELO M\",LEFT(D77,8)=\"MODELO A\"),AND(LEFT($D$71,8)=\"MODELO A\",$F$71=\"Atribuir valor detalhado por Fase/Elemento\")),I77,0)","v":0},{"$f":"IF(OR(AND(LEFT($D$71,8)=\"MODELO M\",LEFT(D77,8)=\"MODELO B\"),AND(LEFT($D$71,8)=\"MODELO B\",$K$71=\"Atribuir valor detalhado por Fase/Elemento\")),P77,0)","v":0},{"$f":"IF(OR(AND(LEFT($D$71,8)=\"MODELO M\",LEFT(D77,8)=\"MODELO C\"),AND(LEFT($D$71,8)=\"MODELO C\",$R$71=\"Atribuir valor detalhado por Fase/Elemento\")),X77,0)","v":0},{"$f":"IF(OR(AND(LEFT($D$71,8)=\"MODELO M\",LEFT(D77,8)=\"MODELO D\"),AND(LEFT($D$71,8)=\"MODELO D\",$Z$71=\"Atribuir valor detalhado por Fase/Elemento\")),AC77,0)","v":0},0,"MODELO A - TEMPO - N.º DE HORAS DE TRABALHO"]
[null,{"$f":"IF($B$71=\"ocultar\",\"ocultar\",IF('SA - ATIVIDADES'!$F$173=TRUE,IF('SA - ATIVIDADES'!$H$173>='SA - SERVICOS GESTAO E CONTROLO'!AH78,\"mostrar\",\"ocultar\"),\"ocultar\"))","v":"ocultar"},"Designação (a preencher)","MODELO A - TEMPO - N.º DE HORAS DE TRABALHO",null,null,0,0,0,null,null,null,null,null,0,0,null,null,null,null,null,null,0,0,null,null,0,0,0,null,0,null,null,5,null,null,null,null,null,null,null,null,null,null,null,null,null,null,null,null,null,null,null,null,null,null,null,null,null,{"$f":"IF(OR(AND(LEFT($D$71,8)=\"MODELO M\",LEFT(D78,8)=\"MODELO A\"),AND(LEFT($D$71,8)=\"MODELO A\",$F$71=\"Atribuir valor detalhado por Fase/Elemento\")),I78,0)","v":0},{"$f":"IF(OR(AND(LEFT($D$71,8)=\"MODELO M\",LEFT(D78,8)=\"MODELO B\"),AND(LEFT($D$71,8)=\"MODELO B\",$K$71=\"Atribuir valor detalhado por Fase/Elemento\")),P78,0)","v":0},{"$f":"IF(OR(AND(LEFT($D$71,8)=\"MODELO M\",LEFT(D78,8)=\"MODELO C\"),AND(LEFT($D$71,8)=\"MODELO C\",$R$71=\"Atribuir valor detalhado por Fase/Elemento\")),X78,0)","v":0},{"$f":"IF(OR(AND(LEFT($D$71,8)=\"MODELO M\",LEFT(D78,8)=\"MODELO D\"),AND(LEFT($D$71,8)=\"MODELO D\",$Z$71=\"Atribuir valor detalhado por Fase/Elemento\")),AC78,0)","v":0},0,"MODELO A - TEMPO - N.º DE HORAS DE TRABALHO"]
[null,{"$f":"IF($B$74=\"ocultar\",\"ocultar\",\"mostrar\")","v":"ocultar"},"TOTAL",null,null,null,{"$f":"IF($F71=\"Atribuir valor global à atividade\",G71,SUBTOTAL(109,G74:G78))","v":0},null,{"$f":"IF($F71=\"Atribuir valor global à atividade\",I71,SUBTOTAL(109,I74:I78))","v":0},null,null,null,null,null,{"$f":"IF($K71=\"Atribuir valor global à atividade\",1,SUBTOTAL(109,O74:O78))","v":1},{"$f":"IF($K71=\"Atribuir valor global à atividade\",P71,SUBTOTAL(109,P74:P78))","v":0},null,null,null,null,null,null,{"$f":"IF($R71=\"Atribuir valor global à atividade\",1,SUBTOTAL(109,W74:W78))","v":1},{"$f":"IF($R71=\"Atribuir valor global à atividade\",X71,SUBTOTAL(109,X74:X78))","v":0},null,null,null,null,{"$f":"IF($Z71=\"Atribuir valor global à atividade\",AC71,SUBTOTAL(109,AC74:AC78))","v":0},null,{"$f":"BL71","v":0},null,null,null,null,null,null,null,null,null,null,null,null,null,null,null,null,null,null,null,null,null,null,null,null,null,null,null,null,null,null,null,null,null,"MODELO A - TEMPO - N.º DE HORAS DE TRABALHO"]
[null,{"$f":"IF($B$71=\"mostrar\",\"mostrar\",\"ocultar\")","v":"ocultar"},null,null,null,null,null,null,null,null,null,null,null,null,null,null,null,null,null,null,null,null,null,null,null,null,null,null,null,null,null,null,null,null,null,null,null,null,null,null,null,null,null,null,null,null,null,null,null,null,null,null,null,null,null,null,null,null,null,null,null,null,null,null,"MODELO A - TEMPO - N.º DE HORAS DE TRABALHO"]
[null,{"$f":"IF('SA - ATIVIDADES'!$F$174<>TRUE,\"ocultar\",\"mostrar\")","v":"ocultar"},"F2. DIREÇÃO DE FISCALIZAÇÃO DE OBRA (ESPAÇO EXTERIOR)","MODELO A - TEMPO - N.º DE HORAS DE TRABALHO",null,"Atribuir valor global à atividade",0,0,{"$f":"IF($F$81=\"Atribuir valor global à atividade\",G81*H81,\"\")","v":0},null,"Atribuir valor global à atividade","Valor Global Obra (VG Obra)",{"$f":"IF(L81=\"Valor Global Obra (VG Obra)\",$M$9,\"\")","v":0},0,0,{"$f":"IF(L81=\"Valor Global Obra (VG Obra)\",M81*O81,N81*O81)","v":0},null,"Atribuir valor global à atividade","Valor/m2 fixo (VF m2)",{"$f":"IF(S81=\"Valor/m2 fixo (VF m2)\",$T$9,\"\")","v":0},0,0,null,{"$f":"IF(S81=\"Valor/m2 fixo (VF m2)\",T81*1*V81,U81*1*V81)","v":0},null,"Atribuir valor global à atividade",0,0,{"$f":"AA81*AB81","v":0},null,{"$f":"BL81","v":0},null,null,null,null,null,null,null,null,null,null,null,null,null,null,null,null,null,null,null,null,null,null,null,null,null,null,null,null,{"$f":"IF(LEFT($D$81,8)=\"MODELO A\",IF($F$81=\"Atribuir valor detalhado por Fase/Elemento\",SUBTOTAL(109,BH84:BH88),I81),IF(LEFT($D$81,8)=\"MODELO M\",SUBTOTAL(109,BH84:BH88),0))","v":0},{"$f":"IF(LEFT($D$81,8)=\"MODELO B\",IF($K$81=\"Atribuir valor detalhado por Fase/Elemento\",SUBTOTAL(109,BI84:BI88),P81),IF(LEFT($D$81,8)=\"MODELO M\",SUBTOTAL(109,BI84:BI88),0))","v":0},{"$f":"IF(LEFT($D$81,8)=\"MODELO C\",IF($R$81=\"Atribuir valor detalhado por Fase/Elemento\",SUBTOTAL(109,BJ84:BJ88),X81),IF(LEFT($D$81,8)=\"MODELO M\",SUBTOTAL(109,BJ84:BJ88),0))","v":0},{"$f":"IF(LEFT($D$81,8)=\"MODELO D\",IF($Z$81=\"Atribuir valor detalhado por Fase/Elemento\",SUBTOTAL(109,BK84:BK88),AC81),IF(LEFT($D$81,8)=\"MODELO M\",SUBTOTAL(109,BK84:BK88),0))","v":0},{"$f":"SUM(BH81:BK81)","v":0},"MODELO A - TEMPO - N.º DE HORAS DE TRABALHO"]
[null,{"$f":"IF($B$81=\"ocultar\",\"ocultar\",\"mostrar\")","v":"ocultar"},null,null,null,null,null,null,null,null,null,null,null,null,null,null,null,null,null,null,null,null,null,null,null,null,null,null,null,null,null,null,null,null,null,null,null,null,null,null,null,null,null,null,null,null,null,null,null,null,null,null,null,null,null,null,null,null,null,null,null,null,null,null,"MODELO A - TEMPO - N.º DE HORAS DE TRABALHO"]
[null,"ocultar",null,null,null,null,null,null,null,null,null,null,null,null,null,null,null,null,null,null,null,null,null,null,null,null,null,null,null,null,null,null,null,null,null,null,null,null,null,null,null,null,null,null,null,null,null,null,null,null,null,null,null,null,null,null,null,null,null,null,null,null,null,null,"MODELO A - TEMPO - N.º DE HORAS DE TRABALHO"]
[null,{"$f":"IF($B$81=\"ocultar\",\"ocultar\",IF('SA - ATIVIDADES'!$F$174=TRUE,IF('SA - ATIVIDADES'!$H$174>='SA - SERVICOS GESTAO E CONTROLO'!AH84,\"mostrar\",\"ocultar\"),\"ocultar\"))","v":"ocultar"},"Designação (a preencher)","MODELO A - TEMPO - N.º DE HORAS DE TRABALHO",null,null,0,{"$f":"$H$81","v":0},{"$f":"G84*H84","v":0},null,null,null,null,null,0,{"$f":"$P$81*O84","v":0},null,null,null,null,null,null,0,{"$f":"$X$81*W84","v":0},null,null,0,0,{"$f":"AA84*AB84","v":0},null,{"$f":"BL84","v":0},null,null,1,null,null,null,null,null,null,null,null,null,null,null,null,null,null,null,null,null,null,null,null,null,null,null,null,null,{"$f":"IF(OR(AND(LEFT($D$81,8)=\"MODELO M\",LEFT(D84,8)=\"MODELO A\"),AND(LEFT($D$81,8)=\"MODELO A\",$F$81=\"Atribuir valor detalhado por Fase/Elemento\")),I84,0)","v":0},{"$f":"IF(OR(AND(LEFT($D$81,8)=\"MODELO M\",LEFT(D84,8)=\"MODELO B\"),AND(LEFT($D$81,8)=\"MODELO B\",$K$81=\"Atribuir valor detalhado por Fase/Elemento\")),P84,0)","v":0},{"$f":"IF(OR(AND(LEFT($D$81,8)=\"MODELO M\",LEFT(D84,8)=\"MODELO C\"),AND(LEFT($D$81,8)=\"MODELO C\",$R$81=\"Atribuir valor detalhado por Fase/Elemento\")),X84,0)","v":0},{"$f":"IF(OR(AND(LEFT($D$81,8)=\"MODELO M\",LEFT(D84,8)=\"MODELO D\"),AND(LEFT($D$81,8)=\"MODELO D\",$Z$81=\"Atribuir valor detalhado por Fase/Elemento\")),AC84,0)","v":0},{"$f":"SUM(BH84:BK84)","v":0},"MODELO A - TEMPO - N.º DE HORAS DE TRABALHO"]
[null,{"$f":"IF($B$81=\"ocultar\",\"ocultar\",IF('SA - ATIVIDADES'!$F$174=TRUE,IF('SA - ATIVIDADES'!$H$174>='SA - SERVICOS GESTAO E CONTROLO'!AH85,\"mostrar\",\"ocultar\"),\"ocultar\"))","v":"ocultar"},"Designação (a preencher)","MODELO A - TEMPO - N.º DE HORAS DE TRABALHO",null,null,0,{"$f":"$H$81","v":0},{"$f":"G85*H85","v":0},null,null,null,null,null,0,{"$f":"$P$81*O85","v":0},null,null,null,null,null,null,0,{"$f":"$X$81*W85","v":0},null,null,0,0,{"$f":"AA85*AB85","v":0},null,{"$f":"BL85","v":0},null,null,2,null,null,null,null,null,null,null,null,null,null,null,null,null,null,null,null,null,null,null,null,null,null,null,null,null,{"$f":"IF(OR(AND(LEFT($D$81,8)=\"MODELO M\",LEFT(D85,8)=\"MODELO A\"),AND(LEFT($D$81,8)=\"MODELO A\",$F$81=\"Atribuir valor detalhado por Fase/Elemento\")),I85,0)","v":0},{"$f":"IF(OR(AND(LEFT($D$81,8)=\"MODELO M\",LEFT(D85,8)=\"MODELO B\"),AND(LEFT($D$81,8)=\"MODELO B\",$K$81=\"Atribuir valor detalhado por Fase/Elemento\")),P85,0)","v":0},{"$f":"IF(OR(AND(LEFT($D$81,8)=\"MODELO M\",LEFT(D85,8)=\"MODELO C\"),AND(LEFT($D$81,8)=\"MODELO C\",$R$81=\"Atribuir valor detalhado por Fase/Elemento\")),X85,0)","v":0},{"$f":"IF(OR(AND(LEFT($D$81,8)=\"MODELO M\",LEFT(D85,8)=\"MODELO D\"),AND(LEFT($D$81,8)=\"MODELO D\",$Z$81=\"Atribuir valor detalhado por Fase/Elemento\")),AC85,0)","v":0},{"$f":"SUM(BH85:BK85)","v":0},"MODELO A - TEMPO - N.º DE HORAS DE TRABALHO"]
[null,{"$f":"IF($B$81=\"ocultar\",\"ocultar\",IF('SA - ATIVIDADES'!$F$174=TRUE,IF('SA - ATIVIDADES'!$H$174>='SA - SERVICOS GESTAO E CONTROLO'!AH86,\"mostrar\",\"ocultar\"),\"ocultar\"))","v":"ocultar"},"Designação (a preencher)","MODELO A - TEMPO - N.º DE HORAS DE TRABALHO",null,null,0,0,0,null,null,null,null,null,0,0,null,null,null,null,null,null,0,0,null,null,0,0,0,null,0,null,null,3,null,null,null,null,null,null,null,null,null,null,null,null,null,null,null,null,null,null,null,null,null,null,null,null,null,{"$f":"IF(OR(AND(LEFT($D$81,8)=\"MODELO M\",LEFT(D86,8)=\"MODELO A\"),AND(LEFT($D$81,8)=\"MODELO A\",$F$81=\"Atribuir valor detalhado por Fase/Elemento\")),I86,0)","v":0},{"$f":"IF(OR(AND(LEFT($D$81,8)=\"MODELO M\",LEFT(D86,8)=\"MODELO B\"),AND(LEFT($D$81,8)=\"MODELO B\",$K$81=\"Atribuir valor detalhado por Fase/Elemento\")),P86,0)","v":0},{"$f":"IF(OR(AND(LEFT($D$81,8)=\"MODELO M\",LEFT(D86,8)=\"MODELO C\"),AND(LEFT($D$81,8)=\"MODELO C\",$R$81=\"Atribuir valor detalhado por Fase/Elemento\")),X86,0)","v":0},{"$f":"IF(OR(AND(LEFT($D$81,8)=\"MODELO M\",LEFT(D86,8)=\"MODELO D\"),AND(LEFT($D$81,8)=\"MODELO D\",$Z$81=\"Atribuir valor detalhado por Fase/Elemento\")),AC86,0)","v":0},0,"MODELO A - TEMPO - N.º DE HORAS DE TRABALHO"]
[null,{"$f":"IF($B$81=\"ocultar\",\"ocultar\",IF('SA - ATIVIDADES'!$F$174=TRUE,IF('SA - ATIVIDADES'!$H$174>='SA - SERVICOS GESTAO E CONTROLO'!AH87,\"mostrar\",\"ocultar\"),\"ocultar\"))","v":"ocultar"},"Designação (a preencher)","MODELO A - TEMPO - N.º DE HORAS DE TRABALHO",null,null,0,0,0,null,null,null,null,null,0,0,null,null,null,null,null,null,0,0,null,null,0,0,0,null,0,null,null,4,null,null,null,null,null,null,null,null,null,null,null,null,null,null,null,null,null,null,null,null,null,null,null,null,null,{"$f":"IF(OR(AND(LEFT($D$81,8)=\"MODELO M\",LEFT(D87,8)=\"MODELO A\"),AND(LEFT($D$81,8)=\"MODELO A\",$F$81=\"Atribuir valor detalhado por Fase/Elemento\")),I87,0)","v":0},{"$f":"IF(OR(AND(LEFT($D$81,8)=\"MODELO M\",LEFT(D87,8)=\"MODELO B\"),AND(LEFT($D$81,8)=\"MODELO B\",$K$81=\"Atribuir valor detalhado por Fase/Elemento\")),P87,0)","v":0},{"$f":"IF(OR(AND(LEFT($D$81,8)=\"MODELO M\",LEFT(D87,8)=\"MODELO C\"),AND(LEFT($D$81,8)=\"MODELO C\",$R$81=\"Atribuir valor detalhado por Fase/Elemento\")),X87,0)","v":0},{"$f":"IF(OR(AND(LEFT($D$81,8)=\"MODELO M\",LEFT(D87,8)=\"MODELO D\"),AND(LEFT($D$81,8)=\"MODELO D\",$Z$81=\"Atribuir valor detalhado por Fase/Elemento\")),AC87,0)","v":0},0,"MODELO A - TEMPO - N.º DE HORAS DE TRABALHO"]
[null,{"$f":"IF($B$81=\"ocultar\",\"ocultar\",IF('SA - ATIVIDADES'!$F$174=TRUE,IF('SA - ATIVIDADES'!$H$174>='SA - SERVICOS GESTAO E CONTROLO'!AH88,\"mostrar\",\"ocultar\"),\"ocultar\"))","v":"ocultar"},"Designação (a preencher)","MODELO A - TEMPO - N.º DE HORAS DE TRABALHO",null,null,0,0,0,null,null,null,null,null,0,0,null,null,null,null,null,null,0,0,null,null,0,0,0,null,0,null,null,5,null,null,null,null,null,null,null,null,null,null,null,null,null,null,null,null,null,null,null,null,null,null,null,null,null,{"$f":"IF(OR(AND(LEFT($D$81,8)=\"MODELO M\",LEFT(D88,8)=\"MODELO A\"),AND(LEFT($D$81,8)=\"MODELO A\",$F$81=\"Atribuir valor detalhado por Fase/Elemento\")),I88,0)","v":0},{"$f":"IF(OR(AND(LEFT($D$81,8)=\"MODELO M\",LEFT(D88,8)=\"MODELO B\"),AND(LEFT($D$81,8)=\"MODELO B\",$K$81=\"Atribuir valor detalhado por Fase/Elemento\")),P88,0)","v":0},{"$f":"IF(OR(AND(LEFT($D$81,8)=\"MODELO M\",LEFT(D88,8)=\"MODELO C\"),AND(LEFT($D$81,8)=\"MODELO C\",$R$81=\"Atribuir valor detalhado por Fase/Elemento\")),X88,0)","v":0},{"$f":"IF(OR(AND(LEFT($D$81,8)=\"MODELO M\",LEFT(D88,8)=\"MODELO D\"),AND(LEFT($D$81,8)=\"MODELO D\",$Z$81=\"Atribuir valor detalhado por Fase/Elemento\")),AC88,0)","v":0},0,"MODELO A - TEMPO - N.º DE HORAS DE TRABALHO"]
[null,{"$f":"IF($B$84=\"ocultar\",\"ocultar\",\"mostrar\")","v":"ocultar"},"TOTAL",null,null,null,{"$f":"IF($F81=\"Atribuir valor global à atividade\",G81,SUBTOTAL(109,G84:G88))","v":0},null,{"$f":"IF($F81=\"Atribuir valor global à atividade\",I81,SUBTOTAL(109,I84:I88))","v":0},null,null,null,null,null,{"$f":"IF($K81=\"Atribuir valor global à atividade\",1,SUBTOTAL(109,O84:O88))","v":1},{"$f":"IF($K81=\"Atribuir valor global à atividade\",P81,SUBTOTAL(109,P84:P88))","v":0},null,null,null,null,null,null,{"$f":"IF($R81=\"Atribuir valor global à atividade\",1,SUBTOTAL(109,W84:W88))","v":1},{"$f":"IF($R81=\"Atribuir valor global à atividade\",X81,SUBTOTAL(109,X84:X88))","v":0},null,null,null,null,{"$f":"IF($Z81=\"Atribuir valor global à atividade\",AC81,SUBTOTAL(109,AC84:AC88))","v":0},null,{"$f":"BL81","v":0},null,null,null,null,null,null,null,null,null,null,null,null,null,null,null,null,null,null,null,null,null,null,null,null,null,null,null,null,null,null,null,null,null,"MODELO A - TEMPO - N.º DE HORAS DE TRABALHO"]
[null,{"$f":"IF($B$81=\"mostrar\",\"mostrar\",\"ocultar\")","v":"ocultar"},null,null,null,null,null,null,null,null,null,null,null,null,null,null,null,null,null,null,null,null,null,null,null,null,null,null,null,null,null,null,null,null,null,null,null,null,null,null,null,null,null,null,null,null,null,null,null,null,null,null,null,null,null,null,null,null,null,null,null,null,null,null,"MODELO A - TEMPO - N.º DE HORAS DE TRABALHO"]
[null,{"$f":"IF('SA - ATIVIDADES'!$F$175<>TRUE,\"ocultar\",\"mostrar\")","v":"ocultar"},"F3. DIREÇÃO DE OBRA (EDIFÍCIOS)","MODELO A - TEMPO - N.º DE HORAS DE TRABALHO",null,"Atribuir valor global à atividade",0,0,{"$f":"IF($F$91=\"Atribuir valor global à atividade\",G91*H91,\"\")","v":0},null,"Atribuir valor global à atividade","Valor Global Obra (VG Obra)",{"$f":"IF(L91=\"Valor Global Obra (VG Obra)\",$M$9,\"\")","v":0},0,0,{"$f":"IF(L91=\"Valor Global Obra (VG Obra)\",M91*O91,N91*O91)","v":0},null,"Atribuir valor global à atividade","Valor/m2 fixo (VF m2)",{"$f":"IF(S91=\"Valor/m2 fixo (VF m2)\",$T$9,\"\")","v":0},0,0,null,{"$f":"IF(S91=\"Valor/m2 fixo (VF m2)\",T91*1*V91,U91*1*V91)","v":0},null,"Atribuir valor global à atividade",0,0,{"$f":"AA91*AB91","v":0},null,{"$f":"BL91","v":0},null,null,null,null,null,null,null,null,null,null,null,null,null,null,null,null,null,null,null,null,null,null,null,null,null,null,null,null,{"$f":"IF(LEFT($D$91,8)=\"MODELO A\",IF($F$91=\"Atribuir valor detalhado por Fase/Elemento\",SUBTOTAL(109,BH94:BH98),I91),IF(LEFT($D$91,8)=\"MODELO M\",SUBTOTAL(109,BH94:BH98),0))","v":0},{"$f":"IF(LEFT($D$91,8)=\"MODELO B\",IF($K$91=\"Atribuir valor detalhado por Fase/Elemento\",SUBTOTAL(109,BI94:BI98),P91),IF(LEFT($D$91,8)=\"MODELO M\",SUBTOTAL(109,BI94:BI98),0))","v":0},{"$f":"IF(LEFT($D$91,8)=\"MODELO C\",IF($R$91=\"Atribuir valor detalhado por Fase/Elemento\",SUBTOTAL(109,BJ94:BJ98),X91),IF(LEFT($D$91,8)=\"MODELO M\",SUBTOTAL(109,BJ94:BJ98),0))","v":0},{"$f":"IF(LEFT($D$91,8)=\"MODELO D\",IF($Z$91=\"Atribuir valor detalhado por Fase/Elemento\",SUBTOTAL(109,BK94:BK98),AC91),IF(LEFT($D$91,8)=\"MODELO M\",SUBTOTAL(109,BK94:BK98),0))","v":0},{"$f":"SUM(BH91:BK91)","v":0},"MODELO A - TEMPO - N.º DE HORAS DE TRABALHO"]
[null,{"$f":"IF($B$91=\"ocultar\",\"ocultar\",\"mostrar\")","v":"ocultar"},null,null,null,null,null,null,null,null,null,null,null,null,null,null,null,null,null,null,null,null,null,null,null,null,null,null,null,null,null,null,null,null,null,null,null,null,null,null,null,null,null,null,null,null,null,null,null,null,null,null,null,null,null,null,null,null,null,null,null,null,null,null,"MODELO A - TEMPO - N.º DE HORAS DE TRABALHO"]
[null,"ocultar",null,null,null,null,null,null,null,null,null,null,null,null,null,null,null,null,null,null,null,null,null,null,null,null,null,null,null,null,null,null,null,null,null,null,null,null,null,null,null,null,null,null,null,null,null,null,null,null,null,null,null,null,null,null,null,null,null,null,null,null,null,null,"MODELO A - TEMPO - N.º DE HORAS DE TRABALHO"]
[null,{"$f":"IF($B$91=\"ocultar\",\"ocultar\",IF('SA - ATIVIDADES'!$F$175=TRUE,IF('SA - ATIVIDADES'!$H$175>='SA - SERVICOS GESTAO E CONTROLO'!AH94,\"mostrar\",\"ocultar\"),\"ocultar\"))","v":"ocultar"},"Designação (a preencher)","MODELO A - TEMPO - N.º DE HORAS DE TRABALHO",null,null,0,{"$f":"$H$91","v":0},{"$f":"G94*H94","v":0},null,null,null,null,null,0,{"$f":"$P$91*O94","v":0},null,null,null,null,null,null,0,{"$f":"$X$91*W94","v":0},null,null,0,0,{"$f":"AA94*AB94","v":0},null,{"$f":"BL94","v":0},null,null,1,null,null,null,null,null,null,null,null,null,null,null,null,null,null,null,null,null,null,null,null,null,null,null,null,null,{"$f":"IF(OR(AND(LEFT($D$91,8)=\"MODELO M\",LEFT(D94,8)=\"MODELO A\"),AND(LEFT($D$91,8)=\"MODELO A\",$F$91=\"Atribuir valor detalhado por Fase/Elemento\")),I94,0)","v":0},{"$f":"IF(OR(AND(LEFT($D$91,8)=\"MODELO M\",LEFT(D94,8)=\"MODELO B\"),AND(LEFT($D$91,8)=\"MODELO B\",$K$91=\"Atribuir valor detalhado por Fase/Elemento\")),P94,0)","v":0},{"$f":"IF(OR(AND(LEFT($D$91,8)=\"MODELO M\",LEFT(D94,8)=\"MODELO C\"),AND(LEFT($D$91,8)=\"MODELO C\",$R$91=\"Atribuir valor detalhado por Fase/Elemento\")),X94,0)","v":0},{"$f":"IF(OR(AND(LEFT($D$91,8)=\"MODELO M\",LEFT(D94,8)=\"MODELO D\"),AND(LEFT($D$91,8)=\"MODELO D\",$Z$91=\"Atribuir valor detalhado por Fase/Elemento\")),AC94,0)","v":0},{"$f":"SUM(BH94:BK94)","v":0},"MODELO A - TEMPO - N.º DE HORAS DE TRABALHO"]
[null,{"$f":"IF($B$91=\"ocultar\",\"ocultar\",IF('SA - ATIVIDADES'!$F$175=TRUE,IF('SA - ATIVIDADES'!$H$175>='SA - SERVICOS GESTAO E CONTROLO'!AH95,\"mostrar\",\"ocultar\"),\"ocultar\"))","v":"ocultar"},"Designação (a preencher)","MODELO A - TEMPO - N.º DE HORAS DE TRABALHO",null,null,0,{"$f":"$H$91","v":0},{"$f":"G95*H95","v":0},null,null,null,null,null,0,{"$f":"$P$91*O95","v":0},null,null,null,null,null,null,0,{"$f":"$X$91*W95","v":0},null,null,0,0,{"$f":"AA95*AB95","v":0},null,{"$f":"BL95","v":0},null,null,2,null,null,null,null,null,null,null,null,null,null,null,null,null,null,null,null,null,null,null,null,null,null,null,null,null,{"$f":"IF(OR(AND(LEFT($D$91,8)=\"MODELO M\",LEFT(D95,8)=\"MODELO A\"),AND(LEFT($D$91,8)=\"MODELO A\",$F$91=\"Atribuir valor detalhado por Fase/Elemento\")),I95,0)","v":0},{"$f":"IF(OR(AND(LEFT($D$91,8)=\"MODELO M\",LEFT(D95,8)=\"MODELO B\"),AND(LEFT($D$91,8)=\"MODELO B\",$K$91=\"Atribuir valor detalhado por Fase/Elemento\")),P95,0)","v":0},{"$f":"IF(OR(AND(LEFT($D$91,8)=\"MODELO M\",LEFT(D95,8)=\"MODELO C\"),AND(LEFT($D$91,8)=\"MODELO C\",$R$91=\"Atribuir valor detalhado por Fase/Elemento\")),X95,0)","v":0},{"$f":"IF(OR(AND(LEFT($D$91,8)=\"MODELO M\",LEFT(D95,8)=\"MODELO D\"),AND(LEFT($D$91,8)=\"MODELO D\",$Z$91=\"Atribuir valor detalhado por Fase/Elemento\")),AC95,0)","v":0},{"$f":"SUM(BH95:BK95)","v":0},"MODELO A - TEMPO - N.º DE HORAS DE TRABALHO"]
[null,{"$f":"IF($B$91=\"ocultar\",\"ocultar\",IF('SA - ATIVIDADES'!$F$175=TRUE,IF('SA - ATIVIDADES'!$H$175>='SA - SERVICOS GESTAO E CONTROLO'!AH96,\"mostrar\",\"ocultar\"),\"ocultar\"))","v":"ocultar"},"Designação (a preencher)","MODELO A - TEMPO - N.º DE HORAS DE TRABALHO",null,null,0,0,0,null,null,null,null,null,0,0,null,null,null,null,null,null,0,0,null,null,0,0,0,null,0,null,null,3,null,null,null,null,null,null,null,null,null,null,null,null,null,null,null,null,null,null,null,null,null,null,null,null,null,{"$f":"IF(OR(AND(LEFT($D$91,8)=\"MODELO M\",LEFT(D96,8)=\"MODELO A\"),AND(LEFT($D$91,8)=\"MODELO A\",$F$91=\"Atribuir valor detalhado por Fase/Elemento\")),I96,0)","v":0},{"$f":"IF(OR(AND(LEFT($D$91,8)=\"MODELO M\",LEFT(D96,8)=\"MODELO B\"),AND(LEFT($D$91,8)=\"MODELO B\",$K$91=\"Atribuir valor detalhado por Fase/Elemento\")),P96,0)","v":0},{"$f":"IF(OR(AND(LEFT($D$91,8)=\"MODELO M\",LEFT(D96,8)=\"MODELO C\"),AND(LEFT($D$91,8)=\"MODELO C\",$R$91=\"Atribuir valor detalhado por Fase/Elemento\")),X96,0)","v":0},{"$f":"IF(OR(AND(LEFT($D$91,8)=\"MODELO M\",LEFT(D96,8)=\"MODELO D\"),AND(LEFT($D$91,8)=\"MODELO D\",$Z$91=\"Atribuir valor detalhado por Fase/Elemento\")),AC96,0)","v":0},0,"MODELO A - TEMPO - N.º DE HORAS DE TRABALHO"]
[null,{"$f":"IF($B$91=\"ocultar\",\"ocultar\",IF('SA - ATIVIDADES'!$F$175=TRUE,IF('SA - ATIVIDADES'!$H$175>='SA - SERVICOS GESTAO E CONTROLO'!AH97,\"mostrar\",\"ocultar\"),\"ocultar\"))","v":"ocultar"},"Designação (a preencher)","MODELO A - TEMPO - N.º DE HORAS DE TRABALHO",null,null,0,0,0,null,null,null,null,null,0,0,null,null,null,null,null,null,0,0,null,null,0,0,0,null,0,null,null,4,null,null,null,null,null,null,null,null,null,null,null,null,null,null,null,null,null,null,null,null,null,null,null,null,null,{"$f":"IF(OR(AND(LEFT($D$91,8)=\"MODELO M\",LEFT(D97,8)=\"MODELO A\"),AND(LEFT($D$91,8)=\"MODELO A\",$F$91=\"Atribuir valor detalhado por Fase/Elemento\")),I97,0)","v":0},{"$f":"IF(OR(AND(LEFT($D$91,8)=\"MODELO M\",LEFT(D97,8)=\"MODELO B\"),AND(LEFT($D$91,8)=\"MODELO B\",$K$91=\"Atribuir valor detalhado por Fase/Elemento\")),P97,0)","v":0},{"$f":"IF(OR(AND(LEFT($D$91,8)=\"MODELO M\",LEFT(D97,8)=\"MODELO C\"),AND(LEFT($D$91,8)=\"MODELO C\",$R$91=\"Atribuir valor detalhado por Fase/Elemento\")),X97,0)","v":0},{"$f":"IF(OR(AND(LEFT($D$91,8)=\"MODELO M\",LEFT(D97,8)=\"MODELO D\"),AND(LEFT($D$91,8)=\"MODELO D\",$Z$91=\"Atribuir valor detalhado por Fase/Elemento\")),AC97,0)","v":0},0,"MODELO A - TEMPO - N.º DE HORAS DE TRABALHO"]
[null,{"$f":"IF($B$91=\"ocultar\",\"ocultar\",IF('SA - ATIVIDADES'!$F$175=TRUE,IF('SA - ATIVIDADES'!$H$175>='SA - SERVICOS GESTAO E CONTROLO'!AH98,\"mostrar\",\"ocultar\"),\"ocultar\"))","v":"ocultar"},"Designação (a preencher)","MODELO A - TEMPO - N.º DE HORAS DE TRABALHO",null,null,0,0,0,null,null,null,null,null,0,0,null,null,null,null,null,null,0,0,null,null,0,0,0,null,0,null,null,5,null,null,null,null,null,null,null,null,null,null,null,null,null,null,null,null,null,null,null,null,null,null,null,null,null,{"$f":"IF(OR(AND(LEFT($D$91,8)=\"MODELO M\",LEFT(D98,8)=\"MODELO A\"),AND(LEFT($D$91,8)=\"MODELO A\",$F$91=\"Atribuir valor detalhado por Fase/Elemento\")),I98,0)","v":0},{"$f":"IF(OR(AND(LEFT($D$91,8)=\"MODELO M\",LEFT(D98,8)=\"MODELO B\"),AND(LEFT($D$91,8)=\"MODELO B\",$K$91=\"Atribuir valor detalhado por Fase/Elemento\")),P98,0)","v":0},{"$f":"IF(OR(AND(LEFT($D$91,8)=\"MODELO M\",LEFT(D98,8)=\"MODELO C\"),AND(LEFT($D$91,8)=\"MODELO C\",$R$91=\"Atribuir valor detalhado por Fase/Elemento\")),X98,0)","v":0},{"$f":"IF(OR(AND(LEFT($D$91,8)=\"MODELO M\",LEFT(D98,8)=\"MODELO D\"),AND(LEFT($D$91,8)=\"MODELO D\",$Z$91=\"Atribuir valor detalhado por Fase/Elemento\")),AC98,0)","v":0},0,"MODELO A - TEMPO - N.º DE HORAS DE TRABALHO"]
[null,{"$f":"IF($B$94=\"ocultar\",\"ocultar\",\"mostrar\")","v":"ocultar"},"TOTAL",null,null,null,{"$f":"IF($F91=\"Atribuir valor global à atividade\",G91,SUBTOTAL(109,G94:G98))","v":0},null,{"$f":"IF($F91=\"Atribuir valor global à atividade\",I91,SUBTOTAL(109,I94:I98))","v":0},null,null,null,null,null,{"$f":"IF($K91=\"Atribuir valor global à atividade\",1,SUBTOTAL(109,O94:O98))","v":1},{"$f":"IF($K91=\"Atribuir valor global à atividade\",P91,SUBTOTAL(109,P94:P98))","v":0},null,null,null,null,null,null,{"$f":"IF($R91=\"Atribuir valor global à atividade\",1,SUBTOTAL(109,W94:W98))","v":1},{"$f":"IF($R91=\"Atribuir valor global à atividade\",X91,SUBTOTAL(109,X94:X98))","v":0},null,null,null,null,{"$f":"IF($Z91=\"Atribuir valor global à atividade\",AC91,SUBTOTAL(109,AC94:AC98))","v":0},null,{"$f":"BL91","v":0},null,null,null,null,null,null,null,null,null,null,null,null,null,null,null,null,null,null,null,null,null,null,null,null,null,null,null,null,null,null,null,null,null,"MODELO A - TEMPO - N.º DE HORAS DE TRABALHO"]
[null,{"$f":"IF($B$91=\"mostrar\",\"mostrar\",\"ocultar\")","v":"ocultar"},null,null,null,null,null,null,null,null,null,null,null,null,null,null,null,null,null,null,null,null,null,null,null,null,null,null,null,null,null,null,null,null,null,null,null,null,null,null,null,null,null,null,null,null,null,null,null,null,null,null,null,null,null,null,null,null,null,null,null,null,null,null,"MODELO A - TEMPO - N.º DE HORAS DE TRABALHO"]
[null,{"$f":"IF('SA - ATIVIDADES'!$F$176<>TRUE,\"ocultar\",\"mostrar\")","v":"ocultar"},"F4. DIREÇÃO DE OBRA (ESPAÇO EXTERIOR)","MODELO A - TEMPO - N.º DE HORAS DE TRABALHO",null,"Atribuir valor global à atividade",0,0,{"$f":"IF($F$101=\"Atribuir valor global à atividade\",G101*H101,\"\")","v":0},null,"Atribuir valor global à atividade","Valor Global Obra (VG Obra)",{"$f":"IF(L101=\"Valor Global Obra (VG Obra)\",$M$9,\"\")","v":0},0,0,{"$f":"IF(L101=\"Valor Global Obra (VG Obra)\",M101*O101,N101*O101)","v":0},null,"Atribuir valor global à atividade","Valor/m2 fixo (VF m2)",{"$f":"IF(S101=\"Valor/m2 fixo (VF m2)\",$T$9,\"\")","v":0},0,0,null,{"$f":"IF(S101=\"Valor/m2 fixo (VF m2)\",T101*1*V101,U101*1*V101)","v":0},null,"Atribuir valor global à atividade",0,0,{"$f":"AA101*AB101","v":0},null,{"$f":"BL101","v":0},null,null,null,null,null,null,null,null,null,null,null,null,null,null,null,null,null,null,null,null,null,null,null,null,null,null,null,null,{"$f":"IF(LEFT($D$101,8)=\"MODELO A\",IF($F$101=\"Atribuir valor detalhado por Fase/Elemento\",SUBTOTAL(109,BH104:BH108),I101),IF(LEFT($D$101,8)=\"MODELO M\",SUBTOTAL(109,BH104:BH108),0))","v":0},{"$f":"IF(LEFT($D$101,8)=\"MODELO B\",IF($K$101=\"Atribuir valor detalhado por Fase/Elemento\",SUBTOTAL(109,BI104:BI108),P101),IF(LEFT($D$101,8)=\"MODELO M\",SUBTOTAL(109,BI104:BI108),0))","v":0},{"$f":"IF(LEFT($D$101,8)=\"MODELO C\",IF($R$101=\"Atribuir valor detalhado por Fase/Elemento\",SUBTOTAL(109,BJ104:BJ108),X101),IF(LEFT($D$101,8)=\"MODELO M\",SUBTOTAL(109,BJ104:BJ108),0))","v":0},{"$f":"IF(LEFT($D$101,8)=\"MODELO D\",IF($Z$101=\"Atribuir valor detalhado por Fase/Elemento\",SUBTOTAL(109,BK104:BK108),AC101),IF(LEFT($D$101,8)=\"MODELO M\",SUBTOTAL(109,BK104:BK108),0))","v":0},{"$f":"SUM(BH101:BK101)","v":0},"MODELO A - TEMPO - N.º DE HORAS DE TRABALHO"]
[null,{"$f":"IF($B$101=\"ocultar\",\"ocultar\",\"mostrar\")","v":"ocultar"},null,null,null,null,null,null,null,null,null,null,null,null,null,null,null,null,null,null,null,null,null,null,null,null,null,null,null,null,null,null,null,null,null,null,null,null,null,null,null,null,null,null,null,null,null,null,null,null,null,null,null,null,null,null,null,null,null,null,null,null,null,null,"MODELO A - TEMPO - N.º DE HORAS DE TRABALHO"]
[null,"ocultar",null,null,null,null,null,null,null,null,null,null,null,null,null,null,null,null,null,null,null,null,null,null,null,null,null,null,null,null,null,null,null,null,null,null,null,null,null,null,null,null,null,null,null,null,null,null,null,null,null,null,null,null,null,null,null,null,null,null,null,null,null,null,"MODELO A - TEMPO - N.º DE HORAS DE TRABALHO"]
[null,{"$f":"IF($B$101=\"ocultar\",\"ocultar\",IF('SA - ATIVIDADES'!$F$176=TRUE,IF('SA - ATIVIDADES'!$H$176>='SA - SERVICOS GESTAO E CONTROLO'!AH104,\"mostrar\",\"ocultar\"),\"ocultar\"))","v":"ocultar"},"Designação (a preencher)","MODELO A - TEMPO - N.º DE HORAS DE TRABALHO",null,null,0,{"$f":"$H$101","v":0},{"$f":"G104*H104","v":0},null,null,null,null,null,0,{"$f":"$P$101*O104","v":0},null,null,null,null,null,null,0,{"$f":"$X$101*W104","v":0},null,null,0,0,{"$f":"AA104*AB104","v":0},null,{"$f":"BL104","v":0},null,null,1,null,null,null,null,null,null,null,null,null,null,null,null,null,null,null,null,null,null,null,null,null,null,null,null,null,{"$f":"IF(OR(AND(LEFT($D$101,8)=\"MODELO M\",LEFT(D104,8)=\"MODELO A\"),AND(LEFT($D$101,8)=\"MODELO A\",$F$101=\"Atribuir valor detalhado por Fase/Elemento\")),I104,0)","v":0},{"$f":"IF(OR(AND(LEFT($D$101,8)=\"MODELO M\",LEFT(D104,8)=\"MODELO B\"),AND(LEFT($D$101,8)=\"MODELO B\",$K$101=\"Atribuir valor detalhado por Fase/Elemento\")),P104,0)","v":0},{"$f":"IF(OR(AND(LEFT($D$101,8)=\"MODELO M\",LEFT(D104,8)=\"MODELO C\"),AND(LEFT($D$101,8)=\"MODELO C\",$R$101=\"Atribuir valor detalhado por Fase/Elemento\")),X104,0)","v":0},{"$f":"IF(OR(AND(LEFT($D$101,8)=\"MODELO M\",LEFT(D104,8)=\"MODELO D\"),AND(LEFT($D$101,8)=\"MODELO D\",$Z$101=\"Atribuir valor detalhado por Fase/Elemento\")),AC104,0)","v":0},{"$f":"SUM(BH104:BK104)","v":0},"MODELO A - TEMPO - N.º DE HORAS DE TRABALHO"]
[null,{"$f":"IF($B$101=\"ocultar\",\"ocultar\",IF('SA - ATIVIDADES'!$F$176=TRUE,IF('SA - ATIVIDADES'!$H$176>='SA - SERVICOS GESTAO E CONTROLO'!AH105,\"mostrar\",\"ocultar\"),\"ocultar\"))","v":"ocultar"},"Designação (a preencher)","MODELO A - TEMPO - N.º DE HORAS DE TRABALHO",null,null,0,{"$f":"$H$101","v":0},{"$f":"G105*H105","v":0},null,null,null,null,null,0,{"$f":"$P$101*O105","v":0},null,null,null,null,null,null,0,{"$f":"$X$101*W105","v":0},null,null,0,0,{"$f":"AA105*AB105","v":0},null,{"$f":"BL105","v":0},null,null,2,null,null,null,null,null,null,null,null,null,null,null,null,null,null,null,null,null,null,null,null,null,null,null,null,null,{"$f":"IF(OR(AND(LEFT($D$101,8)=\"MODELO M\",LEFT(D105,8)=\"MODELO A\"),AND(LEFT($D$101,8)=\"MODELO A\",$F$101=\"Atribuir valor detalhado por Fase/Elemento\")),I105,0)","v":0},{"$f":"IF(OR(AND(LEFT($D$101,8)=\"MODELO M\",LEFT(D105,8)=\"MODELO B\"),AND(LEFT($D$101,8)=\"MODELO B\",$K$101=\"Atribuir valor detalhado por Fase/Elemento\")),P105,0)","v":0},{"$f":"IF(OR(AND(LEFT($D$101,8)=\"MODELO M\",LEFT(D105,8)=\"MODELO C\"),AND(LEFT($D$101,8)=\"MODELO C\",$R$101=\"Atribuir valor detalhado por Fase/Elemento\")),X105,0)","v":0},{"$f":"IF(OR(AND(LEFT($D$101,8)=\"MODELO M\",LEFT(D105,8)=\"MODELO D\"),AND(LEFT($D$101,8)=\"MODELO D\",$Z$101=\"Atribuir valor detalhado por Fase/Elemento\")),AC105,0)","v":0},{"$f":"SUM(BH105:BK105)","v":0},"MODELO A - TEMPO - N.º DE HORAS DE TRABALHO"]
[null,{"$f":"IF($B$101=\"ocultar\",\"ocultar\",IF('SA - ATIVIDADES'!$F$176=TRUE,IF('SA - ATIVIDADES'!$H$176>='SA - SERVICOS GESTAO E CONTROLO'!AH106,\"mostrar\",\"ocultar\"),\"ocultar\"))","v":"ocultar"},"Designação (a preencher)","MODELO A - TEMPO - N.º DE HORAS DE TRABALHO",null,null,0,0,0,null,null,null,null,null,0,0,null,null,null,null,null,null,0,0,null,null,0,0,0,null,0,null,null,3,null,null,null,null,null,null,null,null,null,null,null,null,null,null,null,null,null,null,null,null,null,null,null,null,null,{"$f":"IF(OR(AND(LEFT($D$101,8)=\"MODELO M\",LEFT(D106,8)=\"MODELO A\"),AND(LEFT($D$101,8)=\"MODELO A\",$F$101=\"Atribuir valor detalhado por Fase/Elemento\")),I106,0)","v":0},{"$f":"IF(OR(AND(LEFT($D$101,8)=\"MODELO M\",LEFT(D106,8)=\"MODELO B\"),AND(LEFT($D$101,8)=\"MODELO B\",$K$101=\"Atribuir valor detalhado por Fase/Elemento\")),P106,0)","v":0},{"$f":"IF(OR(AND(LEFT($D$101,8)=\"MODELO M\",LEFT(D106,8)=\"MODELO C\"),AND(LEFT($D$101,8)=\"MODELO C\",$R$101=\"Atribuir valor detalhado por Fase/Elemento\")),X106,0)","v":0},{"$f":"IF(OR(AND(LEFT($D$101,8)=\"MODELO M\",LEFT(D106,8)=\"MODELO D\"),AND(LEFT($D$101,8)=\"MODELO D\",$Z$101=\"Atribuir valor detalhado por Fase/Elemento\")),AC106,0)","v":0},0,"MODELO A - TEMPO - N.º DE HORAS DE TRABALHO"]
[null,{"$f":"IF($B$101=\"ocultar\",\"ocultar\",IF('SA - ATIVIDADES'!$F$176=TRUE,IF('SA - ATIVIDADES'!$H$176>='SA - SERVICOS GESTAO E CONTROLO'!AH107,\"mostrar\",\"ocultar\"),\"ocultar\"))","v":"ocultar"},"Designação (a preencher)","MODELO A - TEMPO - N.º DE HORAS DE TRABALHO",null,null,0,0,0,null,null,null,null,null,0,0,null,null,null,null,null,null,0,0,null,null,0,0,0,null,0,null,null,4,null,null,null,null,null,null,null,null,null,null,null,null,null,null,null,null,null,null,null,null,null,null,null,null,null,{"$f":"IF(OR(AND(LEFT($D$101,8)=\"MODELO M\",LEFT(D107,8)=\"MODELO A\"),AND(LEFT($D$101,8)=\"MODELO A\",$F$101=\"Atribuir valor detalhado por Fase/Elemento\")),I107,0)","v":0},{"$f":"IF(OR(AND(LEFT($D$101,8)=\"MODELO M\",LEFT(D107,8)=\"MODELO B\"),AND(LEFT($D$101,8)=\"MODELO B\",$K$101=\"Atribuir valor detalhado por Fase/Elemento\")),P107,0)","v":0},{"$f":"IF(OR(AND(LEFT($D$101,8)=\"MODELO M\",LEFT(D107,8)=\"MODELO C\"),AND(LEFT($D$101,8)=\"MODELO C\",$R$101=\"Atribuir valor detalhado por Fase/Elemento\")),X107,0)","v":0},{"$f":"IF(OR(AND(LEFT($D$101,8)=\"MODELO M\",LEFT(D107,8)=\"MODELO D\"),AND(LEFT($D$101,8)=\"MODELO D\",$Z$101=\"Atribuir valor detalhado por Fase/Elemento\")),AC107,0)","v":0},0,"MODELO A - TEMPO - N.º DE HORAS DE TRABALHO"]
[null,{"$f":"IF($B$101=\"ocultar\",\"ocultar\",IF('SA - ATIVIDADES'!$F$176=TRUE,IF('SA - ATIVIDADES'!$H$176>='SA - SERVICOS GESTAO E CONTROLO'!AH108,\"mostrar\",\"ocultar\"),\"ocultar\"))","v":"ocultar"},"Designação (a preencher)","MODELO A - TEMPO - N.º DE HORAS DE TRABALHO",null,null,0,0,0,null,null,null,null,null,0,0,null,null,null,null,null,null,0,0,null,null,0,0,0,null,0,null,null,5,null,null,null,null,null,null,null,null,null,null,null,null,null,null,null,null,null,null,null,null,null,null,null,null,null,{"$f":"IF(OR(AND(LEFT($D$101,8)=\"MODELO M\",LEFT(D108,8)=\"MODELO A\"),AND(LEFT($D$101,8)=\"MODELO A\",$F$101=\"Atribuir valor detalhado por Fase/Elemento\")),I108,0)","v":0},{"$f":"IF(OR(AND(LEFT($D$101,8)=\"MODELO M\",LEFT(D108,8)=\"MODELO B\"),AND(LEFT($D$101,8)=\"MODELO B\",$K$101=\"Atribuir valor detalhado por Fase/Elemento\")),P108,0)","v":0},{"$f":"IF(OR(AND(LEFT($D$101,8)=\"MODELO M\",LEFT(D108,8)=\"MODELO C\"),AND(LEFT($D$101,8)=\"MODELO C\",$R$101=\"Atribuir valor detalhado por Fase/Elemento\")),X108,0)","v":0},{"$f":"IF(OR(AND(LEFT($D$101,8)=\"MODELO M\",LEFT(D108,8)=\"MODELO D\"),AND(LEFT($D$101,8)=\"MODELO D\",$Z$101=\"Atribuir valor detalhado por Fase/Elemento\")),AC108,0)","v":0},0,"MODELO A - TEMPO - N.º DE HORAS DE TRABALHO"]
[null,{"$f":"IF($B$104=\"ocultar\",\"ocultar\",\"mostrar\")","v":"ocultar"},"TOTAL",null,null,null,{"$f":"IF($F101=\"Atribuir valor global à atividade\",G101,SUBTOTAL(109,G104:G108))","v":0},null,{"$f":"IF($F101=\"Atribuir valor global à atividade\",I101,SUBTOTAL(109,I104:I108))","v":0},null,null,null,null,null,{"$f":"IF($K101=\"Atribuir valor global à atividade\",1,SUBTOTAL(109,O104:O108))","v":1},{"$f":"IF($K101=\"Atribuir valor global à atividade\",P101,SUBTOTAL(109,P104:P108))","v":0},null,null,null,null,null,null,{"$f":"IF($R101=\"Atribuir valor global à atividade\",1,SUBTOTAL(109,W104:W108))","v":1},{"$f":"IF($R101=\"Atribuir valor global à atividade\",X101,SUBTOTAL(109,X104:X108))","v":0},null,null,null,null,{"$f":"IF($Z101=\"Atribuir valor global à atividade\",AC101,SUBTOTAL(109,AC104:AC108))","v":0},null,{"$f":"BL101","v":0},null,null,null,null,null,null,null,null,null,null,null,null,null,null,null,null,null,null,null,null,null,null,null,null,null,null,null,null,null,null,null,null,null,"MODELO A - TEMPO - N.º DE HORAS DE TRABALHO"]
[null,{"$f":"IF($B$101=\"mostrar\",\"mostrar\",\"ocultar\")","v":"ocultar"},null,null,null,null,null,null,null,null,null,null,null,null,null,null,null,null,null,null,null,null,null,null,null,null,null,null,null,null,null,null,null,null,null,null,null,null,null,null,null,null,null,null,null,null,null,null,null,null,null,null,null,null,null,null,null,null,null,null,null,null,null,null,"MODELO A - TEMPO - N.º DE HORAS DE TRABALHO"]
[null,{"$f":"IF('SA - ATIVIDADES'!$F$177<>TRUE,\"ocultar\",\"mostrar\")","v":"ocultar"},"F5. TÉCNICO RESPONSÁVEL PELA CONDUÇÃO DA EXECUÇÃO DE TRABALHOS DE ESPECIALIDADES","MODELO A - TEMPO - N.º DE HORAS DE TRABALHO",null,"Atribuir valor global à atividade",0,0,{"$f":"IF($F$111=\"Atribuir valor global à atividade\",G111*H111,\"\")","v":0},null,"Atribuir valor global à atividade","Valor Global Obra (VG Obra)",{"$f":"IF(L111=\"Valor Global Obra (VG Obra)\",$M$9,\"\")","v":0},0,0,{"$f":"IF(L111=\"Valor Global Obra (VG Obra)\",M111*O111,N111*O111)","v":0},null,"Atribuir valor global à atividade","Valor/m2 fixo (VF m2)",{"$f":"IF(S111=\"Valor/m2 fixo (VF m2)\",$T$9,\"\")","v":0},0,0,null,{"$f":"IF(S111=\"Valor/m2 fixo (VF m2)\",T111*1*V111,U111*1*V111)","v":0},null,"Atribuir valor global à atividade",0,0,{"$f":"AA111*AB111","v":0},null,{"$f":"BL111","v":0},null,null,null,null,null,null,null,null,null,null,null,null,null,null,null,null,null,null,null,null,null,null,null,null,null,null,null,null,{"$f":"IF(LEFT($D$111,8)=\"MODELO A\",IF($F$111=\"Atribuir valor detalhado por Fase/Elemento\",SUBTOTAL(109,BH114:BH118),I111),IF(LEFT($D$111,8)=\"MODELO M\",SUBTOTAL(109,BH114:BH118),0))","v":0},{"$f":"IF(LEFT($D$111,8)=\"MODELO B\",IF($K$111=\"Atribuir valor detalhado por Fase/Elemento\",SUBTOTAL(109,BI114:BI118),P111),IF(LEFT($D$111,8)=\"MODELO M\",SUBTOTAL(109,BI114:BI118),0))","v":0},{"$f":"IF(LEFT($D$111,8)=\"MODELO C\",IF($R$111=\"Atribuir valor detalhado por Fase/Elemento\",SUBTOTAL(109,BJ114:BJ118),X111),IF(LEFT($D$111,8)=\"MODELO M\",SUBTOTAL(109,BJ114:BJ118),0))","v":0},{"$f":"IF(LEFT($D$111,8)=\"MODELO D\",IF($Z$111=\"Atribuir valor detalhado por Fase/Elemento\",SUBTOTAL(109,BK114:BK118),AC111),IF(LEFT($D$111,8)=\"MODELO M\",SUBTOTAL(109,BK114:BK118),0))","v":0},{"$f":"SUM(BH111:BK111)","v":0},"MODELO A - TEMPO - N.º DE HORAS DE TRABALHO"]
[null,{"$f":"IF($B$111=\"ocultar\",\"ocultar\",\"mostrar\")","v":"ocultar"},null,null,null,null,null,null,null,null,null,null,null,null,null,null,null,null,null,null,null,null,null,null,null,null,null,null,null,null,null,null,null,null,null,null,null,null,null,null,null,null,null,null,null,null,null,null,null,null,null,null,null,null,null,null,null,null,null,null,null,null,null,null,"MODELO A - TEMPO - N.º DE HORAS DE TRABALHO"]
[null,"ocultar",null,null,null,null,null,null,null,null,null,null,null,null,null,null,null,null,null,null,null,null,null,null,null,null,null,null,null,null,null,null,null,null,null,null,null,null,null,null,null,null,null,null,null,null,null,null,null,null,null,null,null,null,null,null,null,null,null,null,null,null,null,null,"MODELO A - TEMPO - N.º DE HORAS DE TRABALHO"]
[null,{"$f":"IF($B$111=\"ocultar\",\"ocultar\",IF('SA - ATIVIDADES'!$F$177=TRUE,IF('SA - ATIVIDADES'!$H$177>='SA - SERVICOS GESTAO E CONTROLO'!AH114,\"mostrar\",\"ocultar\"),\"ocultar\"))","v":"ocultar"},"Designação (a preencher)","MODELO A - TEMPO - N.º DE HORAS DE TRABALHO",null,null,0,{"$f":"$H$111","v":0},{"$f":"G114*H114","v":0},null,null,null,null,null,0,{"$f":"$P$111*O114","v":0},null,null,null,null,null,null,0,{"$f":"$X$111*W114","v":0},null,null,0,0,{"$f":"AA114*AB114","v":0},null,{"$f":"BL114","v":0},null,null,1,null,null,null,null,null,null,null,null,null,null,null,null,null,null,null,null,null,null,null,null,null,null,null,null,null,{"$f":"IF(OR(AND(LEFT($D$111,8)=\"MODELO M\",LEFT(D114,8)=\"MODELO A\"),AND(LEFT($D$111,8)=\"MODELO A\",$F$111=\"Atribuir valor detalhado por Fase/Elemento\")),I114,0)","v":0},{"$f":"IF(OR(AND(LEFT($D$111,8)=\"MODELO M\",LEFT(D114,8)=\"MODELO B\"),AND(LEFT($D$111,8)=\"MODELO B\",$K$111=\"Atribuir valor detalhado por Fase/Elemento\")),P114,0)","v":0},{"$f":"IF(OR(AND(LEFT($D$111,8)=\"MODELO M\",LEFT(D114,8)=\"MODELO C\"),AND(LEFT($D$111,8)=\"MODELO C\",$R$111=\"Atribuir valor detalhado por Fase/Elemento\")),X114,0)","v":0},{"$f":"IF(OR(AND(LEFT($D$111,8)=\"MODELO M\",LEFT(D114,8)=\"MODELO D\"),AND(LEFT($D$111,8)=\"MODELO D\",$Z$111=\"Atribuir valor detalhado por Fase/Elemento\")),AC114,0)","v":0},{"$f":"SUM(BH114:BK114)","v":0},"MODELO A - TEMPO - N.º DE HORAS DE TRABALHO"]
[null,{"$f":"IF($B$111=\"ocultar\",\"ocultar\",IF('SA - ATIVIDADES'!$F$177=TRUE,IF('SA - ATIVIDADES'!$H$177>='SA - SERVICOS GESTAO E CONTROLO'!AH115,\"mostrar\",\"ocultar\"),\"ocultar\"))","v":"ocultar"},"Designação (a preencher)","MODELO A - TEMPO - N.º DE HORAS DE TRABALHO",null,null,0,{"$f":"$H$111","v":0},{"$f":"G115*H115","v":0},null,null,null,null,null,0,{"$f":"$P$111*O115","v":0},null,null,null,null,null,null,0,{"$f":"$X$111*W115","v":0},null,null,0,0,{"$f":"AA115*AB115","v":0},null,{"$f":"BL115","v":0},null,null,2,null,null,null,null,null,null,null,null,null,null,null,null,null,null,null,null,null,null,null,null,null,null,null,null,null,{"$f":"IF(OR(AND(LEFT($D$111,8)=\"MODELO M\",LEFT(D115,8)=\"MODELO A\"),AND(LEFT($D$111,8)=\"MODELO A\",$F$111=\"Atribuir valor detalhado por Fase/Elemento\")),I115,0)","v":0},{"$f":"IF(OR(AND(LEFT($D$111,8)=\"MODELO M\",LEFT(D115,8)=\"MODELO B\"),AND(LEFT($D$111,8)=\"MODELO B\",$K$111=\"Atribuir valor detalhado por Fase/Elemento\")),P115,0)","v":0},{"$f":"IF(OR(AND(LEFT($D$111,8)=\"MODELO M\",LEFT(D115,8)=\"MODELO C\"),AND(LEFT($D$111,8)=\"MODELO C\",$R$111=\"Atribuir valor detalhado por Fase/Elemento\")),X115,0)","v":0},{"$f":"IF(OR(AND(LEFT($D$111,8)=\"MODELO M\",LEFT(D115,8)=\"MODELO D\"),AND(LEFT($D$111,8)=\"MODELO D\",$Z$111=\"Atribuir valor detalhado por Fase/Elemento\")),AC115,0)","v":0},{"$f":"SUM(BH115:BK115)","v":0},"MODELO A - TEMPO - N.º DE HORAS DE TRABALHO"]
[null,{"$f":"IF($B$111=\"ocultar\",\"ocultar\",IF('SA - ATIVIDADES'!$F$177=TRUE,IF('SA - ATIVIDADES'!$H$177>='SA - SERVICOS GESTAO E CONTROLO'!AH116,\"mostrar\",\"ocultar\"),\"ocultar\"))","v":"ocultar"},"Designação (a preencher)","MODELO A - TEMPO - N.º DE HORAS DE TRABALHO",null,null,0,0,0,null,null,null,null,null,0,0,null,null,null,null,null,null,0,0,null,null,0,0,0,null,0,null,null,3,null,null,null,null,null,null,null,null,null,null,null,null,null,null,null,null,null,null,null,null,null,null,null,null,null,{"$f":"IF(OR(AND(LEFT($D$111,8)=\"MODELO M\",LEFT(D116,8)=\"MODELO A\"),AND(LEFT($D$111,8)=\"MODELO A\",$F$111=\"Atribuir valor detalhado por Fase/Elemento\")),I116,0)","v":0},{"$f":"IF(OR(AND(LEFT($D$111,8)=\"MODELO M\",LEFT(D116,8)=\"MODELO B\"),AND(LEFT($D$111,8)=\"MODELO B\",$K$111=\"Atribuir valor detalhado por Fase/Elemento\")),P116,0)","v":0},{"$f":"IF(OR(AND(LEFT($D$111,8)=\"MODELO M\",LEFT(D116,8)=\"MODELO C\"),AND(LEFT($D$111,8)=\"MODELO C\",$R$111=\"Atribuir valor detalhado por Fase/Elemento\")),X116,0)","v":0},{"$f":"IF(OR(AND(LEFT($D$111,8)=\"MODELO M\",LEFT(D116,8)=\"MODELO D\"),AND(LEFT($D$111,8)=\"MODELO D\",$Z$111=\"Atribuir valor detalhado por Fase/Elemento\")),AC116,0)","v":0},0,"MODELO A - TEMPO - N.º DE HORAS DE TRABALHO"]
[null,{"$f":"IF($B$111=\"ocultar\",\"ocultar\",IF('SA - ATIVIDADES'!$F$177=TRUE,IF('SA - ATIVIDADES'!$H$177>='SA - SERVICOS GESTAO E CONTROLO'!AH117,\"mostrar\",\"ocultar\"),\"ocultar\"))","v":"ocultar"},"Designação (a preencher)","MODELO A - TEMPO - N.º DE HORAS DE TRABALHO",null,null,0,0,0,null,null,null,null,null,0,0,null,null,null,null,null,null,0,0,null,null,0,0,0,null,0,null,null,4,null,null,null,null,null,null,null,null,null,null,null,null,null,null,null,null,null,null,null,null,null,null,null,null,null,{"$f":"IF(OR(AND(LEFT($D$111,8)=\"MODELO M\",LEFT(D117,8)=\"MODELO A\"),AND(LEFT($D$111,8)=\"MODELO A\",$F$111=\"Atribuir valor detalhado por Fase/Elemento\")),I117,0)","v":0},{"$f":"IF(OR(AND(LEFT($D$111,8)=\"MODELO M\",LEFT(D117,8)=\"MODELO B\"),AND(LEFT($D$111,8)=\"MODELO B\",$K$111=\"Atribuir valor detalhado por Fase/Elemento\")),P117,0)","v":0},{"$f":"IF(OR(AND(LEFT($D$111,8)=\"MODELO M\",LEFT(D117,8)=\"MODELO C\"),AND(LEFT($D$111,8)=\"MODELO C\",$R$111=\"Atribuir valor detalhado por Fase/Elemento\")),X117,0)","v":0},{"$f":"IF(OR(AND(LEFT($D$111,8)=\"MODELO M\",LEFT(D117,8)=\"MODELO D\"),AND(LEFT($D$111,8)=\"MODELO D\",$Z$111=\"Atribuir valor detalhado por Fase/Elemento\")),AC117,0)","v":0},0,"MODELO A - TEMPO - N.º DE HORAS DE TRABALHO"]
[null,{"$f":"IF($B$111=\"ocultar\",\"ocultar\",IF('SA - ATIVIDADES'!$F$177=TRUE,IF('SA - ATIVIDADES'!$H$177>='SA - SERVICOS GESTAO E CONTROLO'!AH118,\"mostrar\",\"ocultar\"),\"ocultar\"))","v":"ocultar"},"Designação (a preencher)","MODELO A - TEMPO - N.º DE HORAS DE TRABALHO",null,null,0,0,0,null,null,null,null,null,0,0,null,null,null,null,null,null,0,0,null,null,0,0,0,null,0,null,null,5,null,null,null,null,null,null,null,null,null,null,null,null,null,null,null,null,null,null,null,null,null,null,null,null,null,{"$f":"IF(OR(AND(LEFT($D$111,8)=\"MODELO M\",LEFT(D118,8)=\"MODELO A\"),AND(LEFT($D$111,8)=\"MODELO A\",$F$111=\"Atribuir valor detalhado por Fase/Elemento\")),I118,0)","v":0},{"$f":"IF(OR(AND(LEFT($D$111,8)=\"MODELO M\",LEFT(D118,8)=\"MODELO B\"),AND(LEFT($D$111,8)=\"MODELO B\",$K$111=\"Atribuir valor detalhado por Fase/Elemento\")),P118,0)","v":0},{"$f":"IF(OR(AND(LEFT($D$111,8)=\"MODELO M\",LEFT(D118,8)=\"MODELO C\"),AND(LEFT($D$111,8)=\"MODELO C\",$R$111=\"Atribuir valor detalhado por Fase/Elemento\")),X118,0)","v":0},{"$f":"IF(OR(AND(LEFT($D$111,8)=\"MODELO M\",LEFT(D118,8)=\"MODELO D\"),AND(LEFT($D$111,8)=\"MODELO D\",$Z$111=\"Atribuir valor detalhado por Fase/Elemento\")),AC118,0)","v":0},0,"MODELO A - TEMPO - N.º DE HORAS DE TRABALHO"]
[null,{"$f":"IF($B$114=\"ocultar\",\"ocultar\",\"mostrar\")","v":"ocultar"},"TOTAL",null,null,null,{"$f":"IF($F111=\"Atribuir valor global à atividade\",G111,SUBTOTAL(109,G114:G118))","v":0},null,{"$f":"IF($F111=\"Atribuir valor global à atividade\",I111,SUBTOTAL(109,I114:I118))","v":0},null,null,null,null,null,{"$f":"IF($K111=\"Atribuir valor global à atividade\",1,SUBTOTAL(109,O114:O118))","v":1},{"$f":"IF($K111=\"Atribuir valor global à atividade\",P111,SUBTOTAL(109,P114:P118))","v":0},null,null,null,null,null,null,{"$f":"IF($R111=\"Atribuir valor global à atividade\",1,SUBTOTAL(109,W114:W118))","v":1},{"$f":"IF($R111=\"Atribuir valor global à atividade\",X111,SUBTOTAL(109,X114:X118))","v":0},null,null,null,null,{"$f":"IF($Z111=\"Atribuir valor global à atividade\",AC111,SUBTOTAL(109,AC114:AC118))","v":0},null,{"$f":"BL111","v":0},null,null,null,null,null,null,null,null,null,null,null,null,null,null,null,null,null,null,null,null,null,null,null,null,null,null,null,null,null,null,null,null,null,"MODELO A - TEMPO - N.º DE HORAS DE TRABALHO"]
[null,{"$f":"IF($B$111=\"mostrar\",\"mostrar\",\"ocultar\")","v":"ocultar"},null,null,null,null,null,null,null,null,null,null,null,null,null,null,null,null,null,null,null,null,null,null,null,null,null,null,null,null,null,null,null,null,null,null,null,null,null,null,null,null,null,null,null,null,null,null,null,null,null,null,null,null,null,null,null,null,null,null,null,null,null,null,"MODELO A - TEMPO - N.º DE HORAS DE TRABALHO"]
[null,{"$f":"IF('SA - ATIVIDADES'!$F$180<>TRUE,\"ocultar\",\"mostrar\")","v":"ocultar"},"G1. GESTÃO DE PROJETO","MODELO A - TEMPO - N.º DE HORAS DE TRABALHO",null,"Atribuir valor global à atividade",0,0,{"$f":"IF($F$121=\"Atribuir valor global à atividade\",G121*H121,\"\")","v":0},null,"Atribuir valor global à atividade","Valor Global Obra (VG Obra)",{"$f":"IF(L121=\"Valor Global Obra (VG Obra)\",$M$9,\"\")","v":0},0,0,{"$f":"IF(L121=\"Valor Global Obra (VG Obra)\",M121*O121,N121*O121)","v":0},null,"Atribuir valor global à atividade","Valor/m2 fixo (VF m2)",{"$f":"IF(S121=\"Valor/m2 fixo (VF m2)\",$T$9,\"\")","v":0},0,0,null,{"$f":"IF(S121=\"Valor/m2 fixo (VF m2)\",T121*1*V121,U121*1*V121)","v":0},null,"Atribuir valor global à atividade",0,0,{"$f":"AA121*AB121","v":0},null,{"$f":"BL121","v":0},null,null,null,null,null,null,null,null,null,null,null,null,null,null,null,null,null,null,null,null,null,null,null,null,null,null,null,null,{"$f":"IF(LEFT($D$121,8)=\"MODELO A\",IF($F$121=\"Atribuir valor detalhado por Fase/Elemento\",SUBTOTAL(109,BH124:BH128),I121),IF(LEFT($D$121,8)=\"MODELO M\",SUBTOTAL(109,BH124:BH128),0))","v":0},{"$f":"IF(LEFT($D$121,8)=\"MODELO B\",IF($K$121=\"Atribuir valor detalhado por Fase/Elemento\",SUBTOTAL(109,BI124:BI128),P121),IF(LEFT($D$121,8)=\"MODELO M\",SUBTOTAL(109,BI124:BI128),0))","v":0},{"$f":"IF(LEFT($D$121,8)=\"MODELO C\",IF($R$121=\"Atribuir valor detalhado por Fase/Elemento\",SUBTOTAL(109,BJ124:BJ128),X121),IF(LEFT($D$121,8)=\"MODELO M\",SUBTOTAL(109,BJ124:BJ128),0))","v":0},{"$f":"IF(LEFT($D$121,8)=\"MODELO D\",IF($Z$121=\"Atribuir valor detalhado por Fase/Elemento\",SUBTOTAL(109,BK124:BK128),AC121),IF(LEFT($D$121,8)=\"MODELO M\",SUBTOTAL(109,BK124:BK128),0))","v":0},{"$f":"SUM(BH121:BK121)","v":0},"MODELO A - TEMPO - N.º DE HORAS DE TRABALHO"]
[null,{"$f":"IF($B$121=\"ocultar\",\"ocultar\",\"mostrar\")","v":"ocultar"},null,null,null,null,null,null,null,null,null,null,null,null,null,null,null,null,null,null,null,null,null,null,null,null,null,null,null,null,null,null,null,null,null,null,null,null,null,null,null,null,null,null,null,null,null,null,null,null,null,null,null,null,null,null,null,null,null,null,null,null,null,null,"MODELO A - TEMPO - N.º DE HORAS DE TRABALHO"]
[null,"ocultar",null,null,null,null,null,null,null,null,null,null,null,null,null,null,null,null,null,null,null,null,null,null,null,null,null,null,null,null,null,null,null,null,null,null,null,null,null,null,null,null,null,null,null,null,null,null,null,null,null,null,null,null,null,null,null,null,null,null,null,null,null,null,"MODELO A - TEMPO - N.º DE HORAS DE TRABALHO"]
[null,{"$f":"IF($B$121=\"ocultar\",\"ocultar\",IF('SA - ATIVIDADES'!$F$180=TRUE,IF('SA - ATIVIDADES'!$H$180>='SA - SERVICOS GESTAO E CONTROLO'!AH124,\"mostrar\",\"ocultar\"),\"ocultar\"))","v":"ocultar"},"Designação (a preencher)","MODELO A - TEMPO - N.º DE HORAS DE TRABALHO",null,null,0,{"$f":"$H$121","v":0},{"$f":"G124*H124","v":0},null,null,null,null,null,0,{"$f":"$P$121*O124","v":0},null,null,null,null,null,null,0,{"$f":"$X$121*W124","v":0},null,null,0,0,{"$f":"AA124*AB124","v":0},null,{"$f":"BL124","v":0},null,null,1,null,null,null,null,null,null,null,null,null,null,null,null,null,null,null,null,null,null,null,null,null,null,null,null,null,{"$f":"IF(OR(AND(LEFT($D$121,8)=\"MODELO M\",LEFT(D124,8)=\"MODELO A\"),AND(LEFT($D$121,8)=\"MODELO A\",$F$121=\"Atribuir valor detalhado por Fase/Elemento\")),I124,0)","v":0},{"$f":"IF(OR(AND(LEFT($D$121,8)=\"MODELO M\",LEFT(D124,8)=\"MODELO B\"),AND(LEFT($D$121,8)=\"MODELO B\",$K$121=\"Atribuir valor detalhado por Fase/Elemento\")),P124,0)","v":0},{"$f":"IF(OR(AND(LEFT($D$121,8)=\"MODELO M\",LEFT(D124,8)=\"MODELO C\"),AND(LEFT($D$121,8)=\"MODELO C\",$R$121=\"Atribuir valor detalhado por Fase/Elemento\")),X124,0)","v":0},{"$f":"IF(OR(AND(LEFT($D$121,8)=\"MODELO M\",LEFT(D124,8)=\"MODELO D\"),AND(LEFT($D$121,8)=\"MODELO D\",$Z$121=\"Atribuir valor detalhado por Fase/Elemento\")),AC124,0)","v":0},{"$f":"SUM(BH124:BK124)","v":0},"MODELO A - TEMPO - N.º DE HORAS DE TRABALHO"]
[null,{"$f":"IF($B$121=\"ocultar\",\"ocultar\",IF('SA - ATIVIDADES'!$F$180=TRUE,IF('SA - ATIVIDADES'!$H$180>='SA - SERVICOS GESTAO E CONTROLO'!AH125,\"mostrar\",\"ocultar\"),\"ocultar\"))","v":"ocultar"},"Designação (a preencher)","MODELO A - TEMPO - N.º DE HORAS DE TRABALHO",null,null,0,{"$f":"$H$121","v":0},{"$f":"G125*H125","v":0},null,null,null,null,null,0,{"$f":"$P$121*O125","v":0},null,null,null,null,null,null,0,{"$f":"$X$121*W125","v":0},null,null,0,0,{"$f":"AA125*AB125","v":0},null,{"$f":"BL125","v":0},null,null,2,null,null,null,null,null,null,null,null,null,null,null,null,null,null,null,null,null,null,null,null,null,null,null,null,null,{"$f":"IF(OR(AND(LEFT($D$121,8)=\"MODELO M\",LEFT(D125,8)=\"MODELO A\"),AND(LEFT($D$121,8)=\"MODELO A\",$F$121=\"Atribuir valor detalhado por Fase/Elemento\")),I125,0)","v":0},{"$f":"IF(OR(AND(LEFT($D$121,8)=\"MODELO M\",LEFT(D125,8)=\"MODELO B\"),AND(LEFT($D$121,8)=\"MODELO B\",$K$121=\"Atribuir valor detalhado por Fase/Elemento\")),P125,0)","v":0},{"$f":"IF(OR(AND(LEFT($D$121,8)=\"MODELO M\",LEFT(D125,8)=\"MODELO C\"),AND(LEFT($D$121,8)=\"MODELO C\",$R$121=\"Atribuir valor detalhado por Fase/Elemento\")),X125,0)","v":0},{"$f":"IF(OR(AND(LEFT($D$121,8)=\"MODELO M\",LEFT(D125,8)=\"MODELO D\"),AND(LEFT($D$121,8)=\"MODELO D\",$Z$121=\"Atribuir valor detalhado por Fase/Elemento\")),AC125,0)","v":0},{"$f":"SUM(BH125:BK125)","v":0},"MODELO A - TEMPO - N.º DE HORAS DE TRABALHO"]
[null,{"$f":"IF($B$121=\"ocultar\",\"ocultar\",IF('SA - ATIVIDADES'!$F$180=TRUE,IF('SA - ATIVIDADES'!$H$180>='SA - SERVICOS GESTAO E CONTROLO'!AH126,\"mostrar\",\"ocultar\"),\"ocultar\"))","v":"ocultar"},"Designação (a preencher)","MODELO A - TEMPO - N.º DE HORAS DE TRABALHO",null,null,0,0,0,null,null,null,null,null,0,0,null,null,null,null,null,null,0,0,null,null,0,0,0,null,0,null,null,3,null,null,null,null,null,null,null,null,null,null,null,null,null,null,null,null,null,null,null,null,null,null,null,null,null,{"$f":"IF(OR(AND(LEFT($D$121,8)=\"MODELO M\",LEFT(D126,8)=\"MODELO A\"),AND(LEFT($D$121,8)=\"MODELO A\",$F$121=\"Atribuir valor detalhado por Fase/Elemento\")),I126,0)","v":0},{"$f":"IF(OR(AND(LEFT($D$121,8)=\"MODELO M\",LEFT(D126,8)=\"MODELO B\"),AND(LEFT($D$121,8)=\"MODELO B\",$K$121=\"Atribuir valor detalhado por Fase/Elemento\")),P126,0)","v":0},{"$f":"IF(OR(AND(LEFT($D$121,8)=\"MODELO M\",LEFT(D126,8)=\"MODELO C\"),AND(LEFT($D$121,8)=\"MODELO C\",$R$121=\"Atribuir valor detalhado por Fase/Elemento\")),X126,0)","v":0},{"$f":"IF(OR(AND(LEFT($D$121,8)=\"MODELO M\",LEFT(D126,8)=\"MODELO D\"),AND(LEFT($D$121,8)=\"MODELO D\",$Z$121=\"Atribuir valor detalhado por Fase/Elemento\")),AC126,0)","v":0},0,"MODELO A - TEMPO - N.º DE HORAS DE TRABALHO"]
[null,{"$f":"IF($B$121=\"ocultar\",\"ocultar\",IF('SA - ATIVIDADES'!$F$180=TRUE,IF('SA - ATIVIDADES'!$H$180>='SA - SERVICOS GESTAO E CONTROLO'!AH127,\"mostrar\",\"ocultar\"),\"ocultar\"))","v":"ocultar"},"Designação (a preencher)","MODELO A - TEMPO - N.º DE HORAS DE TRABALHO",null,null,0,0,0,null,null,null,null,null,0,0,null,null,null,null,null,null,0,0,null,null,0,0,0,null,0,null,null,4,null,null,null,null,null,null,null,null,null,null,null,null,null,null,null,null,null,null,null,null,null,null,null,null,null,{"$f":"IF(OR(AND(LEFT($D$121,8)=\"MODELO M\",LEFT(D127,8)=\"MODELO A\"),AND(LEFT($D$121,8)=\"MODELO A\",$F$121=\"Atribuir valor detalhado por Fase/Elemento\")),I127,0)","v":0},{"$f":"IF(OR(AND(LEFT($D$121,8)=\"MODELO M\",LEFT(D127,8)=\"MODELO B\"),AND(LEFT($D$121,8)=\"MODELO B\",$K$121=\"Atribuir valor detalhado por Fase/Elemento\")),P127,0)","v":0},{"$f":"IF(OR(AND(LEFT($D$121,8)=\"MODELO M\",LEFT(D127,8)=\"MODELO C\"),AND(LEFT($D$121,8)=\"MODELO C\",$R$121=\"Atribuir valor detalhado por Fase/Elemento\")),X127,0)","v":0},{"$f":"IF(OR(AND(LEFT($D$121,8)=\"MODELO M\",LEFT(D127,8)=\"MODELO D\"),AND(LEFT($D$121,8)=\"MODELO D\",$Z$121=\"Atribuir valor detalhado por Fase/Elemento\")),AC127,0)","v":0},0,"MODELO A - TEMPO - N.º DE HORAS DE TRABALHO"]
[null,{"$f":"IF($B$121=\"ocultar\",\"ocultar\",IF('SA - ATIVIDADES'!$F$180=TRUE,IF('SA - ATIVIDADES'!$H$180>='SA - SERVICOS GESTAO E CONTROLO'!AH128,\"mostrar\",\"ocultar\"),\"ocultar\"))","v":"ocultar"},"Designação (a preencher)","MODELO A - TEMPO - N.º DE HORAS DE TRABALHO",null,null,0,0,0,null,null,null,null,null,0,0,null,null,null,null,null,null,0,0,null,null,0,0,0,null,0,null,null,5,null,null,null,null,null,null,null,null,null,null,null,null,null,null,null,null,null,null,null,null,null,null,null,null,null,{"$f":"IF(OR(AND(LEFT($D$121,8)=\"MODELO M\",LEFT(D128,8)=\"MODELO A\"),AND(LEFT($D$121,8)=\"MODELO A\",$F$121=\"Atribuir valor detalhado por Fase/Elemento\")),I128,0)","v":0},{"$f":"IF(OR(AND(LEFT($D$121,8)=\"MODELO M\",LEFT(D128,8)=\"MODELO B\"),AND(LEFT($D$121,8)=\"MODELO B\",$K$121=\"Atribuir valor detalhado por Fase/Elemento\")),P128,0)","v":0},{"$f":"IF(OR(AND(LEFT($D$121,8)=\"MODELO M\",LEFT(D128,8)=\"MODELO C\"),AND(LEFT($D$121,8)=\"MODELO C\",$R$121=\"Atribuir valor detalhado por Fase/Elemento\")),X128,0)","v":0},{"$f":"IF(OR(AND(LEFT($D$121,8)=\"MODELO M\",LEFT(D128,8)=\"MODELO D\"),AND(LEFT($D$121,8)=\"MODELO D\",$Z$121=\"Atribuir valor detalhado por Fase/Elemento\")),AC128,0)","v":0},0,"MODELO A - TEMPO - N.º DE HORAS DE TRABALHO"]
[null,{"$f":"IF($B$124=\"ocultar\",\"ocultar\",\"mostrar\")","v":"ocultar"},"TOTAL",null,null,null,{"$f":"IF($F121=\"Atribuir valor global à atividade\",G121,SUBTOTAL(109,G124:G128))","v":0},null,{"$f":"IF($F121=\"Atribuir valor global à atividade\",I121,SUBTOTAL(109,I124:I128))","v":0},null,null,null,null,null,{"$f":"IF($K121=\"Atribuir valor global à atividade\",1,SUBTOTAL(109,O124:O128))","v":1},{"$f":"IF($K121=\"Atribuir valor global à atividade\",P121,SUBTOTAL(109,P124:P128))","v":0},null,null,null,null,null,null,{"$f":"IF($R121=\"Atribuir valor global à atividade\",1,SUBTOTAL(109,W124:W128))","v":1},{"$f":"IF($R121=\"Atribuir valor global à atividade\",X121,SUBTOTAL(109,X124:X128))","v":0},null,null,null,null,{"$f":"IF($Z121=\"Atribuir valor global à atividade\",AC121,SUBTOTAL(109,AC124:AC128))","v":0},null,{"$f":"BL121","v":0},null,null,null,null,null,null,null,null,null,null,null,null,null,null,null,null,null,null,null,null,null,null,null,null,null,null,null,null,null,null,null,null,null,"MODELO A - TEMPO - N.º DE HORAS DE TRABALHO"]
[null,{"$f":"IF($B$121=\"mostrar\",\"mostrar\",\"ocultar\")","v":"ocultar"},null,null,null,null,null,null,null,null,null,null,null,null,null,null,null,null,null,null,null,null,null,null,null,null,null,null,null,null,null,null,null,null,null,null,null,null,null,null,null,null,null,null,null,null,null,null,null,null,null,null,null,null,null,null,null,null,null,null,null,null,null,null,"MODELO A - TEMPO - N.º DE HORAS DE TRABALHO"]
[null,{"$f":"IF('SA - ATIVIDADES'!$F$181<>TRUE,\"ocultar\",\"mostrar\")","v":"ocultar"},"G2. GESTÃO DE OBRA","MODELO A - TEMPO - N.º DE HORAS DE TRABALHO",null,"Atribuir valor global à atividade",0,0,{"$f":"IF($F$131=\"Atribuir valor global à atividade\",G131*H131,\"\")","v":0},null,"Atribuir valor global à atividade","Valor Global Obra (VG Obra)",{"$f":"IF(L131=\"Valor Global Obra (VG Obra)\",$M$9,\"\")","v":0},0,0,{"$f":"IF(L131=\"Valor Global Obra (VG Obra)\",M131*O131,N131*O131)","v":0},null,"Atribuir valor global à atividade","Valor/m2 fixo (VF m2)",{"$f":"IF(S131=\"Valor/m2 fixo (VF m2)\",$T$9,\"\")","v":0},0,0,null,{"$f":"IF(S131=\"Valor/m2 fixo (VF m2)\",T131*1*V131,U131*1*V131)","v":0},null,"Atribuir valor global à atividade",0,0,{"$f":"AA131*AB131","v":0},null,{"$f":"BL131","v":0},null,null,null,null,null,null,null,null,null,null,null,null,null,null,null,null,null,null,null,null,null,null,null,null,null,null,null,null,{"$f":"IF(LEFT($D$131,8)=\"MODELO A\",IF($F$131=\"Atribuir valor detalhado por Fase/Elemento\",SUBTOTAL(109,BH134:BH138),I131),IF(LEFT($D$131,8)=\"MODELO M\",SUBTOTAL(109,BH134:BH138),0))","v":0},{"$f":"IF(LEFT($D$131,8)=\"MODELO B\",IF($K$131=\"Atribuir valor detalhado por Fase/Elemento\",SUBTOTAL(109,BI134:BI138),P131),IF(LEFT($D$131,8)=\"MODELO M\",SUBTOTAL(109,BI134:BI138),0))","v":0},{"$f":"IF(LEFT($D$131,8)=\"MODELO C\",IF($R$131=\"Atribuir valor detalhado por Fase/Elemento\",SUBTOTAL(109,BJ134:BJ138),X131),IF(LEFT($D$131,8)=\"MODELO M\",SUBTOTAL(109,BJ134:BJ138),0))","v":0},{"$f":"IF(LEFT($D$131,8)=\"MODELO D\",IF($Z$131=\"Atribuir valor detalhado por Fase/Elemento\",SUBTOTAL(109,BK134:BK138),AC131),IF(LEFT($D$131,8)=\"MODELO M\",SUBTOTAL(109,BK134:BK138),0))","v":0},{"$f":"SUM(BH131:BK131)","v":0},"MODELO A - TEMPO - N.º DE HORAS DE TRABALHO"]
[null,{"$f":"IF($B$131=\"ocultar\",\"ocultar\",\"mostrar\")","v":"ocultar"},null,null,null,null,null,null,null,null,null,null,null,null,null,null,null,null,null,null,null,null,null,null,null,null,null,null,null,null,null,null,null,null,null,null,null,null,null,null,null,null,null,null,null,null,null,null,null,null,null,null,null,null,null,null,null,null,null,null,null,null,null,null,"MODELO A - TEMPO - N.º DE HORAS DE TRABALHO"]
[null,"ocultar",null,null,null,null,null,null,null,null,null,null,null,null,null,null,null,null,null,null,null,null,null,null,null,null,null,null,null,null,null,null,null,null,null,null,null,null,null,null,null,null,null,null,null,null,null,null,null,null,null,null,null,null,null,null,null,null,null,null,null,null,null,null,"MODELO A - TEMPO - N.º DE HORAS DE TRABALHO"]
[null,{"$f":"IF($B$131=\"ocultar\",\"ocultar\",IF('SA - ATIVIDADES'!$F$181=TRUE,IF('SA - ATIVIDADES'!$H$181>='SA - SERVICOS GESTAO E CONTROLO'!AH134,\"mostrar\",\"ocultar\"),\"ocultar\"))","v":"ocultar"},"Designação (a preencher)","MODELO A - TEMPO - N.º DE HORAS DE TRABALHO",null,null,0,{"$f":"$H$131","v":0},{"$f":"G134*H134","v":0},null,null,null,null,null,0,{"$f":"$P$131*O134","v":0},null,null,null,null,null,null,0,{"$f":"$X$131*W134","v":0},null,null,0,0,{"$f":"AA134*AB134","v":0},null,{"$f":"BL134","v":0},null,null,1,null,null,null,null,null,null,null,null,null,null,null,null,null,null,null,null,null,null,null,null,null,null,null,null,null,{"$f":"IF(OR(AND(LEFT($D$131,8)=\"MODELO M\",LEFT(D134,8)=\"MODELO A\"),AND(LEFT($D$131,8)=\"MODELO A\",$F$131=\"Atribuir valor detalhado por Fase/Elemento\")),I134,0)","v":0},{"$f":"IF(OR(AND(LEFT($D$131,8)=\"MODELO M\",LEFT(D134,8)=\"MODELO B\"),AND(LEFT($D$131,8)=\"MODELO B\",$K$131=\"Atribuir valor detalhado por Fase/Elemento\")),P134,0)","v":0},{"$f":"IF(OR(AND(LEFT($D$131,8)=\"MODELO M\",LEFT(D134,8)=\"MODELO C\"),AND(LEFT($D$131,8)=\"MODELO C\",$R$131=\"Atribuir valor detalhado por Fase/Elemento\")),X134,0)","v":0},{"$f":"IF(OR(AND(LEFT($D$131,8)=\"MODELO M\",LEFT(D134,8)=\"MODELO D\"),AND(LEFT($D$131,8)=\"MODELO D\",$Z$131=\"Atribuir valor detalhado por Fase/Elemento\")),AC134,0)","v":0},{"$f":"SUM(BH134:BK134)","v":0},"MODELO A - TEMPO - N.º DE HORAS DE TRABALHO"]
[null,{"$f":"IF($B$131=\"ocultar\",\"ocultar\",IF('SA - ATIVIDADES'!$F$181=TRUE,IF('SA - ATIVIDADES'!$H$181>='SA - SERVICOS GESTAO E CONTROLO'!AH135,\"mostrar\",\"ocultar\"),\"ocultar\"))","v":"ocultar"},"Designação (a preencher)","MODELO A - TEMPO - N.º DE HORAS DE TRABALHO",null,null,0,{"$f":"$H$131","v":0},{"$f":"G135*H135","v":0},null,null,null,null,null,0,{"$f":"$P$131*O135","v":0},null,null,null,null,null,null,0,{"$f":"$X$131*W135","v":0},null,null,0,0,0,null,{"$f":"BL135","v":0},null,null,2,null,null,null,null,null,null,null,null,null,null,null,null,null,null,null,null,null,null,null,null,null,null,null,null,null,{"$f":"IF(OR(AND(LEFT($D$131,8)=\"MODELO M\",LEFT(D135,8)=\"MODELO A\"),AND(LEFT($D$131,8)=\"MODELO A\",$F$131=\"Atribuir valor detalhado por Fase/Elemento\")),I135,0)","v":0},{"$f":"IF(OR(AND(LEFT($D$131,8)=\"MODELO M\",LEFT(D135,8)=\"MODELO B\"),AND(LEFT($D$131,8)=\"MODELO B\",$K$131=\"Atribuir valor detalhado por Fase/Elemento\")),P135,0)","v":0},{"$f":"IF(OR(AND(LEFT($D$131,8)=\"MODELO M\",LEFT(D135,8)=\"MODELO C\"),AND(LEFT($D$131,8)=\"MODELO C\",$R$131=\"Atribuir valor detalhado por Fase/Elemento\")),X135,0)","v":0},{"$f":"IF(OR(AND(LEFT($D$131,8)=\"MODELO M\",LEFT(D135,8)=\"MODELO D\"),AND(LEFT($D$131,8)=\"MODELO D\",$Z$131=\"Atribuir valor detalhado por Fase/Elemento\")),AC135,0)","v":0},0,"MODELO A - TEMPO - N.º DE HORAS DE TRABALHO"]
[null,{"$f":"IF($B$131=\"ocultar\",\"ocultar\",IF('SA - ATIVIDADES'!$F$181=TRUE,IF('SA - ATIVIDADES'!$H$181>='SA - SERVICOS GESTAO E CONTROLO'!AH136,\"mostrar\",\"ocultar\"),\"ocultar\"))","v":"ocultar"},"Designação (a preencher)","MODELO A - TEMPO - N.º DE HORAS DE TRABALHO",null,null,0,0,0,null,null,null,null,null,0,0,null,null,null,null,null,null,0,0,null,null,0,0,0,null,0,null,null,3,null,null,null,null,null,null,null,null,null,null,null,null,null,null,null,null,null,null,null,null,null,null,null,null,null,{"$f":"IF(OR(AND(LEFT($D$131,8)=\"MODELO M\",LEFT(D136,8)=\"MODELO A\"),AND(LEFT($D$131,8)=\"MODELO A\",$F$131=\"Atribuir valor detalhado por Fase/Elemento\")),I136,0)","v":0},{"$f":"IF(OR(AND(LEFT($D$131,8)=\"MODELO M\",LEFT(D136,8)=\"MODELO B\"),AND(LEFT($D$131,8)=\"MODELO B\",$K$131=\"Atribuir valor detalhado por Fase/Elemento\")),P136,0)","v":0},{"$f":"IF(OR(AND(LEFT($D$131,8)=\"MODELO M\",LEFT(D136,8)=\"MODELO C\"),AND(LEFT($D$131,8)=\"MODELO C\",$R$131=\"Atribuir valor detalhado por Fase/Elemento\")),X136,0)","v":0},{"$f":"IF(OR(AND(LEFT($D$131,8)=\"MODELO M\",LEFT(D136,8)=\"MODELO D\"),AND(LEFT($D$131,8)=\"MODELO D\",$Z$131=\"Atribuir valor detalhado por Fase/Elemento\")),AC136,0)","v":0},0,"MODELO A - TEMPO - N.º DE HORAS DE TRABALHO"]
[null,{"$f":"IF($B$131=\"ocultar\",\"ocultar\",IF('SA - ATIVIDADES'!$F$181=TRUE,IF('SA - ATIVIDADES'!$H$181>='SA - SERVICOS GESTAO E CONTROLO'!AH137,\"mostrar\",\"ocultar\"),\"ocultar\"))","v":"ocultar"},"Designação (a preencher)","MODELO A - TEMPO - N.º DE HORAS DE TRABALHO",null,null,0,0,0,null,null,null,null,null,0,0,null,null,null,null,null,null,0,0,null,null,0,0,0,null,0,null,null,4,null,null,null,null,null,null,null,null,null,null,null,null,null,null,null,null,null,null,null,null,null,null,null,null,null,{"$f":"IF(OR(AND(LEFT($D$131,8)=\"MODELO M\",LEFT(D137,8)=\"MODELO A\"),AND(LEFT($D$131,8)=\"MODELO A\",$F$131=\"Atribuir valor detalhado por Fase/Elemento\")),I137,0)","v":0},{"$f":"IF(OR(AND(LEFT($D$131,8)=\"MODELO M\",LEFT(D137,8)=\"MODELO B\"),AND(LEFT($D$131,8)=\"MODELO B\",$K$131=\"Atribuir valor detalhado por Fase/Elemento\")),P137,0)","v":0},{"$f":"IF(OR(AND(LEFT($D$131,8)=\"MODELO M\",LEFT(D137,8)=\"MODELO C\"),AND(LEFT($D$131,8)=\"MODELO C\",$R$131=\"Atribuir valor detalhado por Fase/Elemento\")),X137,0)","v":0},{"$f":"IF(OR(AND(LEFT($D$131,8)=\"MODELO M\",LEFT(D137,8)=\"MODELO D\"),AND(LEFT($D$131,8)=\"MODELO D\",$Z$131=\"Atribuir valor detalhado por Fase/Elemento\")),AC137,0)","v":0},0,"MODELO A - TEMPO - N.º DE HORAS DE TRABALHO"]
[null,{"$f":"IF($B$131=\"ocultar\",\"ocultar\",IF('SA - ATIVIDADES'!$F$181=TRUE,IF('SA - ATIVIDADES'!$H$181>='SA - SERVICOS GESTAO E CONTROLO'!AH138,\"mostrar\",\"ocultar\"),\"ocultar\"))","v":"ocultar"},"Designação (a preencher)","MODELO A - TEMPO - N.º DE HORAS DE TRABALHO",null,null,0,0,0,null,null,null,null,null,0,0,null,null,null,null,null,null,0,0,null,null,0,0,0,null,0,null,null,5,null,null,null,null,null,null,null,null,null,null,null,null,null,null,null,null,null,null,null,null,null,null,null,null,null,{"$f":"IF(OR(AND(LEFT($D$131,8)=\"MODELO M\",LEFT(D138,8)=\"MODELO A\"),AND(LEFT($D$131,8)=\"MODELO A\",$F$131=\"Atribuir valor detalhado por Fase/Elemento\")),I138,0)","v":0},{"$f":"IF(OR(AND(LEFT($D$131,8)=\"MODELO M\",LEFT(D138,8)=\"MODELO B\"),AND(LEFT($D$131,8)=\"MODELO B\",$K$131=\"Atribuir valor detalhado por Fase/Elemento\")),P138,0)","v":0},{"$f":"IF(OR(AND(LEFT($D$131,8)=\"MODELO M\",LEFT(D138,8)=\"MODELO C\"),AND(LEFT($D$131,8)=\"MODELO C\",$R$131=\"Atribuir valor detalhado por Fase/Elemento\")),X138,0)","v":0},{"$f":"IF(OR(AND(LEFT($D$131,8)=\"MODELO M\",LEFT(D138,8)=\"MODELO D\"),AND(LEFT($D$131,8)=\"MODELO D\",$Z$131=\"Atribuir valor detalhado por Fase/Elemento\")),AC138,0)","v":0},0,"MODELO A - TEMPO - N.º DE HORAS DE TRABALHO"]
[null,{"$f":"IF($B$134=\"ocultar\",\"ocultar\",\"mostrar\")","v":"ocultar"},"TOTAL",null,null,null,{"$f":"IF($F131=\"Atribuir valor global à atividade\",G131,SUBTOTAL(109,G134:G138))","v":0},null,{"$f":"IF($F131=\"Atribuir valor global à atividade\",I131,SUBTOTAL(109,I134:I138))","v":0},null,null,null,null,null,{"$f":"IF($K131=\"Atribuir valor global à atividade\",1,SUBTOTAL(109,O134:O138))","v":1},{"$f":"IF($K131=\"Atribuir valor global à atividade\",P131,SUBTOTAL(109,P134:P138))","v":0},null,null,null,null,null,null,{"$f":"IF($R131=\"Atribuir valor global à atividade\",1,SUBTOTAL(109,W134:W138))","v":1},{"$f":"IF($R131=\"Atribuir valor global à atividade\",X131,SUBTOTAL(109,X134:X138))","v":0},null,null,null,null,{"$f":"IF($Z131=\"Atribuir valor global à atividade\",AC131,SUBTOTAL(109,AC134:AC138))","v":0},null,{"$f":"BL131","v":0},null,null,null,null,null,null,null,null,null,null,null,null,null,null,null,null,null,null,null,null,null,null,null,null,null,null,null,null,null,null,null,null,null,"MODELO A - TEMPO - N.º DE HORAS DE TRABALHO"]
[null,{"$f":"IF($B$131=\"mostrar\",\"mostrar\",\"ocultar\")","v":"ocultar"},null,null,null,null,null,null,null,null,null,null,null,null,null,null,null,null,null,null,null,null,null,null,null,null,null,null,null,null,null,null,null,null,null,null,null,null,null,null,null,null,null,null,null,null,null,null,null,null,null,null,null,null,null,null,null,null,null,null,null,null,null,null,{"$f":"IF($AH140<>\"\",BM139,IF(LEFT($D140,6)=\"MODELO\",$D140,BM139))","v":"MODELO A - TEMPO - N.º DE HORAS DE TRABALHO"}]
[null,{"$f":"IF('SA - ATIVIDADES'!$F$182<>TRUE,\"ocultar\",\"mostrar\")","v":"ocultar"},"G3. GESTÃO E COORDENAÇÃO DA MANUTENÇÃO","MODELO A - TEMPO - N.º DE HORAS DE TRABALHO",null,"Atribuir valor global à atividade",0,0,{"$f":"IF($F$141=\"Atribuir valor global à atividade\",G141*H141,\"\")","v":0},null,"Atribuir valor global à atividade","Valor Global Obra (VG Obra)",{"$f":"IF(L141=\"Valor Global Obra (VG Obra)\",$M$9,\"\")","v":0},0,0,{"$f":"IF(L141=\"Valor Global Obra (VG Obra)\",M141*O141,N141*O141)","v":0},null,"Atribuir valor global à atividade","Valor/m2 fixo (VF m2)",{"$f":"IF(S141=\"Valor/m2 fixo (VF m2)\",$T$9,\"\")","v":0},0,0,null,{"$f":"IF(S141=\"Valor/m2 fixo (VF m2)\",T141*1*V141,U141*1*V141)","v":0},null,"Atribuir valor global à atividade",0,0,{"$f":"AA141*AB141","v":0},null,{"$f":"BL141","v":0},null,null,null,null,null,null,null,null,null,null,null,null,null,null,null,null,null,null,null,null,null,null,null,null,null,null,null,null,{"$f":"IF(LEFT($D$141,8)=\"MODELO A\",IF($F$141=\"Atribuir valor detalhado por Fase/Elemento\",SUBTOTAL(109,BH144:BH148),I141),IF(LEFT($D$141,8)=\"MODELO M\",SUBTOTAL(109,BH144:BH148),0))","v":0},{"$f":"IF(LEFT($D$141,8)=\"MODELO B\",IF($K$141=\"Atribuir valor detalhado por Fase/Elemento\",SUBTOTAL(109,BI144:BI148),P141),IF(LEFT($D$141,8)=\"MODELO M\",SUBTOTAL(109,BI144:BI148),0))","v":0},{"$f":"IF(LEFT($D$141,8)=\"MODELO C\",IF($R$141=\"Atribuir valor detalhado por Fase/Elemento\",SUBTOTAL(109,BJ144:BJ148),X141),IF(LEFT($D$141,8)=\"MODELO M\",SUBTOTAL(109,BJ144:BJ148),0))","v":0},{"$f":"IF(LEFT($D$141,8)=\"MODELO D\",IF($Z$141=\"Atribuir valor detalhado por Fase/Elemento\",SUBTOTAL(109,BK144:BK148),AC141),IF(LEFT($D$141,8)=\"MODELO M\",SUBTOTAL(109,BK144:BK148),0))","v":0},{"$f":"SUM(BH141:BK141)","v":0},"MODELO A - TEMPO - N.º DE HORAS DE TRABALHO"]
[null,{"$f":"IF($B$141=\"ocultar\",\"ocultar\",\"mostrar\")","v":"ocultar"},null,null,null,null,null,null,null,null,null,null,null,null,null,null,null,null,null,null,null,null,null,null,null,null,null,null,null,null,null,null,null,null,null,null,null,null,null,null,null,null,null,null,null,null,null,null,null,null,null,null,null,null,null,null,null,null,null,null,null,null,null,null,"MODELO A - TEMPO - N.º DE HORAS DE TRABALHO"]
[null,"ocultar",null,null,null,null,null,null,null,null,null,null,null,null,null,null,null,null,null,null,null,null,null,null,null,null,null,null,null,null,null,null,null,null,null,null,null,null,null,null,null,null,null,null,null,null,null,null,null,null,null,null,null,null,null,null,null,null,null,null,null,null,null,null,"MODELO A - TEMPO - N.º DE HORAS DE TRABALHO"]
[null,{"$f":"IF($B$141=\"ocultar\",\"ocultar\",IF('SA - ATIVIDADES'!$F$182=TRUE,IF('SA - ATIVIDADES'!$H$182>='SA - SERVICOS GESTAO E CONTROLO'!AH144,\"mostrar\",\"ocultar\"),\"ocultar\"))","v":"ocultar"},"Designação (a preencher)","MODELO A - TEMPO - N.º DE HORAS DE TRABALHO",null,null,0,{"$f":"$H$141","v":0},{"$f":"G144*H144","v":0},null,null,null,null,null,0,{"$f":"$P$141*O144","v":0},null,null,null,null,null,null,0,{"$f":"$X$141*W144","v":0},null,null,0,0,{"$f":"AA144*AB144","v":0},null,{"$f":"BL144","v":0},null,null,1,null,null,null,null,null,null,null,null,null,null,null,null,null,null,null,null,null,null,null,null,null,null,null,null,null,{"$f":"IF(OR(AND(LEFT($D$141,8)=\"MODELO M\",LEFT(D144,8)=\"MODELO A\"),AND(LEFT($D$141,8)=\"MODELO A\",$F$141=\"Atribuir valor detalhado por Fase/Elemento\")),I144,0)","v":0},{"$f":"IF(OR(AND(LEFT($D$141,8)=\"MODELO M\",LEFT(D144,8)=\"MODELO B\"),AND(LEFT($D$141,8)=\"MODELO B\",$K$141=\"Atribuir valor detalhado por Fase/Elemento\")),P144,0)","v":0},{"$f":"IF(OR(AND(LEFT($D$141,8)=\"MODELO M\",LEFT(D144,8)=\"MODELO C\"),AND(LEFT($D$141,8)=\"MODELO C\",$R$141=\"Atribuir valor detalhado por Fase/Elemento\")),X144,0)","v":0},{"$f":"IF(OR(AND(LEFT($D$141,8)=\"MODELO M\",LEFT(D144,8)=\"MODELO D\"),AND(LEFT($D$141,8)=\"MODELO D\",$Z$141=\"Atribuir valor detalhado por Fase/Elemento\")),AC144,0)","v":0},{"$f":"SUM(BH144:BK144)","v":0},"MODELO A - TEMPO - N.º DE HORAS DE TRABALHO"]
[null,{"$f":"IF($B$141=\"ocultar\",\"ocultar\",IF('SA - ATIVIDADES'!$F$182=TRUE,IF('SA - ATIVIDADES'!$H$182>='SA - SERVICOS GESTAO E CONTROLO'!AH145,\"mostrar\",\"ocultar\"),\"ocultar\"))","v":"ocultar"},"Designação (a preencher)","MODELO A - TEMPO - N.º DE HORAS DE TRABALHO",null,null,0,{"$f":"$H$141","v":0},{"$f":"G145*H145","v":0},null,null,null,null,null,0,{"$f":"$P$141*O145","v":0},null,null,null,null,null,null,0,{"$f":"$X$141*W145","v":0},null,null,0,0,0,null,{"$f":"BL145","v":0},null,null,2,null,null,null,null,null,null,null,null,null,null,null,null,null,null,null,null,null,null,null,null,null,null,null,null,null,{"$f":"IF(OR(AND(LEFT($D$141,8)=\"MODELO M\",LEFT(D145,8)=\"MODELO A\"),AND(LEFT($D$141,8)=\"MODELO A\",$F$141=\"Atribuir valor detalhado por Fase/Elemento\")),I145,0)","v":0},{"$f":"IF(OR(AND(LEFT($D$141,8)=\"MODELO M\",LEFT(D145,8)=\"MODELO B\"),AND(LEFT($D$141,8)=\"MODELO B\",$K$141=\"Atribuir valor detalhado por Fase/Elemento\")),P145,0)","v":0},{"$f":"IF(OR(AND(LEFT($D$141,8)=\"MODELO M\",LEFT(D145,8)=\"MODELO C\"),AND(LEFT($D$141,8)=\"MODELO C\",$R$141=\"Atribuir valor detalhado por Fase/Elemento\")),X145,0)","v":0},{"$f":"IF(OR(AND(LEFT($D$141,8)=\"MODELO M\",LEFT(D145,8)=\"MODELO D\"),AND(LEFT($D$141,8)=\"MODELO D\",$Z$141=\"Atribuir valor detalhado por Fase/Elemento\")),AC145,0)","v":0},0,"MODELO A - TEMPO - N.º DE HORAS DE TRABALHO"]
[null,{"$f":"IF($B$141=\"ocultar\",\"ocultar\",IF('SA - ATIVIDADES'!$F$182=TRUE,IF('SA - ATIVIDADES'!$H$182>='SA - SERVICOS GESTAO E CONTROLO'!AH146,\"mostrar\",\"ocultar\"),\"ocultar\"))","v":"ocultar"},"Designação (a preencher)","MODELO A - TEMPO - N.º DE HORAS DE TRABALHO",null,null,0,0,0,null,null,null,null,null,0,0,null,null,null,null,null,null,0,0,null,null,0,0,0,null,0,null,null,3,null,null,null,null,null,null,null,null,null,null,null,null,null,null,null,null,null,null,null,null,null,null,null,null,null,{"$f":"IF(OR(AND(LEFT($D$141,8)=\"MODELO M\",LEFT(D146,8)=\"MODELO A\"),AND(LEFT($D$141,8)=\"MODELO A\",$F$141=\"Atribuir valor detalhado por Fase/Elemento\")),I146,0)","v":0},{"$f":"IF(OR(AND(LEFT($D$141,8)=\"MODELO M\",LEFT(D146,8)=\"MODELO B\"),AND(LEFT($D$141,8)=\"MODELO B\",$K$141=\"Atribuir valor detalhado por Fase/Elemento\")),P146,0)","v":0},{"$f":"IF(OR(AND(LEFT($D$141,8)=\"MODELO M\",LEFT(D146,8)=\"MODELO C\"),AND(LEFT($D$141,8)=\"MODELO C\",$R$141=\"Atribuir valor detalhado por Fase/Elemento\")),X146,0)","v":0},{"$f":"IF(OR(AND(LEFT($D$141,8)=\"MODELO M\",LEFT(D146,8)=\"MODELO D\"),AND(LEFT($D$141,8)=\"MODELO D\",$Z$141=\"Atribuir valor detalhado por Fase/Elemento\")),AC146,0)","v":0},0,"MODELO A - TEMPO - N.º DE HORAS DE TRABALHO"]
[null,{"$f":"IF($B$141=\"ocultar\",\"ocultar\",IF('SA - ATIVIDADES'!$F$182=TRUE,IF('SA - ATIVIDADES'!$H$182>='SA - SERVICOS GESTAO E CONTROLO'!AH147,\"mostrar\",\"ocultar\"),\"ocultar\"))","v":"ocultar"},"Designação (a preencher)","MODELO A - TEMPO - N.º DE HORAS DE TRABALHO",null,null,0,0,0,null,null,null,null,null,0,0,null,null,null,null,null,null,0,0,null,null,0,0,0,null,0,null,null,4,null,null,null,null,null,null,null,null,null,null,null,null,null,null,null,null,null,null,null,null,null,null,null,null,null,{"$f":"IF(OR(AND(LEFT($D$141,8)=\"MODELO M\",LEFT(D147,8)=\"MODELO A\"),AND(LEFT($D$141,8)=\"MODELO A\",$F$141=\"Atribuir valor detalhado por Fase/Elemento\")),I147,0)","v":0},{"$f":"IF(OR(AND(LEFT($D$141,8)=\"MODELO M\",LEFT(D147,8)=\"MODELO B\"),AND(LEFT($D$141,8)=\"MODELO B\",$K$141=\"Atribuir valor detalhado por Fase/Elemento\")),P147,0)","v":0},{"$f":"IF(OR(AND(LEFT($D$141,8)=\"MODELO M\",LEFT(D147,8)=\"MODELO C\"),AND(LEFT($D$141,8)=\"MODELO C\",$R$141=\"Atribuir valor detalhado por Fase/Elemento\")),X147,0)","v":0},{"$f":"IF(OR(AND(LEFT($D$141,8)=\"MODELO M\",LEFT(D147,8)=\"MODELO D\"),AND(LEFT($D$141,8)=\"MODELO D\",$Z$141=\"Atribuir valor detalhado por Fase/Elemento\")),AC147,0)","v":0},0,"MODELO A - TEMPO - N.º DE HORAS DE TRABALHO"]
[null,{"$f":"IF($B$141=\"ocultar\",\"ocultar\",IF('SA - ATIVIDADES'!$F$182=TRUE,IF('SA - ATIVIDADES'!$H$182>='SA - SERVICOS GESTAO E CONTROLO'!AH148,\"mostrar\",\"ocultar\"),\"ocultar\"))","v":"ocultar"},"Designação (a preencher)","MODELO A - TEMPO - N.º DE HORAS DE TRABALHO",null,null,0,0,0,null,null,null,null,null,0,0,null,null,null,null,null,null,0,0,null,null,0,0,0,null,0,null,null,5,null,null,null,null,null,null,null,null,null,null,null,null,null,null,null,null,null,null,null,null,null,null,null,null,null,{"$f":"IF(OR(AND(LEFT($D$141,8)=\"MODELO M\",LEFT(D148,8)=\"MODELO A\"),AND(LEFT($D$141,8)=\"MODELO A\",$F$141=\"Atribuir valor detalhado por Fase/Elemento\")),I148,0)","v":0},{"$f":"IF(OR(AND(LEFT($D$141,8)=\"MODELO M\",LEFT(D148,8)=\"MODELO B\"),AND(LEFT($D$141,8)=\"MODELO B\",$K$141=\"Atribuir valor detalhado por Fase/Elemento\")),P148,0)","v":0},{"$f":"IF(OR(AND(LEFT($D$141,8)=\"MODELO M\",LEFT(D148,8)=\"MODELO C\"),AND(LEFT($D$141,8)=\"MODELO C\",$R$141=\"Atribuir valor detalhado por Fase/Elemento\")),X148,0)","v":0},{"$f":"IF(OR(AND(LEFT($D$141,8)=\"MODELO M\",LEFT(D148,8)=\"MODELO D\"),AND(LEFT($D$141,8)=\"MODELO D\",$Z$141=\"Atribuir valor detalhado por Fase/Elemento\")),AC148,0)","v":0},0,"MODELO A - TEMPO - N.º DE HORAS DE TRABALHO"]
[null,{"$f":"IF($B$144=\"ocultar\",\"ocultar\",\"mostrar\")","v":"ocultar"},"TOTAL",null,null,null,{"$f":"IF($F141=\"Atribuir valor global à atividade\",G141,SUBTOTAL(109,G144:G148))","v":0},null,{"$f":"IF($F141=\"Atribuir valor global à atividade\",I141,SUBTOTAL(109,I144:I148))","v":0},null,null,null,null,null,{"$f":"IF($K141=\"Atribuir valor global à atividade\",1,SUBTOTAL(109,O144:O148))","v":1},{"$f":"IF($K141=\"Atribuir valor global à atividade\",P141,SUBTOTAL(109,P144:P148))","v":0},null,null,null,null,null,null,{"$f":"IF($R141=\"Atribuir valor global à atividade\",1,SUBTOTAL(109,W144:W148))","v":1},{"$f":"IF($R141=\"Atribuir valor global à atividade\",X141,SUBTOTAL(109,X144:X148))","v":0},null,null,null,null,{"$f":"IF($Z141=\"Atribuir valor global à atividade\",AC141,SUBTOTAL(109,AC144:AC148))","v":0},null,{"$f":"BL141","v":0},null,null,null,null,null,null,null,null,null,null,null,null,null,null,null,null,null,null,null,null,null,null,null,null,null,null,null,null,null,null,null,null,null,"MODELO A - TEMPO - N.º DE HORAS DE TRABALHO"]
[null,{"$f":"IF($B$141=\"mostrar\",\"mostrar\",\"ocultar\")","v":"ocultar"},null,null,null,null,null,null,null,null,null,null,null,null,null,null,null,null,null,null,null,null,null,null,null,null,null,null,null,null,null,null,null,null,null,null,null,null,null,null,null,null,null,null,null,null,null,null,null,null,null,null,null,null,null,null,null,null,null,null,null,null,null,null,"MODELO A - TEMPO - N.º DE HORAS DE TRABALHO"]
[null,{"$f":"IF('SA - ATIVIDADES'!$F$183<>TRUE,\"ocultar\",\"mostrar\")","v":"ocultar"},"G4. GESTÃO DE MODELOS DE INFORMAÇÃO DA CONSTRUÇÃO (BIM)","MODELO A - TEMPO - N.º DE HORAS DE TRABALHO",null,"Atribuir valor global à atividade",0,0,{"$f":"IF($F$151=\"Atribuir valor global à atividade\",G151*H151,\"\")","v":0},null,"Atribuir valor global à atividade","Valor Global Obra (VG Obra)",{"$f":"IF(L151=\"Valor Global Obra (VG Obra)\",$M$9,\"\")","v":0},0,0,{"$f":"IF(L151=\"Valor Global Obra (VG Obra)\",M151*O151,N151*O151)","v":0},null,"Atribuir valor global à atividade","Valor/m2 fixo (VF m2)",{"$f":"IF(S151=\"Valor/m2 fixo (VF m2)\",$T$9,\"\")","v":0},0,0,null,{"$f":"IF(S151=\"Valor/m2 fixo (VF m2)\",T151*1*V151,U151*1*V151)","v":0},null,"Atribuir valor global à atividade",0,0,{"$f":"AA151*AB151","v":0},null,{"$f":"BL151","v":0},null,null,null,null,null,null,null,null,null,null,null,null,null,null,null,null,null,null,null,null,null,null,null,null,null,null,null,null,{"$f":"IF(LEFT($D$151,8)=\"MODELO A\",IF($F$151=\"Atribuir valor detalhado por Fase/Elemento\",SUBTOTAL(109,BH154:BH158),I151),IF(LEFT($D$151,8)=\"MODELO M\",SUBTOTAL(109,BH154:BH158),0))","v":0},{"$f":"IF(LEFT($D$151,8)=\"MODELO B\",IF($K$151=\"Atribuir valor detalhado por Fase/Elemento\",SUBTOTAL(109,BI154:BI158),P151),IF(LEFT($D$151,8)=\"MODELO M\",SUBTOTAL(109,BI154:BI158),0))","v":0},{"$f":"IF(LEFT($D$151,8)=\"MODELO C\",IF($R$151=\"Atribuir valor detalhado por Fase/Elemento\",SUBTOTAL(109,BJ154:BJ158),X151),IF(LEFT($D$151,8)=\"MODELO M\",SUBTOTAL(109,BJ154:BJ158),0))","v":0},{"$f":"IF(LEFT($D$151,8)=\"MODELO D\",IF($Z$151=\"Atribuir valor detalhado por Fase/Elemento\",SUBTOTAL(109,BK154:BK158),AC151),IF(LEFT($D$151,8)=\"MODELO M\",SUBTOTAL(109,BK154:BK158),0))","v":0},{"$f":"SUM(BH151:BK151)","v":0},"MODELO A - TEMPO - N.º DE HORAS DE TRABALHO"]
[null,{"$f":"IF($B$151=\"ocultar\",\"ocultar\",\"mostrar\")","v":"ocultar"},null,null,null,null,null,null,null,null,null,null,null,null,null,null,null,null,null,null,null,null,null,null,null,null,null,null,null,null,null,null,null,null,null,null,null,null,null,null,null,null,null,null,null,null,null,null,null,null,null,null,null,null,null,null,null,null,null,null,null,null,null,null,"MODELO A - TEMPO - N.º DE HORAS DE TRABALHO"]
[null,"ocultar",null,null,null,null,null,null,null,null,null,null,null,null,null,null,null,null,null,null,null,null,null,null,null,null,null,null,null,null,null,null,null,null,null,null,null,null,null,null,null,null,null,null,null,null,null,null,null,null,null,null,null,null,null,null,null,null,null,null,null,null,null,null,"MODELO A - TEMPO - N.º DE HORAS DE TRABALHO"]
[null,{"$f":"IF($B$151=\"ocultar\",\"ocultar\",IF('SA - ATIVIDADES'!$F$183=TRUE,IF('SA - ATIVIDADES'!$H$183>='SA - SERVICOS GESTAO E CONTROLO'!AH154,\"mostrar\",\"ocultar\"),\"ocultar\"))","v":"ocultar"},"Designação (a preencher)","MODELO A - TEMPO - N.º DE HORAS DE TRABALHO",null,null,0,{"$f":"$H$151","v":0},{"$f":"G154*H154","v":0},null,null,null,null,null,0,{"$f":"$P$151*O154","v":0},null,null,null,null,null,null,0,{"$f":"$X$151*W154","v":0},null,null,0,0,{"$f":"AA154*AB154","v":0},null,{"$f":"BL154","v":0},null,null,1,null,null,null,null,null,null,null,null,null,null,null,null,null,null,null,null,null,null,null,null,null,null,null,null,null,{"$f":"IF(OR(AND(LEFT($D$151,8)=\"MODELO M\",LEFT(D154,8)=\"MODELO A\"),AND(LEFT($D$151,8)=\"MODELO A\",$F$151=\"Atribuir valor detalhado por Fase/Elemento\")),I154,0)","v":0},{"$f":"IF(OR(AND(LEFT($D$151,8)=\"MODELO M\",LEFT(D154,8)=\"MODELO B\"),AND(LEFT($D$151,8)=\"MODELO B\",$K$151=\"Atribuir valor detalhado por Fase/Elemento\")),P154,0)","v":0},{"$f":"IF(OR(AND(LEFT($D$151,8)=\"MODELO M\",LEFT(D154,8)=\"MODELO C\"),AND(LEFT($D$151,8)=\"MODELO C\",$R$151=\"Atribuir valor detalhado por Fase/Elemento\")),X154,0)","v":0},{"$f":"IF(OR(AND(LEFT($D$151,8)=\"MODELO M\",LEFT(D154,8)=\"MODELO D\"),AND(LEFT($D$151,8)=\"MODELO D\",$Z$151=\"Atribuir valor detalhado por Fase/Elemento\")),AC154,0)","v":0},{"$f":"SUM(BH154:BK154)","v":0},"MODELO A - TEMPO - N.º DE HORAS DE TRABALHO"]
[null,{"$f":"IF($B$151=\"ocultar\",\"ocultar\",IF('SA - ATIVIDADES'!$F$183=TRUE,IF('SA - ATIVIDADES'!$H$183>='SA - SERVICOS GESTAO E CONTROLO'!AH155,\"mostrar\",\"ocultar\"),\"ocultar\"))","v":"ocultar"},"Designação (a preencher)","MODELO A - TEMPO - N.º DE HORAS DE TRABALHO",null,null,0,{"$f":"$H$151","v":0},{"$f":"G155*H155","v":0},null,null,null,null,null,0,{"$f":"$P$151*O155","v":0},null,null,null,null,null,null,0,{"$f":"$X$151*W155","v":0},null,null,0,0,0,null,{"$f":"BL155","v":0},null,null,2,null,null,null,null,null,null,null,null,null,null,null,null,null,null,null,null,null,null,null,null,null,null,null,null,null,{"$f":"IF(OR(AND(LEFT($D$151,8)=\"MODELO M\",LEFT(D155,8)=\"MODELO A\"),AND(LEFT($D$151,8)=\"MODELO A\",$F$151=\"Atribuir valor detalhado por Fase/Elemento\")),I155,0)","v":0},{"$f":"IF(OR(AND(LEFT($D$151,8)=\"MODELO M\",LEFT(D155,8)=\"MODELO B\"),AND(LEFT($D$151,8)=\"MODELO B\",$K$151=\"Atribuir valor detalhado por Fase/Elemento\")),P155,0)","v":0},{"$f":"IF(OR(AND(LEFT($D$151,8)=\"MODELO M\",LEFT(D155,8)=\"MODELO C\"),AND(LEFT($D$151,8)=\"MODELO C\",$R$151=\"Atribuir valor detalhado por Fase/Elemento\")),X155,0)","v":0},{"$f":"IF(OR(AND(LEFT($D$151,8)=\"MODELO M\",LEFT(D155,8)=\"MODELO D\"),AND(LEFT($D$151,8)=\"MODELO D\",$Z$151=\"Atribuir valor detalhado por Fase/Elemento\")),AC155,0)","v":0},0,"MODELO A - TEMPO - N.º DE HORAS DE TRABALHO"]
[null,{"$f":"IF($B$151=\"ocultar\",\"ocultar\",IF('SA - ATIVIDADES'!$F$183=TRUE,IF('SA - ATIVIDADES'!$H$183>='SA - SERVICOS GESTAO E CONTROLO'!AH156,\"mostrar\",\"ocultar\"),\"ocultar\"))","v":"ocultar"},"Designação (a preencher)","MODELO A - TEMPO - N.º DE HORAS DE TRABALHO",null,null,0,0,0,null,null,null,null,null,0,0,null,null,null,null,null,null,0,0,null,null,0,0,0,null,0,null,null,3,null,null,null,null,null,null,null,null,null,null,null,null,null,null,null,null,null,null,null,null,null,null,null,null,null,{"$f":"IF(OR(AND(LEFT($D$151,8)=\"MODELO M\",LEFT(D156,8)=\"MODELO A\"),AND(LEFT($D$151,8)=\"MODELO A\",$F$151=\"Atribuir valor detalhado por Fase/Elemento\")),I156,0)","v":0},{"$f":"IF(OR(AND(LEFT($D$151,8)=\"MODELO M\",LEFT(D156,8)=\"MODELO B\"),AND(LEFT($D$151,8)=\"MODELO B\",$K$151=\"Atribuir valor detalhado por Fase/Elemento\")),P156,0)","v":0},{"$f":"IF(OR(AND(LEFT($D$151,8)=\"MODELO M\",LEFT(D156,8)=\"MODELO C\"),AND(LEFT($D$151,8)=\"MODELO C\",$R$151=\"Atribuir valor detalhado por Fase/Elemento\")),X156,0)","v":0},{"$f":"IF(OR(AND(LEFT($D$151,8)=\"MODELO M\",LEFT(D156,8)=\"MODELO D\"),AND(LEFT($D$151,8)=\"MODELO D\",$Z$151=\"Atribuir valor detalhado por Fase/Elemento\")),AC156,0)","v":0},0,"MODELO A - TEMPO - N.º DE HORAS DE TRABALHO"]
[null,{"$f":"IF($B$151=\"ocultar\",\"ocultar\",IF('SA - ATIVIDADES'!$F$183=TRUE,IF('SA - ATIVIDADES'!$H$183>='SA - SERVICOS GESTAO E CONTROLO'!AH157,\"mostrar\",\"ocultar\"),\"ocultar\"))","v":"ocultar"},"Designação (a preencher)","MODELO A - TEMPO - N.º DE HORAS DE TRABALHO",null,null,0,0,0,null,null,null,null,null,0,0,null,null,null,null,null,null,0,0,null,null,0,0,0,null,0,null,null,4,null,null,null,null,null,null,null,null,null,null,null,null,null,null,null,null,null,null,null,null,null,null,null,null,null,{"$f":"IF(OR(AND(LEFT($D$151,8)=\"MODELO M\",LEFT(D157,8)=\"MODELO A\"),AND(LEFT($D$151,8)=\"MODELO A\",$F$151=\"Atribuir valor detalhado por Fase/Elemento\")),I157,0)","v":0},{"$f":"IF(OR(AND(LEFT($D$151,8)=\"MODELO M\",LEFT(D157,8)=\"MODELO B\"),AND(LEFT($D$151,8)=\"MODELO B\",$K$151=\"Atribuir valor detalhado por Fase/Elemento\")),P157,0)","v":0},{"$f":"IF(OR(AND(LEFT($D$151,8)=\"MODELO M\",LEFT(D157,8)=\"MODELO C\"),AND(LEFT($D$151,8)=\"MODELO C\",$R$151=\"Atribuir valor detalhado por Fase/Elemento\")),X157,0)","v":0},{"$f":"IF(OR(AND(LEFT($D$151,8)=\"MODELO M\",LEFT(D157,8)=\"MODELO D\"),AND(LEFT($D$151,8)=\"MODELO D\",$Z$151=\"Atribuir valor detalhado por Fase/Elemento\")),AC157,0)","v":0},0,"MODELO A - TEMPO - N.º DE HORAS DE TRABALHO"]
[null,{"$f":"IF($B$151=\"ocultar\",\"ocultar\",IF('SA - ATIVIDADES'!$F$183=TRUE,IF('SA - ATIVIDADES'!$H$183>='SA - SERVICOS GESTAO E CONTROLO'!AH158,\"mostrar\",\"ocultar\"),\"ocultar\"))","v":"ocultar"},"Designação (a preencher)","MODELO A - TEMPO - N.º DE HORAS DE TRABALHO",null,null,0,0,0,null,null,null,null,null,0,0,null,null,null,null,null,null,0,0,null,null,0,0,0,null,0,null,null,5,null,null,null,null,null,null,null,null,null,null,null,null,null,null,null,null,null,null,null,null,null,null,null,null,null,{"$f":"IF(OR(AND(LEFT($D$151,8)=\"MODELO M\",LEFT(D158,8)=\"MODELO A\"),AND(LEFT($D$151,8)=\"MODELO A\",$F$151=\"Atribuir valor detalhado por Fase/Elemento\")),I158,0)","v":0},{"$f":"IF(OR(AND(LEFT($D$151,8)=\"MODELO M\",LEFT(D158,8)=\"MODELO B\"),AND(LEFT($D$151,8)=\"MODELO B\",$K$151=\"Atribuir valor detalhado por Fase/Elemento\")),P158,0)","v":0},{"$f":"IF(OR(AND(LEFT($D$151,8)=\"MODELO M\",LEFT(D158,8)=\"MODELO C\"),AND(LEFT($D$151,8)=\"MODELO C\",$R$151=\"Atribuir valor detalhado por Fase/Elemento\")),X158,0)","v":0},{"$f":"IF(OR(AND(LEFT($D$151,8)=\"MODELO M\",LEFT(D158,8)=\"MODELO D\"),AND(LEFT($D$151,8)=\"MODELO D\",$Z$151=\"Atribuir valor detalhado por Fase/Elemento\")),AC158,0)","v":0},0,"MODELO A - TEMPO - N.º DE HORAS DE TRABALHO"]
[null,{"$f":"IF($B$154=\"ocultar\",\"ocultar\",\"mostrar\")","v":"ocultar"},"TOTAL",null,null,null,{"$f":"IF($F151=\"Atribuir valor global à atividade\",G151,SUBTOTAL(109,G154:G158))","v":0},null,{"$f":"IF($F151=\"Atribuir valor global à atividade\",I151,SUBTOTAL(109,I154:I158))","v":0},null,null,null,null,null,{"$f":"IF($K151=\"Atribuir valor global à atividade\",1,SUBTOTAL(109,O154:O158))","v":1},{"$f":"IF($K151=\"Atribuir valor global à atividade\",P151,SUBTOTAL(109,P154:P158))","v":0},null,null,null,null,null,null,{"$f":"IF($R151=\"Atribuir valor global à atividade\",1,SUBTOTAL(109,W154:W158))","v":1},{"$f":"IF($R151=\"Atribuir valor global à atividade\",X151,SUBTOTAL(109,X154:X158))","v":0},null,null,null,null,{"$f":"IF($Z151=\"Atribuir valor global à atividade\",AC151,SUBTOTAL(109,AC154:AC158))","v":0},null,{"$f":"BL151","v":0},null,null,null,null,null,null,null,null,null,null,null,null,null,null,null,null,null,null,null,null,null,null,null,null,null,null,null,null,null,null,null,null,null,"MODELO A - TEMPO - N.º DE HORAS DE TRABALHO"]
[null,{"$f":"IF($B$151=\"mostrar\",\"mostrar\",\"ocultar\")","v":"ocultar"},null,null,null,null,null,null,null,null,null,null,null,null,null,null,null,null,null,null,null,null,null,null,null,null,null,null,null,null,null,null,null,null,null,null,null,null,null,null,null,null,null,null,null,null,null,null,null,null,null,null,null,null,null,null,null,null,null,null,null,null,null,null,"MODELO A - TEMPO - N.º DE HORAS DE TRABALHO"]
[null,{"$f":"\"mostrar\"","v":"mostrar"},"TOTAL GERAL",null,null,null,{"$f":"SUM(G19,G29,G39,G49,G59,G69,G79,G89,G99,G109,G119,G129,G139,G149,G159)","v":0},null,{"$f":"SUM(I19,I29,I39,I49,I59,I69,I79,I89,I99,I109,I119,I129,I139,I149,I159)","v":0},null,null,null,null,null,null,{"$f":"SUM(P19,P29,P39,P49,P59,P69,P79,P89,P99,P109,P119,P129,P139,P149,P159)","v":0},null,null,null,null,null,null,null,{"$f":"SUM(X19,X29,X39,X49,X59,X69,X79,X89,X99,X109,X119,X129,X139,X149,X159)","v":0},null,null,null,null,{"$f":"SUM(AC19,AC29,AC39,AC49,AC59,AC69,AC79,AC89,AC99,AC109,AC119,AC129,AC139,AC149,AC159)","v":0},null,{"$f":"SUM(AE19,AE29,AE39,AE49,AE59,AE69,AE79,AE89,AE99,AE109,AE119,AE129,AE139,AE149,AE159)","v":0},null,null,null,null,null,null,null,null,null,null,null,null,null,null,null,null,null,null,null,null,null,null,null,null,null,null,null,null,null,null,null,null,null,"MODELO A - TEMPO - N.º DE HORAS DE TRABALHO"]
["ORDEM DOS ARQUITECTOS",null,null,null,null,null,null,null,null,null,null,null,null,null,null,null,null,null,null,null,null,null,null,null,null,null,null,null,null,null,"SIMULADOR",null,null,null,null,null,null,null,null,null,null,null,null,null,null,null,null,null,null,null,null,null,null,null,null,null,null,null,null,null,null,null,null,null,"MODELO A - TEMPO - N.º DE HORAS DE TRABALHO"]

{"sheet":"SA - SERVICOS DE CERTIFICACAO","index":9,"n_rows":52,"n_cols":65,"rows_kept":52,"cut":false,"hidden":false,"merged":[[4,62,7,62],[4,63,7,63],[5,5,5,8],[5,25,5,28],[4,25,4,28],[4,30,7,30],[4,33,7,33],[4,59,7,59],[4,60,7,60],[4,61,7,61],[4,17,4,22],[0,5,0,8],[0,10,0,15],[0,17,0,23],[0,25,0,28],[5,2,7,2],[3,10,3,15],[4,5,4,8],[4,10,4,14]]}
[null,null,"SIMULADOR A | SERVIÇOS CERTIFICADOS",null,null,"MODELO A | TEMPO - N.º DE HORAS DE TRABALHO",null,null,null,null,"MODELO B | PERCENTAGEM - DA ESTIMATIVA APLICÁVEL",null,null,null,null,null,null,"MODELO C | ÁREA - DE CONSTRUÇÃO EM M²",null,null,null,null,null,null,null,"MODELO D | UNIDADE - N.º DE UNIDADES A APLICAR",null,null,null,null,null,null,null,null,null,null,null,null,null,null,null,null,null,null,null,null,null,null,null,null,null,null,null,null,null,null,null,null,null,null,null,null,null,null,"AC"]
[]
[]
[]
[null,null,null,null,null,null,null,null,null,null,null,null,null,null,null,null,null,null,null,null,null,null,null,null,null,null,null,null,null,null,"TOTAL\n(info)",null,null,"CTRL Linhas a apresentar",null,null,null,null,null,null,null,null,null,null,null,null,null,null,null,null,null,null,null,null,null,null,null,null,null,"MODELO A","MODELO B","MODELO C","MODELO D","TOTAL"]
[null,null,"ATIVIDADES ESPECÍFICAS","MODELO DE CÁLCULO",null,null,null,null,null,null,null,null,null,null,"VG Obra",{"$f":"M9","v":0},null,null,null,null,null,null,"Valor/m² FIXO",0]
[]
[null,null,null,"SELECIONAR (info)",null,"ÂMBITO (info)","N.º HORAS","VALOR/HORA","RESULTADO",null,"ÂMBITO (info)","TIPO VALOR (info)","VG OBRA","VC OBRA","% A APLICAR (info)","RESULTADO (info)",null,"ÂMBITO (info)","TIPO VALOR (info)","VF m²","VC m²","N.º DE m²","% A APLICAR (info)","RESULTADO",null,"ÂMBITO (info)","N.º DE UNIDADES","VALOR/UNIDADE","RESULTADO"]
[null,null,null,null,null,null,null,null,null,null,null,null,{"$f":"'SIMULADOR A'!C10","v":0},null,null,null,null,null,null,{"$f":"X6","v":0}]
[]
[null,{"$f":"IF('SA - ATIVIDADES'!$F$187<>TRUE,\"ocultar\",\"mostrar\")","v":"ocultar"},"H1. PRÉ-CERTIFICADO ENERGÉTICO","MODELO A - TEMPO - N.º DE HORAS DE TRABALHO",null,"Atribuir valor global à atividade",0,0,{"$f":"IF($F$11=\"Atribuir valor global à atividade\",G11*H11,\"\")","v":0},null,"Atribuir valor global à atividade","Valor Global Obra (VG Obra)",{"$f":"IF(L11=\"Valor Global Obra (VG Obra)\",$M$9,\"\")","v":0},0,0,{"$f":"IF(L11=\"Valor Global Obra (VG Obra)\",M11*O11,N11*O11)","v":0},null,"Atribuir valor global à atividade","Valor/m2 fixo (VF m2)",{"$f":"IF(S11=\"Valor/m2 fixo (VF m2)\",$T$9,\"\")","v":0},0,0,null,{"$f":"IF(S11=\"Valor/m2 fixo (VF m2)\",T11*1*V11,U11*1*V11)","v":0},null,"Atribuir valor global à atividade",0,0,{"$f":"AA11*AB11","v":0},null,{"$f":"BL11","v":0},null,null,null,null,null,null,null,null,null,null,null,null,null,null,null,null,null,null,null,null,null,null,null,null,null,null,null,null,{"$f":"IF(LEFT($D$11,8)=\"MODELO A\",IF($F$11=\"Atribuir valor detalhado por Fase/Elemento\",SUBTOTAL(109,BH14:BH18),I11),IF(LEFT($D$11,8)=\"MODELO M\",SUBTOTAL(109,BH14:BH18),0))","v":0},{"$f":"IF(LEFT($D$11,8)=\"MODELO B\",IF($K$11=\"Atribuir valor detalhado por Fase/Elemento\",SUBTOTAL(109,BI14:BI18),P11),IF(LEFT($D$11,8)=\"MODELO M\",SUBTOTAL(109,BI14:BI18),0))","v":0},{"$f":"IF(LEFT($D$11,8)=\"MODELO C\",IF($R$11=\"Atribuir valor detalhado por Fase/Elemento\",SUBTOTAL(109,BJ14:BJ18),X11),IF(LEFT($D$11,8)=\"MODELO M\",SUBTOTAL(109,BJ14:BJ18),0))","v":0},{"$f":"IF(LEFT($D$11,8)=\"MODELO D\",IF($Z$11=\"Atribuir valor detalhado por Fase/Elemento\",SUBTOTAL(109,BK14:BK18),AC11),IF(LEFT($D$11,8)=\"MODELO M\",SUBTOTAL(109,BK14:BK18),0))","v":0},{"$f":"SUM(BH11:BK11)","v":0},{"$f":"IF($AH11<>\"\",BM10,IF(LEFT($D11,6)=\"MODELO\",$D11,BM10))","v":"MODELO A - TEMPO - N.º DE HORAS DE TRABALHO"}]
[null,{"$f":"IF($B$11=\"ocultar\",\"ocultar\",\"mostrar\")","v":"ocultar"},null,null,null,null,null,null,null,null,null,null,null,null,null,null,null,null,null,null,null,null,null,null,null,null,null,null,null,null,null,null,null,null,null,null,null,null,null,null,null,null,null,null,null,null,null,null,null,null,null,null,null,null,null,null,null,null,null,null,null,null,null,null,{"$f":"IF($AH12<>\"\",BM11,IF(LEFT($D12,6)=\"MODELO\",$D12,BM11))","v":"MODELO A - TEMPO - N.º DE HORAS DE TRABALHO"}]
[null,"ocultar",null,null,null,null,null,null,null,null,null,null,null,null,null,null,null,null,null,null,null,null,null,null,null,null,null,null,null,null,null,null,null,null,null,null,null,null,null,null,null,null,null,null,null,null,null,null,null,null,null,null,null,null,null,null,null,null,null,null,null,null,null,null,"MODELO A - TEMPO - N.º DE HORAS DE TRABALHO"]
[null,{"$f":"IF($B$11=\"ocultar\",\"ocultar\",IF('SA - ATIVIDADES'!$F$187=TRUE,IF('SA - ATIVIDADES'!$H$187>=AH14,\"mostrar\",\"ocultar\"),\"ocultar\"))","v":"ocultar"},"Designação (a preencher)","MODELO A - TEMPO - N.º DE HORAS DE TRABALHO",null,null,0,{"$f":"$H$11","v":0},{"$f":"G14*H14","v":0},null,null,null,null,null,0,{"$f":"$P$11*O14","v":0},null,null,null,null,null,null,0,{"$f":"$X$11*W14","v":0},null,null,0,0,{"$f":"AA14*AB14","v":0},null,{"$f":"BL14","v":0},null,null,1,null,null,null,null,null,null,null,null,null,null,null,null,null,null,null,null,null,null,null,null,null,null,null,null,null,{"$f":"IF(OR(AND(LEFT($D$11,8)=\"MODELO M\",LEFT(D14,8)=\"MODELO A\"),AND(LEFT($D$11,8)=\"MODELO A\",$F$11=\"Atribuir valor detalhado por Fase/Elemento\")),I14,0)","v":0},{"$f":"IF(OR(AND(LEFT($D$11,8)=\"MODELO M\",LEFT(D14,8)=\"MODELO B\"),AND(LEFT($D$11,8)=\"MODELO B\",$K$11=\"Atribuir valor detalhado por Fase/Elemento\")),P14,0)","v":0},{"$f":"IF(OR(AND(LEFT($D$11,8)=\"MODELO M\",LEFT(D14,8)=\"MODELO C\"),AND(LEFT($D$11,8)=\"MODELO C\",$R$11=\"Atribuir valor detalhado por Fase/Elemento\")),X14,0)","v":0},{"$f":"IF(OR(AND(LEFT($D$11,8)=\"MODELO M\",LEFT(D14,8)=\"MODELO D\"),AND(LEFT($D$11,8)=\"MODELO D\",$Z$11=\"Atribuir valor detalhado por Fase/Elemento\")),AC14,0)","v":0},{"$f":"SUM(BH14:BK14)","v":0},"MODELO A - TEMPO - N.º DE HORAS DE TRABALHO"]
[null,{"$f":"IF($B$11=\"ocultar\",\"ocultar\",IF('SA - ATIVIDADES'!$F$187=TRUE,IF('SA - ATIVIDADES'!$H$187>=AH15,\"mostrar\",\"ocultar\"),\"ocultar\"))","v":"ocultar"},"Designação (a preencher)","MODELO A - TEMPO - N.º DE HORAS DE TRABALHO",null,null,0,{"$f":"$H$11","v":0},{"$f":"G15*H15","v":0},null,null,null,null,null,0,{"$f":"$P$11*O15","v":0},null,null,null,null,null,null,0,{"$f":"$X$11*W15","v":0},null,null,0,0,{"$f":"AA15*AB15","v":0},null,{"$f":"BL15","v":0},null,null,2,null,null,null,null,null,null,null,null,null,null,null,null,null,null,null,null,null,null,null,null,null,null,null,null,null,{"$f":"IF(OR(AND(LEFT($D$11,8)=\"MODELO M\",LEFT(D15,8)=\"MODELO A\"),AND(LEFT($D$11,8)=\"MODELO A\",$F$11=\"Atribuir valor detalhado por Fase/Elemento\")),I15,0)","v":0},{"$f":"IF(OR(AND(LEFT($D$11,8)=\"MODELO M\",LEFT(D15,8)=\"MODELO B\"),AND(LEFT($D$11,8)=\"MODELO B\",$K$11=\"Atribuir valor detalhado por Fase/Elemento\")),P15,0)","v":0},{"$f":"IF(OR(AND(LEFT($D$11,8)=\"MODELO M\",LEFT(D15,8)=\"MODELO C\"),AND(LEFT($D$11,8)=\"MODELO C\",$R$11=\"Atribuir valor detalhado por Fase/Elemento\")),X15,0)","v":0},{"$f":"IF(OR(AND(LEFT($D$11,8)=\"MODELO M\",LEFT(D15,8)=\"MODELO D\"),AND(LEFT($D$11,8)=\"MODELO D\",$Z$11=\"Atribuir valor detalhado por Fase/Elemento\")),AC15,0)","v":0},{"$f":"SUM(BH15:BK15)","v":0},"MODELO A - TEMPO - N.º DE HORAS DE TRABALHO"]
[null,{"$f":"IF($B$11=\"ocultar\",\"ocultar\",IF('SA - ATIVIDADES'!$F$187=TRUE,IF('SA - ATIVIDADES'!$H$187>=AH16,\"mostrar\",\"ocultar\"),\"ocultar\"))","v":"ocultar"},"Designação (a preencher)","MODELO A - TEMPO - N.º DE HORAS DE TRABALHO",null,null,0,0,0,null,null,null,null,null,0,0,null,null,null,null,null,null,0,0,null,null,0,0,0,null,0,null,null,3,null,null,null,null,null,null,null,null,null,null,null,null,null,null,null,null,null,null,null,null,null,null,null,null,null,{"$f":"IF(OR(AND(LEFT($D$11,8)=\"MODELO M\",LEFT(D16,8)=\"MODELO A\"),AND(LEFT($D$11,8)=\"MODELO A\",$F$11=\"Atribuir valor detalhado por Fase/Elemento\")),I16,0)","v":0},{"$f":"IF(OR(AND(LEFT($D$11,8)=\"MODELO M\",LEFT(D16,8)=\"MODELO B\"),AND(LEFT($D$11,8)=\"MODELO B\",$K$11=\"Atribuir valor detalhado por Fase/Elemento\")),P16,0)","v":0},{"$f":"IF(OR(AND(LEFT($D$11,8)=\"MODELO M\",LEFT(D16,8)=\"MODELO C\"),AND(LEFT($D$11,8)=\"MODELO C\",$R$11=\"Atribuir valor detalhado por Fase/Elemento\")),X16,0)","v":0},{"$f":"IF(OR(AND(LEFT($D$11,8)=\"MODELO M\",LEFT(D16,8)=\"MODELO D\"),AND(LEFT($D$11,8)=\"MODELO D\",$Z$11=\"Atribuir valor detalhado por Fase/Elemento\")),AC16,0)","v":0},0,"MODELO A - TEMPO - N.º DE HORAS DE TRABALHO"]
[null,{"$f":"IF($B$11=\"ocultar\",\"ocultar\",IF('SA - ATIVIDADES'!$F$187=TRUE,IF('SA - ATIVIDADES'!$H$187>=AH17,\"mostrar\",\"ocultar\"),\"ocultar\"))","v":"ocultar"},"Designação (a preencher)","MODELO A - TEMPO - N.º DE HORAS DE TRABALHO",null,null,0,0,0,null,null,null,null,null,0,0,null,null,null,null,null,null,0,0,null,null,0,0,0,null,0,null,null,4,null,null,null,null,null,null,null,null,null,null,null,null,null,null,null,null,null,null,null,null,null,null,null,null,null,{"$f":"IF(OR(AND(LEFT($D$11,8)=\"MODELO M\",LEFT(D17,8)=\"MODELO A\"),AND(LEFT($D$11,8)=\"MODELO A\",$F$11=\"Atribuir valor detalhado por Fase/Elemento\")),I17,0)","v":0},{"$f":"IF(OR(AND(LEFT($D$11,8)=\"MODELO M\",LEFT(D17,8)=\"MODELO B\"),AND(LEFT($D$11,8)=\"MODELO B\",$K$11=\"Atribuir valor detalhado por Fase/Elemento\")),P17,0)","v":0},{"$f":"IF(OR(AND(LEFT($D$11,8)=\"MODELO M\",LEFT(D17,8)=\"MODELO C\"),AND(LEFT($D$11,8)=\"MODELO C\",$R$11=\"Atribuir valor detalhado por Fase/Elemento\")),X17,0)","v":0},{"$f":"IF(OR(AND(LEFT($D$11,8)=\"MODELO M\",LEFT(D17,8)=\"MODELO D\"),AND(LEFT($D$11,8)=\"MODELO D\",$Z$11=\"Atribuir valor detalhado por Fase/Elemento\")),AC17,0)","v":0},0,"MODELO A - TEMPO - N.º DE HORAS DE TRABALHO"]
[null,{"$f":"IF($B$11=\"ocultar\",\"ocultar\",IF('SA - ATIVIDADES'!$F$187=TRUE,IF('SA - ATIVIDADES'!$H$187>=AH18,\"mostrar\",\"ocultar\"),\"ocultar\"))","v":"ocultar"},"Designação (a preencher)","MODELO A - TEMPO - N.º DE HORAS DE TRABALHO",null,null,0,0,0,null,null,null,null,null,0,0,null,null,null,null,null,null,0,0,null,null,0,0,0,null,0,null,null,5,null,null,null,null,null,null,null,null,null,null,null,null,null,null,null,null,null,null,null,null,null,null,null,null,null,{"$f":"IF(OR(AND(LEFT($D$11,8)=\"MODELO M\",LEFT(D18,8)=\"MODELO A\"),AND(LEFT($D$11,8)=\"MODELO A\",$F$11=\"Atribuir valor detalhado por Fase/Elemento\")),I18,0)","v":0},{"$f":"IF(OR(AND(LEFT($D$11,8)=\"MODELO M\",LEFT(D18,8)=\"MODELO B\"),AND(LEFT($D$11,8)=\"MODELO B\",$K$11=\"Atribuir valor detalhado por Fase/Elemento\")),P18,0)","v":0},{"$f":"IF(OR(AND(LEFT($D$11,8)=\"MODELO M\",LEFT(D18,8)=\"MODELO C\"),AND(LEFT($D$11,8)=\"MODELO C\",$R$11=\"Atribuir valor detalhado por Fase/Elemento\")),X18,0)","v":0},{"$f":"IF(OR(AND(LEFT($D$11,8)=\"MODELO M\",LEFT(D18,8)=\"MODELO D\"),AND(LEFT($D$11,8)=\"MODELO D\",$Z$11=\"Atribuir valor detalhado por Fase/Elemento\")),AC18,0)","v":0},0,"MODELO A - TEMPO - N.º DE HORAS DE TRABALHO"]
[null,{"$f":"IF($B$14=\"ocultar\",\"ocultar\",\"mostrar\")","v":"ocultar"},"TOTAL",null,null,null,{"$f":"IF($F11=\"Atribuir valor global à atividade\",G11,SUBTOTAL(109,G14:G18))","v":0},null,{"$f":"IF($F11=\"Atribuir valor global à atividade\",I11,SUBTOTAL(109,I14:I18))","v":0},null,null,null,null,null,{"$f":"IF($K11=\"Atribuir valor global à atividade\",1,SUBTOTAL(109,O14:O18))","v":1},{"$f":"IF($K11=\"Atribuir valor global à atividade\",P11,SUBTOTAL(109,P14:P18))","v":0},null,null,null,null,null,null,{"$f":"IF($R11=\"Atribuir valor global à atividade\",1,SUBTOTAL(109,W14:W18))","v":1},{"$f":"IF($R11=\"Atribuir valor global à atividade\",X11,SUBTOTAL(109,X14:X18))","v":0},null,null,null,null,{"$f":"IF($Z11=\"Atribuir valor global à atividade\",AC11,SUBTOTAL(109,AC14:AC18))","v":0},null,{"$f":"BL11","v":0},null,null,null,null,null,null,null,null,null,null,null,null,null,null,null,null,null,null,null,null,null,null,null,null,null,null,null,null,null,null,null,null,null,"MODELO A - TEMPO - N.º DE HORAS DE TRABALHO"]
[null,{"$f":"IF($B$11=\"mostrar\",\"mostrar\",\"ocultar\")","v":"ocultar"},null,null,null,null,null,null,null,null,null,null,null,null,null,null,null,null,null,null,null,null,null,null,null,null,null,null,null,null,null,null,null,null,null,null,null,null,null,null,null,null,null,null,null,null,null,null,null,null,null,null,null,null,null,null,null,null,null,null,null,null,null,null,"MODELO A - TEMPO - N.º DE HORAS DE TRABALHO"]
[null,{"$f":"IF('SA - ATIVIDADES'!$F$188<>TRUE,\"ocultar\",\"mostrar\")","v":"ocultar"},"H2. CERTIFICADO ENERGÉTICO","MODELO A - TEMPO - N.º DE HORAS DE TRABALHO",null,"Atribuir valor global à atividade",0,0,{"$f":"IF($F$21=\"Atribuir valor global à atividade\",G21*H21,\"\")","v":0},null,"Atribuir valor global à atividade","Valor Global Obra (VG Obra)",{"$f":"IF(L21=\"Valor Global Obra (VG Obra)\",$M$9,\"\")","v":0},0,0,{"$f":"IF(L21=\"Valor Global Obra (VG Obra)\",M21*O21,N21*O21)","v":0},null,"Atribuir valor global à atividade","Valor/m2 fixo (VF m2)",{"$f":"IF(S21=\"Valor/m2 fixo (VF m2)\",$T$9,\"\")","v":0},0,0,null,{"$f":"IF(S21=\"Valor/m2 fixo (VF m2)\",T21*1*V21,U21*1*V21)","v":0},null,"Atribuir valor global à atividade",0,0,{"$f":"AA21*AB21","v":0},null,{"$f":"BL21","v":0},null,null,null,null,null,null,null,null,null,null,null,null,null,null,null,null,null,null,null,null,null,null,null,null,null,null,null,null,{"$f":"IF(LEFT($D$21,8)=\"MODELO A\",IF($F$21=\"Atribuir valor detalhado por Fase/Elemento\",SUBTOTAL(109,BH24:BH28),I21),IF(LEFT($D$21,8)=\"MODELO M\",SUBTOTAL(109,BH24:BH28),0))","v":0},{"$f":"IF(LEFT($D$21,8)=\"MODELO B\",IF($K$21=\"Atribuir valor detalhado por Fase/Elemento\",SUBTOTAL(109,BI24:BI28),P21),IF(LEFT($D$21,8)=\"MODELO M\",SUBTOTAL(109,BI24:BI28),0))","v":0},{"$f":"IF(LEFT($D$21,8)=\"MODELO C\",IF($R$21=\"Atribuir valor detalhado por Fase/Elemento\",SUBTOTAL(109,BJ24:BJ28),X21),IF(LEFT($D$21,8)=\"MODELO M\",SUBTOTAL(109,BJ24:BJ28),0))","v":0},{"$f":"IF(LEFT($D$21,8)=\"MODELO D\",IF($Z$21=\"Atribuir valor detalhado por Fase/Elemento\",SUBTOTAL(109,BK24:BK28),AC21),IF(LEFT($D$21,8)=\"MODELO M\",SUBTOTAL(109,BK24:BK28),0))","v":0},{"$f":"SUM(BH21:BK21)","v":0},"MODELO A - TEMPO - N.º DE HORAS DE TRABALHO"]
[null,{"$f":"IF($B$21=\"ocultar\",\"ocultar\",\"mostrar\")","v":"ocultar"},null,null,null,null,null,null,null,null,null,null,null,null,null,null,null,null,null,null,null,null,null,null,null,null,null,null,null,null,null,null,null,null,null,null,null,null,null,null,null,null,null,null,null,null,null,null,null,null,null,null,null,null,null,null,null,null,null,null,null,null,null,null,"MODELO A - TEMPO - N.º DE HORAS DE TRABALHO"]
[null,"ocultar",null,null,null,null,null,null,null,null,null,null,null,null,null,null,null,null,null,null,null,null,null,null,null,null,null,null,null,null,null,null,null,null,null,null,null,null,null,null,null,null,null,null,null,null,null,null,null,null,null,null,null,null,null,null,null,null,null,null,null,null,null,null,"MODELO A - TEMPO - N.º DE HORAS DE TRABALHO"]
[null,{"$f":"IF($B$21=\"ocultar\",\"ocultar\",IF('SA - ATIVIDADES'!$F$188=TRUE,IF('SA - ATIVIDADES'!$H$188>=AH24,\"mostrar\",\"ocultar\"),\"ocultar\"))","v":"ocultar"},"Designação (a preencher)","MODELO A - TEMPO - N.º DE HORAS DE TRABALHO",null,null,0,{"$f":"$H$21","v":0},{"$f":"G24*H24","v":0},null,null,null,null,null,0,{"$f":"$P$21*O24","v":0},null,null,null,null,null,null,0,{"$f":"$X$21*W24","v":0},null,null,0,0,{"$f":"AA24*AB24","v":0},null,{"$f":"BL24","v":0},null,null,1,null,null,null,null,null,null,null,null,null,null,null,null,null,null,null,null,null,null,null,null,null,null,null,null,null,{"$f":"IF(OR(AND(LEFT($D$21,8)=\"MODELO M\",LEFT(D24,8)=\"MODELO A\"),AND(LEFT($D$21,8)=\"MODELO A\",$F$21=\"Atribuir valor detalhado por Fase/Elemento\")),I24,0)","v":0},{"$f":"IF(OR(AND(LEFT($D$21,8)=\"MODELO M\",LEFT(D24,8)=\"MODELO B\"),AND(LEFT($D$21,8)=\"MODELO B\",$K$21=\"Atribuir valor detalhado por Fase/Elemento\")),P24,0)","v":0},{"$f":"IF(OR(AND(LEFT($D$21,8)=\"MODELO M\",LEFT(D24,8)=\"MODELO C\"),AND(LEFT($D$21,8)=\"MODELO C\",$R$21=\"Atribuir valor detalhado por Fase/Elemento\")),X24,0)","v":0},{"$f":"IF(OR(AND(LEFT($D$21,8)=\"MODELO M\",LEFT(D24,8)=\"MODELO D\"),AND(LEFT($D$21,8)=\"MODELO D\",$Z$21=\"Atribuir valor detalhado por Fase/Elemento\")),AC24,0)","v":0},{"$f":"SUM(BH24:BK24)","v":0},"MODELO A - TEMPO - N.º DE HORAS DE TRABALHO"]
[null,{"$f":"IF($B$21=\"ocultar\",\"ocultar\",IF('SA - ATIVIDADES'!$F$188=TRUE,IF('SA - ATIVIDADES'!$H$188>=AH25,\"mostrar\",\"ocultar\"),\"ocultar\"))","v":"ocultar"},"Designação (a preencher)","MODELO A - TEMPO - N.º DE HORAS DE TRABALHO",null,null,0,{"$f":"$H$21","v":0},{"$f":"G25*H25","v":0},null,null,null,null,null,0,{"$f":"$P$21*O25","v":0},null,null,null,null,null,null,0,{"$f":"$X$21*W25","v":0},null,null,0,0,{"$f":"AA25*AB25","v":0},null,{"$f":"BL25","v":0},null,null,2,null,null,null,null,null,null,null,null,null,null,null,null,null,null,null,null,null,null,null,null,null,null,null,null,null,{"$f":"IF(OR(AND(LEFT($D$21,8)=\"MODELO M\",LEFT(D25,8)=\"MODELO A\"),AND(LEFT($D$21,8)=\"MODELO A\",$F$21=\"Atribuir valor detalhado por Fase/Elemento\")),I25,0)","v":0},{"$f":"IF(OR(AND(LEFT($D$21,8)=\"MODELO M\",LEFT(D25,8)=\"MODELO B\"),AND(LEFT($D$21,8)=\"MODELO B\",$K$21=\"Atribuir valor detalhado por Fase/Elemento\")),P25,0)","v":0},{"$f":"IF(OR(AND(LEFT($D$21,8)=\"MODELO M\",LEFT(D25,8)=\"MODELO C\"),AND(LEFT($D$21,8)=\"MODELO C\",$R$21=\"Atribuir valor detalhado por Fase/Elemento\")),X25,0)","v":0},{"$f":"IF(OR(AND(LEFT($D$21,8)=\"MODELO M\",LEFT(D25,8)=\"MODELO D\"),AND(LEFT($D$21,8)=\"MODELO D\",$Z$21=\"Atribuir valor detalhado por Fase/Elemento\")),AC25,0)","v":0},{"$f":"SUM(BH25:BK25)","v":0},"MODELO A - TEMPO - N.º DE HORAS DE TRABALHO"]
[null,{"$f":"IF($B$21=\"ocultar\",\"ocultar\",IF('SA - ATIVIDADES'!$F$188=TRUE,IF('SA - ATIVIDADES'!$H$188>=AH26,\"mostrar\",\"ocultar\"),\"ocultar\"))","v":"ocultar"},"Designação (a preencher)","MODELO A - TEMPO - N.º DE HORAS DE TRABALHO",null,null,0,0,0,null,null,null,null,null,0,0,null,null,null,null,null,null,0,0,null,null,0,0,0,null,0,null,null,3,null,null,null,null,null,null,null,null,null,null,null,null,null,null,null,null,null,null,null,null,null,null,null,null,null,{"$f":"IF(OR(AND(LEFT($D$21,8)=\"MODELO M\",LEFT(D26,8)=\"MODELO A\"),AND(LEFT($D$21,8)=\"MODELO A\",$F$21=\"Atribuir valor detalhado por Fase/Elemento\")),I26,0)","v":0},{"$f":"IF(OR(AND(LEFT($D$21,8)=\"MODELO M\",LEFT(D26,8)=\"MODELO B\"),AND(LEFT($D$21,8)=\"MODELO B\",$K$21=\"Atribuir valor detalhado por Fase/Elemento\")),P26,0)","v":0},{"$f":"IF(OR(AND(LEFT($D$21,8)=\"MODELO M\",LEFT(D26,8)=\"MODELO C\"),AND(LEFT($D$21,8)=\"MODELO C\",$R$21=\"Atribuir valor detalhado por Fase/Elemento\")),X26,0)","v":0},{"$f":"IF(OR(AND(LEFT($D$21,8)=\"MODELO M\",LEFT(D26,8)=\"MODELO D\"),AND(LEFT($D$21,8)=\"MODELO D\",$Z$21=\"Atribuir valor detalhado por Fase/Elemento\")),AC26,0)","v":0},0,"MODELO A - TEMPO - N.º DE HORAS DE TRABALHO"]
[null,{"$f":"IF($B$21=\"ocultar\",\"ocultar\",IF('SA - ATIVIDADES'!$F$188=TRUE,IF('SA - ATIVIDADES'!$H$188>=AH27,\"mostrar\",\"ocultar\"),\"ocultar\"))","v":"ocultar"},"Designação (a preencher)","MODELO A - TEMPO - N.º DE HORAS DE TRABALHO",null,null,0,0,0,null,null,null,null,null,0,0,null,null,null,null,null,null,0,0,null,null,0,0,0,null,0,null,null,4,null,null,null,null,null,null,null,null,null,null,null,null,null,null,null,null,null,null,null,null,null,null,null,null,null,{"$f":"IF(OR(AND(LEFT($D$21,8)=\"MODELO M\",LEFT(D27,8)=\"MODELO A\"),AND(LEFT($D$21,8)=\"MODELO A\",$F$21=\"Atribuir valor detalhado por Fase/Elemento\")),I27,0)","v":0},{"$f":"IF(OR(AND(LEFT($D$21,8)=\"MODELO M\",LEFT(D27,8)=\"MODELO B\"),AND(LEFT($D$21,8)=\"MODELO B\",$K$21=\"Atribuir valor detalhado por Fase/Elemento\")),P27,0)","v":0},{"$f":"IF(OR(AND(LEFT($D$21,8)=\"MODELO M\",LEFT(D27,8)=\"MODELO C\"),AND(LEFT($D$21,8)=\"MODELO C\",$R$21=\"Atribuir valor detalhado por Fase/Elemento\")),X27,0)","v":0},{"$f":"IF(OR(AND(LEFT($D$21,8)=\"MODELO M\",LEFT(D27,8)=\"MODELO D\"),AND(LEFT($D$21,8)=\"MODELO D\",$Z$21=\"Atribuir valor detalhado por Fase/Elemento\")),AC27,0)","v":0},0,"MODELO A - TEMPO - N.º DE HORAS DE TRABALHO"]
[null,{"$f":"IF($B$21=\"ocultar\",\"ocultar\",IF('SA - ATIVIDADES'!$F$188=TRUE,IF('SA - ATIVIDADES'!$H$188>=AH28,\"mostrar\",\"ocultar\"),\"ocultar\"))","v":"ocultar"},"Designação (a preencher)","MODELO A - TEMPO - N.º DE HORAS DE TRABALHO",null,null,0,0,0,null,null,null,null,null,0,0,null,null,null,null,null,null,0,0,null,null,0,0,0,null,0,null,null,5,null,null,null,null,null,null,null,null,null,null,null,null,null,null,null,null,null,null,null,null,null,null,null,null,null,{"$f":"IF(OR(AND(LEFT($D$21,8)=\"MODELO M\",LEFT(D28,8)=\"MODELO A\"),AND(LEFT($D$21,8)=\"MODELO A\",$F$21=\"Atribuir valor detalhado por Fase/Elemento\")),I28,0)","v":0},{"$f":"IF(OR(AND(LEFT($D$21,8)=\"MODELO M\",LEFT(D28,8)=\"MODELO B\"),AND(LEFT($D$21,8)=\"MODELO B\",$K$21=\"Atribuir valor detalhado por Fase/Elemento\")),P28,0)","v":0},{"$f":"IF(OR(AND(LEFT($D$21,8)=\"MODELO M\",LEFT(D28,8)=\"MODELO C\"),AND(LEFT($D$21,8)=\"MODELO C\",$R$21=\"Atribuir valor detalhado por Fase/Elemento\")),X28,0)","v":0},{"$f":"IF(OR(AND(LEFT($D$21,8)=\"MODELO M\",LEFT(D28,8)=\"MODELO D\"),AND(LEFT($D$21,8)=\"MODELO D\",$Z$21=\"Atribuir valor detalhado por Fase/Elemento\")),AC28,0)","v":0},0,"MODELO A - TEMPO - N.º DE HORAS DE TRABALHO"]
[null,{"$f":"IF($B$24=\"ocultar\",\"ocultar\",\"mostrar\")","v":"ocultar"},"TOTAL",null,null,null,{"$f":"IF($F21=\"Atribuir valor global à atividade\",G21,SUBTOTAL(109,G24:G28))","v":0},null,{"$f":"IF($F21=\"Atribuir valor global à atividade\",I21,SUBTOTAL(109,I24:I28))","v":0},null,null,null,null,null,{"$f":"IF($K21=\"Atribuir valor global à atividade\",1,SUBTOTAL(109,O24:O28))","v":1},{"$f":"IF($K21=\"Atribuir valor global à atividade\",P21,SUBTOTAL(109,P24:P28))","v":0},null,null,null,null,null,null,{"$f":"IF($R21=\"Atribuir valor global à atividade\",1,SUBTOTAL(109,W24:W28))","v":1},{"$f":"IF($R21=\"Atribuir valor global à atividade\",X21,SUBTOTAL(109,X24:X28))","v":0},null,null,null,null,{"$f":"IF($Z21=\"Atribuir valor global à atividade\",AC21,SUBTOTAL(109,AC24:AC28))","v":0},null,{"$f":"BL21","v":0},null,null,null,null,null,null,null,null,null,null,null,null,null,null,null,null,null,null,null,null,null,null,null,null,null,null,null,null,null,null,null,null,null,"MODELO A - TEMPO - N.º DE HORAS DE TRABALHO"]
[null,{"$f":"IF($B$21=\"mostrar\",\"mostrar\",\"ocultar\")","v":"ocultar"},null,null,null,null,null,null,null,null,null,null,null,null,null,null,null,null,null,null,null,null,null,null,null,null,null,null,null,null,null,null,null,null,null,null,null,null,null,null,null,null,null,null,null,null,null,null,null,null,null,null,null,null,null,null,null,null,null,null,null,null,null,null,"MODELO A - TEMPO - N.º DE HORAS DE TRABALHO"]
[null,{"$f":"IF('SA - ATIVIDADES'!$F$189<>TRUE,\"ocultar\",\"mostrar\")","v":"ocultar"},"H3. CERTIFICADO AMBIENTAL","MODELO A - TEMPO - N.º DE HORAS DE TRABALHO",null,"Atribuir valor global à atividade",0,0,{"$f":"IF($F$31=\"Atribuir valor global à atividade\",G31*H31,\"\")","v":0},null,"Atribuir valor global à atividade","Valor Global Obra (VG Obra)",{"$f":"IF(L31=\"Valor Global Obra (VG Obra)\",$M$9,\"\")","v":0},0,0,{"$f":"IF(L31=\"Valor Global Obra (VG Obra)\",M31*O31,N31*O31)","v":0},null,"Atribuir valor global à atividade","Valor/m2 fixo (VF m2)",{"$f":"IF(S31=\"Valor/m2 fixo (VF m2)\",$T$9,\"\")","v":0},0,0,null,{"$f":"IF(S31=\"Valor/m2 fixo (VF m2)\",T31*1*V31,U31*1*V31)","v":0},null,"Atribuir valor global à atividade",0,0,{"$f":"AA31*AB31","v":0},null,{"$f":"BL31","v":0},null,null,null,null,null,null,null,null,null,null,null,null,null,null,null,null,null,null,null,null,null,null,null,null,null,null,null,null,{"$f":"IF(LEFT($D$31,8)=\"MODELO A\",IF($F$31=\"Atribuir valor detalhado por Fase/Elemento\",SUBTOTAL(109,BH34:BH38),I31),IF(LEFT($D$31,8)=\"MODELO M\",SUBTOTAL(109,BH34:BH38),0))","v":0},{"$f":"IF(LEFT($D$31,8)=\"MODELO B\",IF($K$31=\"Atribuir valor detalhado por Fase/Elemento\",SUBTOTAL(109,BI34:BI38),P31),IF(LEFT($D$31,8)=\"MODELO M\",SUBTOTAL(109,BI34:BI38),0))","v":0},{"$f":"IF(LEFT($D$31,8)=\"MODELO C\",IF($R$31=\"Atribuir valor detalhado por Fase/Elemento\",SUBTOTAL(109,BJ34:BJ38),X31),IF(LEFT($D$31,8)=\"MODELO M\",SUBTOTAL(109,BJ34:BJ38),0))","v":0},{"$f":"IF(LEFT($D$31,8)=\"MODELO D\",IF($Z$31=\"Atribuir valor detalhado por Fase/Elemento\",SUBTOTAL(109,BK34:BK38),AC31),IF(LEFT($D$31,8)=\"MODELO M\",SUBTOTAL(109,BK34:BK38),0))","v":0},{"$f":"SUM(BH31:BK31)","v":0},"MODELO A - TEMPO - N.º DE HORAS DE TRABALHO"]
[null,{"$f":"IF($B$31=\"ocultar\",\"ocultar\",\"mostrar\")","v":"ocultar"},null,null,null,null,null,null,null,null,null,null,null,null,null,null,null,null,null,null,null,null,null,null,null,null,null,null,null,null,null,null,null,null,null,null,null,null,null,null,null,null,null,null,null,null,null,null,null,null,null,null,null,null,null,null,null,null,null,null,null,null,null,null,"MODELO A - TEMPO - N.º DE HORAS DE TRABALHO"]
[null,"ocultar",null,null,null,null,null,null,null,null,null,null,null,null,null,null,null,null,null,null,null,null,null,null,null,null,null,null,null,null,null,null,null,null,null,null,null,null,null,null,null,null,null,null,null,null,null,null,null,null,null,null,null,null,null,null,null,null,null,null,null,null,null,null,"MODELO A - TEMPO - N.º DE HORAS DE TRABALHO"]
[null,{"$f":"IF($B$31=\"ocultar\",\"ocultar\",IF('SA - ATIVIDADES'!$F$189=TRUE,IF('SA - ATIVIDADES'!$H$189>=AH34,\"mostrar\",\"ocultar\"),\"ocultar\"))","v":"ocultar"},"Designação (a preencher)","MODELO A - TEMPO - N.º DE HORAS DE TRABALHO",null,null,0,{"$f":"$H$31","v":0},{"$f":"G34*H34","v":0},null,null,null,null,null,0,{"$f":"$P$31*O34","v":0},null,null,null,null,null,null,0,{"$f":"$X$31*W34","v":0},null,null,0,0,{"$f":"AA34*AB34","v":0},null,{"$f":"BL34","v":0},null,null,1,null,null,null,null,null,null,null,null,null,null,null,null,null,null,null,null,null,null,null,null,null,null,null,null,null,{"$f":"IF(OR(AND(LEFT($D$31,8)=\"MODELO M\", LEFT(D34,8)=\"MODELO A\"), AND(LEFT($D$31,8)=\"MODELO A\", $F$31=\"Atribuir valor detalhado por Fase/Elemento\")), I34, 0)","v":0},{"$f":"IF(OR(AND(LEFT($D$31,8)=\"MODELO M\", LEFT(D34,8)=\"MODELO B\"), AND(LEFT($D$31,8)=\"MODELO B\", $K$31=\"Atribuir valor detalhado por Fase/Elemento\")), P34, 0)","v":0},{"$f":"IF(OR(AND(LEFT($D$31,8)=\"MODELO M\", LEFT(D34,8)=\"MODELO C\"), AND(LEFT($D$31,8)=\"MODELO C\", $R$31=\"Atribuir valor detalhado por Fase/Elemento\")), X34, 0)","v":0},{"$f":"IF(OR(AND(LEFT($D$31,8)=\"MODELO M\", LEFT(D34,8)=\"MODELO D\"), AND(LEFT($D$31,8)=\"MODELO D\", $Z$31=\"Atribuir valor detalhado por Fase/Elemento\")), AC34, 0)","v":0},{"$f":"SUM(BH34:BK34)","v":0},"MODELO A - TEMPO - N.º DE HORAS DE TRABALHO"]
[null,{"$f":"IF($B$31=\"ocultar\",\"ocultar\",IF('SA - ATIVIDADES'!$F$189=TRUE,IF('SA - ATIVIDADES'!$H$189>=AH35,\"mostrar\",\"ocultar\"),\"ocultar\"))","v":"ocultar"},"Designação (a preencher)","MODELO A - TEMPO - N.º DE HORAS DE TRABALHO",null,null,0,0,{"$f":"G35*H35","v":0},null,null,null,null,null,0,{"$f":"$P$31*O35","v":0},null,null,null,null,null,null,0,{"$f":"$X$31*W35","v":0},null,null,0,0,0,null,{"$f":"BL35","v":0},null,null,2,null,null,null,null,null,null,null,null,null,null,null,null,null,null,null,null,null,null,null,null,null,null,null,null,null,0,0,0,0,{"$f":"SUM(BH35:BK35)","v":0},"MODELO A - TEMPO - N.º DE HORAS DE TRABALHO"]
[null,{"$f":"IF($B$31=\"ocultar\",\"ocultar\",IF('SA - ATIVIDADES'!$F$189=TRUE,IF('SA - ATIVIDADES'!$H$189>=AH36,\"mostrar\",\"ocultar\"),\"ocultar\"))","v":"ocultar"},"Designação (a preencher)","MODELO A - TEMPO - N.º DE HORAS DE TRABALHO",null,null,0,0,0,null,null,null,null,null,0,{"$f":"$P$31*O36","v":0},null,null,null,null,null,null,0,0,null,null,0,0,0,null,0,null,null,3,null,null,null,null,null,null,null,null,null,null,null,null,null,null,null,null,null,null,null,null,null,null,null,null,null,0,0,0,0,0,"MODELO A - TEMPO - N.º DE HORAS DE TRABALHO"]
[null,{"$f":"IF($B$31=\"ocultar\",\"ocultar\",IF('SA - ATIVIDADES'!$F$189=TRUE,IF('SA - ATIVIDADES'!$H$189>=AH37,\"mostrar\",\"ocultar\"),\"ocultar\"))","v":"ocultar"},"Designação (a preencher)","MODELO A - TEMPO - N.º DE HORAS DE TRABALHO",null,null,0,0,0,null,null,null,null,null,0,{"$f":"$P$31*O37","v":0},null,null,null,null,null,null,0,0,null,null,0,0,0,null,0,null,null,4,null,null,null,null,null,null,null,null,null,null,null,null,null,null,null,null,null,null,null,null,null,null,null,null,null,0,0,0,0,0,"MODELO A - TEMPO - N.º DE HORAS DE TRABALHO"]
[null,{"$f":"IF($B$31=\"ocultar\",\"ocultar\",IF('SA - ATIVIDADES'!$F$189=TRUE,IF('SA - ATIVIDADES'!$H$189>=AH38,\"mostrar\",\"ocultar\"),\"ocultar\"))","v":"ocultar"},"Designação (a preencher)","MODELO A - TEMPO - N.º DE HORAS DE TRABALHO",null,null,0,0,0,null,null,null,null,null,0,{"$f":"$P$31*O38","v":0},null,null,null,null,null,null,0,0,null,null,0,0,0,null,0,null,null,5,null,null,null,null,null,null,null,null,null,null,null,null,null,null,null,null,null,null,null,null,null,null,null,null,null,0,0,0,0,0,"MODELO A - TEMPO - N.º DE HORAS DE TRABALHO"]
[null,{"$f":"IF($B$34=\"ocultar\",\"ocultar\",\"mostrar\")","v":"ocultar"},"TOTAL",null,null,null,{"$f":"IF($F31=\"Atribuir valor global à atividade\",G31,SUBTOTAL(109,G34:G38))","v":0},null,{"$f":"IF($F31=\"Atribuir valor global à atividade\",I31,SUBTOTAL(109,I34:I38))","v":0},null,null,null,null,null,{"$f":"IF($K31=\"Atribuir valor global à atividade\",1,SUBTOTAL(109,O34:O38))","v":1},{"$f":"IF($K31=\"Atribuir valor global à atividade\",P31,SUBTOTAL(109,P34:P38))","v":0},null,null,null,null,null,null,{"$f":"IF($R31=\"Atribuir valor global à atividade\",1,SUBTOTAL(109,W34:W38))","v":1},{"$f":"IF($R31=\"Atribuir valor global à atividade\",X31,SUBTOTAL(109,X34:X38))","v":0},null,null,null,null,{"$f":"IF($Z31=\"Atribuir valor global à atividade\",AC31,SUBTOTAL(109,AC34:AC38))","v":0},null,{"$f":"BL31","v":0},null,null,null,null,null,null,null,null,null,null,null,null,null,null,null,null,null,null,null,null,null,null,null,null,null,null,null,null,null,null,null,null,null,"MODELO A - TEMPO - N.º DE HORAS DE TRABALHO"]
[null,{"$f":"IF($B$31=\"mostrar\",\"mostrar\",\"ocultar\")","v":"ocultar"},null,null,null,null,null,null,null,null,null,null,null,null,null,null,null,null,null,null,null,null,null,null,null,null,null,null,null,null,null,null,null,null,null,null,null,null,null,null,null,null,null,null,null,null,null,null,null,null,null,null,null,null,null,null,null,null,null,null,null,null,null,null,"MODELO A - TEMPO - N.º DE HORAS DE TRABALHO"]
[null,{"$f":"IF('SA - ATIVIDADES'!$F$190<>TRUE,\"ocultar\",\"mostrar\")","v":"ocultar"},"H4. DECLARAÇÃO PROVISÓRIA DO SCE","MODELO A - TEMPO - N.º DE HORAS DE TRABALHO",null,"Atribuir valor global à atividade",0,0,{"$f":"IF($F$41=\"Atribuir valor global à atividade\",G41*H41,\"\")","v":0},null,"Atribuir valor global à atividade","Valor Global Obra (VG Obra)",{"$f":"IF(L41=\"Valor Global Obra (VG Obra)\",$M$9,\"\")","v":0},0,0,{"$f":"IF(L41=\"Valor Global Obra (VG Obra)\",M41*O41,N41*O41)","v":0},null,"Atribuir valor global à atividade","Valor/m2 fixo (VF m2)",{"$f":"IF(S41=\"Valor/m2 fixo (VF m2)\",$T$9,\"\")","v":0},0,0,null,{"$f":"IF(S41=\"Valor/m2 fixo (VF m2)\",T41*1*V41,U41*1*V41)","v":0},null,"Atribuir valor global à atividade",0,0,{"$f":"AA41*AB41","v":0},null,{"$f":"BL41","v":0},null,null,null,null,null,null,null,null,null,null,null,null,null,null,null,null,null,null,null,null,null,null,null,null,null,null,null,null,{"$f":"IF(LEFT($D$41,8)=\"MODELO A\",IF($F$41=\"Atribuir valor detalhado por Fase/Elemento\",SUBTOTAL(109,BH44:BH48),I41),IF(LEFT($D$41,8)=\"MODELO M\",SUBTOTAL(109,BH44:BH48),0))","v":0},{"$f":"IF(LEFT($D$41,8)=\"MODELO B\",IF($K$41=\"Atribuir valor detalhado por Fase/Elemento\",SUBTOTAL(109,BI44:BI48),P41),IF(LEFT($D$41,8)=\"MODELO M\",SUBTOTAL(109,BI44:BI48),0))","v":0},{"$f":"IF(LEFT($D$41,8)=\"MODELO C\",IF($R$41=\"Atribuir valor detalhado por Fase/Elemento\",SUBTOTAL(109,BJ44:BJ48),X41),IF(LEFT($D$41,8)=\"MODELO M\",SUBTOTAL(109,BJ44:BJ48),0))","v":0},{"$f":"IF(LEFT($D$41,8)=\"MODELO D\",IF($Z$41=\"Atribuir valor detalhado por Fase/Elemento\",SUBTOTAL(109,BK44:BK48),AC41),IF(LEFT($D$41,8)=\"MODELO M\",SUBTOTAL(109,BK44:BK48),0))","v":0},{"$f":"SUM(BH41:BK41)","v":0},"MODELO A - TEMPO - N.º DE HORAS DE TRABALHO"]
[null,{"$f":"IF($B$41=\"ocultar\",\"ocultar\",\"mostrar\")","v":"ocultar"},null,null,null,null,null,null,null,null,null,null,null,null,null,null,null,null,null,null,null,null,null,null,null,null,null,null,null,null,null,null,null,null,null,null,null,null,null,null,null,null,null,null,null,null,null,null,null,null,null,null,null,null,null,null,null,null,null,null,null,null,null,null,"MODELO A - TEMPO - N.º DE HORAS DE TRABALHO"]
[null,"ocultar",null,null,null,null,null,null,null,null,null,null,null,null,null,null,null,null,null,null,null,null,null,null,null,null,null,null,null,null,null,null,null,null,null,null,null,null,null,null,null,null,null,null,null,null,null,null,null,null,null,null,null,null,null,null,null,null,null,null,null,null,null,null,"MODELO A - TEMPO - N.º DE HORAS DE TRABALHO"]
[null,{"$f":"IF($B$41=\"ocultar\",\"ocultar\",IF('SA - ATIVIDADES'!$F$190=TRUE,IF('SA - ATIVIDADES'!$H$190>=AH44,\"mostrar\",\"ocultar\"),\"ocultar\"))","v":"ocultar"},"Designação (a preencher)","MODELO A - TEMPO - N.º DE HORAS DE TRABALHO",null,null,0,{"$f":"$H$31","v":0},{"$f":"G44*H44","v":0},null,null,null,null,null,0,{"$f":"$P$41*O44","v":0},null,null,null,null,null,null,0,{"$f":"$X$41*W44","v":0},null,null,0,0,0,null,{"$f":"BL44","v":0},null,null,1,null,null,null,null,null,null,null,null,null,null,null,null,null,null,null,null,null,null,null,null,null,null,null,null,null,{"$f":"IF(OR(AND(LEFT($D$41,8)=\"MODELO M\",LEFT(D44,8)=\"MODELO A\"),AND(LEFT($D$41,8)=\"MODELO A\",$F$41=\"Atribuir valor detalhado por Fase/Elemento\")),I44,0)","v":0},{"$f":"IF(OR(AND(LEFT($D$41,8)=\"MODELO M\",LEFT(D44,8)=\"MODELO B\"),AND(LEFT($D$41,8)=\"MODELO B\",$K$41=\"Atribuir valor detalhado por Fase/Elemento\")),P44,0)","v":0},{"$f":"IF(OR(AND(LEFT($D$41,8)=\"MODELO M\",LEFT(D44,8)=\"MODELO C\"),AND(LEFT($D$41,8)=\"MODELO C\",$R$41=\"Atribuir valor detalhado por Fase/Elemento\")),X44,0)","v":0},{"$f":"IF(OR(AND(LEFT($D$41,8)=\"MODELO M\",LEFT(D44,8)=\"MODELO D\"),AND(LEFT($D$41,8)=\"MODELO D\",$Z$41=\"Atribuir valor detalhado por Fase/Elemento\")),AC44,0)","v":0},{"$f":"SUM(BH44:BK44)","v":0},"MODELO A - TEMPO - N.º DE HORAS DE TRABALHO"]
[null,{"$f":"IF($B$41=\"ocultar\",\"ocultar\",IF('SA - ATIVIDADES'!$F$190=TRUE,IF('SA - ATIVIDADES'!$H$190>=AH45,\"mostrar\",\"ocultar\"),\"ocultar\"))","v":"ocultar"},"Designação (a preencher)","MODELO A - TEMPO - N.º DE HORAS DE TRABALHO",null,null,0,0,{"$f":"G45*H45","v":0},null,null,null,null,null,0,{"$f":"$P$41*O45","v":0},null,null,null,null,null,null,0,{"$f":"$X$41*W45","v":0},null,null,0,0,0,null,{"$f":"BL45","v":0},null,null,2,null,null,null,null,null,null,null,null,null,null,null,null,null,null,null,null,null,null,null,null,null,null,null,null,null,{"$f":"IF(OR(AND(LEFT($D$41,8)=\"MODELO M\",LEFT(D45,8)=\"MODELO A\"),AND(LEFT($D$41,8)=\"MODELO A\",$F$41=\"Atribuir valor detalhado por Fase/Elemento\")),I45,0)","v":0},{"$f":"IF(OR(AND(LEFT($D$41,8)=\"MODELO M\",LEFT(D45,8)=\"MODELO B\"),AND(LEFT($D$41,8)=\"MODELO B\",$K$41=\"Atribuir valor detalhado por Fase/Elemento\")),P45,0)","v":0},{"$f":"IF(OR(AND(LEFT($D$41,8)=\"MODELO M\",LEFT(D45,8)=\"MODELO C\"),AND(LEFT($D$41,8)=\"MODELO C\",$R$41=\"Atribuir valor detalhado por Fase/Elemento\")),X45,0)","v":0},{"$f":"IF(OR(AND(LEFT($D$41,8)=\"MODELO M\",LEFT(D45,8)=\"MODELO D\"),AND(LEFT($D$41,8)=\"MODELO D\",$Z$41=\"Atribuir valor detalhado por Fase/Elemento\")),AC45,0)","v":0},0,"MODELO A - TEMPO - N.º DE HORAS DE TRABALHO"]
[null,{"$f":"IF($B$41=\"ocultar\",\"ocultar\",IF('SA - ATIVIDADES'!$F$190=TRUE,IF('SA - ATIVIDADES'!$H$190>=AH46,\"mostrar\",\"ocultar\"),\"ocultar\"))","v":"ocultar"},"Designação (a preencher)","MODELO A - TEMPO - N.º DE HORAS DE TRABALHO",null,null,0,0,0,null,null,null,null,null,0,0,null,null,null,null,null,null,0,0,null,null,0,0,0,null,0,null,null,3,null,null,null,null,null,null,null,null,null,null,null,null,null,null,null,null,null,null,null,null,null,null,null,null,null,{"$f":"IF(OR(AND(LEFT($D$41,8)=\"MODELO M\",LEFT(D46,8)=\"MODELO A\"),AND(LEFT($D$41,8)=\"MODELO A\",$F$41=\"Atribuir valor detalhado por Fase/Elemento\")),I46,0)","v":0},{"$f":"IF(OR(AND(LEFT($D$41,8)=\"MODELO M\",LEFT(D46,8)=\"MODELO B\"),AND(LEFT($D$41,8)=\"MODELO B\",$K$41=\"Atribuir valor detalhado por Fase/Elemento\")),P46,0)","v":0},{"$f":"IF(OR(AND(LEFT($D$41,8)=\"MODELO M\",LEFT(D46,8)=\"MODELO C\"),AND(LEFT($D$41,8)=\"MODELO C\",$R$41=\"Atribuir valor detalhado por Fase/Elemento\")),X46,0)","v":0},{"$f":"IF(OR(AND(LEFT($D$41,8)=\"MODELO M\",LEFT(D46,8)=\"MODELO D\"),AND(LEFT($D$41,8)=\"MODELO D\",$Z$41=\"Atribuir valor detalhado por Fase/Elemento\")),AC46,0)","v":0},0,"MODELO A - TEMPO - N.º DE HORAS DE TRABALHO"]
[null,{"$f":"IF($B$41=\"ocultar\",\"ocultar\",IF('SA - ATIVIDADES'!$F$190=TRUE,IF('SA - ATIVIDADES'!$H$190>=AH47,\"mostrar\",\"ocultar\"),\"ocultar\"))","v":"ocultar"},"Designação (a preencher)","MODELO A - TEMPO - N.º DE HORAS DE TRABALHO",null,null,0,0,0,null,null,null,null,null,0,0,null,null,null,null,null,null,0,0,null,null,0,0,0,null,0,null,null,4,null,null,null,null,null,null,null,null,null,null,null,null,null,null,null,null,null,null,null,null,null,null,null,null,null,{"$f":"IF(OR(AND(LEFT($D$41,8)=\"MODELO M\",LEFT(D47,8)=\"MODELO A\"),AND(LEFT($D$41,8)=\"MODELO A\",$F$41=\"Atribuir valor detalhado por Fase/Elemento\")),I47,0)","v":0},{"$f":"IF(OR(AND(LEFT($D$41,8)=\"MODELO M\",LEFT(D47,8)=\"MODELO B\"),AND(LEFT($D$41,8)=\"MODELO B\",$K$41=\"Atribuir valor detalhado por Fase/Elemento\")),P47,0)","v":0},{"$f":"IF(OR(AND(LEFT($D$41,8)=\"MODELO M\",LEFT(D47,8)=\"MODELO C\"),AND(LEFT($D$41,8)=\"MODELO C\",$R$41=\"Atribuir valor detalhado por Fase/Elemento\")),X47,0)","v":0},{"$f":"IF(OR(AND(LEFT($D$41,8)=\"MODELO M\",LEFT(D47,8)=\"MODELO D\"),AND(LEFT($D$41,8)=\"MODELO D\",$Z$41=\"Atribuir valor detalhado por Fase/Elemento\")),AC47,0)","v":0},0,"MODELO A - TEMPO - N.º DE HORAS DE TRABALHO"]
[null,{"$f":"IF($B$41=\"ocultar\",\"ocultar\",IF('SA - ATIVIDADES'!$F$190=TRUE,IF('SA - ATIVIDADES'!$H$190>=AH48,\"mostrar\",\"ocultar\"),\"ocultar\"))","v":"ocultar"},"Designação (a preencher)","MODELO A - TEMPO - N.º DE HORAS DE TRABALHO",null,null,0,0,0,null,null,null,null,null,0,0,null,null,null,null,null,null,0,0,null,null,0,0,0,null,0,null,null,5,null,null,null,null,null,null,null,null,null,null,null,null,null,null,null,null,null,null,null,null,null,null,null,null,null,{"$f":"IF(OR(AND(LEFT($D$41,8)=\"MODELO M\",LEFT(D48,8)=\"MODELO A\"),AND(LEFT($D$41,8)=\"MODELO A\",$F$41=\"Atribuir valor detalhado por Fase/Elemento\")),I48,0)","v":0},{"$f":"IF(OR(AND(LEFT($D$41,8)=\"MODELO M\",LEFT(D48,8)=\"MODELO B\"),AND(LEFT($D$41,8)=\"MODELO B\",$K$41=\"Atribuir valor detalhado por Fase/Elemento\")),P48,0)","v":0},{"$f":"IF(OR(AND(LEFT($D$41,8)=\"MODELO M\",LEFT(D48,8)=\"MODELO C\"),AND(LEFT($D$41,8)=\"MODELO C\",$R$41=\"Atribuir valor detalhado por Fase/Elemento\")),X48,0)","v":0},{"$f":"IF(OR(AND(LEFT($D$41,8)=\"MODELO M\",LEFT(D48,8)=\"MODELO D\"),AND(LEFT($D$41,8)=\"MODELO D\",$Z$41=\"Atribuir valor detalhado por Fase/Elemento\")),AC48,0)","v":0},0,"MODELO A - TEMPO - N.º DE HORAS DE TRABALHO"]
[null,{"$f":"IF($B$44=\"ocultar\",\"ocultar\",\"mostrar\")","v":"ocultar"},"TOTAL",null,null,null,{"$f":"IF($F41=\"Atribuir valor global à atividade\",G41,SUBTOTAL(109,G44:G48))","v":0},null,{"$f":"IF($F41=\"Atribuir valor global à atividade\",I41,SUBTOTAL(109,I44:I48))","v":0},null,null,null,null,null,{"$f":"IF($K41=\"Atribuir valor global à atividade\",1,SUBTOTAL(109,O44:O48))","v":1},{"$f":"IF($K41=\"Atribuir valor global à atividade\",P41,SUBTOTAL(109,P44:P48))","v":0},null,null,null,null,null,null,{"$f":"IF($R41=\"Atribuir valor global à atividade\",1,SUBTOTAL(109,W44:W48))","v":1},{"$f":"IF($R41=\"Atribuir valor global à atividade\",X41,SUBTOTAL(109,X44:X48))","v":0},null,null,null,null,{"$f":"IF($Z41=\"Atribuir valor global à atividade\",AC41,SUBTOTAL(109,AC44:AC48))","v":0},null,{"$f":"BL41","v":0},null,null,null,null,null,null,null,null,null,null,null,null,null,null,null,null,null,null,null,null,null,null,null,null,null,null,null,null,null,null,null,null,null,"MODELO A - TEMPO - N.º DE HORAS DE TRABALHO"]
[null,{"$f":"IF($B$41=\"mostrar\",\"mostrar\",\"ocultar\")","v":"ocultar"},null,null,null,null,null,null,null,null,null,null,null,null,null,null,null,null,null,null,null,null,null,null,null,null,null,null,null,null,null,null,null,null,null,null,null,null,null,null,null,null,null,null,null,null,null,null,null,null,null,null,null,null,null,null,null,null,null,null,null,null,null,null,"MODELO A - TEMPO - N.º DE HORAS DE TRABALHO"]
[null,{"$f":"\"mostrar\"","v":"mostrar"},"TOTAL GERAL",null,null,null,{"$f":"G19+G29+G39+G49","v":0},null,{"$f":"I19+I29+I39+I49","v":0},null,null,null,null,null,null,{"$f":"P19+P29+P39+P49","v":0},null,null,null,null,null,null,null,{"$f":"X19+X29+X39+X49","v":0},null,null,null,null,{"$f":"AC19+AC29+AC39+AC49","v":0},null,{"$f":"AE19+AE29+AE39+AE49","v":0},null,null,null,null,null,null,null,null,null,null,null,null,null,null,null,null,null,null,null,null,null,null,null,null,null,null,null,null,{"$f":"BH11+BH21+BH31+BH41","v":0},{"$f":"BI11+BI21+BI31+BI41","v":0},{"$f":"BJ11+BJ21+BJ31+BJ41","v":0},{"$f":"BK11+BK21+BK31+BK41","v":0},{"$f":"SUM(BH51:BK51)","v":0},"MODELO A - TEMPO - N.º DE HORAS DE TRABALHO"]
["ORDEM DOS ARQUITECTOS",null,null,null,null,null,null,null,null,null,null,null,null,null,null,null,null,null,null,null,null,null,null,null,null,null,null,null,null,null,"SIMULADOR",null,null,null,null,null,null,null,null,null,null,null,null,null,null,null,null,null,null,null,null,null,null,null,null,null,null,null,null,null,null,null,null,null,"MODELO A - TEMPO - N.º DE HORAS DE TRABALHO"]

{"sheet":"SA - TOTAL","index":10,"n_rows":25,"n_cols":7,"rows_kept":25,"cut":false,"hidden":false,"merged":[[9,3,9,6],[11,1,11,2],[13,1,13,2],[15,1,15,2],[17,1,17,2],[9,1,9,2],[4,3,4,6],[5,3,5,6],[6,3,6,6],[7,3,7,6],[8,3,8,6],[2,1,3,2],[0,1,0,2],[5,1,5,2],[4,1,4,2],[21,1,21,2],[19,1,19,2],[8,1,8,2],[7,1,7,2],[6,1,6,2]]}
[null,"SIMULADOR A | RESUMO",null,null,null,null,"ORDEM DOS ARQUITECTOS"]
[]
[null,"IDENTIFICAÇÃO DO OBJETO DO CONTRATO",null,null,null,null,"DATA DE REFERÊNCIA"]
[null,null,null,null,null,1,{"$f":"CHAR(10)&TEXT(TODAY(),\"DD \"\"de\"\" mmmm \"\"de\"\" AAAA\")","v":"\n25 de agosto de 2026"}]
[null,"Objeto do contrato:",null,{"$f":"IF(HOME!C5=0,\"\",HOME!C5)","v":""}]
[null,"Programa Funcional:",null,{"$f":"IF(HOME!C6=0,\"\",HOME!C6)","v":""}]
[null,"Área bruta de construção:",null,{"$f":"IF(HOME!C7=0,\"\",HOME!C7)","v":""}]
[null,"Prazo de execução do contrato:",null,{"$f":"IF(HOME!C8=0,\"\",HOME!C8)","v":""}]
[null,"Morada do objeto do contrato:",null,{"$f":"IF(HOME!C9=0,\"\",HOME!C9)","v":""}]
[null,"Valor previsto de execução das obras de urbanização ou edificação (se aplicável)",null,{"$f":"'SIMULADOR A'!C10","v":0}]
[]
[null,"TIPOLOGIAS DE SERVIÇO",null,null,"VALOR S/IVA","% IVA","VALOR C/IVA"]
[]
[null,"TIPO 1 - SERVIÇOS BASE",null,null,{"$f":"IF('SIMULADOR A'!$E$14=\"Sim\",'SA - SERVICOS BASE'!$AE$850,0)","v":0},0.23,{"$f":"IFERROR(E14+(E14*F14),0)","v":0}]
[]
[null,"TIPO 2 - SERVIÇOS COMPLEMENTARES, ADICIONAIS OU ESPECÍFICOS",null,null,{"$f":"IF('SIMULADOR A'!$E$15=\"Sim\",'SA - SERVICOS COMPLEMENTARES'!$AE$414,0)","v":0},0.23,{"$f":"IFERROR(E16+(E16*F16),0)","v":0}]
[]
[null,"TIPO 3 - SERVIÇOS DE GESTÃO E CONTROLO",null,null,{"$f":"IF('SIMULADOR A'!$E$16=\"Sim\",'SA - SERVICOS GESTAO E CONTROLO'!$AE$161,0)","v":0},0.23,{"$f":"IFERROR(E18+(E18*F18),0)","v":0}]
[]
[null,"TIPO 4 - SERVIÇOS ESPECIALIZADOS CERTIFICADOS",null,null,{"$f":"IF('SIMULADOR A'!$E$17=\"Sim\",'SA - SERVICOS DE CERTIFICACAO'!$AE$51,0)","v":0},0.23,{"$f":"IFERROR(E20+(E20*F20),0)","v":0}]
[]
[null,"TOTAL",null,null,{"$f":"SUM(E14:E20)","v":0},null,{"$f":"SUM(G14:G20)","v":0}]
[]
[]
["ORDEM DOS ARQUITECTOS",null,null,null,null," "]

{"sheet":"SIMULADOR B","index":11,"n_rows":67,"n_cols":6,"rows_kept":67,"cut":false,"hidden":false,"merged":[[22,1,22,2],[24,1,24,2],[26,1,26,2],[27,1,27,2],[4,1,4,2],[5,1,5,2],[6,1,6,2],[7,1,7,2],[8,1,8,2],[9,1,9,2],[15,1,15,2],[17,1,17,2],[19,1,19,2],[20,1,20,2],[21,1,21,2],[25,1,25,2],[8,3,8,5],[9,3,9,5],[2,1,3,1],[13,1,13,2],[14,1,14,2],[4,3,4,5],[5,3,5,5],[6,3,6,5],[7,3,7,5],[36,1,36,2],[37,1,37,2],[38,1,38,2],[34,1,34,2],[28,1,28,2],[29,1,29,2],[30,1,30,2],[31,1,31,2],[33,1,33,2],[35,1,35,2],[40,1,40,2],[45,1,45,2],[52,1,52,2],[56,1,56,2],[41,1,41,2],[42,1,42,2],[43,1,43,2],[46,1,46,2],[47,1,47,2],[48,1,48,2],[49,1,49,2],[50,1,50,2],[53,1,53,2],[54,1,54,2],[63,4,63,5],[61,1,61,2],[62,1,62,2],[63,1,63,2],[58,1,58,2],[60,1,60,2],[60,4,60,5],[61,4,61,5],[62,4,62,5]]}
[null,"SIMULADOR B | VALOR TOTAL DO INVESTIMENTO DO CLIENTE",null,null,null,"ORDEM DOS ARQUITECTOS"]
[]
[null,"IDENTIFICAÇÃO DO OBJETO DO CONTRATO",null,null,null,"DATA DE REFERÊNCIA"]
[null,null,null,null,1,{"$f":"CHAR(10)&TEXT(TODAY(),\"DD \"\"de\"\" mmmm \"\"de\"\" AAAA\")","v":"\n25 de agosto de 2026"}]
[null,"Objeto do contrato:",null,{"$f":"IF(HOME!C5=0,\"\",HOME!C5)","v":""}]
[null,"Programa Funcional:",null,{"$f":"IF(HOME!C6=0,\"\",HOME!C6)","v":""}]
[null,"Área bruta de construção:",null,{"$f":"IF(HOME!C7=0,\"\",HOME!C7)","v":""}]
[null,"Prazo de execução do contrato:",null,{"$f":"IF(HOME!C8=0,\"\",HOME!C8)","v":""}]
[null,"Morada do objeto do contrato:",null,{"$f":"IF(HOME!C9=0,\"\",HOME!C9)","v":""}]
[null,"Valor previsto de execução das obras de urbanização ou edificação (se aplicável)",null,{"$f":"'SIMULADOR A'!C10","v":0}]
[]
[null,"VERBAS AFETAS",null,"VALOR S/IVA","% IVA","VALOR C/IVA"]
[]
[null,"01. AQUISIÇÃO DO TERRENO"]
[null,"01.1 PREÇO DE AQUISIÇÃO",null,0,0,{"$f":"IFERROR(D15+(D15*E15),0)","v":0}]
[null,"01.2. IMPOSTOS, REGISTOS E ENCARGOS ASSOCIADOS",null,0,0,{"$f":"IFERROR(D16+(D16*E16),0)","v":0}]
[]
[null,"SUB-TOTAL",null,{"$f":"SUM(D15:D16)","v":0},null,{"$f":"SUM(F15:F16)","v":0}]
[null,"02. ENSAIOS E TRABALHOS PREPARATÓRIOS"]
[null,"02.1. LEVANTAMENTOS ",null,0,0,{"$f":"IFERROR(D20+(D20*E20),0)","v":0}]
[null,"02.2. GEOTÉCNICOS",null,0,0,{"$f":"IFERROR(D21+(D21*E21),0)","v":0}]
[null,"02.3. OUTROS ENSAIOS",null,0,0,{"$f":"IFERROR(D22+(D22*E22),0)","v":0}]
[null,"02.4. ESTUDOS ECONÓMICOS ",null,0,0,{"$f":"IFERROR(D23+(D23*E23),0)","v":0}]
[]
[null,"SUB-TOTAL",null,{"$f":"SUM(D20:D23)","v":0},null,{"$f":"SUM(F20:F23)","v":0}]
[null,"03. PROJETO, GESTÃO E CONDUÇÃO DA OBRA"]
[null,"03.1. SERVIÇOS CONTEMPLADOS NO SIMULADOR A",null,{"$f":"D28+D29+D30+D31","v":0},null,{"$f":"F28+F29+F30+F31","v":0}]
[null,"SA -SERVIÇOS BASE ",null,{"$f":"'SA - TOTAL'!$E$14","v":0},{"$f":"'SA - TOTAL'!F14","v":0.23},{"$f":"IFERROR(D28+(D28*E28),0)","v":0}]
[null,"SA -SERVIÇOS COMPLEMENTARES, ADICIONAIS OU ESPECÍFICOS",null,{"$f":"'SA - TOTAL'!$E$16","v":0},{"$f":"'SA - TOTAL'!F16","v":0.23},{"$f":"IFERROR(D29+(D29*E29),0)","v":0}]
[null,"SA -SERVIÇOS DE GESTÃO E CONTROLO - REVISÃO",null,{"$f":"'SA - TOTAL'!$E$18","v":0},{"$f":"'SA - TOTAL'!F18","v":0.23},{"$f":"IFERROR(D30+(D30*E30),0)","v":0}]
[null,"SA -SERVIÇOS ESPECIALIZADOS CERTIFICADOS",null,{"$f":"'SA - TOTAL'!$E$20","v":0},{"$f":"'SA - TOTAL'!F20","v":0.23},{"$f":"IFERROR(D31+(D31*E31),0)","v":0}]
[null,"03.2. SERVIÇOS NÂO CONTEMPLADOS NO SIMULADOR A",null,0,0,{"$f":"IFERROR(D32+(D32*E32),0)","v":0}]
[]
[null,"SUB-TOTAL",null,{"$f":"D27+D32","v":0},null,{"$f":"F27+F32","v":0}]
[null,"04. TAXAS"]
[null,"04.1. TAXAS MUNICIPAIS DE CONTROLO PRÉVIO",null,0,0,{"$f":"IFERROR(D36+(D36*E36),0)","v":0}]
[null,"04.2. TAXAS DE ENTIDADES EXTERNAS",null,0,0,{"$f":"IFERROR(D37+(D37*E37),0)","v":0}]
[null,"04.3. TAXAS POR COMPENSAÇÕES URBANÍSTICAS",null,0,0,{"$f":"IFERROR(D38+(D38*E38),0)","v":0}]
[null,"04.4. TAXAS MUNICIPAIS DE EXECUÇÃO DE OBRA",null,0,0,{"$f":"IFERROR(D39+(D39*E39),0)","v":0}]
[]
[null,"SUB-TOTAL",null,{"$f":"SUM(D36:D39)","v":0},null,{"$f":"SUM(F36:F39)","v":0}]
[null,"05. ENCARGOS FINANCEIROS"]
[null,"05.1. JUROS RELATIVOS A EMPRESTIMOS BANCÁRIOS",null,0,0,{"$f":"IFERROR(D43+(D43*E43),0)","v":0}]
[null,"05.2. OUTROS ENCARGOS BANCÁRIOS, SE APLICÁVEL",null,0,0,{"$f":"IFERROR(D44+(D44*E44),0)","v":0}]
[]
[null,"SUB-TOTAL",null,{"$f":"SUM(D43:D44)","v":0},null,{"$f":"SUM(F43:F44)","v":0}]
[null,"06. EXECUÇÃO DA OBRA"]
[null,"06.1. EMPREITADA",null,0,0,{"$f":"IFERROR(D48+(D48*E48),0)","v":0}]
[null,"06.2. CONSUMO DE ÁGUA",null,0,0,{"$f":"IFERROR(D49+(D49*E49),0)","v":0}]
[null,"06.3. CONSUMO DE ELETRICIDADE",null,0,0,{"$f":"IFERROR(D50+(D50*E50),0)","v":0}]
[null,"06.4. OUTROS CUSTOS ACESSÓRIOS DE OBRA",null,0,0,{"$f":"IFERROR(D51+(D51*E51),0)","v":0}]
[]
[null,"SUB-TOTAL",null,{"$f":"SUM(D48:D51)","v":0},null,{"$f":"SUM(F48:F51)","v":0}]
[null,"07. USO, MANUTENÇÃO E EXPLORAÇÃO"]
[null,"07.1. ENCARGOS ASSOCIADOS ",null,0,0,{"$f":"IFERROR(D55+(D55*E55),0)","v":0}]
[]
[null,"SUB-TOTAL",null,{"$f":"SUM(D55:D55)","v":0},null,{"$f":"SUM(F55:F55)","v":0}]
[]
[null,"TOTAL GERAL",null,{"$f":"D18+D25+D34+D41+D46+D53+D57","v":0},null,{"$f":"F18+F25+F34+F41+F46+F53+F57","v":0}]
[]
[null,"SERVIÇOS PRESTADOS PELO ARQUITETO",null,"VALOR SEM IVA","% VALOR PROJETO FACE AO TOTAL DO SIMULADOR B"]
[null,"A1 - PROJETO DE ARQUITETURA",null,{"$f":"IF('SIMULADOR A'!E14=\"Sim\",'SA - SERVICOS BASE'!AE102,0)","v":0},{"$f":"IFERROR(D62/$D$59,0)","v":0}]
[null,"D1 - REVISÃO DE PROJETO",null,{"$f":"IF('SIMULADOR A'!E16=\"Sim\",'SA - SERVICOS GESTAO E CONTROLO'!AE29,0)","v":0},{"$f":"IFERROR(D63/$D$59,0)","v":0}]
[null,"F1 – DIREÇÃO DE FISCALIZAÇÃO (OBRA)",null,{"$f":"IF('SIMULADOR A'!E16=\"Sim\",'SA - SERVICOS GESTAO E CONTROLO'!BL71,0)","v":0},{"$f":"IFERROR(D64/$D$59,0)","v":0}]
[]
[]
["ORDEM DOS ARQUITECTOS"]

{"sheet":"SIMULADOR C","index":12,"n_rows":181,"n_cols":4,"rows_kept":181,"cut":false,"hidden":false,"merged":[[2,2,3,2]]}
[null,null,"SIMULADOR C | PREMISSAS PARA ACORDO DE PRESTAÇÃO DE SERVIÇOS"]
[]
[null,null,"TIPO 1 - SERVIÇOS BASE","DATA DE REFERÊNCIA"]
[null,null,null,{"$f":"CHAR(10)&TEXT(TODAY(),\"DD \"\"de\"\" mmmm \"\"de\"\" AAAA\")","v":"\n25 de agosto de 2026"}]
[]
[]
[]
[]
[]
[]
[]
[null,null,"IDENTIFICAÇÃO DAS PARTES"]
[null,null,"1.º OUTORGANTE (identificação da Pessoa ou Entidade que contrata) "]
[null,null,0]
[]
[null,null,"2.º OUTORGANTE (identificação do Prestador de Serviços) "]
[null,null,0]
[]
[]
[null,null,"CAPÍTULO I - Disposições gerais "]
[null,null,"I.1. OBJETO DO CONTRATO "]
["Ocultar",null,"Objeto do Contrato, com identificação clara da área de intervenção afeta ao projeto"]
[null,null,0]
[]
[null,null,"I.2. CLASSIFICAÇÃO DA OBRA "]
["Ocultar",null,"Classificação da obra pelas categorias I, II, III, IV, previstas no artigo 11.º da Portaria 255/2023"]
[null,null,0]
[]
[null,null,"I.3. COMPOSIÇÃO DO CONTRATO "]
["Ocultar",null,"Composição do contrato, em termos de peças que o constituem"]
[null,null,0]
[]
[null,null,"I.4. PRAZO "]
["Ocultar",null,"Prazo de Execução do contrato"]
[null,null,0]
[]
[null,null,"I.5. PREÇO "]
["Ocultar",null,"Preço Contratual"]
[null,null,0]
[]
[]
[null,null,"CAPÍTULO II - Obrigações do prestador de serviços (2.º outorgante)"]
[null,null,"II.1. EQUIPA MULTIDISCIPLINAR "]
["Ocultar",null,"Identificação completa de toda a equipa afeta ao contrato (coordenador de projeto e autores dos projetos), com especificação das funções que assumem e dos projetos que elaboram"]
[null,null,0]
[]
[null,null,"II.2. DISCRIMINAÇÃO DA PRESTAÇÃO DE SERVIÇOS "]
["Ocultar",null,"Identificação de todos os projetos, elementos, estudos, planos e outros serviços objeto do contrato; Identificação das diferentes fases a executar, em cada projeto objeto do contrato (Programa Base; Estudo Prévio; Anteprojeto ou Projeto Base; Projeto de Execução; e ainda a Assistência Técnica); Identificação do formato a apresentar (físico e/ou digital) e o n.º de conjuntos de documentos a apresentar em cada fase de projeto e para cada projeto; Identificação do n.º de reuniões afetas ao contrato, ou respetiva periodicidade, bem como informação sobre a necessidade de redação de atas e relatórios; Outras)"]
[null,null,0]
[]
[null,null,"II.3. EXCLUSÕES DA PRESTAÇÃO DE SERVIÇOS "]
["Ocultar",null,"Identificação dos projetos, elementos ou serviços que não fazem parte do objeto do contato (ex: telas finais; levantamento topográfico; levantamento arquitetónico, outros elementos);"]
[null,null,0]
[]
[null,null,"II.4. PRAZOS "]
["Ocultar",null,"Prazos a cumprir por parte do prestador de serviços, por cada fase do projeto"]
[null,null,0]
[]
[null,null,"II.5. PARECER PRÉVIO "]
["Ocultar",null,"Identificação dos pareceres prévios a solicitar a entidades externas, no caso dessa obrigação ser do prestador de serviços, com informação sobre quem procede ao pagamento das respetivas taxas (no caso dessa obrigação ser do prestador de serviços, apresentar informação sobre a forma de restituição do valor das taxas)"]
[null,null,0]
[]
[null,null,"II.6. SIGILO "]
["Ocultar",null," Objeto do dever de sigilo; Prazo do dever de sigilo)"]
[null,null,0]
[]
[null,null,"II.7. DIREITOS DE AUTOR "]
["Ocultar",null," Informação sobre a garantida de salvaguarda do direito de autor, nos termos da legislação aplicável; Informação sobre a necessidade de permissão para a divulgação dos estudos e projetos produzidos no âmbito da prestação de serviços, nos termos da legislação aplicável)."]
[null,null,0]
[]
[]
[null,null,"CAPÍTULO III - Obrigações da entidade que contrata (1º outorgante)"]
[null,null,"III.1. GESTÃO DO CONTRATO "]
["Ocultar",null,"Identificação do Gestor do contrato, no caso de contrato público"]
[null,null,0]
[]
[null,null,"III.2. ELEMENTOS A FORNECER "]
["Ocultar",null,"Identificação dos elementos a fornecer, pela Entidade que contrata, ao prestador de serviços, para a correta execução do contrato (ex: levantamento topográfico, levantamento arquitetónico, estudo geológico e geotécnico)"]
[null,null,0]
[]
[null,null,"III.3. REUNIÕES "]
["Ocultar",null,"Obrigação da presença da entidade contratante em reuniões com o prestador de serviços ou com entidades externas, sempre que for solicitado"]
[null,null,0]
[]
[null,null,"III.4. PARECERES PRÉVIOS "]
["Ocultar",null,"No caso dos pareceres prévios, a solicitar a entidades externas, ser da obrigação da entidade contratante, há que identificar as respetivas entidades externas em causa, e a obrigação de proceder ao pagamento das taxas afetas."]
[null,null,0]
[]
[null,null,"III.5. CONDICIONANTES "]
["Ocultar",null,"Identificação de eventuais condicionantes relativas à elaboração do projeto afeto ao contrato, nomeadamente, restrições orçamentais para a execução da obra, restrições com custos de manutenção (associados às diversas opções técnicas e construtivas), outras."]
[null,null,0]
[]
[null,null,"III.6. PREÇO CONTRATUAL "]
["Ocultar",null,"Identificação da Forma e Condições de pagamento; Identificação do Preço contratual a pagar pela Entidade Adjudicante, com a percentagem que corresponde a cada fase de projeto, ou serviço a prestar)"]
[null,null,0]
[]
[null,null,"III.7. DESPESAS "]
["Ocultar",null,"Identificação das despesas que são da obrigação serem pagas pela entidade contratante (ex: pagamento das taxas afetas ao processo de controlo prévio e obtenção de pareceres com entidades externas; pagamento de deslocações e estadias com visitas à obra, no âmbito da assistência técnica)"]
[null,null,0]
[]
[null,null,"III.8. RECEÇÃO DOS ELEMENTOS "]
["Ocultar",null,"Identificação dos prazos de análise e aprovação dos elementos rececionados, produzidos ao abrigo do contrato."]
[null,null,0]
[]
[null,null,"III.9. TRANSFERÊNCIA DA PROPRIEDADE "]
["Ocultar",null,"Identificação dos elementos produzidos ao abrigo do contrato e respetivo formato, que passam para a propriedade da entidade adjudicante."]
[null,null,0]
[]
[]
[null,null,"CAPÍTULO IV - Penalidades contratuais e resolução"]
[null,null,"IV.1. PENALIDADES CONTRATUAIS "]
["Ocultar",null,"Identificação do montante das penas pecuniárias, a pagar pelo Prestador de Serviços ou pela Entidade contratante, no caso de incumprimento de obrigações emergentes do Contrato."]
[null,null,0]
[]
[null,null,"IV.2. FORÇA MAIOR "]
["Ocultar",null,"Identificação dos casos de Força Maior, que impossibilitam as partes de impor penalidades, ou de assumirem o incumprimento do contrato, pela não realização pontual das prestações contratuais."]
[null,null,0]
[]
[null,null,"IV.3. RESOLUÇÃO DO CONTRATO "]
["Ocultar",null,"Resolução por parte da Entidade Adjudicante; Resolução por parte do Prestador de Serviços)"]
[null,null,0]
[]
[]
[null,null,"CAPÍTULO V - Caução e seguros"]
[null,null,"V.1. CAUÇÃO"]
["Ocultar",null,"Identificar a necessidade de prestar ou não a caução"]
[null,null,0]
[]
[null,null,"V.2. SEGUROS "]
["Ocultar",null,"Identificação dos elementos do seguro de responsabilidade civil, previstos no artigo 24º da lei 31/2009"]
[null,null,0]
[]
[]
[null,null,"CAPÍTULO VI - Resolução de litígios"]
[null,null,"VI.1. FORO COMPETENTE "]
["Ocultar",null,"Identificação do foro competente para a resolução de qualquer litígio no âmbito do contrato"]
[null,null,0]
[]
[]
[null,null,"CAPÍTULO VII - Disposições finais "]
[null,null,"VII.1. Subcontratação e cessão da posição contratual "]
[null,null,0]
[]
[null,null,"VII.2. Comunicações e Notificações "]
[null,null,0]
[]
[null,null,"VII.3. Contagem dos Prazos "]
[null,null,0]
[]
[null,null,"VII.4. Alteração ao Contrato "]
[null,null,0]
[]
[null,null,"VII.5 Legislação Aplicável "]
[null,null,0]
[]
[]
[null,null,"ANEXOS"]
[null,null,"Anexo I – [SIMULADOR A | TIPOLOGIAS DE SERVIÇOS]"]
[null,null,"Anexo II – [SIMULADOR A | TOTAL]"]
[null,null,"Anexo III – [SIMULADOR A | DETALHE – SERVIÇOS BASE]"]
[null,null,"Anexo IV – [SIMULADOR A | DETALHE – SERVIÇOS COMPLEMENTARES]"]
[null,null,"Anexo V – [SIMULADOR A | DETALHE – SERVIÇOS DE GESTÃO E CONTROLO]"]
[null,null,"Anexo VI – [SIMULADOR A | DETALHE – SERVIÇOS DE CERTIFICAÇÃO]"]
[null,null,"Anexo VII – Outros"]
[]
[]
[]
[null,null,null,"Data _____________/________/________"]
[]
[]
[]
[null,null,null,"____________________________________________________________________"]
[null,null,null,"1.º Outorgante (identificação da Pessoa ou Entidade que contrata) "]
[]
[]
[]
[null,null,null,"____________________________________________________________________"]
[null,null,null,"2.º Outorgante (identificação do Prestador de Serviços) "]
[]
[]
["ORDEM DOS ARQUITECTOS"]